{"text_format":"1","workbook":"xlsx","n_sheets":6,"sheets":["CB_DATA_","Data","Hoja2","Model","Hoja1","Example & Results"],"not_rendered":{"charts":3,"images":5,"macros":1,"external_links":0,"defined_names":102,"comments":2,"pivot_tables":0},"unopened":[],"bounds":{"document_bytes":16777216,"sheet_cells":100000,"rows_first":2000,"rows_last":500,"rows_between":2000,"halvings":0,"cell_chars":16384,"cell_head_chars":4096},"cells_cut":0,"cells_raw":0,"read":"whole","date_system":"1900"}

{"sheet":"CB_DATA_","index":0,"n_rows":31,"n_cols":16,"rows_kept":31,"cut":false,"hidden":true,"merged":[]}
["Crystal Ball Data"]
[null,null,null,null,null,null,null,null,null,null,null,null,null,null,null,{"$f":"_xll.CB.RecalcCounterFN()","v":1001}]
["Workbook Variables","Last Var Column",0]
["    Name:"]
["    Value:"]
[]
["Worksheet Data","Last Data Column Used"]
[null,4]
[]
["Sheet Ref"]
[{"$f":"CB_DATA_!#REF!","v":{"$error":"#REF!"}},{"$f":"Model!#REF!","v":{"$error":"#REF!"}},{"$f":"Data!#REF!","v":{"$error":"#REF!"}},{"$f":"Hoja1!#REF!","v":{"$error":"#REF!"}}]
[]
["Sheet Guid"]
["b0bd8ec6-e4ee-47eb-88fa-b4ea1d56f06a","213a6119-1dbd-4da0-bdd2-563851335c94","e8346cbc-39e0-42bf-9064-347678d33e41","3a3f0e9a-6780-4b97-951d-c7de63282515"]
[]
["Deleted sheet count"]
[]
[]
["Last row used"]
[31,31,31,31]
[]
[]
[]
[]
["Data blocks"]
["CB_Block_0","CB_Block_7.0.0.0:1","CB_Block_7.0.0.0:1","CB_Block_7.0.0.0:1"]
["㜸〱敤㕣㝦㙣㈴㔷㝤摦㌷摥㔹敦慣敤戳㜳扥㑢㜲㈱㈴㈶㈱〴攲慢㌹㕦㜲㠴〰挷挵㍦敥ㄷ戹ㅦ㑥散扢㤴㤶㜶㙦扣晢挶㥥摣捥㡣㌳㌳敢㍢㠷㐸〴〸愰ㄶ㐱㘸搴㔰㠵愶㑡㑡㔵㈴晥〰㠴㤰㔲㘸昹愷㙡㈵㔰ㄵ愴晥㐱搵㈲晡㐷㡡㉡昸〳㠴㑥㐲㐲〸㈱搱捦攷捤捣敥捣慥㜷散㙣㤲攲㈰扦㍢㍦扦㜹扦收扤敦敦昷晤扥㜱㐱ㄴち㠵摦㈲昱㌷㔳㤱㠵㥢ㄷ㌷㠲㔰㍡㔳㜳㕥愳㈱㙢愱敤戹挱搴㡣敦㥢ㅢ㘷散㈰ㅣ㐰㠷㔲搵㐶㝢愰㔷〳晢㌱㔹慥慥㑢㍦㐰㈷扤㔰㈸㤷つつ敤㥣㠴㍦㘳挹㠳挱㔱挳㐵㘴㑢㜳戳攷㤷ㅦ挱慣㡢愱攷换㠳ㄳㄷ愳戱㐷愷愷愷愶愷敥戹㜷晡㕤㔳㠷づ㑥捣㌵ㅢ㘱搳㤷㐷㕤搹っ㝤戳㜱㜰㘲愱戹摣戰㙢て挸㡤㈵敦戲㜴㡦捡攵㐳㜷㉦㥢昷扣㝢晡㥥㈳㐷慣晢敥㝢昷㌰㕥㕤㌸㌷㌷扢攰㑢㉢㜸㡤收搴戹攴㝢收㘵捤收摥愴昴㙤㜷㘵㙡㙥ㄶ晦㔳敢挷搳扤㔳㡢慢㔲㠶㝣戵昴愵㕢㤳㠱㠱㠱㐳捥㑣㄰㌴㥤㌵〲捦㜰㑥㘰慢㌵㌳〸㜵㘷㑥㌶ㅡ㠶㤳捣㕡㜶捥〳㜶つ㜳㘳搸㔹㤴㙥㘰㠷昶扡ㅤ㙥㤴㥣㈵㑣㔴ㅦ㜱㉥〴昲㈱搳㕤㤱攷㑣㐷敡捥挹愶㕤㉦㐶愹㌰㜰㘷㌲㐵㝡㘱㙡晢㔳㌳㠱㌳户㙡晡㙡㐵〱〱㤳搳昷㠴㕦换昶扤扤昷扣㕣扡㝡〳攷扣愳㜷㍦戴㕣㌴晤㔶捦挹摥㍤攳捤㘷㔷昰捥摥晤㔳㌰捡㡥㜹㐷敦㌱ち㤴搹摥㘲㈸愶㙦〵㔱㙣挶㈸㌱ㅢ㘴㔶㘶㐶〴ㅡㄵ㘶㐳捣㠶㤱㠹攲㉦挰㈵改㠱㙣搲慡愶㔶㕤搶慡㌵慤㕡搷慡㔲慢㕡㕡㜵㐵慢慥㙡㔵㕢慢㍥愲㔵㉦愳㑦㤲捡㠳㠳㕡㥣㝥昸敢戳扦晣昶㝦ㅥ㍦晥捣㔳㍦摦昳㕦搷扥昲搳攱㍤攸昴㘰扣愸㜹摦扣〲㔲㙢㔳昱攱愹㐳晣户㌵㔷㠰㈹慣㈳搶扤搶昴㜴晤挸㈱昳㙥㔳攷戶㜲㤰㥦㈱㤴㌱昴ㅤ戶ㅥ戶摤扡㜷㐵攱敥收㔹㌳㤰㙤挰㑤挶㙤戳㕥搳慤〷㙦摡扣㜱㌱㌴㐳㜹㔳㘷㕢㝢㤲慥㘱㡢㘰㉢ㄹ愸昷摤搲㌹散愲搹㘸捡㤹慢㜶搴晣收㡥㘶㘷挱昷㤶㝢户㥥昰攵愳慤搶慥ㄵ捤㐰愸慤慢戹扢㜶ㄹ㌵㐵敢㥡㤸㕢昵〲改慡攵㑤㍡ぢ㜶敤戲昴ㄷ㈵㐵愲慣慢慤敥㘷㔳捣昵㤳攷㕤㙣ㄴ摣㕡扦㉤㕤㙢ㅤ扦ㅡ㠲㤹㘵ㅤ敢㕤㤳㝥戸戱㘴㉥㌷攴昵㤹㉥搱㍢搱㜰㈰㔳㝤挲慢㌵㠳㌹捦つ㝤慦㤱㙤㤹愹慦㥢㤰㌴昵戳㕥㕤ㄶ㡢〵㈵ㄴ㈰㜰〷〶㠴㈸摣搵㥢ㄷㄴ㈲㔲㈸㈶㈳摦㤸㈵扢愹㠷戰㍢散愲㈱㐹㤳摡㕢户㤸㡣敢㔵㌲㈶㠷〳㔳㝢愲晥攰㑢摦扥挵戴㉤捣扤扥㥤㌵㙤㍣摥晤昱㜵改㠶愷㑣户摥㤰㝥慥昶ㄳ㕣㤱㌱㡡㑣扦〶㠱搰ㄳ㝡㔴㜵攲慡搸搰慦搸昵㜰戵戴㉡敤㤵搵㄰㜵搰㤰攵㌲㐱摢㤵㡣敢㔰㘵散㘵㌶㡥慣㔲㈹㤴昶戱㔳愹㠲㔴搰㈹㥤㜲㜸㌹㈳挸㌹㉥挳换挳搶〹扢ㄱ捡㐸㈸㡦㕡挰㐸愴搵ㄴ晡㐶㐸愲扥㔹㡢ㄴ挶㍥㙢づ㔴㙡摡㙥戸搱收摢㉥㉥㠹㠸㘸㔷ㄶ散㌸㔹㐰㔱㤰㤵〷㌹扣〶愲改㤰〶昹㥤㔳㐴㐴㌶挸搱散㤸㌹㑢㘴散㥦㈳㈳搰㍦㑤㠴散㝤愸户㡣㈰戱㜷ㄳ㈹〷昵攴挷㕤㘹戶㤹㉤ㅦ㐹戳晤〰㥣㜱㍤戳ㅢ㤸摤挸散〰㌲昱㘳㐸㌸㑡㌹㤴戳挹㜸ㄳ㥥㡤㥢㤹扤ㄹㄹ攴㤳㐱㤹ㄳ㡢㉡摡㔰摢戱㈳搹㙦〴㜶戲㌲㡡㈳㔱㐴换戸㘵㘷㡥㌸ち搱戱搵戹㌳㜴㙤㔱改搸户昵愶捤昴㜶㐸㤱㌹㕤搳㝢摤愲㙢ㅡ㄰散摡愷摥扡ㄵ㐳㡤〹㘶㙦㐱㔶㌱㙥㘳づ攵㐲㠳㜷㝢ㄶ㍤㑤捡㌷㠴㔹ㄴㄹ㐳㝤㉡昸㤸㤰㜹〴挸ㄱ㜲㕤挷㤷㕤ㅢ㥡收攰愴昵㠶户愱て昶收敦ㄸ改ㅤ㝡㜳㔷敦搰㕦昴ち慤攸摢挱㕥攲扦㝢敡㤸㍢搰㙣扣㡤搹㥤挸㍡㜴っ㑦摦慦搴㔳愰捣㘲㈷㠵戹扤昴扡㈸㉢㜷㘹㘳㑤㉡つ㌴㙣㉤㤹晥㡡っ攱挱㌸㍤て㕢搸昳㝤搹挰愱戶慥㉡㜸㝥戹㈱㕢ㄹ㥣昰㍤㠷昵扢㌶㜲昰㠶㔰っ挵愲㌶㔰攸戰㤱㜳㙣捤㤴捦㈹㐵㌹搴挱㜷昷ㄶㄲ愹㐱㔹昲攲戸晣昳攵慥㈴改㐳㤲扣〳㘰㌵敥㐲〶㈹㈱晥愳愷㐴㌹挸㙥㝦愰扡㘵㉤㔶㝡昸㜲㑥㈷ㅤ㍥挴㉥㌹㌲ㄴ㌹㙣㘷攱㍦〸㐶㥣㐵摢㘹〹㡢㈱㘷㐱晡㌵昸ㄶ散㠶慣㐴㙥㔹㡡㥡㕤㔹昱〶㤱ㄵ〳〳㕤攷改ㅣ晦㥡愲㤳づ㈹㤱换敤戹㡤㌹㘷昱㌶㔱搱つ㐹愱㤲攳ㅡ㙡㐹㈰㔲ㅥ晢敥㡡㤸㍥㐴捣㍢〱㌸攳㄰戳㘹㘶㠷㤱改摦㠳愴搹㉥攰ㄹづㅢ㕣愷㑢扢㕡㉤㤴㠹〶攵㈲㝣愹愷戰㍡挲搷扣㡢搹扤挸㍡捣ㅦ㍡㈰㜳〸㔱愱㍣㐵㠸㉡㡣㘱㕤戴攵ㄵ搲挰ㅥぢ㠱愵戹㘶㄰㝡づ㈳㑢㈳搶扣㜷捥ぢ攷敤㘰つ㤱愸㜱㉢㉥㍣扣㉡㕤㔰㤷て摢愷愳捥㕢㕢㤳㜵挳㕡昴㥡㄰㙤愷攷㜷挲挱ㅣ攰㠰㉤愹捥收㥡㐰敡敦㝣㡣㈹〴㈰慤晣慤昴挶㙥换晢捤㐳摦㘸ㅢ愲㑢㜶搸㤰㐳㔶挴㜴㉣㤷㉤㐰ㄱ㤱㠳晡愰戵戴敡㑢㌹㍦㘲㥤昴敤㝡挳㜶㈵㤱〱ㅢ㤳挱扡㌳㜲〵㔱㠲〵㡦㌱㐰捦ㅤ戱㤶㝣搳つ搶㑣〶ㄴ㌷昶㘶㥥㔴㔸㐴户㘶㙤㌷挰㙢ㄴㄶ㔹ㅥ戵ㄶ㔷扤㉢㠸搸㌶ㅤ昷愴戹ㄶ散〸慣㤰攸愳愴㔰㈳㌴愱㘹愲慣㤵晢挵てて攴㠵〲㜹慦挸㑣攱慡愰搳㘷㥥愳扤㘹搷挷㌱ㅡ摡改㕣搳㌰愲㐷慤捡㠱㕣㈹㑣㑥㌵敥攳㤸昷㈰晢挰挹ぢ愷摢㤱戹㔷ㄵ戳搶改攵捦㤱昱㡡㉣㕡㠱㄰晡攸昶㐴愴挲㍡㔲づ㌸㄰ㄸ攷㔳㈷昹㔵㉣搵㠷搴户愷㕤㍣㠱㐸搲戰㜵挶㕣㤶つ挴愳ㅤ㌳摣ㄳ㍤搰㡣㜵捣㐶㄰户捤㜹㡥㘳㤲戴㐸㤶㡢㌵㤳ㄴ㍣搳っ扤戳戶㙢㔸挸ㄴ晤挵㔵收㔵㔴㤹㔷㔵搵戰昵㄰㐳㠳慡捣戹扣ㄵ搳户挳㔵挷慥㤵昹挰昰摤㡥愰㐹㌰㌹㈵㙦㤲ㄲ㤹㌱搱㘱捤㕦㠰挹ㄶ㑣〱摤㔳㤰愳〴ㅤ搱て捡搵㐴〹晦㐴㥦㡥㈵〸ㄸ攵㈹㌵摥㠷搹㜴㜵㍢〲㈲㐷愵㙢挹ㅤ㡣㙢ㅦ㐱㑤㈴㠴㠸昵ㅣㄲ㠱㔷㌰㈵攴改攲㉥㔹ㄷ㕣㍢〴昶㠸戱ㄳ㜶㌸ㅦ〰攵挸㔰㔴挷摢㥢ㄴ㔶㔳㠳㈶㕢㕡攱搶敥愶㡣㥡戸愵扢㍤慤㌷摥扡㐹㜳愴㔱㔲㡡㘴慢㑥㑡戳㙣戲挶㥤愴㙡㠴㔲摣㠹戶ㄱ㜹㙥搳㌶摣㈹㐵㕥㠵㘲㔲㌴㔳㌰摥慦〸〵㠱摥㔸㐷搱㘷㥦㑦ㅥ愹㠸つ㙤㠰ち昵㔴㔴㌷ㄲ㠷〴㑦攳摡㐹㕤㔶攲㈷昰昷㥥戸㜸扥ㄹ㘶㕡捣慢攳㜱换㑣愳㜱摥㠵㤵㔰㌳晤晡づ㘱㘹散㉤搲㌰㡡㍢晢搳晥㠹戲㑡㌱㈲㕣攴挷〸㌶戸挸ㄹㅡ挹昱〵㠳ㄵ挱㘰愹愸㉡㉤戴ㄱ㠲扢㔵㕤收搳㔹㘹扡ちぢ㡢㘱㝤㕥慥㉢㔳慣㙤捤㡦慢〱慤ㄳ愳㤲愵㠶㌵戳ㅣ㐰慤㠷㤴攵㜱㐹㌱戹㘱㍤㐴搷ㄴ㉥㌲㐰昴挶愵㠵㕡㠸昰㙥㙢〲㥥づ㜶づ㠶〰㤱㈸㝣㐲ぢ㡤㔲戴㤴㐳扣搹㑤㤰㝦晡挳㉡敦愱㔹㉡晤晣㤸昸挲戳㑣㕦㍥㔶㐸ち㌱㈳㌱攴㤵㘳㐱〰戹改攸㈴㌹㘹㍣〹㥡㐷搲㑤〹慥攱愴㡥㘶挶〸捤㍥㍦挴㑤ㅥ挶戳㐶挹㍡つ摣㜵ぢ㙤㘸搴挶挶ㅥ敢戴㕢㙢㌴敢㔲愹攳㐴㕥㉢慤扣㈳昰愵慥〱㐶ㅣ㤵〳㤷ㄸ㈸愷㜱㥣攲㤶㠹愴晥㙤㙦攳㝥っ㔷㠲づ㜳㐴敡㡦㐱挸ㅣ搷㥣ち㡡㜵摤㔵愰㡤戸户㝤㠹㐱㕤愰㠳㔸敢慡愲㍣㍢㠳㍢㜹慤㐸戲攲戶㔴户㌳摥ㄹ㡦㜶㝢慡敡㤴ㅤ㔵敤〸ㅣ㘱㥦㤱搰㉢㤵㘰㤰昴挹ㅤ㥣愴㜰㉤㡥昰㕥晢㠸㝡㉣㕣㠳搰㔳ㄸ㄰㡣昳昲㈴㔴〰㔴挱㐸㌴扡戵戶攵㉤ㄸ〱愶昵㙤捣㈲ㄳっ〵搳愸㐵捦挸挸㤹㐷㜹㙢㈳攷㔶昴捡㠹㤲愶〳慡㡣㔳㡥挳㘹て愴㠱㥢㜸㤸㕥昲愰㠸挲㝤敡㜲㔸㜲㍦㜱搲挱㌱挸昳慦敦愸㕣㌰㐳㕣㠱㜱て㜴㔴捦搴敢㌴㜹攱愳摢ㄱ㔸挵昵㡤挸㈴摤搷㜱㌱㑢敤㠹㌶摥敤ㅤつ昱㠵挱挳昳㔳愷捣戰戶扡ㄸ㙥㐴㤷户晡㈵〹晤㥦攰㤳搸昴敤戴㥢㡢㉥㉦愳慥ㄳ昶㤵换慥㜷挵㔵敢搲〳摥晣愳〶㌵〶〷戹挸㑡攱户昸愷㤲㔶搰晦ㄱ㌳㙥㘷搹㥣愰敤㈴攱㍣㉡㐵搲㘰〲攵ㅣ㍡㠱晤摥扡㌹㐰㍡搹搷㐱㈷㑡㄰散ㄲ㡡扢昲㥡ㄱ㡡昸ㄶ搰㑡㘲㠹㡥攵㠰昹㤷挰晡攲㥢愸㈱挲昱ㅣ㡢ㄱ晤㉤㈸攵愰㑥〹昲昸㥡〷㉦㠵晣晥㘰㈹攱收㑤搹改晦㠱㤹挵㍦㜴愲攸ㄶ愲攸挵㉥ㄴ〹㕥〵㔱晣晢〰ち㐹搲ㄹ愲㝤㐵挱㜰敥㘹昷㄰晡扡㕦晡晤ㅤㅥ㐲捦挶挴愱㙣㌴㠴摢敥挰㜳换㐴ㄸ攸㌲ㄱㄸ挰㔷㈶挲㌹ㄴ〴㈳昹㤱㠹㄰晢㐱ㄶ㔰戱戵㠹挰昸㕥㡥㈱㤸ち户愶㕣ㅢ㍣㠱㕤敦搰㐷㜶ち㤷㙦㘵㠰㤸㍥㤴㔶㌰〷慦搴つ摤搵ぢ愶㙦㍡〷㔴晤㐹㕦㐲㤹昹㑢戸捤慤㠶㜰挴㑤㥢戶愸㐱㥢昸㉢ㄲ㑦晢慥㑦㘵㝢㜷搸㠱愹㈸㐵㉥㝣㔱ㄶ愵㔷攱㉤ㄱ㍣㌷ㄴ㍥扣敦慢㈷晦攷戱㈷㡦昱挶㕡㑣慢晡㕤㈸昷ㄳ戶愷㍤㠱挰㙥敡戲挸㝥㝥㥣㜳ㄶ㥦㈹搹㙢つ㌹㙢晡捡ちちっ㈷㈹㐶㠴㤷㈲捣㠸昸㜶㠲㠹㠹扢て㤱㠹㌹搵攱昲㔴ㅦ㌷㈹㌷攱㔴㙡攱捡慦㤷㠴づ㐵㑦㐵搶愷戵愹㝦つ慡攸ㄵ㉥㈴㙢㈵昲搴挹㈴挴㔷㍢㜵摤ㄱ敡扡攸㈰挳搰㝦㈲愵㄰㠳㈰㠵愴て㌲扣ㄴ愰愴搴㈲ち㍡㘳㝤㌹搱戵捥㌰㉦晤〱扢㐲㐰戶㉥晥昵昹㈱ぢ愰〸㉣㈶晥昸㝥㑦戴戴㐵ㄳ搵挴㜰慤戲㘹㤶㔰㔰㠷ㄷ㔶㑣㈷戵ㄹ㑢㠷愷摡㙤扢愳昸㤲ㄱ㈷ち扥㐵㡣慤㍢昴戵㔵㥣攳㙥ㄳ户㍦愰㘷㑡㑡㘱戸㝢㔹㡤〳愹㡡搳㐵㕤㉢㔱ㄵ昳搱愸搸ㅡ㌴ㄴ㌷㐱㘷戹〷㜰㉡㐵〰㤰㕦ぢ戱㝤戲㍤昵晥捥ㄶ敡㌸㜷㄰ㅢ攴て散慦㕢㜲ㄸㅢ㙦㈵挷㐰挲㙥慢㔷㌹扡㈲㝥ㄱ㐳㤴㤵㉦㡣㜶㤱敦ㄲ㠲㜱敡㠴戳〶戴㉥晤捦〸戶攲慣㠷搹㥢愱散㡣晥晦㈰㉡戶搴晦攲㍥㡥挵㡦昱㐷㜱㠱て㍡㘳㈸㕢㠶㙤〸ㄱ㜸户ㄱ挰㔱〷㘳㐳ㄵㄹ昶㡥㑡㡢昸㠰㌵㙡㔶ㄲㅣ㝥慦㘲攷昵㠸搶㔸摡戶㐳㍤〵㈰攳㐳晡摦㐳〴昵ㅣ㥦㤵㕢㥣㡤愹昴㈱㘴晢捥摡㌵摦ぢ㍣㉢㥣㔸㐴攰㜷㠲摦㥦㔹戰㜹㘶挴摦㜵ち戵摢〱㠹攱㍦挵㤸㜳攷㈱戰捦挹昰戵㡡㐷㌲扡戰扤㘸〶扦㐵ㅡ㑢㠵㤸愸ㅤ㠲敢慣〷㥢㘶〳㥦慦㥥㠷慦㌳㘴搵㡥㔰㜶㤱挷戹昳㤶〶㐱㠷㝢㕡て挰ㅦ㈴ㅢ㔳〸㤰愹㉤晣昱㥦㄰慥㥤㌰挸昶㡤昷ㄶ戰㘷㝦㍥户㡡晥户挰改昶摥㤲㈵ㄹ扥㤳㕦㈵㔷㡣㑢捣㘱㝣挳㔱ㄷ㌱㠶㠹㐲㤲昴晢㔱摡扥摢㤶敦ㄸ〷昵挷㥦㝡搳㍤㌶搹㠰㔳㙤ㅢ㜱昱㘵っㄵ捡昷㠷㠲㔱攳㔳昲㌳㡦〲ㄹ㔴㍣㠷捤㤲㉤㔰㉥㤴㈴戲摥戴晥㠵捤㘸㝤㉣ㄱ搳㠲㈷てㄲ㘹㐵㍣㡢㡥〴㘲〴㡣㔵搶〱ㄸ敡㠴㠱戲㤱㡣㐰戹㈰㜸挲㔰ぢ昹㍣〶戴ㄶ㜲ㄹ戵扤ㄷ昲㤷㥢㉤㐴搰㌶攰晥㌲昳㡦㈵扡挵㜰搹攴㌱㕢㘳昶㈸戲㔱ち㑢㑡愰㔲ㄴ㜰昸ㄶ昱㠵昴敦昱敦㤷㡦㝤敦㈵愶㥦ㅤㄳ㑡㍣愲㈹㌳戹愰㜸㔴㡢晦㑣㝡昱㈱㙡㝢㉦晥搳㥢㉤㝥㡣㤲㤳㉢㌱搶㤱㡤っ㠸㑢昸愵㌶㜳〵〵挲㤱㍦㘳㈶㌲㈶愱㌰㡢㐲㘶㌹㘳挴戰㥡㘴〳〵㑣㐲挸慢㐹ㅥ㐳㈱㤹㐴㈷㈰㜲扥晦㔱收ㄳ敦㑡搲搵㔳㡡㝣戵愵㐸㘹㤶㥤搸㐹扢㈳㐴〷戶挴て㙡㝢㑡晣㔲㥦㤷〰挴㈷ㄲっ㥤㍡㤵㝣㕣愵挵㈱㈹㔰㐸㘴戰㤲㤰〸㐸昱㘴搲昹敢㉦戶㍤慡㘸㐰〲ㄹ㐵㥤㐹㜰慡昳挷㤳捥㠷昱攱㤶敡㔳搰愲㕦㠵㤷㤳捥㈴㑣搵昹㘳㐹攷㥦ㅥ㍥搰敡㥣㄰㘴㌴戳㑥㙡挹㌱㠵搵攱㈰昵ㄱ㌷捦摣扡㐵昵㍡㘴㐵搵ㄴ慣㉡扡摣㔰ち㜶ㄸ昷㐵㝣㝣㐶㝤〶搷㥦㜰㑢〴㌲㌸晡㙢ち愷㜱㉤㙡摥っ㑤㝣㈵扤㡥㜸戴㙦愸㈷づ㉥㔹攷㝤㔴っ㕡愷〳ㅣ戹敡㍢㡡㐴㘰㉤ㄴ㈳昸㙥攱戳捦戱㉣摢昰㐸㘲㘸ㅡ慦㤹昴愷㕢㔴摣愵㈸㥥㐸㌰㕢㜸愲㑤㌳挶㐷㠱ㅣ㠸㐹攴㉣ㄸㅦ㐳ㅥ挵㘹㜸愱戹㌰㐶㐱愰㤸晢㐹㌶㝣㠲搹㈷㤱㔵〴㤹㥤㜴㔰晡ㄴ戲晤㌰㘲昱搷㉣㠲㠹扡㥣㔸昳攵㍡晥㍡挶扦㝣挳搵挴搵攴㤵㘹㘲㌲晥㡣挳晥ㅣ搹〰㝣扣㈲㈶挵㡡昱㘹搴愴㕦㑤昱愱㕥晤ㄹ㌶㝣㤶搹㔳挸㉡㍡㤷扣㙤搸㜱㘷㝤㉡戲捦㘱愸㈰㐰㌸㠷昱ㄷ㜱㠱て㍡愱昱摥摥〶㌵捦换挹㕦〰㐰㍣㌴昳愹晦㜱㝣扡扦挱㑤て攰㉦㤷攸捡晡㉦㙡敦改㙦㉥戲〲つ㜷昵攳〲搸慦㘲ㅥ敥慢ㅤ㘶攱㡣搴㌱㘵慤㈴㠸㜵㙥㔸㌸㜸〳摦㜲㔴㌵〸㐱㑡㔰つ㡤戸㠱ㅡ捣㜸㠶㕤㠹攳㡦昲改昳㝣㈲㙡ㄵ㄰晦㉡㉥昰㐱㄰慦㙡昸㙡㍣㍣㜹㈱㜱慤ㅡ㔶㍡㕥㐸晣慢〶㉢晤挲扦收㘴ち㔹㈸㘴㜵ㄳ㤱㔶㘴敤摦㈰ㅢㄹㄸ攵摡愸㔴戵慢愲㜶愹㝥改搲慦㐶㡢ㄳ㌷ㄵ晦昰晥攱㘷㕦晥户ㅦ㍤晤晤てㅤ晤挹㙦㥥㝢敥晢晦晢昴㑢扦昹昶昲搱敦㝣昱㡢晦晡㠱攷㕦晡搱㕥敢〵敤挵㕦㥤㜹攱昱改换㡦㍦㙡㕤戸敢攴攳ㅦ㝣攴挱改㠵敢㈶〷〶〶〷敦ㅣ晦敥㡤㙦ㅦ㝢攲搱㙦㡡㝦晥挱つ慥㔰摢攵ぢ搳收挶ㄸ户慤㤶昱㍣ち㔸〶㔷晣扡㉥㠳摢㔵㠰扡ㄴ〳㙡ㄶㄵ㘵㌸㍥戸〰搵㔰捤㌶っ晤ㅦ㐱㠹扡慥","㜸〱攵㝣〹㜸㕣挵㤵㙥㔷㑢㝤搵搵㤲慣昶挲㘲㔶ㄹ㉦ㄸ〴㐲㤲㘵㑢㌶㌸戶㉣㔹戶㡣㙤搹㤶㙣搶㐴敥攵戶搵㜶㉦愶扢㘵㘴挲昷戰つ扣㈴㐳〸挴挳扣㘱㑢挸挰㠴㈵㉦㐳㈶㈱〴㤲㠱㐷㠰㜹搹〶㕥ㄲ〸ㄹ㤲㘱挲㤲〴戲ㄲㄳ〷㈶㈱ぢ昳晦攷搶㙤摤㙥戵㠴挷㠳扦捦摦昷慥搵攷㥥㍡攷搴戹㔵攷㥣慡㝢慡扡摡㍥攵昳昹摥挱挵㍢慦㙡㈲㈷つ散捥ㄷ散㜴㜳㜷㌶㤵戲㘳㠵㘴㌶㤳㙦敥捡攵㈲扢搷㈶昳㠵㉡〸㔸㐳㐹昰昳㠱愱㝣昲ち㍢㌸戴换捥攵㈱ㄴ昰昹㠲㐱敤㈷摦㝣挲㙥㐱戳㤶慥㈶㠰㤴㑦㔳㐰搷㄰〴〱敡㌴挰㘰昷㡡晥攸㜶㍣㙥愰㤰捤搹㘷㌵㙥㜱㤴㉥㙤㙤㙤㙥㙤㙥敦㘸㕤搴摣㜲㔶㘳昷㐸慡㌰㤲戳㤷㘶散㤱㐲㉥㤲㍡慢㜱挳㐸㌴㤵㡣㥤㙦敦ㅥ捣敥戰㌳㑢敤㘸换㠲㘸愴扤戳戵㝤攱挲挴攲挵㥤㜵㈱㘸㕥摦扤㘲㐳捥㑥攴摦㉢㥤戵搴搹摦扤愲㜹扤㕤㜸慦㜴搶㐱㈷㔴昶㘴搳㤱㘴收㍤㔲ㅡ愰搱ㄷ昴搸戱㈴扤㘳摢戹㘴㘶㕢㌳㥡㕤㘲㘸㤴㍡㥡㝢㘱昱㔸㈴㕦攸戶㔳愹㑤㜶㠲㡥愹㑢搳㘶㜶捥捥挴散晣㤴昴捡搱㤸㥤㌲散㝣㌰扤㈵㤲㕢ㅦ㐹摢搵㐴ㅡ搲㡥摦晡攲㜶愶㤰㉣散慥㑦㙦捥摢㥢㈲㤹㙤㌶㐵〲改㔵㈳挹㜸㜵戵慡慥昶㔵㥤㕥愹㌱攲㥢收摥㕣慣㝢㌸㤲㉢㐸㠹㕥㙢慤㈴敢㠹㄰㘹㜸㐹戳ㄸ㐵㡤㘵戵攸愶㠱㘴晡㝣㍢㤷戱㔳㝣〸㥤搷㔴㈶㈴㌶㜱㑣㕦㌴㡥摢ㅢ㍡㐶搵㥡〱挱慥昰㈹扡㥥㘰ち㠰搵〰㜰晡㠶㕣㤶㤱摢戸㈵㤲ㅡ戱ㅢ㉦㐸ㄶ㠶戳㈳㠵挶晥㥤ㅣ㍡㡤㠵㙣㘳㔷㌴㤲㠹㘷㌳㍡捣㙡㔳〱㔴昵敢ㄸ㜴㕥戵㙣㤷㝦㈸攲ㅦ㡡晡㠷㘲晥愱戸㝦挸昶て㈵晣㐳摢晣㐳挳晥愱愴㝦㘸扢㝦㘸〷㘴摣㉢㔸㔳攳㌷搷摤㝦扢㝢愰捤摡扡收ㅦ㉥晥晢搷㈲㕦戹㘷慡攲㌸㤳〱㌷ㅤ㠸㥥〱㘰ㅤ〳㜰ㄲ㙣㥢㠷㡦㑣㌳戳㠹挶扥捣㉥㍢㕦㐸㠳㤶搷挷㔲昶㌸〰愵㝥㠶戶戱㝤搷摣㜱散晤愳㤹㉢㔷摦昹攱㜳搷㍣㜴搱收ㄵ㡡㘳㔷ㄴ捦愴昰〹〰搶㠹〰㌵㙥晦㑥㈲昹㘴〰愵㕥㌱㍡晡㕦挸㑥扦改昶扦敡晤㍦㝦晤昴㑦㕥㔹㝥晡㐱挵愱㉦㍡㑥愵㜰㈳㠰㌵ぢ攰挴㜱㡤敢㡥攴㠷ㅢ㝢㔳搹换昳晡㌴㡡捥〶㔰敡〵愳昷挰〷㝢づ扥晤挴㘵慢敥晣㕦㠱愶㘴捦摤ㅦ㔷っ㕡搱㍢㤷挲昳〰慣搳〱㘶㔵昶㡤㘹㌱扢慥攷戳挲ㄹ〰㑡㝤摦㘸㍦攵㥤敡〳ㄷㅦ摣扦晡㠱捦扣昵㥤晦昸晡㕢搷㉢㑥㔳愲扤㠹挲㘷〱㔸㘷〳㑣ㅢ㑣愶㙤㝡戸㍢㥢摥㤹戲改㙦摤㑣㠹㜳〰㤴晡㡥㔱㜷敤㌷㘲戳㥦扣㘸摦晡㍢昶㥥㝦挳愷慦昹昳㘸㕤㉢搸ㅢ㑤㔰昵攴㈲㤷㘳㘴㡥つ晡戶收ㄶ晥㝢昷搹づ㤳㕤㘲㘱愲㈳搱摡ㅡ㕦搸ㄲ㔹㄰〹㌰㉣て㜵㡣㌱㉣敡ㄲㄷ㈴ㄱ㤸㤷换愰慢㑢昴㈶㔳〵㍢㈷㠵㠶〴㙥捥挴㈱攵晡挴捡㔱捣戸㌱㘷㝣捥㐸㜴摢戹〲㘶慡挲敥戱㐱㝢搲㡡㐸摥ㅥ㉢㌶ㄹ摤㉢戲㈳㤹㜸晥挴捡捣㠱㐲愴㘰㥦㔰捥ㅢ㔳㌲慥摡〰㘶㌱㍢㉦㑤㍡愵扣㥡㡣扥慥搱愴挳㍥戹㡣㡤昹㉣ㅢ㥤㤸摢㥢戳㉦㉢㜲挷戵愸ぢ㙦挱㕤㌶昹攳㝡改戰㥣㜶㌵㜶て㘷㌱挲愴㜹㑤改つ挹搸づ㍢㌷㘰昳ㅤ㙡挷愵慢挷㤰㘵㈶搵愶晥っ㍡㡡㘹㌲㝥㥡㤷㑡㐳摢㤹戸ㅤ㐷㝢㜷挲捡扢〷㈳搱㤴㝤㙣㠹㠸昳㑣㌰㘶㤶㤰㝢戳戱㤱㝣㜷㌶㔳挸㘵㔳愵㥣慥昸慥〸㈶昲昸扡㙣摣慥㤶换攷㐰攵慢慡㔲捡㌷扦搲㡣㐸摤㜹捥㤹㥥㈰攱捣㍣戹戰㈷㠸㈸㕣㜱慥㉤㙡〶攲〹㌲捡㥦㌱㘹㑢扣㐱㐸改㤶㐹愵㉢〴㈹㉢ㅤ㕦㍡昰㥡㌷挱㍦昰㐳捡收愸昴捦㤹㔸攵㔸㕣扥㑢㑢㍤㕥㘱捡㐴改㐹㡣㈶㙡㡢戱㜷㘴㠵晤晥改愶昷㉢㜷㘱敥㕢㡤昷㔲捡捥㑤㥡昰㈹戶㐸户ㄱ㉣㈰㘸㈷㔸㐸戰〸㈰昰㑤捣㜱ㄳ㕡㤴㙦㈲㌵慡㜶〷㉥㑦挶ぢ挳搶戰㥤摣㌶㕣〰つ㠹㘲㌰㐸㜳㝦ㄳ㥦搵昸晣ㄱ㤲㜹㤹㘰㍢㔱搲㡢〹㤶〰㠴㐲㍥敢㕣摣㝤搵㈱㝤ㅥ㙥搶㔲㠰㥡㔵㜶挶㐶晡ㄷ㔲〱扥㠳晦敢㤹〲搳㔲㉤㠹〹㌲挷㝣㈰㡤晣㈷㕦㔵㔵挹ち慢昱ㄲ㉡㜰〰㑥捡㤴㥣攰㝤㔴扡っ愰㙥㌹挰晡搵㜶ち挳昷扤㑡㍡〳㑣ㅤ摥㌵戹㤹〶愱㘳搳〳扢㌳戱攱㕣㌶㠳摣扣㈷㔲㠸㜴挵㤰挱攵㔵挴㑡慦捤㜶㡦ㄴ慣昴敡㈴㙥㜵改㑤昶㑥㍢㔲攸挶昴㕣愸㑦慦㐵昶㈷昳㘷㕦㝣㌴㤰㜶ㄲ户ㅥ㍢ㅦ搳捣昰晡㌰ㅤ㡤㕡挰㤰摤搴愵㌹挱搸愳〵慡慥㐹㙦㠸㈰㐳㉣㘸〸㌵㐹㉤〷㘳捤㝡愱戹戵㐳愶〴つ㘱㐱㍤㕡㙡㠵攰㘸昲㌱㘲昰收挴摢戶摡挰昲㤱戳戹㤰㑣攵㥢㡤㜹㥢㝢戲㔸〱搸戲㍡㔹㡥㥡㤶㠵挰戲㈶㜵㔶昹〰㘷㡡搸ㅦ㡢㍡㙡搱㤴㔵戹散挸㑥愶㘳敦㤵ㅥ敡昲改㉥㠰㍢摥昸捣戹㜳㍦昱戹㜷捣晤㉡っㅤ戹㌴戳㐸捤㌸㘷ㄱ㌷戹㜴て㙥愱挹㜸〱收㤲ㄵ㘷搸〹戲㔹㈶㜰㜵㘹昴㜶㌰㘷㑢㝡ㅥ㤴挲敥㥤㜶㝤晡㠲㙣㙥㐷㌴㥢摤㐱攷㑦㤱㔲㝥搸戶ぢ捣㜹㙢㑤㡡㑦㕣㈹㔵㔵㔵㤲戹㝡㤲㘳㘶换ㄶ挷㜳㜸㌰ㅢ捦收ㅢ㔳晣㈴愳戹㙣摥敡〳戵ち㉦ㄳ㙢つ㤰慥慥挶㑤㉢扢搶㌶昶㙦ㄸ散敢㕦摦戸慥扦㘷攵摡挶摥晥㑤㡤㠳慢㔷㌶㙥改㕡扢戹㑢攸晤扤㡤㝤敢搷昷㙦㜱㑡ㅢ㌶昵慦㔹搹㍤㌸搰㍣㥡捡愷搵㠳戰ㄴ㤳搴㤹㤱㈵戳ㅥ㍤昹㔳敢ㅥ㝤㘶㑢攷挶〵㤷摥愴扥㘸ㄸ攳搲㘲㘶挳㤲戸慦〳愲搷ㄳ昴ㄳ㙣㈰搸〸愰敥㐷㔵捥㘷挳㈸㕣㡤㑦㌳㤲搵慢㘴㔶ㅡ愰捣㈰挱㘶〰捣㑡攲㉤㑣㑡ㄷ愰㘸㕤〸㔰挳ㄷ㕦㉥㤲ぢ㈹挵搴㡡ㄳ㤳扥㠸攰㘲〰挵散㥡㐳搸愷㉦〱㤸㌰づ㤸愶㡦㡦㠳て㠰ㅡ搲㤳昰ㄴ昳㜶挶㠲愶敤㌵㑤慤㘹㘶㜵㥢戱挵㌸㈳摤㙡ㄸ攳㔲㝣㘶昶㘲愴㙤㔴㐲㐳攸㈴挱㜶〲㉥㐰搴㑤挶㐸㔱ㄴ捥挴攷攳㌰搲昵㘲愴㌴㘵㌲〴㔹〰㡦㤱㉥㐳搱捡〱㜸㡣挴搵㠳ㄸ㈹て㐴昳愵愰戸㝣㜰㡣㌴〲㙣㐲㈳㜱挹㌱摥㐸愳愰㠶昴㈴㍣挵㠵㐹㈵㈳敤㥤挸㐸㝢っ㘳摣ㅡ㠶㑢ㄷ㌱搲㕥㌶㘵ㅦ〱挳㐵㕦㐳㜰㉤㠰扡挲ㄸ改挳㈸㤰扦て㐶摡㉢㐶晡㄰㘵㐸搶ㅦ〱昰ㄸ改㍡搲ㄸ㐹㠸愰㐶摣挴㌸搷〳搱ㅦ〳㔰愷〱㌸挶戹〱搸㠴挶㤹挵ち攳㘶㤲晤愰㠶昴㈴㍣㌵ㅢㄲ㤵㡣戳㙤㈲攳㈴っ㘳摣㐲㡣敢㉦㌱捥㙤㙣捡敤〴㥦㈰昸㈴挱ㅤ〰㙡慢㌱捥摦愲㜰㈷㍥ㅦ挵戴搴㈷挶昹㍢捡㤰愴敦〲㜰㡤㘳㠵昴愷㔱戴敥〶ㄸ㝢昷慢㜹㈸㡡㤱敥〱愲敦〵㔰昳〱ㅣ㈳摤〷㙣㐲㈳㜱㘱㌸摥㐸㥦〵㌵愴㈷攱愹㌳㈰㔱挹㐸敢㈶㌲搲㕡挳ㄸ户㥥㙣㠲㈶㌱搲㠳㙣捡㤷〸ㅥ㈲㜸㤸攰换〰慡搷ㄸ㘹扡昲昹㤸昹扣〹㈳扤㈸㐶晡㈷捡㍣㐲昰㈸㠰㙢㈴捣㐵㡦㤱挶㘱㠶〸攲ㄲ㔵㡣昳㌸㠹㑦〰愸㘶〰挷㌸㑦〲㥢搰㌸㘷戳挲戸〸晡ㅡ愸㈱㍤〹㑦㥤〳㠹㑡挶㔹㌰㤱㜱摡っ愳㝣㜵ㅣ㘸㠳愶昲户扥散搱ㄴ搷つ㥥ㄵ〹㍢㘹㈵㌶㘷㤲㠵㝣㙤愲㙢愴㤰敤㑤ㄶ㝡昲㠵扡〴〰㔰愹㜲㠲愴搸㥥㑡㑤㠹㉤㐹晢昲㐱扣昷㑥ㅤ捦挲昶㔵昷㐸扥㤰㤵㠴收㤴昱晣㥥散晡㙣愱㈷㤹摦㤹㡡散㥥㔳㠱敤㜰㉥ㄸ戶㌳㔸昳攵戰昴㝢㌷愱散捥㥤㜶扣㐲ㅢ〷戲㈳戹㤸摤搷㜳㌴慣ㅡ㤵㤳㤹昹昰昲㐷㕥愶收㑥扣㑡昲搸㍤〴摦昸㤱㌰愸挳㕣㜴㌰ち㝤晡㍢㠴ㄸ〵㉡ㄴ搲摦〵㡡㠸て㜰㈵㌲㜹㠸㜸搶愱㑣挰㐲〹戸搵愱搵㥢㡤㡥扥㑣㍥ㄹ户㐳愶戴㉥㤹㤹㘲搰晥㤱㐲〹㈷㌲㍡摤㜰扡㔲愹晥っ㕣ㅦ㡢攴攲㐷㠳㔷搰㌱㕣㡥㑢㤴㠵㝦㠷㘷㘸ㄸ㔷慥〳敥昷〰〷慥挲㘰㝦〶㌴摡扡ㅤ昷㡡㐹㘶㜱㌸〲昱㉣攳ㅢ㈰㕦㑦㜳ㄷ挹㐱㤶搶搹㤱㡣㜸㘱愰㄰敦戱㜷㑤ㄱ〹ㅢ〱㡥㕤攳㤴㍤扤戴㈸㙢つ㥤攸㡡收戳愹㤱㠲㍤愵㠸挹㐰搷㠹㑤㜶㉡挲㉤㤹扡㈲戶㈱㔶挰愶㔵㔱ㅦ户㕢㡥ㅥて挱㈲搵挶㑢㑡晣㘴㑤ㄲ扣愵㥤攰ㄸ㍡㍣慦㜲捣㈴攴㝡㝤㤹扡昵ㄶ㕥昷㉤昳戹㐸㠸㤷㉦戰㄰敡て㝤捦㠵㈳㘹扡扢ㄵ攸捣㜰㌲㜹搵戹㌴㙥㜷搴㈷㘴摥挳㥥㈶扦㌰㘸攰搰㐹攱摢㥣㐲㌲ㄶ㐹愵㜶㑦㐹昴㘵㘲愹㤱戸扤㌶ㄲ戵㔳敥㥣㥤捤愵㡦ㄲ㝦挹㌷㘰㡥慦㈶戱㡢搹㠸敡挳搷㘰敥づ捦㘱㑦㜳㑡㍦ぢ戳㕡摦〳愸㕥摡摤搶〲户㠵昴㜳㈸搱㍦摣㘳㌹慣㕤慥㘹㘳㝢戴昲㘵っ收户㜱㈴㑥㙣㕣昹ㄷ㌷捡㘴搸㜹挴搶㘶搷㘶戱㠹ㄹ昷㤰㔶㈷ㅤ搲㔱㌳戸挴㔷㤶㘵ㅤ敥㕢收㠳㌳敥㕦昵昲ㄵ搷㉣㠳愱㜱ㅤ戸敡㤶挱㥢㙥㝣攲㤸㤷㤷㈹搸㥦ㅥ攸〴戵㝣捦挰㤳㡤㐸〲㈰㌳㈱㜳慢〶㑥㘳㑥昶㌰㤸㉣愴散摡㠴昰〵て㜲㕣搰㥡㌵㠹挱㘱慣扦㝢敡ㄳ慢㜲挹㜸㉡㤹戱㤹㠹㘰㔳㥤㕦㠰慤戵户㘱晢㜷㐳㌶㥦攴户〹昵㠹挱㕣㈴㤳摦挹㙤㤶搸敥㘹㈵㈵㜱㔶㈰戱㈲㤹挱㈸㜲㥥㐹扣㈱㌱㌰㥣扤ㅣ摦摤㡥愴㌳慢㈲㍢昳㐷㠵愳摣㌷㡣晢戲昲㉢扦㕦〵晤挱挳㝣㘱昹㘴㔷㐴戲〲㈶㡢㡡挰戸㡢㕢㠷㤳っ㕣㝡捡㙣挰㜳攰戲㕤㈵㕦㜵㔶摣〵㉣㝥昹捤挹㔸晦㉢敢㍣て戰㘶搵收扥戱慦㙤晥㕢㕦㔴〷戸搹㌹挹㍢㐱㐲愳戸㐷㝣っ㠴愷㌸攱㐲ㅡ愳㐷㡢搷㔹㉡て挱㔰㐲㘴ㄸ㡤㜸㡤㔲㥣㘸㉦㜶昱敡㌰昸㌱〷㘳昷ㄳ㤳敦ㄴ愷挰扣㉥ㅤ㐹攵つて摦㙢愵㈳っ㉦㠶收〰㈶㜰㍢㈸㐹㌶㘶ㄳ㥤〰㤰ㄸ㌴愴挸㈸㐸㤱㔱㈱攱扤捣敦㝤〴愷慥散戶㐸づ㕦㡢愶㤳戱㈰ぢ晣㙥收愸㠸㑢挴㡥散㌸挲愰扣㘴㉥㐱挶㕡扥搳敡㙣づ挲摤捤㔸㐴搰㜴㜴㍦愲搷㉦㉦㜳㜵㤸㥢敡㜸㐱换㐲㑢晦㄰摡〲㝥〰㈸〴昴昹昶㕣昲㔵〷㌹㔰㔸づ㈴愴晦つ㐴㑣㐶㡡㉢㐱㜲昴ぢ〶㘱愱㥡㕢捦㤳敥㜹搶㐰㈰戴㌶ㅢ㠹昷攲㉢扣㙣慥挶ㅣ慥〸昲㙢㑢㑣㉤戹㌰昷戹扢昱攵㄰扥㜴摡㠵愴㌸ㄷ㈴㘱〰㍢挸搵摣㈱户ㅣ㍦搲㍥扥㐰愰㌶㔸改㔹㝤慥慥㌹㘶㍦搰㝢㝡愴㙦㥣晥㕦㙤散挴っ换㑥挹㥡昶摦㠱敡ㅦ〱㈸捥挳散㑦㤹挰㡢ㄴ㜸〹㈰搰〵㔰㍥㔲㈶摣ㄳ愶昲㐰㥡㝢搵挱㌴扢㠳摣挳挲づ㌶昶扣㘱ㄲ慢㌶戸ㅣ㝣晤㌲挰搳㑦㍤戵ㄴ㌷㥦攲愶慢晢晣㌷㠱㠷㐲㌴㥥㝥㠵攰挷〰㙡ㅤ〰攷ㅢ㜱㥤㑦晦ㄴ㈸㕤挲搵挹慢㐰改愵昵戸㜳㠵愲㤴㜹戹㍣收㉢扥㘵㐲晡㌵㈳搵㡦㍢㜳㙢搶㝥户㍣㑤㙤㠰ㅣ㜳㌵愵㝦〶㘸晤ㅣ㘰㉣㔹昸〵㑡㝣敥㐶摣㤹㌰㌸搷㠱㜷捣晤㉡㜳㠷㘹攵㤵愶〶㐰攰㙢捤㈷㥢㡡搲〰昶挸㍦㌶㡤慡㐱㤴㌹㤵敡㕦〱愸捤〰㥣愱搰㔴㈷㘲㕦〷㕥ㄲ戱㍥捦摡〱晤〹改摦㐰㠲㙤扡㐰㙡㐱搱〱㠳㠰敢㔳ㄷ〱戸㔶㈶挱㠴挱ㅢ㐰昵㙦㈹㜰㜱㘵㠱㠳ㄴ昸ㅤ〵㉥〱攸㘲㠹㑥㉡㝡敦〳㈸戸㝡晦㉦摢攱㜸敦㉤ち晥〷㠰摡〶挰㙥㕡扦㘷愹挵愷晦㠰扢敢扦户㠱戲捤挳戸㡢晦㡡㙥㘳ㅢ㜱挹扡攸㡦㐰㈸㤵挴晤㤰晤户ㅤ挲㡥晦晥〴捣晡㌳挰㤸晦晥㠲ㄲ㌵敥挰㝤捣㝦㈸挸㠵㠷㍡㜷㌷㈵㔱㘹㤴ㅤ晦㥤㈸ㅣ戴慥摣㝦ㄹ㌰挴㝦搲户㉣㑡慥晦搸㜱捤㜹㘶㜲晦㔵㠹昵㝣敡㌲㠸戳昷㥡㠹㌱ㄱ昹攴㠱戸㜶收挴㘵晣ㄷ〰㔳㕢ㄴ㉣㔴ㄶ愸愱㐰㤰〲㈳㄰攸挲㐷㙢㤴㡡晥ㅢ昵㔴㥢〲挵挶㝦㈱㔶慢㘵戵扤㄰㘰㕦捤攸慢〷㑤㝡㠸搱㌷〵㌸慤戸て㈴昱㥥㔹昴扣昱㤸㡦ㄹ摥㡣晢㝦昳ㄸ攲戲挱㐸㕤つ愹㐳昶ㅥ㌷㜶ㅤ敦㠵㔱摤㥡ち㌰收扤㘹㐶攳戵㄰ㅡ昳摥㠱挷㡡㘳ㅦ㜴㕥ち㔳〴摢昷㈱攰㡥昷㘶㌹昴昱摥晢㌰ㄸ攲扤ㄹ搰慤㍥㠲㤲敢扤㜳㠱敢㘳㐱㥤摣㝢挷㤹㌶㕤〷㜱愰㍥㝤㍣ㄵ㤹㠲扡ㅥ㠸敢㍤ㄲ㡤昷㘶〲搷㈷㔰昰㘳㤵〵㑥愴挰㐹ㄴ戸〱〲㕤昸攸㤳㔱㉡㝡㙦扦愷摡㌳㘰ㄸ敦㥤〲㔴㥦ち愰㙥㠳㠰挷㝢戳㐰㜳扤㜷㥡挸晢搴敤㈰㌹㘳て〸㉥捦扣〲敦捤㌶㔲㥦〰攷㤰扤昷㐹〸㍢摥㥢㠳敡ㄲ㌹㔴愳攷ㄹ㘵㜷㠰㑦挷ㄵ攷㘸攰ㅣ敢て晤㘰㘹攳㥥慤㍦㉢づ扢扦〳搵㜱摣改㈲㠱敡攵挳敥㑥㌰挴㜱昳挱㔴㜷愱㔴攲戸㌳㐱㥤摣㜱㑤㤰㘰㤰㜰挳ㅢ㈸捥ㅡ㔱㤱㈹愸㝢㠰戸㡥〳敡㍡敥㙣〸攸㘶ち摥㕢㔹攰ㅣち㜰㘱愹敥㠳㐰ㄷ㍥扡ㄵ愵愲攳戸昵敤敡攵换换㌸慥㡤搵ㄶ戰摡㠳㈰㝡ㅣ户㄰㌴搷㜱㡢㠰戳挵㕦〲㘹攲㐹戳挳㐸㜱㤷晢㤰ㅤ昷㌰㠴ㅤ挷㜵愲扡戵ㄸ㘰㙣搸㉤㌱ㅡ扦っ愱戱㘱㈷㙦㜴㔰づ㕣㌵慦㙦晦㥣扥晤慦ㄶ扤昷㑦愰㍡摥攳㉥戶㌴扦摣㝢㡦㠰㉣摥㍢て扡搵愳㈸㤵㜸敦㝤愰㑥敥㍤㍣㑣㙣昱㤸愳摦愷㤷㔳㤱㈹愸挷㠱戸㔶㈶搱っ扢㉥攰㝡〵㠰㝡愲戲㐰㌷〵㝡㈸昰㈴〴扡昰搱㉢㔱㉡㝡㡦㝢昳慥摥扦〷挳㜸慦ㄷ愸㕥〵㄰攰づ敡愱敤搸搶㐰㌲散搹㐶攷搲㈲㍦㌵戱㜱㈴㤲挲搱捥㝥散攵ㄴ㐸㍡ㅡ㜲昷㙡㘷㐷慤晣扣㕢改㠹㑦㙣㐶㑢ㄷ㉥㜹㍦户慥捡㙤㔰㉡㙢晡㤶㤷㑤慥挳㍡㈵ㄳち㍣晣㤷㜷摥㌹戴愷挰㉦扥㥡㕤㍣㔲㌱㌴攴ぢ昲㤹㔵昸㠴㜴㥦㌸搰愷戸搳㑤ㄹ扤〶搰〲挲㡦㝡挶愵㥥㑦㥥戹〲捦〲㤹㘴捤㕢戶㔹挵㥡搳挷戲㜳慥挵㥡㔲㍣搹㕤㈹慤㉦㕤晡慥㐵㕤昵ㅣ敡㔳㠷㕥攷㘹㠳攲慡㔸愸敢㈹㠳挲㔴㝣〲㍦〴㜸搷挵ㄴ㔷㘰搸㠶挷戲㙡愰戰㍢㠵愵㉣㔱ㅥ㐳㜰㌰收敤づㅢ㡤捥收㤰㠷㔴㤷ㅦ㌸㉡搶㙤㠵慡摡ㄹ挶㜹收㘴㈵捦戱㘷㜳攴㍣㡦㑦攰昳㜰搱㠴昵搹昰㌱慦戰づ㉦㙢〳攸㌳搶㈵㘳㌸挸㤰㑤ㄴㅡ〷戰㈵搳挸㈳㝦〹㙣捥㜵〵㍥〷㡤ㄵ㥦挹㡥㔵㘷㜸ち㕡ㅣㅤ摡㤱挹㕥㥥㤱搶〴昲㍣昹挸愷改㥡ㅡ㍥㈶㠴㡦㕣戳㘱㍣昵㙦㐰㠵戹〹搰㜵㝥㤸㙢㍥慡搴〳愰搶㔷㠵晦摤㐸㔹㠳㈸捦敤㕥搱扤㘹㘸㘱愴愳㉤搲ㄹ敦㘸敢㐸㐴摡摢ㄷ户㜶㉥㡣㉦㐸㈴㕡ㄷ戵戴戴㉦㙣㡤搸㙤攱ㅦ戹㥡㌷愳㑥昸㐵户戴㠵愵㤷摣ㄲ㜹つ㉦愳挴㔶昱昱敦改ㄵ㝥〵敡ㄸ散搶㠵㜸捥㤴敥ㄵ㐳㥥㑤ㄹ敢㈲搰敡㐰㤳㈵攷㈶㥣㐰戴㉥〶㘵㉡㈸愵挷捣挳㍦㌶㕡挶づ㘳敢昷㐳㔲㜱㐱挶〹㉦愴敥㠴㕦㌸㈰㥤㠱㌵〴㈶摦㔳慦㠲〷搴愷户〲扡戶㔵慦戹搴〸㜹收㔲㕣㙢㜱㜰改㈸愸敡ㄷ挰愴㘶㐹攰换〲㠹㌲㜱捡〰攱ㅣ慡戸㐰㘲昰慢摢搰〰㠶ㅣ㜰㝣㑦〹晥㠴㜱愴㙥㠱ㄸ㘳愹㌴ㄶ戸㤰㤲愷づ〳扡敤つ㜳㌵㈵戱㤰〴ㄵ戱昰㠶㤱戲戶愳散挴㐲㉣ㄱ㑤戴㐶㍡㈳ㅤ戱搶捥昶昶㐸㜴㜱㉣搶ㄶ㕤㙣㐷㍢摡㍡㕢摡愲㙤昱昰㙦㕤捤㍢㔰㈷㝣搰㉤愵㔸晡㥤㕢㈲慦攱㑤㤴㡥㑣㉣扣〵捤ㄲぢㄹ㍣愷㍣ㄶ戲愰㤵挶挲㑥㔰㉡挴〲㤷㜶搴愲愷ㄳ捣㈰挸㐳㔲晤〱㤸ㄳぢㅦ㠵㕤挷㘲㘱〴㑣挶挲摢攰〳昵改㕤㠰慥㙤搵ㅦ㕤㙡㐹㉣㜰摤㈶戱㌰㑡捤㝦㜱㘵㑡㘲㠱捡㐴摦ㄵ〶愱㑥搹搴㤱㔸戸ㄶ㡤㜰㘳㐱㌳ㄶ㌸㝤愸慢㉢扡㥤敢㉦㔱昵㍦〰摤愶㠵㌱昹㌹㙥扦ち〸摣捥〵㤷ㅦ㙡慣㍤㐰ㅣ户户㉤㙡㡦㉤㙡㡦㉣㑡㉣㙡㕦摣摥摡㤱㠸㉥㠸㜵㉥㙣敢㠸挵敤挸攲㐵ぢ㕢摡慣扤㐵搱㔸㡢摤㥥戰ㄷ㐶㕢愲㠹挵昸挵㑣㙢㌴ㅥ㡢㘱敥戰ㄷ㜶㐴㍡散㐴㐷㝢搸㌲敡昵㍥㈰晡㙡㠰㌰㔷㜰㝣愲扥㠶愴㙢㐹攲㝡㑥㐸㐵愹〶㉥敡㡥㑣挰㜰㈹㈸〱昳㘱㈰攵〱昳ㄱ搰㑡〳收慦㐰愹㄰㌰戵㐶㡢㥥挹慥㥣㐰㜰㍤㐸慡ㅥ挰〹㤸㕣㐹挰摣〰㍡〳㠶㙢㑣晣昹昴㡤㠰慥㔷ㄴ搷㤴㐲㉤〹㤸㌰㐸ㄲ㌰晢挹㥥收捡㤴〴㡣慣敦愸敦㈶挳づ愲愰戸扥㤳㠰搹㔱㌱㘰㤲ㄵ〳㠶㑢㍥晣昹昴捤㠰㙥搳挲挷愳㈰昳挴㉤㐰㄰㌰㕣攳攱捦㘷摤ち攸〴㑣㌴㠲㠹㘱㔱攷挲㐵㤱㐵ㅤ敤㤱㡥ㄶ㘰ㅤ㉤㜶㐷㈴ㄶ㡦㉣挲㥦ㅤ㍥挱搴搱户〱〹㜳ㄱ㠸㍦ㅣ敤㘱㐹㔶㠳㉣㤱搷挰搵攰㤱㜱㍢搷㤰㌲挲㌹㑦㘸㑥っ㥡㜳㐱昸㔴㤷㝥㉡ㅢ搱㐸㜰ㄷ㐸㙡ㄶ㠰攳挸㑢㑢ㅣ昹㘹搰改挸搳㈸㐴改扢〱㕤㙢愹搹㉥昵ㅥ昲捣愵收愰㈰㡥扣㤷散㜹ㄵ㘵收扢搴捦ㄸ㠴㡤㔵㘷愲㈰㡥摣散㜱愴昵㔹㔰㈷㝥ぢっ㔴昴㙥㤳慢晦㝥㈰㙥㝢挳㕣ㅣ㡡㜷㍦〷〴摥㍤ㅢ㌷㕥攱㘶ㄷ㌹挷㐵㕡っ搲挰㠵摦㤱昱ㄱ㤷㡢㌲㌴晦ㄱ㐸昹搰晣㍣㘸愵㐳昳ぢ愰㔴ㄸ㥡㕣㙦㡡愷攷愲㈳昲㐳ㅥ晤㈰㐸㙡㈱㠰攳搱㌵㈵ㅥ㝤〸㜴㝡㤴敢㔰晣攱っㄵ愰㙢㈱挵㜵愷㔰㑢㠶㘶㈷㐸攲搱慦㤰扤挴㤵㈹ㄹ㥡戲〶愴扥㐷挰收昴ㄶ挶㐷㜱つ㈸ㅥ敤昶㜸㜴㙣㉥敦慡攸㍣㉥ぢ昱攷搳㕦〵㜴㥢ㄶ㕥㡥㠲㌸敦㜱㈰㜰㕥ㄷ㙥昸昳㔹㑦〰㍡㐳㌳摥ㄶ㙤㙤㑦㈴ㄶ㜴㉣㘸㕤搰ㅥ㡦户㐷ㄷ㐷㍢㍢ㄷ㐵敤戶昶㘸㉣搶搲ㅡて慦㌰㜵昴㤳㐰挲摤㙥改㥦㔹敡㜱㑢攴㌵慣〴㌸㌲㙥敦㠵㘶㜱晢搷㠰㤴扢晤敢愰㤵扡晤ㅢ愰㔴㜰㍢ㄷ慡攲昶㈶ㅡ㡡挷搷昴扦㠰愴戸ㅥ挲㥦㑦㍦㘵〴㈸ㄴ㕥㠳〲愷㑡晤㌴㄰晤晦〸扥㑤昰ㅤ㠲敦ㄲ㍣〳㔰敦て㥦㡦ㅢ㉦戵ㄶ〸㜱晤慣㐱〲㈸㠴㕤㡦㠷搷㠳㉡捥昸ㅥ㄰㌸㘳ㄳ㙥昲㠰攷㠰攸敦ㄳ晣㉢挱昳〴㍦㈰昸㈱㐰扤㍦挰㕣晣摣㠹㑦㐳㜹㔲摢㈶慣挳㑡㝥搹戳ㄲ扦搴搹捤挸慡挲㤷㉣〱㐹㜸慢晤㑢づ㑦ㄷ㔷戹㜴㉦㍦㠱戹㠸挲晦㠶ㅥ昴挸戳〸愲㐶㤹㕣㕦〰㍤戰ㄹ愰攲㜹㠴挹㝥㥡挹㤰㍦㈶摤㤷㐷㍡㡦㥦㐴っ㘶扢㡡㍦て㥤敡愶昹㑤敥捦㌱收㡥㔱摣搳㍦㙥戵晥㕣戱ㅥ㝥㕤㠰㤵㌳ㄸ㑤晣昱挶㌱㘳㈵捦敦ち㑥ㅣ愳攲愸ㄷづ愰搸㜱㔷㘳ㅥ㥢戱搵晥㉡㜵昶挴挶挶㔱㜵戳㙥㜶搵攴㘹㠹ㄳ㉢㝣扢戵㈲㔹㤰㘵戲〶㕦㘹㉥挶慣ㅦㄱ㉣㥤搳㍤愷慤㈵㌰ぢ摥昸慦㍤〸㤵换ㅣ〰〲昶〶㕥〲㐳㙤〱愰㑡㤲ㄴ㔷㍣㔳㠱㤴ㅦ晣㍥〹〲ㄵ㑦挷㥦㘸ㄸ攳㑥挷㜳㜹㠴㍦㥦㝥ㄵ㤰㘳㑣挶搹㔶ㄴ㘴ㄸ扣〶㐴晦㡣攰攷〴扦㈰昸㈵挱慦〰㌰捥摣改㔵㐵㔱挶㥦㑦晦摡㈰戲愵ㄴ㐷㐱㠶搷敢㐰㌰扣㠶㜱ㄳ扤扦〱愲て㄰扣㐱昰㕢㠲㠳〴扦〳愸昷慢㈴㙥ㅣ㘲慡ㄶつ㘷㕣㑢㈸扥㐵捡づ〰㠶愳搲摢〱慤摦ㄳ㌸㈶㔷㌵㄰㜴㙤ㄴ搲㙦㔳㈸〵攰㤲㔴ㅥ㠵㑡㘶昳ㅢ敢㡣㍢㉦慦っ㘳摣㜹昹ㄱ敡㘶㜷昹㡡㈸㥡㙤ㄷ㐸搲㍤〵慡昶ㄳ㔴ㄱ㔴ㄳ㜰ぢ㔱㕢〰攸摥愸㕢扤〶㘵敡㤱㔹改ち㘰㘲慤㈰愵慡挲㕣〲㠸㍡晥扡㕥㠷〸㙡〹敡〸敡〹昸㕤〹搴㜱㔵㈰搶㝡攳捦ㅥ㙢昱㘷昸㙡ㅦ㔸㡥戵昶〰戳愶㠱〶㙢慤㘳㠰晥ㅡ挲㘷㔶ㅡ〹收㔷㈴ㄸち敥ㄸ㔸㤹ㄹ㐹愳扡㈷㍡敢㔰㈲㈵愴㘷昰㌱㔷ㄷㅦ戳㤷㡦㌹搶㜹っ挷㠱晡㌹ㅥ攳㝡㈰愴㡦愷昴㌵㤰攱搳愹㐰㜱㉤攱昲搵昵㈸㔴昲搰㑦㈰㕤㌱戰㝦㙣ㄸ攳づ敢摦〰㑤搴慦㑦挱ㄳ㡢ㅥ扡ㄱ㈴㌱改愹愰敡㐶㠲㔹〴愷ㄱ捣㈶㤸〳〰㤳敥㜷慢捦㐵㤹㝡㈴㥥㤹慥㡢㠷收㔱慡㉡㝣戳慢敥㜴㔶㥤㑦㜰〶挱㤹〴㑤〴㘷〱㐰ㅤ搳㜰昱搰戳㘸㙦㌱㥥㥢挱㔴捣愰ㅤて摤ち捣㙡〱捤㡤攷㙦㐳搸㌵㑤㐸户㔱晡㜶挸戸㈴㜵ㄷち㤵慣昵慤㠹慣昵㑤挳ㄸ㜷㝡㥦昹㌱晥㝣扡ㄳて㈹㕡敢㙥㤰挴㕡㡢㐱搵㑢〸捥㈵㌸㡦㘰㈹挱晢〰㌰つ戸㜹戳扡搷搵戳っっ㕥扣㠵㍦〳慡㤸㙤㌹挵慢挲昷扢㝡扢㔰搶㉢〸扡〹㝡〸㔶ㄲ昴〲挰㙣㥦㠳愰㤸敤换㕥戳慤〶㔳㍤〸㔶愵扥㝦㜱愲扥㍦㘰ㄸ攳づ攵㌳㤳挴ㅦ㝥ㅢ〴扤挵扥㍦っ㤲昴扤㥦敤搹㐰戰㤱㘰ㄳ挱〰挱㈰〰摡昸ㄵ户晡㘶㤴愹㐷挶㌲戳㐷改昲ㄶ㡡㕥㈰愲攱慦扡㍡㉦㈴昱㈲㠲㡢〹㉥㈱戸㤴攰晤〰搰挹搴㔰晡㝤愷户摦㐳㘰㉡㘶㜵㑥戸㌰㕦戴㈲愰戹攱昲㐹〸扢戱ㄱ搲㌱㑡㌳㈳㜴㐹㡡㠹㔵㈵㤳摤㌲㤱挹㙥㌶㡣昲愳晡㘱㈶㘵搲扢㈴ㅥ愲户ㄳ散〰〸愹愷挱㤰㠶摦㘴ㅡ㑥㝢㠶ㄴ㌳㌵㈱晦戵㈱戳ㄹ㐱扣㠹㤹扤〹㘳扦㘱ㅣ㉢昲捣攷㠴晣㜱㐳㍥㑥挸捣昰㠴㝣愳㈱捦愷ㅡ㥣挰㘴搶㈷㡣ㅢっ攳っ㌰㜴づ㑤ち㍦ぢ㤶㌴㌵㡦㔲㝤㔵㠰㠹㕥挵㔹㑦づ昳㌵㍢㈷㥥挶㝥㙥摥〰㐵㠱〴㜷愵㙢ㄳ捥慦扤㈵攵㤲搳慤戲愵㕢㠷挳㑦㌹晣攰㝢㉤捥昳攱挸ㄳ晥搷〹戳㘱㠹㜳㝥㍣㠰攲ㅥ慤搱㔲㘲㘵㉢搱㥦挳㔹㥢㥡㐴㕦ㅥ愷〶攳㐱晣㥡戲㠰ㅦ攰㘷㡥㠶㙦㔷戰挹捥㤷ㄵ㉥攷㑣㔴挵晤敤㔶戰换㡦攲㜸㡥㐶㡥搹挳㍤㈳敢攷㤹愹挳㍢捤㙣ㄵ搰ㅣ㈶㝡昸扦㑡昲㡤㜱扢㜱㘷捥摥㠵晦搹攴挹〷㌲㝥㜵ㅤ扣㉤㍢愷扦㙣㥢㈹㠹ㄱ攷ㅢ扤ぢ㌵攴挷㜰㝣ぢ㜳㐸㠶昴㈸㐹攷愲攰㥣ㅦ㔰捦戹昱昲㍦㑤扣㌸㘱捡㝣㕦挲攸㕡㐳㘶㤸㠶ㄴ㔷〰㐲扥挶㤰㥤㈰㝤摥㈵㕦㙤挸㑥㤰㜲㤵㈰搲晢っ㤹㐱ㅡ㔲㍦㜴挹㝢つ㤹㈱ㅡち㌰扢㉥㌷㌲扦昹攰〴攸㉢晢晤㜴㙤㉤㉤敦㍢㔸摢攵㝢敤搳㕤搵㉦愱敡㘴㜹㈹晢㔴㤳ㅥ㡡昰扦昰〹愶㠷㔲㜶㘶㕢㘱戸昸摦昶攰㝤㠶摦捣敡㍤㜸づㅦ挵㑦㤸㌹愰㡣㤵扤㈸敡㝤〴㔷〳㠴ㄴ搳㐰改搳㤵愶昱敥昸㘵㙡㈸㡣て㝡㍡换ㄱ挹㜴㔱ㄸ㔷㜸扡慢㍦〴㙤㡡㐹愴戰㐶つ换㌱㍥搳㑡㈱㕦㙥挸㡥㤵㤹㘸ち㜹㤷㈱㡢㤵挳㑣㌳愵愹搷㐱㘵㝤㤵㘲㠲挹愱慤ㄹ㉦㝥㤵㠷戰㐴〶挲㘲㉣㌲㍥〶㕥㔹㘴摣㐸㤲㈷㌲㤸㤸捡攳㌲㈵㡤㘳慡㉡攴戴㈱㍢㤱挱攴㔵挸㈹㐳㜶摡捣㜴㔶挸㍢っ搹㠹㡣㠳㉥㜹扢㈱㍢㤱挱㤴㔷愴㤳㠶㉣㤱愱㤸散㌲㍡㕣㝦慢户㔱愰捦昵捤散愲敢㌳㘲㘲㠸㕢搸㤳㕢〹㙥〳挰㙦挱〰㐵㙤摣愸㜵㝤挶扣㔴ㄸ㌱㑦㌳攸戳㉡㤷ㄱ昵㌴㐴摦〱㉡㔶㑤愶捥㔶挳㜲㝣挶㥣㔶㔴つㄹ戲搳㝦㘶戹㐲晥㠰㈱㍢㍥㘳戲㉢㑤扤ぢ〸㝣挶㌴搷攳戳㑢㈰㍣摥㘷㜷㐳愸捣㘷昷㤲攴昱ㄹ搳㘳㜹摣㤶㤲挶㌱㘱ㄶ昲㘶㐳㜶㝣挶ㄴ㕡挸㠳㠶散戴㤹㐹戵㤰〷っ搹昱ㄹ搳㙣㈱㙦㌲㘴挷㘷㑣扣㠵扣搱㤰ㅤ㥦㌱攵㉥昱ㄹ㤳㘳昱搹㍦〲挱㥦㝣搴昱㉥昵昳ㅥ㙡㤸㠹慡㤸攷ぢ㐰昴〳〴㕦〴〸㈹收慡昲戰昳捤挳㕣㑦㌶扡㡣㌵㥥挶搱㤳戳㕣㐶㥦愷㜹晡㘱㔰ㄵ㌳㕤㔱戶捡戰ㅣ㑦捥㜶挹扤㠶散㔸㠵搹戰㐸慦㌴㘴挷㤳㑣㡡愵愹㡦〰㠱㈷攷攱收昱攴ち〸㡦昷攴㘳㄰㉡昳攴攳㈴㜹㍣挹㌴㕡ㅥ户戴愴㜱㑣慣㠵㝣㥥㈱㍢㥥㘴慡㉤攴㜳つ搹㘹㌳㤳㙦㈱㉦㌱㘴挷㤳㑣挷㠵扣搸㤰ㅤ㑦㌲㐱ㄷ㜲愷㈱㍢㥥㘴㙡㕥攲㐹㘶摦攲挹㙦〲挱㥦㝣挲㥤挰挴㄰摦〲愲晦㠵攰㈹㠰㤰㘲挶㉣㙡ㄷㄸ戵㡥㤹㤹㐳ぢ戹捤㤰㕤㔷㌲慦ㄶ㐶慢㘱㌸㝤㘱愶㉤攴ㄶ㐳㜶晡挲摣㕢挸攷ㄸ㌲晢㐲挷㌳ㅦㄷ㐶戳㘱戰㌷晡㔹㔰挳换〰搸搴晡㙡戵ㅣ愸挷㕤㑤㤰ㅤ晦ㅡ晤㍥㠴捡摣昵㍣㐹ㅥ㜷㜵愱㉣㑦㥢㘷㥥收㜴㤲〹扤㤰攷ㅡ戲攳慥㙥㤷㍣挷㤰㥤㉥㌲改ㄷ改搹㠶散㜴㤱换〰㈱㥦㘶挸㡥扢昸㕥ㄴ昲㉣㐳㜶摣挵㈵㠱搷㕤㘱收昲攲㤸㤷㠰攸㤷〹㕥〱〸㈹愶昳愲攰㘴㡦㕥㥡㡥㈹扥㌰㑥昲㘸搶㍦〵㔵㌱昱ㄷ搶〹㠶攵昴㤳㑢〱㈱捦㌴㘴搷㤹㕣ㅥ〸攳㜸挳㜰㝡㍡攸㤲㡦㌳㘴㘷㌰㜱摤㈰㑤晤〵㄰っ㈶慥ㄸ攸ㅤ敢㤷㐰㘶㜴㙤挷㡦㔲㈳戹㈵㡤慢散㙣晡挹晢ち戹㘴㉣㠲晦㙢〰ㅡ挴㘵扥㍤㥥昷摢慦㔱挱㝡ㅤ㠰晦攳㠲攲扢〳ㄷ捥攴㠲攲㜵ㅢ㔷㈳ㅥ昷㑦㜱㜵㤵扣㉢て戲㔲ㅦ敡㍢㠷搳㤹㐵扤㔹愶攷㐲㤴愵㥢摡昴挷㌱ぢ搷㌵㐲づㅡ戲攳㝥慥㜴㠴㕣㘳挸㡥㔱戸昶ㄱ戲㘵挸㡥晢戹ㅡㄲ㜲挰㤰ㅤ昷㜳㝤㈴攴㙡㐳㜶摣㍦〴戲搷晤㉡〶㠲㡣搶㍦〳挱㥦㝣ㄴ㔷㉢㔲摢㙦㙡㥦〷㑥搰㙦愹敤㉥㐳ㄹ挶㔲㘱㈸戵挳㘵昸っ㘳ㄹㄸ㕡愱愳つ㕣㕤㑣㐱愹收扢㝥㠵晦挸㈶㕦㔵㔷昵㠲㝡慥敡㠰㡦昳摣㘷㈱ㄲ挶㙦っ〲㜹ㄴ捡㑦〶㜹㜲㘵捦ㄹ㥤㈰㌵愷昱㕢愱㠲愴捤㘹敥戹挸晥㡢㤵收㉦㝢㌲㔳㡤㙣㔳㔱㘶㕡㤱㔲㤴㥤㔲㈴㐹㥤㤹捥改㝣晥㑦㌶ㄴ㘹ㅡ㔳㝡㑣㌹㐷攴ㄱ㠶㡣㐴摦㘹㤵戶㠵㥣〵㔲戱㠱㄰ぢ慡㐳ㄶっ㍡晦㥦㤰ㅦ㤶㘳㤴㈸㕤挴愴ㄸ㘰搲㝥挸㙢ち㐶昶㘱ㅥ㘵挲㑦ㄹ昰㕦ㄳ攱㘱搴愱慢㔱〲㉥㥦㠶㍤㠶ㅡ㤴ㄶ敤㐵㐹㘲攵㡦㝦㜲㜶㙣摣㔸搹攷㌲摥㌶っ㌷㔶慥㜶ㄹ㝦㌰っ㠹ㄵ㙡㙢㘰摥㕢㡣㤵㘶敢㉡㠹㤵㘰攰㠰㡦㙦㡣慦㈱㔶晣㠸ㄵ㜵ㅤち㡣ㄷ捤晦㌷ㄳ㜷㔸愹㠸㐹㔱㝤っ㌷㔹摥昰攷ㄳ㡡戹慢㜴愳搶挸㔳愸攱㘶㐳㜵扡挱慣㔰扡昱扢戲㙥㌰㔳ㄴ挶挱戲㙥㌰㝢ㄴ挶㙦扤摤㘸㘰㌷敥〰慢搸㡤㡦㕢搷㑢㌷㜶愰ㅢ㍦〰攳扢攸㐶㠰摤戸ぢ〵改㐶戸搸㡤㈲〶㤶㑦㈹收㜴搲㡤愹散〶搳㌹改挶㌴㙦㌷㤸㌰㤱㉡摤㘸㘰愲㔴㉣㈹㈶㐸搲挴㕦㤷㜵敡〱㤷昱慢戲㑥㌱㤱㤲ㅡ扦昴㜶敡㔸㜶敡㘱戰㡡㥤摡㘷敤㤵㑥㕤㡡㑥㍤つ挶搷搱愹㉡㜶㡡㠹㡥㜴敡戸㘲愷㡡ㄸ㔸攸ㄴ㠷扤㜴敡㜸㜶㡡㤹㡤㜴㙡愶户㔳捣ㅤ挶扡挱㥣㐱ㅡ昵㙡㔹㌷ㄸㄵ挲昸㘹㔹㌷㤸㕢〸攳㈷摥㙥㥣捣㙥㍣ぢㄶ㌷㘵㘵㍡晡㘸愰㑦扡㤱愸㍥攰晢ㅢ㌰晥〶愳㑤㝤ㅦ㠸㌴昰ㄴ㌶昰㜹㤴愴㠱愷戲挴ㅥ昰昳ㄲ愸昲㠰㤷捡㥡挴㌷愸㌰㕥㉣㙢ㄲ摦慡挲昸㤱户㐹戳搹㈴扥㍢㡢㤶㝤㌳昰愲㌴改摢㘸㔲ㄳ戸㙦挰戲ㅤ戴㉣摦㝡㘲搹㌹愰〲㐷搴ㄷ㌱㈹㉡扥搶愴攱㜳搹㔴扥捤愴攱昳㔸㜲ㅢ㝥搰㤵㌹㥤㔴扥愹㐴㘶扥搱㠹戲慦㠱敦〲㔲㥤㤰挲昳㝤ㄷ愰攴ㅦ㔵戱慤昱慤㕢㝦摦㔰摤㜸㐲昵㠵换敢㙥㜹改㕢慦散晦摥愵㑢㕦晢搳敤户㝦敦㈷晢㥦晡搳㈳搱愵㕦扦昳捥㝦㕥㜳挷㔳慦㑣㑢㝣捡晦愵摦慦晤搴㤵慤㍢慥扣㉣戱昹捣㔵㔷㕥戴㝤㘳敢㠶愹㑤㔵㔵㌵㌵愷㑦晦挶昱昳挳㝢㉥㝢㔸㍤晥㠳攳㌲〱捥㜰㠷㌰㍦戲㐵㠷㌹㤹㥤挱扥捡㡣〶ㅤ晡㑣㤶㠰攰收ぢ㜳㘶㤳愴㠲戶搶㘷〱搴晢ㅢ搸昱㈳搹㘵㈵搳ㄵㅦ㜸㌶㠰㤲㐹㡡㉤㙢㘶〹〸ㅢㄴ收㘴㈵㉤㍢㠷㠲㉤〰㘸ㄹ愷㤷㈳摡㌲㤹㠱昸挰㔶〰㈵昳づ㕢搶挶ㄲ㄰摣㝣㘱捥㍦搲戲〵㐰㜴㍢〰㕡挶㌹攲㠸戶㑣愶ㄱ㍥㜰㈱㠰㤲挹㠳㉤㕢挴ㄲ㄰戱ㄹ㈷ㄱ㘹㔹〷〵㍢〱搰㌲づ晢㈳摡㌲㤹㈷搸ㄶ㜷㝢ㅦ㌸㡥摥戸㙤㔹挲㘶㔴㌵㜰愸ㅦ搱㘶挸㙣㠰㠷攸㜳〱㤴捣〱㙣搴㜹㈸戹㔷㤸㜳㠱ㄸ㘸㈹㄰攴搰㌲ぢ㔰敡㝤慣〳㠴㈷慤挳㥣つ㐴㙡ㄹ㄰扤㥣愲㝥㈵㠳㠸愲㕤㈸扢㔷㤸㠳㐹㐴㔷㔰慡㑡㜱ㄸ挹㌴昷愸㤹收㔶㐰㌴㠸㌳扢ㅣ㕡挲㜸挴㌰㜸㕥㐴慦〴㔵挹㈰㘰愹ㄷ㈵昷ち㜳㌰㠸收㔵㐰愰㤹挳㐰ㄴ㍣㕣愶㤹㐳㐳ㄸて㜹㌵慦〱㔵㐹㄰㔳昳昹㈸戹㔷㤸挱㉣㥡搷〲㠱㘶㠶戱㈸㜸愰㑣㌳㐳㕢ㄸ㕦昰㙡敥〷㔵㐹㄰㔲㜳㐹㥢ㄹ㡣愲㜹㈳㄰㘸㘶ㄸ㡡㠲晢换㌴㌳㌴㠵昱て㕥捤㠳愰㉡㠶㡢戰晥㜷㔹ㅤ㜱㉢ㅦ㔹搲ㄹ搷扤㡡ㅥ㤵㝡昷㤵搶ぢ搳戵搲愸ぢ㠱愰㔱㜴慡〸摥㔳㉡愸攸㘸㘱摣敤㙤搴㈵愰㠶㕤㥦〷攸收㐹㝥敥㍦戶愷晤晦㐵㥡㝥㈹慣挱㔱愳㜴ㄱ㤳愲㘲㕣换慢昸晤戴㥥ㅢ㈳㡡愱㑣ぢ敡て〰㌸ㄵ㡢㤸㔳㤱㘱㉢ㄵ㠷㠰㠴㕤㑦㉢㐶慡㔴摣㕡慣㔸挴㥣㡡㡣㑡愹ㄸ愱〴攳㑦攴愳㐵昹㈲收挸㌳搶㐴㍥㐶〹㠶㠶挸挷㡢昲㐵捣㤱㘷ㄸ㠸扣㑤〹㜶搷㡦㡦㑥戰挴㑥㔲㑡㥦㑦㠸㡢搹㡣㘲捦㐴㘶㤸㙣昶㐷㘴㤲㐰㜸㌱㈴ㄵ㍢㈱㌲摢挹㤶愶㠳慣㜷ㄸㄹ摥㔴搴㤵㐹㔱㐶㥡㑢ㄹ㔷て扦㐶㔴㙣慣攸挹㔰㐶㥡㐸ㄹ㜷㜰昰㘸㡡㤲愶㤲敡〶㌳㜰晣㤸㤵ㄵ㐸㜵㥤㐴㙡搸㔵慥愴㕤㘴扢慥㄰戶摢㍥㈵㑤㈲摢㕢㕢㐹㈳捡㉢搵晥㈷㔷挳㜲摥","㜸〱攵㝤〹㜸㔴㐵搶㜶㔷㤶㥢摣㠶㤰㐶㐴ㄱ㔱㌳㠰捡攲㘰㤶捥㈶愰㠶㠴㐰㄰〸戲慢㘸攸攵㌶〹㈴㘹散敥戰㠹㥡㜱搷㕦挷㜵㔴ㅣㄵ㥤㜱㥣㜱ㅤ㜷ㅤ挷㜱挵㘵ㅣ㜴㕣㘶㜳〷㤷挱㕤攷㜳ㅤ㘱昴㝢摦㜳敦敤摣敥扥ㅤ㌲㝣收㜹㝣㥥扦〹愷慢捥㌹㜵敡搴㜹㙦搵慤㕢㔵戹昱㈸㡦挷昳ㅤ㍥晣收㈷㡦㠹ㄱ昳搶挶ㄳ㐶挷㠴晡㘸㝢扢ㄱ㑡戴㐵㍢攳ㄳ敡㘲戱挰摡㤹㙤昱㐴㉥ㄴ戴㤶㌶挸攳昹㉤昱戶㜵㐶㘱换㉡㈳ㄶ㠷㔲扥挷㔳㔸愸攷㐰㕥㙣晤昷搹ㄹ㥤愵昴㍣ㄲ㘸㜹㜴㡤愴㠰愴㤰㐴㈷昱㤲っ㈰ㄹ㐸㔲㐴㌲㠸㠴搶㜴ㅦ挹㘰㤰㠱扢㠱捣慦㥦搲ㅣ㕣づ摦收㈵愲㌱攳愰㤲㠵愶〷㤳换捡㈶㤴㑤昰㔷㤷㔵㑤㈸㍤愸愴扥慢㍤搱ㄵ㌳㈶㜷ㅡ㕤㠹㔸愰晤愰㤲㌹㕤挱昶戶搰ㄱ挶摡昹搱ㄵ㐶攷㘴㈳㔸㕡ㄱっ昸㙢捡晣㤵㤵㤱摡摡㥡㠱㐳㘰㜹㜶晤㤴㌹㌱㈳ㄲ晦扥㙣敥㑥㥢捤昵㔳㈶捣㌶ㄲ摦㤷捤愱戰〹㤳つ搱㡥㐰㕢攷昷㘴㌴㥦〸㔵㌴ㄸ愱㌶㐲㘹ㄸ戱戶捥㘵ㄳ攰㜶㑡愰㤱慢㥥搰㠸㠸㠷〲昱㐴扤搱摥㍥搷㠸㄰挵㠱ㅤ㡣㤹ㄱ㌳㍡㐳㐶㝣㔰挷搴㌵㈱愳摤ㄲ挷ぢ㍢ㄶ〶㘲戳〳ㅤ㐶ㅥㄳ挵ㅤ㈶㙥㑤㘱愳㌳搱㤶㔸㕢搴戱㈰㙥捣つ㜴㉥㌳愸㤲摦㌱慤慢㉤㥣㤷愷昲昲㍣戹〷扡㌹㈳搸㑣㘸㡣㠵敡㕢〳戱㠴攴㠸㕡㤹㥢慥攳ちㄱ挷㔳摣攲㔵㔴㤲㔶㡡㌰捤㙢敢㌸挲㠸㜵ㅡ敤慣㠴攰㡤㑦㔳㤲㤸㤸愱㑦〶挷㙥つ㠱㔱〳慣摥挳愶戰ㄶ㝤て㤲㍤㐱戴㘱㈰戹昵晥ㅡ㝤㉦戲㠶㠳愸扣㜷搰晢㥣㐵搸〳㜲㕡〲㌹㉤挱㥣㤶㔰㑥㑢㌸愷挵挸㘹㠹攴戴㉣换㘹㘹捤㘹㘹换㘹㔹㥥搳戲〲㍡昶愷戰愰㈰挷晡㝣戰㝤挱㤷攳㕦ㅦ搱㜰搵愴㔷㈶扤ㄱ扦㜷㥣㘲㠷㤳㥥㌷〲〹㝤ㅦ㄰㙤㕦戲敡㉢㑢昵晤挸㉡〱㔱敡つ戸㐰㌷㐶㍤昷昷攵㑢昷㝤扣昱㤴攸扦㜲晥扥㝦捤捦ㄴ晢慡㤴ㅦ㐹攵㔱㈰摡㘸戲ㅡ㉢换昵晤挹㍡〰㐴愹㤷慣昲㝡攵㙤㜷摣昲摢㠲愹て㝥㜴戲㝥㤱㜶挶㐴挵㙥㉥攵挷㔰㜹㉣㠸㌶づ愴㘰㘶㌴ㅥ㌷攲攵晡㜸戲て〲㔱敡㐵换挶㠵㜷㙥昸戰挱昳昵搴㥢て扥㙢攳㘱㜷扦㝢愸攲昵㈵㌶㈶㔰昹㘰㄰慤㤴慣㐶戴愱㡣慣㜲㄰愵㥥戱捡㍦㔳㍣㘷㑥昰挸收㠶扢敦晡㘳挱㌱摤㡦摥愷㌸挰㐸㜹㍦㤵㉢㐱戴㉡㤰搱㜳㘲㔱づ㈰㈵ぢ〳敤㕤㐶挹愲戶㐴㙢㐹昳㑡㡥㜵㈵㠹㘸㐹㕤㌰搰ㄹ㡥㜶敡搵㉣㔳〳愲搴㤳㔶〵愳㤷扤戲敡昶㔳慥㥣㝥㜷晥ㄴ摦ㄷ㡢㥡㕦㔷ㅣ扣愴㠲㐳愸㍣ㄱ㐴㥢㐴㔶愳扦㕡㥦㑣搶愱㈰㑡㍤㘲㤵㕦戶㘲㕢挵愷㡦㙤㘸扣攷㡣㝦戴晦㍤戰㙥㤳攲戸㈷攵て愷㜲ㅤ㠸㌶㠵慣㐶㕣㈷昵㘴㌵㠰㈸昵㝢慢晣戶昲㐱〳㐶敤㜸愱攱慣㑦敢㥥扦攳搰慤㑤㡡ㄷ㡣㤴㙦愴昲㌴㄰㙤㍡㔹㡤㤵㘵㝡ㄳ㔹㌳㐰㤴扡摢㉡ㅦ扢昳攳捥㜵㘷晥㙣挶㠶ぢㄷ摦㝦昰〳㉦敦慥㌸摡㑡昹㤹㔴㥥〵愲捤㈶慢戱戲㐲㙦㈶㙢づ㠸㔲扦戵捡㉦扥攸㙦慤㑢㝥㌵戱昹晥捡搷摥㜸㘵搳扤扦㔳ㅣ愸愵晣㕣㉡捦〳搱收㤳搵攸慦搵ㄷ㤰戵㄰㐴愹ㅢ慣昲扢㥤戵㝣摣戲㌵㤳敡慥㜹戴㝣捦搱㐳㡡搶㉡㡥昱㔲㝥㌱㤵㡦〲搱㡥〶挹攳㐵愲ㅦ㐳摥ㄲ㄰愵㝥㘹ㄹ㌸戴敡攲ㅢ㠶扥戶㐷摤㠵摦敤晢攷扤㉥㉦搸㐳昱晥㈰〶㡥愳㜲ぢ㠸戶㤴慣㝡㌴㈰㐰㔶㄰㐴愹慢慣昲敢摢㘶〴㤷㝣㤹摦戰昱搹ㄳㄳㄳづㅢ㜲愴攲慤㐵捡㠷愹㙣㠰㘸ㄱ戲敡㜱㤵㉦㈳慢ㄵ㐴愹换慣昲扥搹攱㜷て晡慡㝤昶㈵㕤摢摦慦㝣愲晡㜰挵扢㤲㤴㕦㑥㘵昶㑤慤㥤慣㝡〰搰㐱㔶㈷㠸㔲ㄷ㕡攵㐳㝦晥㙣搴捡敢慡㥢晥㜰㔵晢戶ㄷ㝥扤昶攵㠱㉢㈱㍥搲ㅡ㌴ㅡ㘲㠱搵ㄸ㜹㝢〶昵昲〹愵晣户昳扢ㄹ㙥㘶㤱捡㐸㜵愴慣㉣㕣㔹ㅡ愸〸攴㜳搸改敢ㄸ捡㠱㙥㘰㘴㔱ㅢ㉥晡搵㌲愸づ㡣㌴戶戵㈷㡣㤸㘴㡡㈳昸㌲㙦っ㤲㉦㡡㑣㕤㠳㍢㙡挸ㅣ㝦㜷㡦搴ㅢ戱〴敥㐴㠹戵㍤㠳昲㠸㈹㠱戸搱㤳ㅤ㙦搹㥥ㄲ敤敡っ挷昷㜶ㄷ捥㑢〴ㄲ挶昰㜴㔹㡦㤱㡣㘲昳㜰㤷㌲攲攲搲扥改挵愴㕢搷慤㘹㌳挵晢愴㠹㜱扦㡡〶戳㑢ㅢ㘳挶昱㐹㘹㠶㐷㜵㤸ㄲ慤㌲㈸捦㘸愵㈹㌲晤㉡愹㙦㡤挶㡤㑥㜱㙦㝣挷㥣戶搰ち㈳㌶捦攰㠴捡〸㑢㔳㠷㔲㘴摤㌴挷㌷㜷愲愱戸つ㠶㐷㍡戹っ戴搱ㄹ㌶挲昰㜷㈵愲扣㜶㝥㈰搸㙥散㤱愲㘲搶〹挱㕥㈹散挶㘸愸㉢㕥ㅦ敤㑣挴愲敤愹㤲扡昰慡〰㙥搴攱㔹搱戰㤱㈷ㅦ㡦㐹㤵㈷㌷㔷㈹捦ㄸ户㍢ㅥ㙤挷㜹㑦㜴㕣㈴扣昳昶慥散戸㠸愸散㝡㉦㑤㕡㐶挲㜱㤱㔱㝦㙣慦㥥㌸㉦㐲㙡㤷昶慡敤㜲㤱戲搰戰搴㡥㌷㘱㉥昰〱づ敤〶㝢㘵捥攸散㈶㝢慥换㥤㜸敡㐰㠵昳㘷㙡昷ㄲ㌴㌱㥢扣昶晡㔷㌹㈷㘷㠸搵晡愹慢㌰ㅤ㥢㡥㝢㕥扢ㄱ敢㜵昶慦攸㤱㝥㍣㐹㡣㈴㑥㤲㈰改〲挹㍦〷㘳㕣搶㠸㜲㌶愲搶愸戵昹慢摢挲㠹㔶慤搵㘸㕢搶捡愲㜸㙡㈸㉣㘴戸㌳㍥晡㙡戰昴㌵㈴㙢㐱扣㕥㡦戶㡥㑡㥡㔷㍦㠱㕦敢㐱昶㌴㉦㠳㔰摢㘳㜷㜶㤶〴扡ㄲ搱㡥挷慥㑤戴㠵〲㕥㤵捦㌹搷㝦㍦㌳攴㌳㡢㉥ㄳ㔱㍣㈹挴昳㍢㌰摦㡤攷收扡㐵㘵㝡㈰摥㥡㘰㠷散㔵㈸㜳挰ㄳ㘹昴㈴㤰㠱㈷㠳捣㥥㙥戴愳㍢㝦㕦てㄹ昹㥣㑥敥㜴㌲㑢㍦昶攸㤸户戶㌳搴ㅡ㡢㜶攲挱慤㈱㤰〸搴㠵㌰㘳㡦慢㠰搶㌱㌳㕡摦㤵搰㍡愶户攱㙢㘰挷㕣㘳愵ㄱ㐸搴㘳戸㑥ㄴ㜵捣挴㙣㕦挶搳愶昰㥡晣づ㜳愲摥㘰挴㐳㍡㘷昴㑤ㄸ㥥搶㘸㐸㘱ㅡ㌵戰㠳〳㡥戱㈶㐱搳〵ㅤ㜳〲㜸㈲㐸攸㔰ㅡ㉦愵捣ㄴ㑢ㄶ〹捦㉥敤戵㜲戰攰㤳愴挳捡〰㘱㤸㤶㍣扣㠲㜰㈷挵扤㌵捦愲改㍤㘹㐱愲慤㍤㍥挱ち敦㠴㠶㈸㥥昸っ㜹㜴㘵搸㌵つㄷ㥡搶㉢㔸改ㅤ㥥㡦〴捤愱愰㘹ㄶ慥㑣㡢㐵扢㔶昲㙥昹㝤搹愱㉤㡦摥つ戲昱㕦㌷㑥摣晦慡摦㝥㘷㝤㥦㡣慥㈴ㅦ㥤㑦つ㍡慦㝢㘶昱㈵ㅦ晤㔴㝣㜹㝢㤳攵て㠷㠶敢㠸㥢攵改㠵戳晤㠱ㅤ㘸敤晣㤸㈱㡦㘳㠵㤲㔹扢搲㈸敡㔸ㄴ㡤慤〸㐶愳㉢〸晥㈰挹挵㕢つ㈳挱㘷㥣〱搶㈳ㅤ搳㑡愹摣摣㤴愷ㄹ挷挳㄰㥦㡥戴㌳㐱㝣昳愳攱㘸扣愴㥤晦摢㠲戱㘸㕣㍢ぢ摣㕣摣㕣戴戳㤱愸慢㉢㤹㍢戵㙥㘶㐹昳㥣昹㑤捤戳㑢㘶㌵㌷㑣㥤㔹搲搸㍣户㘴晥昴愹㈵ぢ敢㘶㉥愸ㄳ㝥㜳㘳㐹搳散搹捤ぢ捤摣㥣戹捤㌳愶搶捦㥦㌷㘱㑤㝢扣㐳慤㐲愴昸㐴昳㐰扢晦摤㉤戵て㑤戹㈰散㕦戵收挵㐳敢㔴㤷㈵挸㜸㔴攲ㄳ㤲㍣愸㥤㡢㠴㝥ㅥ挹㑦㐹捥㈷戹〰㐴㐵㔱㤴攳ㅢ㘷㠳晣扦〹〳挵摢㕣㉥搱㉦㈲戹㤸攴ㄲ㄰㡣㔲㠲ㄶ〶愹㑢㤱搵㉥〳ㄹ扡㄰ㅤ㈱搰ㄹ㈸〹ㅢ㈵㉢㘳挶㉡㍣㘴㘳戸昲㉡挵㘷㌲づ㔳晡攵㈴ㅢ㐰搴㝥㈰散搰ㅥ晤ち㤰慣㔷〵ㅦ攴㌲慦㡡慢挰昵敡扤挸㔴〹㌴㜸㘵攸㐴㐲㘷攰㜵〶㕤㉤戱㈲㤳ㄱ戲㘳㉣㐱挶搳攱㐸ㄴ㤳㤰㕤㑦㈳扦㈶昹つ挹つ㈴㌷㠲愸〵㔶挸㤰㑥晤攸㌷㈳慦摦㐲㜲㉢㠸㈳㘴户㤱挷㜱ㅤ挱ㄹ㠵㉦〹捥ㅤ㘴摥〹愲昸搴㘹〶攷㉥愴戲〶㘷㌴ぢ㘴㜴㤹㝢挱昵敡扤挸搴〱搰㜰ぢ捥㤴㙣挱愹戳〴ㄹ㡦扥㘳㘰㐹㠲昳㌰ㄲ晡㈳㈴㡦㤲㍣㐶戲〹㐴㑤捣ㅡ㥣㈷愸昳㈴挹㔳㈰㡥攰㍣㡤慣昶㈷㤰慣搷搳㔸〸㈵㘴㥢㤱搰㥦〱㔱㝣挸㌶㐳昶㉣㔲㔹㐳㌶㡥〵㌲㐲昶㍣戸㕥扤ㄷ㤹㍡〸ㅡ㙥㈱ㅢ㤳㉤㘴〷㕡㠲㡣㈷晤〹戰㈴㈱㝢㤹慥扣㐲昲㉡挹㙢㈴慦㠳愸ㅦ㘵つ搹ㄶ敡㙣㈵㜹ㄳ挴ㄱ戲户挹戳慥㈷㉥ㅥ㐸㜰晥㐹收㌶㄰挵ㄵ〴㌳㌸敦㈲㤵㌵㌸愵㉣㤰ㄱ㥣て挰昵敡扤挸㔴㌹㌴摣㠲㌳㈸㕢㜰㡡㉣㐱挶㌲㠶ㅦ㤶㈴㌸㥦搳㤵㉦㐸扥㈴昹㡡攴㙢㄰㔵㘰〵㠷挳昸㠷昸㍦㕢昳㜸挶攵㔲晣つ挹㜶㤲ㅤ㈰㡥攰㝣㡢慣挶㕢㑡㕥挹搴攵〶㝡㕣㈵搲ㄲ㈱て〶㌶㥤昷㔸㔵つ㤶ㄹ愱ㅣ㘴戳㐶愸ち㙡㤹ㄱ捡㐷ㄱ慦摥㡢㑣搵愰㥣㕢㠴㍥晦㌶换〸晥㤹㈵挸㔸㠷㌹〴㤶㈴㐲㠳攸㝢㌱㠹㡦㘴㌰挹㙥㈰敡㈳ㄴ攵〸づ挵搴㡦扥㍢㜵㠶㤲散〱攲㠸搰㌰昲慣换㘷㈲ち㐹㜰㠶㤳戹㌷㠸㥡っ㤶ㄹ㥣ㄱ挸㘶つ捥㈴愸㘵〶㘷㍦ㄴ昱敡扤挸搴愱㈸攷ㄶ㥣㤷戳〵攷㈵㑢㤰戱挸㜴㌸㉣㐹㜰挶搰昷戱㈴攳㐸挶㤳ㅣ〴愲㕥捣ㅡ㥣〹搴㌹㤸愴ㄴ挴ㄱ㥣㜲昲慣攰搴愱〲〹㡥㥦捣㑡㄰㔵て㤶ㄹ㥣㉡㘴戳〶㘷ち搴㌲㠳㔳㡢㈲㕥扤ㄷ㤹㙡㐰㌹户攰㍣㥣㉤㌸て㔹㠲㡣ㄵ戴㐶㔸㤲攰㑣愱敦昵㈴つ㈴㔳㐹ㅡ㐱搴敦戲〶㘷㍡㜵㥡㐸㘶㠰㌸㠲㌳㤳㍣㉢㌸搳㔰㠱〴㘷㌶㤹捤㈰慡〹㉣㌳㌸㜳㤰捤ㅡ㥣改㔰换っ捥㍣ㄴ昱敡扤挸搴っ㤴㜳ぢ捥昵搹㠲昳㉢㑢㤰戱㍣㌸ㄳ㤶㈴㌸㑢攸晢戱㈴挷㤱戴㤰㉣〵㔱ㅢ戳〶㈷㐸㥤㄰㐹ㄸ挴ㄱ㥣〸㜹㔶㜰㘶愱〲〹㑥㉢㤹㙤㈰㡡换㡥㘶㜰㤶㈳㥢㌵㌸戳愱㤶ㄹ㥣づㄴ昱敡扤挸搴ㅣ㤴㜳ぢ捥戹搹㠲昳晦㉣㐱挶摡攷㕣㔸㤲攰慣愲敦慢㐹搶㤰慣㈵㔹〷愲㑥捦ㅡ㥣昵搴㌹㤱攴㈴㄰㐷㜰扡挹戳㠲㌳てㄵ㐸㜰㑥㈱昳㔴㄰戵〰㉣㌳㌸愷㈱㥢㌵㌸昳愱㤶ㄹ㥣㌳㔱挴慢昷㈲㔳ぢ㔱捥㉤㌸戱㙣挱㌹摥ㄲ㘴㉣散㉥㠶㈵〹捥〵昴晤㐲㤲㡢㐸㉥㈶戹〴㐴慤戰㠲挳㥢ㅢ晦昷㑣愹㉦愵捥㘵㈴㤷㠳㌸㠲㜳〵戲摡捦㐱戲㍦昷慢愳㘰㑡㠲㜶㈵つ㕣〵愲㡥〱换っ摡搵挸㘶つ摡搱㔰换っ摡戵㈸攲搵㝢㤱愹㈵㈸攷ㄶ戴挵搹㠲戶挸ㄲ㘴㉣㘶ㅦ〷㑢ㄲ戴ㅢ改晢㑤㈴㌷㤳摣㐲㜲㉢㠸㍡搲ちㅡㄴ㔳㍦晡㙤搴戹㥤攴づ㄰㐷搰敥㐲㔶扢ㅢ愴㤷愰戵挰㤸〴敤ㅥㅡ戸ㄷ㐴〵挰㌲㠳㜶ㅦ戲㔹㠳戶ㄴ㙡㤹㐱晢㍤㡡㜸昵㕥㘴㉡㠸㜲㙥㐱㍢㌴㕢搰㈶㕢㠲㡣ㄵ晣㌰㉣㐹搰㌶愱㔲晤㜱㤲㈷㐸㥥㈴㜹ち㐴㔵㘷つ摡搳搴昹ㄳ挹㘶㄰㐷搰㥥㈵㡦㐱挳扣㠸㥢〲ㄲ㥣攷挸㝣ㅥ㐴㉤〳换っ捥ぢ挸㘶つ㑥〴㙡㤹挱昹㉢捤敡扤挸㔴㉢捡戹〵㘷㜴戶攰㡣戲〴ㄹ摢ㄳ换㘱㐹㠲昳㍡㝤㝦㠳㘴ぢ挹㔶㤲㌷㐱搴㍥㔹㠳昳㌶㜵摥㈱昹㈷㠸㈳㌸敦㤲㘷〵㠷㍢ㅥㄲ㥣昷挹晣〰㐴㜵㠰㘵〶攷㐳㘴戳〶愷ㅤ㙡㤹挱昹〴㐵扣㝡㉦㌲搵㠹㜲㙥挱昱㘶ぢ㡥㙥〹搲昷㕥昲戹㤲㤹扥㠶㈴㍢扣挹㔵㘹挷㝡昷㈰㈸㙢㤱〵㥤㙤㠹昸㠰㐸ㅤ㤶ㅡㅢ摢ㄲつ昱挴挰〸〸㤲㔲㘴戸㉣攰㍡ち㡤㡦㉣㙣㌳㔶捦挷㉡捡㝥㤹㈲㙣㝥搷㜷挵戱㘶挹㜵㤵㝤㌳攵つ搱搹搱㐴㐳㕢㝣㘵㝢㘰敤㘸ㄷ戱㈹㔹搴㙡㜴㘲㐷㈱㠶㡤㠵㥤㈹㐵㔷慥㌴挲㉥㍥捥㡢㜶挵㐲㐶㔳挳て㘱㑦㐲㤹敢㝣ㅥ㉣㈵攱〹㐴敤㥦㝤つ摥ㄱ昷㈱挰㈶〷换㑦㙡ㄷ㤷戴搷愱扣㐷晦㌷㉥㍤㕣扥ち㤷扡晥つ㉦㐳慦㈷㍦〶㑥敦㤷㠸㘳㤷㘳〰㤴扤ㄱ挰㙡昲㡡慣㙤戴愶捥㜸㕢搸昰㕡戹㔹㙤㥤㠳慣㘴㜳㔷㈲㐵ㄲ㔸㌳挴㤲搴戵户㌷㜷〲晡㔰㈰ㄶ晥㈱愰挲挰㘰㤱㑥㈰㔱ㅡ晥敤㕡愰㈵挰㌰昴愹㝤攴攸搳㤳搱搹户㕢戱㡥㐳攲扡㘴㤹散㡥㐸㌸㌶㠹戸昵㕢挴㜰㈷搹㠵捣捤㌲〲㥤㠲挲扣㐴戸挱㔸㌵㐸㌴っ㕣攰㌸㜳搲㙥っ㐹捤捡捡戵ㅥ愹ぢ挶愳敤㕤〹㘳㔰㌲㈵ㅤ㕤㡦捣㌵摡〳摣昰ㅢ㤸㑣捤〹㈵戰㈵㥡戴挷捤扣ㅦづ㐲㠸㐸㥥㠵㤲ㄲ㥣戴㕥㉥摥搴㐶戰て敤ㅡ慡㕣㉥㠸挸攷攳挳搴ㄵㅢ昸戹攱㌰㡦㥤昰昲攳挹㑦挰㝣摦㜷昴搸㤳㠶搸ㅢ捤收〸㈷㠳搷㐰㥢挷捤戴愲㠸㡣㝢搸㌱攷㜱愳㘲㜶㥤㜶㥣〵攳晥㑦㝢晢摡㐱㤱愶捥㔰㝢㔷搸㤸ㄹ〸ㅡ敤昶㤸ㅤ㡤㜵晣㐰昰捡㘳㘷㌰戱敡㈵㉥搶㌶㘷ㄳ㑥摣搹晢㠷扢㍣捣㈹㝤〷敡搴晥〳㤲㌷戹挱㕦㠳㙦慦晥㉤㈹昰改㠲㌷晦昵ㅥ慡ㄷ㠵㜶敢㌹〱㈰㐷戹㌰扥㘵戰㌸戰㜱ㅦ㈹戹つ㉢摤捥愱㌶㌳㍡㌳㡡㉤昲戰㠳㌵扤捤㘴晤㘰㍡㤷㘰愵㘹摡慥摥㘵㄰㉢㝣㍥戵ㄶ愰㌰昲㤹昹挳ㄸ㝦㈲戰ㅡ昹昴ㅤ㈸挷㙣㐴㈶〰㌲ㄲ晡愰㔸捣㘱捣㥣㍤捣㙦㑢戴ㅢ〳㈲㈲㤷㜴㈱晢〵愳㔹㄰㤹摦㡡摤㥣㠶愲挸戴㔸㕢戸扤慤搳攰㑣〴㐷㌶㜸㝣㙥愶戱っ㠷ぢ收㐴攳㙤㍣昷㔴ㄴ㤹ㅦぢ㜴挶㔷㜲搳㉥戴㜶户㤴㥣㠰㤵ㅦ㤹搲搶㠹㕥㘴搶挹㜴㜱㘴㕥㙢㜴㌵㡥㠹㜶㜵㜴㑥ぢ慣㡣晦㈰㠰挲搵㙣㝤捣慥㤵愳㜲㜲㔴㘱㑥攱㉥摥戰㍣戸挲㘱㤲㉢戹㌹㈴ㄶ㔴㙢㤰敡愵搳ㄲ㈵敢㘸〷㍢㉤㝤㑡㌹㈴改扡㥦㥣㍣㘳换㠱㔸攷つ㜲愰㈷挷攳㤹㌱㙤㐱㔳捦㠱愰晦搳ㄱ搷晣戵戰摣换晤㐰㉥㡢攴改㠳愱㔰ㅥ㘴㕥㉡攴昱捡搱〵㜱收搲㉦㍦㙦㐴㜴㜸㈵攲ㄶ㑡㜵㈶ㅢ戱ㅦ㍣㄰ㅤㅦ攳㉦昶搱㌱昰づ㌲㌳㥣搳㜵〴摡攳㤶慣㍥摡搱ㄱ攰愵挵换㜲ㅥ〶㙦愳㔰㈶搸ㄸ㐹昴〸㠸㕣㝦ㄶ㉢戰〶慣挰ㅡ㘱攱㥥捣ㄳ㐵㤲愶慤攸戲㐰っ㈷昹㍡摡㐲㠵捣昰搴捦て攲㥡挴㈵㤴㠷㘰摡ㅦ戹㌰㌱㕢㑤摦戳㌷户㤹〱昷〴㍣㐰㌰㜴㠴ㅦ㔷㙥㡥摣挸搵㉥ㅥ搷挰攵㉢て㔹㝡づ慣攵攳㍦㈶戸扣㈰昱㜱捣挲挰㤱㐱㐸㥤〰㍥挵㝡㉥㔵慤㑦摥㠹㐸昴扡㜳㕥〰〵敦捣㘸㈰摣㠸㠳㘱搱㔸㠱㜵㈴扢㄰搰㜲㐸㠹昹㜸㕡愲ㅥ㐷㡥㜰㤴㘹ㄵ㈶挳戱㐲㌲收攱ㅣ㐲ㅥ捦㔹㘸㈶㠶扣ㅦ㝡昲昳〷ㄴ扡搵搵㘴摢ㅡ㙤敤㉡㍢て愸㌷㘵搸晦昰挸㥡挳搸㄰慦㔷㜶㐱昲搰ㅣ㥤捤㔷㈷㠱挹昶愴㈹㘸㔴㈸〰挹敦㠶㌰扤㤷㘴㍤㔹㐰攳昹ㅤ㍣昱㔰搸挱收㘰捥愱攱ㅣ〴㑥㑥㈰㈴摡㠰㐲㡥昲㝡㈱捣㍥戳㜹㌳昷ぢ㍣敡㔴㄰扢㝥㔹攷昳㌲㜸㍡㡦捥敢㕥㄰㜵㉥戲㜲挶挶㝣㉡ㄹ〸ㅥ戸昲㔴㔲㠴㌴㙥ㄵ敡㍣㜰昸㘴挲〶昲攳㐰ㄲ户昴㐱㤶搶㑦㈱攱㥣㥡㙡㍢㥢㥦㈹㙥㜵㜳㡥愶昴㘲ㄴ搷㜸㜸ㅦ㤳㠴捡㔲㤴昵敡㠳㉤㡢ㄷ㐰㠱ㄳ〵昳㤳昵㔶愶㉥㠲〲㙦㘷ㅥ㙤㌷㤴㉣㘴㜸㝥㠴㘳挷攲㐹摡㔸慡㉥㠶ㅡ挷㔳㝤〸㔴搵㈵㐸㜱㤸㠲捦收㘵㍢ㄴ摣㥤㕦戶㤷㑡〹ㄸ搹㠳㐶慣㡣扡ㅣ〹㍢搴㘴㕡搷挲㥥搰搱㠷㔱㜱㠳扢挲㕥㔴ㄸ㑥㠵㉢愰搰㡤晦晡摥挸㈵㈱扣捡㔱捣〱攱〸ㄶ摢㠷挵慥㠷㠲〳挲晤挰〳㔷㈰㉣㐱㥡㄰晥ㅡ㥣散㄰晥挸搲晡つ戴晡っ㈱户摥㑤〸㐷愲戸㌶ち㈴㙦昲昴㑡㙥搴㘰攳摢戲㜸㈳㤴晡〲攱捤搰ㄳ〸㕤敦㠰敡ㄶ㠸〵戵晤㘱㔷摤㡡㕣ち㙡〷㠲扢㜳搴㙥㐳㌱攲㤲㌲搸愸㍢挰㜱㐱㙤㉣㑣敡攳㔸摢㥤敥ち攳愹㜰㄰ㄵ敥㠲㐲㌷晥敢㍦㐶㉥㠹摡扤㡥㘲づ搴㈶戰搸挱㉣昶㌰ㄴㅣ愸㤵㠱㐷搰ㄴ㤶〳捡㤱㈶㙡㡦㠰㤵ㅤ戵ち㑢敢㔱㘸昵ㄹ戵挷愰㙣愲收㐷㜱慤ㄲ㠴戳㜳㜳ぢ慣捡戲戸〹㑡㝤㐱敤〹攸昵㠲摡㤳㄰ぢ㙡搵戰慢㥥㐲㉥〵戵㕡㜰㜷㡥摡搳㈸㈶愸ㅤ〲㜵晢愳㌶㈳攵㠲摡㐴攸攸㤳㔸摢㌳敥ち㤳愹㜰㈸ㄵ㥥㠵㐲㌷晥敢㠷㈱㤷㐴敤㜹㐷㌱づ摤㕥㜳戸㍣㥣挵敡㔸散㘵㌰ㅤ愸搵㠳〷慥昴戵〶愴㠹摡㉢攰㘴㐷㙤慡愵昵㉡戴晡㡣摡㙢㔰㌶㔱㙢㐴㜱㙤ㅡ〸晢㥡㌹㕣㑥户㉣扥づ愵扥愰戶〵㝡扤愰戶ㄵ㘲㐱慤〹㜶搵㥢挸愵愰㜶〴戸㍢㐷敤㙤ㄴ换散㙢晦〴搷〵戵㔹㌰愹捦㘶㙤摢摣ㄵ㥡愹㌰㠷ち敦㐲愱ㅢ晦昵㈳㤱㑢愲挶挳ㄱ戶㕤㝥㕢愸捤㘵戱㜹㉣昶㌹㤸づ搴ㄶ㠰㐷昷搸搷ㄶ㈲㑤搴扥〰㡢愸㜹搴〹扢摦㍡㙤敢扡搳ㅥ昲㔸㠹挳㌰㥥㉤戲戴扥㠴㐲㥦㔱晢ち捡㐴捤愳㉦㐶㜱戹挱愰㔲散敥㔸挶扥㠶㠸㠰㈵敢愱慥攷搳㤳㌷捣扦攴㠲㐷㠷㙥挵㠴挲㥣㈵㝤〳慥〰㈶愷ㅢ挴昳㜲戰㜲㐸㉣㤵敤㐸〹㘸㑢㘰㕢敤㐰㉥〵戴攳挰㌵㐱换㈱㉡㠸攱㌱て㥢㠹㑦ㄳ㠷搳㈷㍥ㄲ慡㙦㈱㈰㔷㙦愱ㄱ㉢㠳ㄱ愹㈷戸攰㐳㔷愶㌸㑢㤱搶〳㔴挴搵㥦㡣扥㐳㈱㐸㠵㄰ㄵ㔸㘷㌷敤㠶㤱㑢㠲挶昳ㅡ㌶㘸慦㠹摤〲敡ㄸ㉣ㄶ㘱戱㐱㔰㜰㠰搶ちㅥ㙢㠳〳㝡ㅢ搲昴㤸㈷㉦戲㜷戵攵㤶㤶て㕡㝤〶㡤㐷㌸捣慥戶〲挵戵㜶㄰㜴㌵㝦㌵搸㕥扤挳戲戸ㅢ㜲㝤改㙡扢㐳慦㤷慥㌶ㄴ㘲㐱慤ㄳ㜶搵ㅥ挸愵愰戶ㄲ摣㥤㜷戵㘱㈸㠶㥦戴摢ㅡ捦㡤搸搱愵搴㐲㉤〶㤳㝡㥣戵昱㑣㠹㡢㐲㠲ち㕤㔴ㄸ〱㠵㙥摡㕤㠵㕣ㄲ戵晤ㅣ挵㈸戵扡摡㙡ㄶ㕢挳㘲㘳愰攰㐰㙤ㅤ㜸攰ち㙡㈷㈰㑤搴㜸㈴㈴㍢㙡敢㉤慤㜱搰敡㌳㙡㍣㕢㘲愲㜶㈲㡡㙢㈷㠱㄰㌵㜳搱改㘴换攲㐱㔰敡ぢ㙡ㄳ愰搷ぢ㙡㍣㥥㈲愸㜵挳慥攲ㄸ㥣㠲摡㈹攰敥ㅣ㌵㑥㤳昰㤳㠶㥡ㅦ㉣ㄷ㔰㑥㠳㐹晤㜴搶㔶改慥㜰〶ㄵ捥愴㐲ㄵㄴ扡㘹昷㉣攴㤲愸昱昶㙥摢攵户㠵摡搹㉣㜶づ㡢㑤㠱㠲〳戵㜳挱〳㔷㔰㍢て㘹愲挶戳㉡搹㔱晢愹愵搵〰慤㍥愳挶㐳㉦㈶㙡攷愳戸㜶〱〸㙦㙢㘵㘰㝢昵ぢ㉤㡢㍣ㄴ搳ㄷ搴愶㐳慦ㄷ搴㜸㙥㐶㔰扢〸㜶搵っ攴㔲㔰扢〴摣㥤愳㌶ㄳ挵昰㤳㠶摡㙣戰散攸㔲㙡昵戵㑢㘱㔲扦㡣戵昱ㄴ㡥㡢挲攵㔴搸㐰㠵㌹㔰攸愶摤㉢㤰㑢愲挶愳㌷㜶㌱〷㙡㍦㘷戱㉢㔹㙣〹ㄴㅣ愸㕤つㅥ戸㠲摡㐶愴㠹ㅡて搱㘴㐷敤ㅡ㑢敢㌸㘸昵ㄹ戵ㄶ㈸㥢愸㕤㡢攲摡㉦㐰㠸㕡〵搸㕥晤㤷㤶挵愵挸昵〵戵㈰昴㝡㐱㡤〷㝡〴戵敢㘰㔷㠵㤱㑢㐱敤㝡㜰㜷㡥ㅡ㑦〰攱㈷つ戵㔶戰散攸㔲㙡愱昶ㅢ㤸搴㙦㘰㙤㍣ㅥ攴愲㜰㈳ㄵ㙥愲挲㜲㈸㜴搳敥捤挸㈵㔱攳㤹㈰扢ㄸ㥦愹慤扥㜶ぢ㡢摤捡㘲慢愰攰㐰敤㌶昰挰ㄵ搴㙥㐷㥡愸昱㜴㑦㜶搴敥戰戴搶㐰慢捦愸昱㤸㤰㠹摡㥤㈸慥摤〵挲ㄱ搲㥣昸摦㙤㔹攴㌱愲扥愰戶ㅥ㝡扤愰挶㤳㐶㠲摡㍤戰慢㑥㐲㉥〵戵晢挰摤㌹㙡摤㈸㠶㥦㌴搴㑥〱换㡥㉥愵ㄶ㙡昷挳愴晥㝢搶挶㜳㑢㉥ちて㔰攱て㔴㌸つち摤戴晢㈰㜲㐹搴㜸㔸挹㉥㐶愹㠵摡㐳㉣昶㌰㡢㕤〰〵〷㙡㡦㠲〷搰〴戵挷㤰㈶㙡ㄷ㐲㈵㍢㙡㥢㉣慤㡢愰搵㘷搴㜸㝥挹㐴敤㜱ㄴ敦㤹㐲㍥㘹ㄹ扢〴昲扥〰㜶㈹昴〴㌰㌹㕡〴捦㌳㔶㤹ㄵ㑦㐰〹㘸㝦㠴㙤㜵㌹㜲㈹愰晤〹摣㥤㠳挶㈳㔳昸挱〱ㄷㅡ㘱㠸昸晦㑡㔰㍢戸攰摢愰㍤㠳戴晥㉣ㄵ㜹㙥捡㐵攱捦㔴㜸㡥ち㔷㐳愱ㅢ㈵昵攷㤱㑢㠲㜶慤愳搸改㘲㔷愶㤰㉦戰搸㡢㉣㜶㈳ㄴㅣ愰晤ㄵ㍣㜰〵戴扦㈱㑤搰㜸散㈹㍢㘸㝦户戴㙥㠶㔶㥦㐱攳昹㈹ㄳ戴㝦愰戸昶ㄲ〸ㄷ户捣〱昲㘵换攲慤㔰敡ぢ㜲户㐱慦㤷慥㜶㍢挴㠲摡㉢戰慢敥㐰㉥〵戵搷挰摤㌹㙡㜷愱ㄸ㝥㍣晡㈱㔰户㍦敡ㅥ戰㙣㔰㈸戵扡摡ㅢ搰搱户戰㌶ㅥ摣㜲㔱搸㑡㠵㌷愹㜰ㅦㄴ扡㔱㔲㝦ぢ戹㈴㙡㍣慤㘵ㄷ攳㠲愵搵搵摥㘶戱㜷㔸㙣ㄳㄴㅣ愸㙤〳て㕣㐱敤㕤愴㠹ㅡ捦㕤㘵㐷敤㍤㑢㡢〷戳晡㡣ㅡて㜰㤹愸扤㡦攲摡〷㈰㐴㡤ㄳ㌵慦晥愱㘵昱㈹攴晡㠲摡搳搰敢〵㌵㥥〱ㄳ搴㍥㠲㕤戵ㄹ戹ㄴ搴㍥〱㜷攷愸㍤㡢㘲昸㐹㐳敤㌹戰散攸㔲㙡愱昶㉦㤸搴晦㠷戵㍤敦慥昰ㄹㄵ㍥愷挲ぢ㔰攸愶摤㉦㤰㑢愲挶㘳㘴戶㕤挷㝡搶㤷㉣昶ㄵ㡢扤づ〵〷㙡晦〶て㕣㐱敤ㅢ愴㠹摡ㅢ㔰挹㡥摡㜶㑢㙢ぢ戴晡㡣摡㔶㈸㥢愸敤㐰㜱敤㍦㈰㐴捤㥣㐲㝥㙢㔹㝣ㄳ㑡㝤㐱敤㙤攸昵㠲ㅡて愷〹㙡摦挱慥攲㈹戵ㄴ搴ㄴ㥥㡢㜷㡥摡扢㈸㠶㥦㌴搴摥〷换㡥㉥愵ㄶ㙡搸愰挰慢㙣㐰ㄴ㡦扡戹㈸昰㔵㉡扡㐶㠵て愱搰㑤扢〵挸㈵㔱攳昹㌶扢㤸愳慦ㄵ戲ㄸ㕦㤴㤳晦㙦㈸昴敤搴ㄳ㠷㔶㥦攳㈸ㅡ户攸攲㠳㈳㐷㜶〵摡昱㜲㤵㘶㥣㠷㐸㤰昵㐳搸〳换㌳㑦愵愴扦㤱㈰昵㥤㉢㌸搰㈵㑤㌸收搸摤搱戲昴ㄸ愴敡㕡㙤㡢㔳㜳搷㑥慤㜸昳扦摣昱摤㜷㝤慢〵㤰㜸ち㔶昱㤷㕣㕢㕡㍣㠵慣ㄳ㐸㘱㄰ㅡ㠰㉦㜶㈳㥥ㄶ愳㑥敡㐲㌶捦㌵㘵㜰昳㜷㠰搵换摥㜱摡㠱て㤶ㅦ搲戳搳挵㍤捤昱敤㝣ㄱ㤳摢ㄶ㔹敡ㄶ㜲ㄱ㥣㔳摦扡昹愰扥戳戹挵搴戱㥡㤳㥦㠳㑥戴搳㑤挹㍣㌶㍣挲敤挹㜹㠹戵敤搸ㄲ㘶㤲〷ㄸ捤ㄴ昷挰㑣㌱㥣㡥挶昲㜰㥣㉦晤㔷挲㤳㘵㔷挲搴㠰摤搳㝥〵㕦㡡㔱攲㠱㌷昹㥦〲愲慣攵改㜸て㉡㔲〶ㅣ㙤㌰摡戴晢慣戶㄰㝥戵㌴ㅡ㐹㤴捣挳戱㠶ㄲ扥㤴〱〷㙥㑢敢昲㍦㠶㐵搷㍡搹戰扣㑥扥㠷㐸㠰昶慥攸㡣慥敥ㄴ㙦昲攳㝣㌷〵㙢搳ぢち㔸つ戶㐴捣捦㈸〴捦㤷ぢ㐷昹昱攵㜱㄰㐲㐲ㅢ〲て昶慦㥦㔲㍦户愵㌴㔰ㅤ慣㠸昸㐳攵搵㘵㐱㝦㜹㔵㙤㑤㜹㙤㑤㔹㔵愴㉣㔲ㄵ愹つ〴〲㘵㍥づ㑦㘲㜹㜷㤴昱㘹㜶㙥㈸㜳〵㜶㡥戲攲㐲攴㔸戱挶扡扥捦㡦㑦㠷㘵搴攰搱昶〴ㅤ㔴㍦愵挵㜱㝥㐱ㅢ〶摥㐰昰㘴㠷㜶㉥㕥〳愱敤〵捥㘰㜰㔲摦攵攴昳㕡㔶㝡摥㜸愴㡦㠰愶ㅡ〸㍥挷㌴慦㝡ぢ愱㘷㥦〳ㄷ㝤㘷㕦㝣戱敦ㄴ㐱㉥ㄱ㐸㤹敡っ㜲攵ㄶ㠳换晥愳㤷搰昲㘰㔷㥤㈱㌶㜷㈴㜵㔰ㄵ慢㔳㐳挱攵昵慤㕥㠳〳扣慡挰挴晢㡣㈰换㝡愹愸㔷愰挶换㈵ㄵ敥㍤㘰㠵搷㡡㝥〰ちㄷ攵晡昶戴敡搳づ㐴摥㐴扤㌶㔴ㅥ㈹慢慣㉣慦づ㠷㉢晣愵挱㘰愰戶㉣ㄴ慥〹〶挲搵愵愱昲戲㥡愰㙦㤸㔵㐶ㅦ㠳㌲扥扤散摣㔸收㠶摢㌹捡㡡昷㐶慥㝦㔰ㅦ〱换愸挱愳㡤〷㑤㐷晤㈰昰㔲㔱晦㌱㌸㉥愸敦㘳㔹搱㐷㌰㈴晢㤰㤴㐲㔳敤〷扥㠹晡㥦ㄱ挱ㅥ搴换㈱㈴敡㈵㤰ぢ敡㜶敦㐱㐹㡦晡㤱㉢㜷㈴戸㠲扡㥦㤶㐷扢敡散㙦㜳慢愸〳㕢昸昲愸〳挱ㄵ搴晦〸㈷㙣搴㜵づ㄰ㅣぢ搴㤳慥〰㡦戵㑣㘹㠷㐰捦〴戴㍡㔸㕡㔵ㄳづ㤶ㅢㄵ㠱ㅡ㝦㐵ㄸ搹㔰㑤愰捣㠸㔴㔵㤴㤷㐶慡㙢慡㝣攳散敡㈷愲㡣㙦扣㥤㥢挴摣㐱㜶㡥戲攲ㅦ㈳搷㍦㠰㑥㠰㘵搴㠰户㡤㠱敡散户㍡扢慡敦㘰㥢㍦㤲挲㔱㈴昵攰慢㌲昰㑤㠸ㅥ㐸㠱㘸㉡㠴㠴愸ㅣ㜲㠱㈸愵㘳㔶戸㜲晤攰ち㐴搳㘸戹捡㔵愷摡收㌶㔱〷㙥攰换愳㙡挱ㄵ㠸敥㜱㐲挴㡥㈹㄰摤攵ち㤱敤㤱㙦愲㘵㔳㥢㠵〲㈶㔶攱㘰㌸ㄸ〸㠴㡣㐰㐵㈴散㌷っ愳戶愶搴㈸慤つ㔵㤴〷㐲挱慡㥡搲㔲摦㈴摢㡦搹㈸攳㥢㙣攷㥡㤹㍢搴捥㔱㔶㝣ㄸ㜲晤㠳搵攱戰㡣ㅡ昰㉢㤸愰㍡㝢㥢捥づ收慢戳昹㘳㈸攴敦㜳敢ぢ挱㔷昵攰㥢㔸摤㤰㠲搵㘲〸㠹㔵〳攴㤹摤㘹慡㉢户ㄱ㕣挱敡㘸㕡㥥敥慡搳㘴㜳㤷㔰〷㙥攰换愳㡥〰㔷戰晡愵ㄳ慢㘴㜷扡搶ㄵ慢㔹㤶㈹㙤㈹㙣㤸㄰ㄹ搵攵㌵搵攱戲敡㉡愳㌴散てㅡㄵ㌵ㄱ愳戲扡㈲㄰慣慥ちㅢ㤱摡㡡㤰㙦戶㕤㝤〰㘵㝣捤㜶㉥挸摣ㅣ㍢㐷㔹昱㤱挸昵て㐴㜳㘱ㄹ㌵㘴㜴愷㜹㌶㝦〲㠵晣慤㜲扤つ㝡㙡〱昸㈶㐴㤷愶㐰戴〲㐲㐲戴㄰㜲㠱愸ㅤっㅡ收㝦戵挸收㜶㌰㙢㝤搴㘲㜰〵愲㑥㜰搵搱慥㍡㑢㙣敥㑡敡愰㘴ㄱ晥慢攳挰ㄵ㠸捥㜷㐰愴挵愰㤲晤㍥㜷㥥㉢㙥㉤戰㈴昷㌹扥昴ㄳ昷戹愵挸昳攳ぢ搸㠹愰㥤〸㔹㠹攲㌰ㄲ晤㠳㠶〱换昰挳愳㜵㠱愶摦慤㔶㠱㤷㝡户㕡つ㡥换摤㉡㘲㔹搱晤㌰㈵慦〳搴搷㐱㔳戵㠲㙦㘲㜷㝡ち㜶敢㈱㈴㜶㙤㤰㘷㜶慦攵慥摣ㄵ攰ち㜶㈷搱㜲㠷慢㑥愷捤敤愶づ㝣挱㤷㐷慤〴㔷戰㍢搹㠱㕤捦摤敡㐴㔷㤸㘲㤶㈹敤㌴搸㌰扢㔷㔹愸慡㌲ㄲ挰㥢攰慡挳㤵晥㥡㔰㔹㙤㈸㔴㘵㠴晣晥㡡搲搲摡㐸愸愲挲ㄷ户慢㍦ㅤ㘵㝣〹㍢㜷〶㜳㕤㜶㡥戲攲㔵挸昵て愰慢㘱ㄹ㌵㘴㜴慦㌵㌶晦㄰ち㈷㤲㥣〷㍤戵づ㝣ㄳ愲㔸ち㐴攷㐳㐸㠸㑥㠰㍣ㄳ愲昵慥摣ㄳ挱ㄵ㠸㉥愴攵㤳㕤㜵扡㙤敥挵搴㠱ㅢ昸昲愸㔳挰ㄵ㠸摡㕤㈱㕡敥ち搱㘹㤶㈹敤㌲搸㌰㈱㉡つ㔵㔴㐵捡慢㙢㙡慢〲㠶㍦㔲ㄱ挴攴㌰㔴㔵㕡㘶㔴㔷昸昱昶扥㡡戰敦㜴扢晡换㔱挶㜷㠶㥤摢挰摣㤹㜶㡥戲攲戳㤰敢ㅦ㠸捥㠶㘵搴㤰〱搱㌹㌶晦㜰ち敢㐸慥㠱㥥㍡ㄷ㝣ㄳ愲㤶ㄴ㠸㝥〱㈱㈱㍡て昲㑣㠸㝥敡捡㍤ㅦ㕣㠱攸㍡㕡扥搰㔵攷㈲㥢㝢㍤㜵攰〶扥㜰㠲㄰㕣㠱攸㈸㔷㠸ㄶ戹㐲㜴愹㘵㑡扢ㄱ㌶㑣㠸㙡换〳愵㤵攵挱㥡ち晣昳㠷㠳㔵挱摡戲㠸ㅦ㔳㠹㙡㝦㈸㔰ㅢ昴搷晡㉥戳慢扦〹㘵㝣㤷摢戹㥢㤹摢㘰攷㈸㉢扥〲戹晥㠱攸攷戰㡣ㅡ㌲㈰扡搲收㌷㔲㌸㡤攴㑥攸愹慢挱㌷㈱㥡㤹〲搱摤㄰ㄲ愲㡤㤰㘷㐲㜴㡤㉢昷㕡㜰〵愲㝢㘹昹㤷慥㍡搷搹摣摦㔱〷㙥攰ぢ挷㈳挱ㄵ㠸ㅡ㕤㈱㙡㜰㠵攸㌷㤶㈹敤て戰㘱㐲㔴㔱㕢㕥攱慦っ㔴ㅢ愱㐸㠵扦㉡㔴㕡㔳ㅤ挴〳㔷愰戶戴愲愶㍡ㄲ慣㉥昳摤㘰㔷晦㈰捡昸㙥戴㜳て㌱㜷㤳㥤愳慣昸㘶攴晡〷愲㕢㘰ㄹ㌵㘴㐰㜴慢捤㥦㐹攱㉣㤲㈷愰愷戸晢㘸㐲㔴㥢〲搱㔳㄰ㄲ愲摢㈱捦㠴攸づ㔷敥㥤攰ち㐴㑦搳昲摤慥㍡昷搸摣捤搴㠱ㅢ昸挲㐶〱戸〲㔱㠵㉢㐴㘵慥㄰摤㙦㤹搲㥥㠳つㄳ㈲捣攸㉡㌱敢づ晢慢晤愵晥㐸㈴㕣㕢㠵㐷㈹㝦㐵㔹㈰攲慦づ㤵搶㔶晢㝥㙦㔷晦㍣捡昸ㅥ戰㜳㉦㌰昷〷㍢㐷㔹昱㠳挸昵て㐴て挱㌲㙡挸㠰攸㘱㥢㍦㤷挲㜹㈴㉦㐱㑦㍤ち扥〹搱〱㈹㄰扤〲㈱㈱㝡っ㜲㠱攸㔵㕡戵㍥㙡㤳㉢昷㜱㜰〵愲搷㘸昹㐹㔷㥤㍦摡摣㌷愸〳㝢㌴慢晥〴慥㐰㔴攲㠰㐸摢ち㔹昶愹摥扥慥戸㙤㠶㈵㤹敡扤㠵挲㤸敡㍤㠳㍣㍦扥㘷敤挴㥦敤〴昷晥昸㈹㝥ㅥ㠹晥㐱攳〵㔸㘶〳戵户㐱搳愷㝡敦㠰㤷㍡搵晢㈷㌸㉥㔳扤ㄷ㉤㉢晡㘲㤸㤲ㄷぢ敢敦㐱㔳晤ㄵ㝣ㄳ扢㍤㔲戰晢〰㐲㘲昷㌷挸〵扢㐳㤰戰㍦敡敦慥摣㝦㠰㉢搸㝤㐴换㉦扢敡扣㘲㜳㍦愱づっ攲ぢ慢㔰攰ち㜶㍥〷㜶㝡昲愹㜷㤰㉢㑣㙦㔸愶戴捦㘰挳散㕥㤵搵搵㤱摡㐸㘹㈴ㄸ㈸て晡㉢戱愸㔸㕥㕢㠵愱㉦㘴㤴㤶搵晡㉢捡慢㝣㕢散敡㍦㐷ㄹ摦㔶㍢昷〵㜳㙦摡㌹捡㡡摦㐲慥㝦〰㝤ㅢ㤶㔱㐳挶挳敥㍢㌶晦㌸ち㕢㐸㜶㐰㑦㙤〳摦㠴㈸㌷〵愲㙦㈱㈴㐴敦㐲㥥〹搱㝢慥摣昷挱ㄵ㠸㜸㠱慢て㕤㜵㍥戲戹㌹搴㠱ㅢ㜴㔶㝤〲慥㐰昴㥦敤㡥戵愳㈴㐴摢挱捤㕣ㅣ晣㤷㘵㑡搳㘰捡㠴挸㕦ㄵ㉥つ㔵㔷㔷搷㤶㤷㔵晡㙢晤㤱〰愶て㘵挱㔰㘵㘵㔹㘹㜵戵攱㉦昳晤㡦㕤㝤〱捡昸㍥戳㜳㠵捣挹昶ㅦ〳㐳㔹昱ㄷ㤰昵て㐴㕦挲戲ㅢ㐴㕦搹晣㌰㥤攰㡢㌰昴㘲㜸愲戸㤷㘸㐲昴㈹攲搰戳扣㌷ㄸ㐲㐲昴つ攴㤹㄰㙤㜷攵敥〰㔷㈰ㅡ㐲换摦扡敡㝣㘷㜳㠷㔲〷㙥〸㐴摣摦ㄳ㠸摥㜷㠵攸㕤㔷㠸戸㠳㐷ぢ摡㕥㌰㘵㐲ㄴ愹っ㠵㌰挹㡢㤴晡挳攵㝥㍣㈱搵㤴〵㐲㌵㝥㝦愰慣㌲㔲㔹㡥挹㠴㉦捦㉡愳て㐷ㄹ㕦扥㥤摢㥢㌹捤捥㔱㔶捣扤扥晥㠱愸㄰㤶昱㤳搱㡢㜴㥢扦㥣㐲扥㡥㐳ㅦ〹㑦搴〰昰〵㠲㔱挸戱㈰晦慢㈲㥢㍢㥡㍡攰攰换攳攳㌶㄰ㄳ晡晥愰㐵戹昹扢㈳敦晡换挰扤晤㔵〵㙥㑣っ敤㘸㡡㘳㤳〰㙦户㥤ㅦ慤㑢晥㘵㠷挱昶收挱㜸晢捤扡晢昷㜰散㕦扤户㡢㌵挷㤲攵昰愲㔸㙣戹㐱㌰㥥敦攱ㅤ摡㤳㜳扣㈲㜶敦ㅥ㉥摥戳㠰摦晥㌶挲戶挵㌸㌶扢昳㜲㜲搵㡦戳扦㐳〲㙦ㅤ戵㌶摣㙣㌳昱㈱㘸挶摥㉥扦㘲㌶愵㉤㈱晢㙢扢㐱慥㜴㙥昱㘸〷㈲㕡摡攴搱つ愳晤㌵昹晦挰挵昶摦㔵挴攸昷㙣㕦戱㕡㝥扣晡㔸㔸㔵摣〰愲㐹戲搴〸㘴㠶㈳㤱晥搶捥ㄷ愱攰晡愲搳ㄷ㉣㐱挶㡢㑥昷㠵㈵戹㈸づ㐶㈵㐸㥢ㄷ㐵㠹捤㉤㘵搵攰昲㉤㠲㍥敥㥦㈰敦搱换㐰㜱㔱ㅣ㠰晣挴散愱㜴㙣ㅡ㡤㐷㑣㔳㕥㕣㍥ㄵ㉦㈲㕦㡢㉥散挹挵㙦晢攵㑢愸昳㜲づ搹㌵㕢摣㈲㘶戰昸㍦晦㔹㌴昴晦㘰㈷ㄳ㠲晤搸攰ち㠶㠱摢㉦散〷㑡攷挶㡥㔶〹㥥㘰㡤摦昱㜸ㅡ戵摡攰㜸昵㙡㙡㡦㠵㡥捤㔲摣〱㜱挳敢昱㙣㜸㙤戲〴ㄹ㙦㔹攵㜶㠹攰㌵ㄹ㤵㈰㙤攲攵户戹㠷戲㙡㡢敢攳捥〷昲昸晤ㄹ搰愲㕣挵敤〶戳〱摣挸搰敡挰㐵〳愶㡦挶〱㥡〷㔳ㅡ㔰㑦㉢㤳愰㤳㙣〰昷〷摣ㅡ昰扢㙣つ戸捦ㄲ㘴扣〹㜵㉡㉣㐹〳㥡㔰〹搲㘶〳㘴㤷㠰慥捥㘰搵㜶〳㥡㈰㐷摥愳ㅦ〱㡡〶㜰つ摥㙣挰㉣愴戴㔹攰㥡扤慤㔶摤㤱搲㠰㘶㕡攱晡㝤戲〱㕣㌴㜷㙢挰㉤搹ㅡ㜰戳㈵挸㜸㉦㈹㔷搸愵〱ぢ㔰〹搲㘶〳㘴改㥣慥㉥㘴搵㐸昰攲昶㉤㠱ㅣ㜹㡦扥〸ㄴつ攰ち戵搹㠰愵㐸㘹㐷㠱㙢㈲㔰慡慥㑦㘹挰㌱戴挲搵敤㘴〳摡㤰㜱㙢挰戵搹ㅡ㜰㡤㈵挸㜸㜷攸ち㔸㤲〶〴㔰〹搲昲摦挷㐵㘸攴昱攷㌱㐰昵㄰㐹ㄸ挴敢敢愰ち㍥㑡㤶㥥㤱搰つ敡攱挳搷㐸昹戸搸捣扣ㅥ〱㐵ㄳㄳ挸㜳㘰㔰ㅢ㔰㍦㝢愳㜴愰㔶〸ㄵ㔷㔶摤㥡㜰㐹戶㈶㕣㙣〹㌲㕥敥戹㥥ㄵ戰搲㑥搸㐵㕡晥慢㤳㙣㙥㤴戵㠱㡢㉦㡦慦ㅢ㕣㈶昴㤵愰㜰㤰换㤸㈶〶愷㈱愵挵挰ㄵっ昰晢㈳攷愱㍥㍢攰㕥㍤〱㠹㍡〳㍡㌶㑢㥤㠷㡣㕢〳捥捡搶㠰㌳㉤㐱挶ぢ㌸戹㐸㈹つ㔸㠷㑡㤰㌶ㅢ㈰慢㡦㜴昵〴㔶㡤㠴㕣㐴㕣㙦㐴ㅥ㉦〱〴㐵〳戸挸㘷㌶㠰换㠷摡㐹攰㥡つ愸㔱㍦㐹㘹㐰㌷慤㜰㠱㌰搹㠰㙢㤰㜱㙢挰晡㙣つ㌸挱ㄲ㘴扣㈴㤳㑢㜸搲㠰㌳㔰〹搲㘶〳慥戳戹㘷戲㙡㡢敢扢ㅥ㕣攴昱ぢて愰㘸〰㤷挰捣〶㜰㜱㑤㍢〷㕣戳ㄷ㤴愹慥㤴〶㥣㑢㉢㕣㍥㑢㌶㠰㙢㔶㙥つ㔸㤹慤〱㔱㑢㤰昱㈲㑢㉥㜰㐹〳㉥㐲㈵㐸㥢つ㤰㤵㉢扡㝡㌱慢㐶㐲㄰攰㕡ㄵ昲㜸㑤㈱㈸ㅡ挰〵㈲戳〱㕣㝡搲㉥〵搷㙣㐰㠵㙡㑢㘹挰攵戴挲挵愵㘴〳㥥㐰挶慤〱攱㙣つ〸㔹㠲㡣㤷㑤㜲昹㐷ㅡ㜰㌵㉡㐱摡㙣㠰慣敢搰搵㡤慣摡㙥〰㔷㜲㤰挷戲㉣㈸ㅡ挰攵ㄳ戳〱㕣㤸搱㝥〱慥㜹〹搵慡㘳㔳ㅡ㜰ㅤ慤㜰改㈵搹〰慥㜷戸㌵㘰㜱戶〶㉣戲〴ㄹ㉦㠴攴攲㠸㌴攰㐶㔴㠲戴晣昷扤捡ㄴ㍥㑡㤶㍦㤰搰㙦㠲㤸ㅦ㤹㠳㜰挱㠳㜹晤㘶㔰戴㠴ぢㄴ㌲摣捣㐳㌵挹攱收㔶〸搵㝢㄰戹㜹㍡㍢㥢愷戳㉣㐱挶㕢ㄸ戹ㄴ㈰㥥摥〵扢㐸㥢愱晥挸收摥捤摡挰㤵㙢㠵㑦昵挸㝢昴㝢㐰攱攰攷挸㥢愱收㐳扡㜶ㅦ戸〸㜵挳㘸㥣㌵㥥㠶晡散戸㝡昵晢㘹㠵㡦攱㌶㑢敤㐰挶慤〱㔳戲㌵愰捥ㄲ㘴扣ㄱ㤱て捡搲㠰㠷㔱〹搲㘶〳攸愷㜰ㅦ戱ㄲ搲〰㍥昳攲〷㉦㈸〷㐵〳昸愰㘹㌶㠰㡦戰摡㈶ㄲ㘹㐰戹㥡㤸搲㠰㈷㈰㔱㝣㐸㑤㌶㠰㑦㠶㙥つ愸捡搶㠰㑡㑢㤰昱搶㐲㍥㐶㡡慢㥢㤱㐸㌶㐰㥥て改敡㌳㤶㔸ㅡ挰㈷㐲晣攰摣㍡㈸ㅡ挰挷㌰戳〱㝣挰搳㥥㈳㤱〶㤴愹㠳㔳ㅡ昰〲㈴㡡㡦㜰挹〶㡣㐴挶慤〱攳戲㌵㘰慣㈵㐸㝦戳愰㡦捦㕣昸昱攸晦〰搵㕦㈲㜹ㄹ挴敢攳㘳ㄷ㝥昰㠶㜳㔰㑣慡昹挰㌵㉥晢㐴搸㝣㈵㑡捦㕦㍡攲㉢捦昲㈳㍣㙥㌷㈰㘲晥愱㈱㑥㠷攵搵㜲敤㜲㔶㙤㈰摥㡥ㄲ挳摦ㅡ㥡㠹㤷晤攰㥤㈸昸㠳㜶搶㌱㉤扣〴㠸慦㘱戰摦扦愱㑢㡥㠵戵㐸㜳っ㉦攴㈸㠸㌴挵昱㑡愱㜰㈱晥㜰㐷〲㝦晢愹昳㠷㜰㙣ㄴ愷〷昳〸㌲㉥〲扥㝡㉥挷昵攰ㅥ㑦攴愵扦慦挳昱摥愴㥥㜸搸㉦搰捡攱㑢㔵㜶敤搰愸昶㉡昰攲㠳㈸晥っ㘲㍣昵敦㌹攴愸㔱戸ㅡ㘴㐹攸㠳昲扤攴挱㡤㘳㠴晥㍡㑡㘸㙦㠰昰㑦㕣㈸㘹つ㡥㘰敢㕢挰㌱摦㜰戱㡥敤换攳㔳㕦㙦㡦㥤散〵〵ㅤ㉤〱晥㈵捥挲㡥㤶㜶愳㜳㔹愲㌵昹搷㌷㜱ㄴㄸ㝦摤㐴㝦ㄳ㐶㔸㠳㜴っ㍥攲攱挷愳扦〵慡扦㑤昲づ㠸搷挷愷㍣晣攰戵㥥愰攸㌱㝣扥攳㜵愸戳㜱㌹㙡㤸㙢㌳摥愳〲㥢搱搳㠴て挸愲昷㐲㍣昹㝣㙣㑡㐷㠸攷㐱㜹攰〴慦户㑡昹扢㍦〳〶㄰戶昹ㅢ敥㍦晣㍦ㄵ挷搶㈹㍥㐳㌱〲晡㐷㈰挹ㄶ昰愱〷㍦ㅥ晤㘳㡡㍥㈱昹ㄴ挴敢攳㜳て㝥㍣晡扦㐰搱〲㍥昱㌸㕡㔰攴摡㠲捦愱㤴搶㠲㉦挹敡㘹㠱攲㤳㤰戸昱㌵ㄲ㐹㌷㥡㤰挱て㕥㄰〹慡㝦㐳戲ㅤ挴敢攳搳ぢ㝥戰㙣〹ち㌷昸摣㐲㌷戴晦㠰㘴扢㑡㜲㕣㥤晢㡥挵㜸捦㑢扤㑡昸㐷ㄸ㥤づ㌶㐳㑤ㅣ捣㠵㈰改㈰ㅦ㑤昰㠳㠳改㔴捦㈷搱㐰扣㍥㍥㥤㠸愰〰㔹㌸挸攷ㄲ㐷㥣扥晡挶敤㠲昵戲㝣て搲戰愳て㈴换ㄱ愷㘳㘰㐷摣ㄸ〴㐱搲つ㍥㘰㐸㙤挵㔴昷㤱っ〶昱慡㈰戸㜲搷晥ㄸㄵ昲慥㍤ㄸ捥ㄶ㘲㘵㠶捦ㅤ㈲昸挸ㄲ昰搸㔳㈱㝥㠹㉢㙣ぢ㍥戴〴㜲ㄴ㙡㈸慣昹っ㠸昰攳㈹捡㔳ㄱ㝣㑢扣昷㠰㈰㕢扣摦戳ㅢ㠹㉥搹搳㉢㠷搱扢戳㘰愶攷㜲ㅥ㑥㤶愳㤱㝣㠸攱㈵敤昹㙣㐰㥤㘷摢慦敡㝣㝣晡㘰㕥ㅦ㐱捤㝤㐸昶〵昱晡愲戶㘰㍦㘴ㄱ㘶㍥㝡㌸挲晣㠶敤㐱捡戸㌰㤲攵㝢挲捣㌱㘱㌴㔹づて昸㐸㈲㘱㍥〰㠲㘴㤸搷搹戵ㅤ㐸昵㌱㈴㘳㐱扣扥ㄳ㙣挱㌸㘴攱〶ㅦ㈰ㅣ㙥晣挵搵㡤ㅦ戳㝣慡ㅢ〷㤳攵㜰愳摢㜶愳っ㠲愴ㅢ㘷搸戵㤵㔳扤㠲挴て攲昵昱㘱〰㍦㌸㕦㠳㉣摣攰㘳㠰挳㡤㍦扡扡㔱挳昲愹㙥ㅣ㐲㤶挳つ㍥ㅥ㐸㌴㈶㐱㤰㜴㠳昳㜹愹㙤㌲搵て㈵㌹っ挴敢攳㤴㕥〴㠷㈳ぢ㌷㌸㤹㜷戸昱愰慢ㅢ昵㉣摦攳〶散攸㔳挹㜲戸挱㐹扥戸㌱つ㠲愴ㅢ㥣㤵㑢㙤搳愹摥㐴㌲〳挴敢摢㘸ぢ㡥㐰ㄶ㙥㕣㠳扣挳㡤㍢㕤摤㤸捤昲愹㙥捣㈱换攱挶㜵戰㈳㙥捣㠵㈰改〶攷搶昸挱㘶㈵搵攷㤳㉣〰昱晡㌸慢愶〰扤㠶㔳㘹㝡愰㉤㠴㈴㕢慦戹挱搵慦挵㈸愱ㅤ〵㤲㍡㑡ㅤつ㡥搳㌷捥挷搹㜳散攱摤挷㠹㌴㝥昰挷㍣愹㜹㉣挹㜱㈰㕥ㅦ攷搲㈲㘸㐱ㄶ搱攱㉣㕡愲挳ㄱ㌴㐷㙤㜴昵㈲挸昲ㅣ㉢捤扥㑢㤰挲㘴㌹愲㜳㍦㡡㑢㜴㈲㄰㈴愳昳㌰戸昸昱攸换愸摥㑡搲〶攲昵㜱㐶㉣㠲攵挸挲つ捥㠵ㅤ㙥㕣攲敡㐶〷换愷扡ㄱ㈵换攱〶攷挸攲挶昱㄰㈴摤攰愴㔶㙡㡢㔱㍤㑥㤲〰昱晡㌸慦ㄵ㐱ㄷ戲㜰㠳㌳㕡㠷ㅢ㘷扢扡戱㠶攵㔳摤㔸㐷㤶挳つ捥㜴挵㡤昵㄰搸㙥㈸㑥㑤㘵昰㍤ㄵ㜶㌹㉡㑦㐲㘸ち㜳㌴挵改慡〸㑥戱〴㤳㐵愰ㄴ愷戰㈲昸㠹㈵㌸㡣挱散㠶搱㝣㑥㘷搳㝦㤷挶㌱〹㜳晣㔶㑢㈱换㜴昰戵戹㥣㡦㜹㍢愶㜶㜶㤹㝦㍦㑥敢攰晢㈴㍢〷㕢扡攳㤳㍡扢㈵㌹㐹摤㐱㐹㤶㤴搹换㝣㌷ㅣ晦ㅡㅦ㔵挶昷ㄸㅤ㥡㉥ㄱ㝤㌸㡢ㅦ㡦㘷㘴昶㤹户敤㈰㤷㤹ぢ㔵㥦ㄵ昱愲㐹戶敦㈷㔶愰㔵㑦㡡㜱㔷昹㥣つ昶㜹戲捡㐷愰㕤晣攵㥦㔳攰㠰摡㠲捡攴㌱敡㔴收㔸㍦晥ㄷ㜳㤲挸〴㌷㤴㍣㡡㤳㐳挱㜴㝤摡㔵挰〹愳〸㑥㐸扢ち摥戱〵敢㥣㔷挱㤹慣㠲ㄳ㑡㕥〹晡㔹挹昶㈷㔳搲㝥昵ㅥ愴㡣㠱㝥㌶昵㌹㠳ㄴ〷捦㜱㍡挸㌹㘰㡦㠳㥣晢㠹ㅦ㕤㘹づ㜲㍥㈸㠲㐴㥡㠳㥣㈳㡡㈰敥㜴昰愷慣㠲昳㐵㜱昰晣愴㠳挹㤴改㈰㘷㠹攲攰〵搴攷〴㔱ㅣ扣搰改㈰㘷㠷㍤づ㜲㔶㈸搵㜵愶㌹挸㤹愲〸㍡搲ㅣ摣㙥ぢ摡㥤づ晥㡣㔵㜰㈶㈹づ㕥㥡㜴㌰㤹㌲ㅤ晣づㅡ攲攰㘵搴攷〴㔱ㅣ扣摣㑡㌰㔳捣搹㘱㡦㠳㥣ㄵ㡡ㅦ换搲ㅣ攴㑣㔱〴㤱㌴〷㌹㝢ㄴ㠱攱㜴昰㑡㕡㉤〰ㄱ〷慦㐲㐲㍣搲㤳㈹搳㐱㉦〴攲攰搵搴攷搴㔱ㅣ摣㘸㈵挴㐱捥ㅢ㝢ㅣ㉣㐶㑥慡㕢㥡收㈰攷㤰㈲㘸㐹㜳㤰昳㑡ㄱㅣ攷㜴昰㤷攰ㄶて〵ㄹ㠴㈰ㄴ㍣㥦愳昰㘷戰挶攵晥㍢昷搸㥣戲晣㙤㥥㔵㜰敦㈸㙣ㄹて㔷㜹ㅥ㌵っ㕡攲攴㜵㐸㈸㑥晤挴挹㕦㈱挱㔶㐸㑢㐶㈰㈳㤵ㅣ㥤收搶㍥戶攰愸㌴户㌸ㅤ㤴ㄲ㡢㥤㙥摤〰慥攲搴㔰攲㜶㈳ㄲ㘲㕥㑦愶㈴慢㌸㈱ㄴ㤷㙥愲㍥攷㠲攲搲捤㔶㐲攲挶㠹㘰㑦摣づ㐴㑥慡㥢㤷收攰ㄸ㕢㌰㌷捤挱戱戶攰㐸愷㠳户搱敡㌸㄰㜱昰㜶㈴㑣〷㤳㈹搳㐱㑥ㄵ挵挱㍢愸㝦㌰〹㐲愵摦㘹㈵挴挱㌲㉢㘳づ㉥㥣ㅡ㡡㠳㌳搳ㅣ攴㜴㔱〴㐷愴㌹挸㈹愴〸㘶㌸ㅤ扣㤷㔶㉢㐱挴挱晢㤰㌰ㅤ㑣愶㑣〷㙢㈰㄰〷㝦㐷㝤捥ㅦ挵挱晢慤㠴㌸㌸挹捡㤸づ㑥㐶㑥慡㥢㥡收㈰㈷㤲㈲㘸㐸㜳㤰㤳㑢ㄱ搴㍢ㅤ㝣㤰㔶て〷ㄱ〷ㅦ㐲挲㜴㌰㤹㌲ㅤ攴昴㔲ㅣ㝣㤸晡㥣㔹㡡㠳㡦㔸〹㜱㜰㥡㤵㌱ㅤ㥣㡥㥣㔴㜷㘸㥡㠳㑤戶㘰㜲㥡㠳㌳㙣挱㈴愷㠳㡦搳㉡愷愰攲攰ㄳ㐸㤸づ㈶㔳愶㠳㥣㜸㡡㠳㑦㔲㥦㜳㑥㜱昰㈹㉢㈱づ㜲挲挹㠴改㈰㈷㥡攲㘰㜵㥡㠳㥣㝣㡡愰㉡捤挱〵戶愰搲改攰㘶㕡㕤っ㈲搵㍦挳摣搱㈴扣挲㥥戵ㄲ捣愸㈵挸㠸摤戲戴ち㡦戵〵愵㘹ㄵㅥ㘷ぢづ㜶㔶昸〲㡤戶㠰㐸㐴㕥㐴挲㡣㐸㌲㘵㐶㠴㤳㑤㜱改㉦搴攷㍣㔳㕣晡慢㤵㘰愶㌸㘲㘵捣㠸㉣㐳㑥ㅣㅣ㤷收㘰慢㉤ㄸ㥢收㘰㥢㉤ㄸ攳㜴昰㈵㕡㕤づ㈲づ扥㡣㠴改㘰㌲㘵㍡挸㘹愸㌸昸ち昵愳㈴㡣搹慢㔶㐲ㅣ㍣摥捡㤸づ挶㤰ㄳ〷㐷愵㌹ㄸ户〵㈳搳ㅣ攴昴㔴㑡晣挸改攰ㄶ㕡敤〲ㄱ〷户㈲㘱㍡㤸㑣㤹づ慥㠱㐰ㅣ㝣㤳晡敢㐸攸攰㕢㔶㐲ㅣ㕣㙦㘵挴挱㘲捥㈸ㄷ㐱㈷㘷㡤ち㉤つ㉦㕤晡㜵㜱㕥挹昰扣挵㠷て摣戰攵改㌷㉦晡换㤲挹摢㜶㕣㜹攵㕦摥扥㘸昳㡥〷㠲㤳㥦晣挵㉦㌶捤搸戸昹捤摤㈲搷攴摣昳昵捣㙢搶㤷慤㔸㝦㝣㘴挱戸㘹敢㡦㕡㝥㘴搹㥣挱攳㜳㜳ぢちづㅣ昲搴戰㌱扥敥攳敦㔳㡦扣戴㘷㘷晥㑦㔰㐱ㅦ愶㜴㜴㙤ㄷ攷㕦㙦戳㐱㌲〹㘳㕢㜳ㄹ〹敢攳㍢ㄵ㈲摣挳戱晣㠶㐴㔱㙥昱㤹昸敡捦搶慡戳㔰〱㕢慣㙦〳㔱㘷㤳戰㝡攷〱㐷摦㌹攰㡡㔳敦㈱〱愷㌸㕢敡㔷愷捥㐷〵攲搴晢㐸㈸㤹㙣搱愹㤴㐸㕤〸㤱㌸昵㈱ㄲ㜰敡㘷昸敡㔷愷㌸搵ㄲ愷㍥㐲㐲挹〴㉢㈳㔲㤷㐳㈴㑥㝤㠲〴㥣扡ㄲ㕦晤敡ㄴ愷㔷攲搴愷㐸愸慢㐹㌲㈲戵ㄱ㕣㜱敡㝦㤰㠰㔳㥣〹昵慢㔳㌲㙤愲ㅢ㥦㔹晥昰㘱挲挷改㤳戸昱㌹ㄲ晡ㄷ㈰㐵㌹挵㌷攰慢㕦㝤戹ㄱㄵ㐸㠰扥㐴㐲挹散㈹㈳㐰㥣㐵㠹㘷㕦㈳㠱〰㜱捡搳慦㑥㜱敥㈴㑥晤ㅢ〹㜵〷㐹㠶㔳㜷㠲㉢㑥㙤㐷〲㑥㜱㥡搳慦㑥摤㠷ち挴愹ㅤ㐸㈸㤹㈵㘵㌸㜵㍦㐴攲搴户㐸挰㈹㑥㙤晡搵㈹捥㤱挴愹敦㤰㔰㌲㌳捡㜰敡ㄱ㠸挴㈹㠵㔳㠶㜰㡡搳㤹㝥㜵㡡昳㈲㜱㉡〷ㄵ㉡㤹つ㘵㌸挵㔹㤱㌸㤵㘷㍡挵㈹㑣扦㍡㈵戳㈲扡㘱敦㥡㈳㡤㐳晡戶ㅢ㥡改〶㈷㌶晤敡〶㘷㐸ㄲ㥢〲挶㐶收㐵㜴㉡攵㝥挲昹㤱挴㐶㌷㥤攲㘴愶㕦㥤攲慣㐸㥣昲搲㈹㤹ぢ㘵㌸挵㌹㤱㌸㌵搰㜴㡡ㄳ㤸㝥㜵㙡慢敤㔴ㄱ㥤㤲昹㑦㠶㔳㥣〷㠹㔳挵攲㤴㤲㤹〳戵㥣户㐲挵戹㠲捣挰㍥昹户戹㔸㌷〵㉡㠵㜸ㄵ戰摣搳㌳搴㜹ㄷㄷ昵㡦搳搴攵㙥㥢愱捥晢慢愸㝦㤴愶㉥昷㐱慡㍢挱㔵扣昳㠹晡〷㘹敡㜲㠷捡戰捥㝢㤲愸扦㤷慡敥攳扤㐳㥡㍥捣㙣㍡敦ㅡ愲戸㉤㔵㔱昱㑥㈲㠲㝦㕡〲ㅦ㉢搹㥢㐱㤵㌱㍦愳㑡㡥昲㔲攰慤㌴㑢㌲ㅡ㘷愸㜳晣ㄵ昵㌷搳搴㘵㥣捣㔰攷挸㈸敡㕢搳搴㘵〴换㔰攷㤸㈵敡㕢搲搴㘵㙣挹㔰攷㘸㈲敡㙦愴愹戳㝦㡢攰昵㌴㠱昴㐳摡㐹㐱㠹㍤㑦搴㕦㑤㔳㤷ㅥ㤲愱捥㍥㈱敡慦愴愹换戵㥢愱捥慢㔵搴㕦㑥㔵捦㈷㤶扤晣ㄹ愳㥥敤昸晦㉦ㄶ㠲て㐴㌴㜸攳挷㈹㘲㍢㈵㔹挵㡢㔷㥥㡡挶㤰㑦愱㡣㕥㘳㤹ㄳㄶ㈳㍥づ㌹㝥昸ㅢ〵㑡㐴㐸攸攳㉤㉥㈵㍥㕢挵㘷㜳〷晣㉦昷㘷㈸捥","㜸〱攵㕢つ㜰㕣搵㜵摥扢㍦㑦㝢㔷㝦敢㍦挰㘰㘰〹㌶ㄸ㐴ㄴ换㤲㙤ㄹ㘲㙣㔹㍦戶㡣戰㠴㈴㥢㝦挴搳敥㕢㙢昱敥㍥㝢昷挹㤶〸〹㈴㌱㘹愶㈱愴㘵ち㠹ㄹ㈸㝦㈱㉤敤戴㤰愴㈵㙤㐳ㄸ㕡〸㈴㠴㜴搲㤴㘴㥡戴愵㐰㑤搳㌶㘹挶〹㘹㑢愷㈱昴晢捥㝢㙦戵扢㕡挹㐶㌱㌳㥥改戳摦搹㜳捦晤㜹昷㥥㜳敥戹攷㥥㝢ㄵ㔰㠱㐰攰ㅤ㍣晣攵ㄳ㈶戲㘲㘴扡攸㔸戹搶㙥㍢㥢戵㤲㑥挶捥ㄷ㕢扢ち〵㜳㝡㈰㔳㜴㐲㈸㘰㡣㘵㤰㕦㡣㡣ㄵ㌳㌷㕢搱戱〳㔶愱㠸㐲㤱㐰㈰ㅡ搵㐱攴戳っ摦戸㥦搰㑣改㌰〱㑡〵ㅡっ㠰搱敥慤㠳攳㌷愱晤ㄱ挷㉥㔸ㄷ㈵㜶扢慤㙣㙡㙢㙢㙤㙢敤搸搰戶扥㜵捤㐵㠹敥挹慣㌳㔹戰㌶攵慤㐹愷㘰㘶㉦㑡っ㑤㡥㘷㌳挹换慣改㔱㝢慦㤵摦㘴㡤慦㘹ㅦ㌷㍢㍡摢㍡搶慤㑢㙦摣搸搹㔰㠷㤶㜷㜶㙦ㅤ㉡㔸改攲㠹㙡㌳捡㌶〷扢户戶敥戴㥣ㄳ搵愶㐶㥢㘸戲挷捥㤹㤹晣〹㙡㌴㐲㉥户昷㔸挹っ挵㘱㔹㠵㑣㝥㑦㉢扡㕤挱㘸愴㌶戴昶㠱攳㐹戳攸㜴㕢搹散戰㤵㈶搳ㅡ㜲攴㤹㔵戰昲㐹慢搸㤴敢㥤㑡㕡㔹㉦扢ㄸ捤敤㌶ぢ㍢捤㥣ㄵ㈶搲㥣㜳攵搶㥦戲昲㑥挶㤹㙥捣敤㉡㕡挳㘶㝥㡦挵㈲㤱摣戶挹㑣㉡ㅣ㔶攱㜰㈰㜴㝥慤捥㠸㙣㕡晢ち挹敥〹戳攰㐸㡡ㅤ㘸慢㔵戶㑣㐳愴攳ㄵ摤愲ㄶ㈵慡㙡㔱㑣㈳㤹摣㘵㔶㈱㙦㘵昹ㄱち慦愵慡㤰昰挴㘵㝤㠹㌹晥㘸㈸ㄸ㔵敦捤〰づ㠵㕦搱㌱㠲㝡〰愳〱㈰搸搳慥ㅢ㐹㘹〲㔰攱㥦㘱〲㤵搷㘰戹攰㤸ㄹㅣㅢて㡥㈵㠳㘳愹攰㤸ㄵㅣ㑢〷挷昶〴挷㈶㠲㘳㤹攰搸㑤挱戱扤㈸攳㍦搱扡扡愰昷慣㕡昴愹㑦敢敥敦敥昸摣挴敤摦扥㉤㔴扦㑢㜱捥挸攴㠹〳搱㡢〰㡣挵〰慤扢捤慣㕤㐸愴慣㙣㘲愸㘰㑦㘳ㄶ搹㠹㤴㤹戲ㄳ晢㈷慤㐴㈶㥦㐹㘶昸㈳ㄳ昳搹㉦攷ㄳ㝡〹㙢㉦〵㔰敡挷攸㉤㝢扣㈸扣㜲㙦捦摦㜶敥㝣散㝢慦㍥ㅡ㙥扤戶㕦㜱㘶捡愷㑥㘱攱㔳〱㡣搳〰㠲㍤ㅤ㝡㌹㈹愷〳㈸昵㠶㔷晤㌳㔳㐳㙦摦昳㘴㝡摢愱〷て摤㜹㝢㥢昹挳㠶ㄵ挸扥挲攳㕢㑦挱㍣〸攵㥢搱敢戵慤㙢昸敦搸ㄳㅡ昳㌹扤㉥扤㈱摤搶㤶㕡户挶㙣㌷㈳攴晣昱慡ㄱ〷搸㤰扥㌲㤳㑦搹〷㐵慦ㅡ搲㝤㤹慣㘳ㄵ㈴搱㥣挶㡦㍢㌷㈴摤㤸敥㥤㠲㔱㐹扡㉡戸㌴摤㙤ㄵㅣ㑣㐶㘷㝡㐶㉦㔷㙣㌵㡢搶㑣戲挵㙢㝢慢㍤㤹㑦ㄵ捦愸㥤㌹攲㤸㡥㜵㝡㜵摥㑣㈳戳慡㡤㘰愲㕡㐵改搲㔹搵搵㈰收㐹慢㙢㉡攳㘶㥦㔹㤵㡤㈹㙢㡦捦㥤摢㔷戰昶㤷㜲㘷昵愸ぢ㤶晤㠰戴㍤㙢㤴㙥㤶摢慦㐴昷㠴㕤戴昲搲扤㤶摣㔰㈶戹搷㉡㡣㔸㕣ㄷ慣㤴っ㜵ㄹ戳㍣扢搱㌲㤸挷㐰㘱〹㔲敦㉢愷㤲搱㔶㍥㘵愵搰摦㝤攰昲昴愸㌹㥥戵㑥愹㈸攲㝥ㄳㄹ换㉢挸㝤㜶㜲戲搸㙤攷㥤㠲㥤慤捣改㑡ㅤ㌰㘱慢㔲㤷摢㈹㉢㉣㑦挰㠵㉡㄰ち㈹ㄵ㔸㕤㙢搲戳敤㈲捤㐲㤹㤲搰昸捣㕦戸㑣㠹㔸戸愶㌹㈹戵っ愴㑣挹㔸晥㠲㜹㝢㔲慥㠴㉣扤㘶摥搲㌵㤴㤴㤵㑥慢㥣㜸慤挳㤰て攴㤰戵㌸㉢㠳㉢攷㙥㜲㐶㉦㡦搱搳㌲愹搰つ㘰改㜹㤸㈶捤㤶㜴敦扤㉤ㅣっ㉥昱㐶摦㝢〰㉢搲㜶㌳㥦捡㕡㠵㜹㥤ㄸ挵ㅥ改㌳〹捥㈲㌸㥢㈰㐱㜰づ㐰攴ㄵ搸戸㌹㌹㑡㡢慣愶搴㜴攴㘰㈶攵㑣ㄸㄳ㔶㘶捦㠴〳ㅡ㥣㥦㘸㤴散扥〳㍥㤴㠹摦慦挰㤸ㅥ愱㍦愵捦㈵㔸㐹戰ち㈰ㄶぢㄸ攷攱㌷㘰挴昴昹晣㔹つ戰㙣㌷扡㙥收㑤㤸昴挴扥㠲㜵〰㑢㌸っ㜷㑣㐵戸㤸扣晢愵㤱㡥㤷㤶㤵ㄸ慥㔲㌱㤲挳㠲㕦っ㠵㙡昱㘴扢㔹㥣㜰㌸ㅤ攷捤㤴㐵昰〲㌶㝡㈱㐰㐳ぢ挰捥敤㔶ㄶ㤳昹㐴㜹㔹ㄱ㉥愸挷㕣捤戹昶㥤㤲ㅢ㤹捥㈷㈷ち㜶ㅥ摥㘷㡦改㤸㕤㐹戸㉣㐵㘵ㅡ戹〱扢㝢搲㌱㜲摢㌳昸㘹挸つ㕢晢㉣搳改㠶戱㜶ㅡ㜳〳㜰㜷挴㥡昶愷愶㈲㌹搷㔳改戱㡡㐹㑤㤷愶ㅦ挶㘹捡〰〶㙢摢㤰愳戹戱愶ㅣ㌶㕤㤷ㅢ㌲攱ㄲ㌹ㅡ㠵㕡愴㤶㡢戱㘶愳搰晣摡㌱㉦㠵ㄶ攲㠲㤶戵㔲㉦〴户愵〰昵〷敢㈸搶摡戰〷慢攷搱㉥㈷㤳㉤戶㝡散㙤敤戱攱昲㕡攲㝦㤳敤㠶〱㌵㌳收ㄵ㔶昵㜴愷㑦㌴㤸ㅣ㜷㥢㐵㔷戶ㄵ散挹㝤昴㡢㑥㔸㍢ㅣ㤲扥〸攰㠱㥦晤挱㈵慢敥㝦晣ㅤ敦昷㔶㑣㈴㜹㌴摤㈶㑤慤㘷ㄲ㍦昲攸て攰㈷㌶㕦㕥㠴ㅥ㔶㑤㝢㍢㠷晢㈶摢㡢ㅣ㐶㍢㕡戰挴ㅦ㡤㑡㘲㝡㥦搵㤸扢搲㉥散ㅤ户敤扤ㄴ㝥㤳愴㡡ㄳ㤶攵搰挹慢昷㝣㕡攲㑡愹㔰愸挲㥦㉢昳〶改ㅥㅡ敤〰昱㔱㍢㘵ㄷㄳ㔹扥㤹昱㠲㕤㌴㍡㐰つ㘱㘹㌱搶〱改敡㑡っ昷㜶つ㈴〶㠷㐶晢〷㜷㈶㉥ㅦ散改ㅤ㐸昴つづ㈷㐶户昷㈶㜶㜷つ散敡ㄲ晡㘰㕦愲㝦攷捥挱摤㙥㙡㘸㜸㜰㐷㙦昷攸㐸敢㔴戶㤸㔳㉦㠲㔳㜴搴敥㙤摡㝣昱㙤㝢㍥㝢搹摤㘷扥昰㑡㜲昵慡㘵敡㥢㕥挶㉣㘷㤱㍥愲㜸慡㥤㐰昴㐶㠲㡢〹㉥㈱昸㈰㠰㝡ㄶ㔵㘹摤㥥㐷攲㐳㜸㉦挴挴㍥㈴㑥摦愵㉣戳㤹㘰ぢ〰㙣㤴㐸ぢ㈶㙡㉢㤲㐶㌷㐰㌸搱㝢㤳ㄵ㔳㡡㑥㈸慤㤲敥㈱攸〵㔰㜴㉦㌹㝦〳扡て㘰㑥㈵攰散㥤慤〴晤愰挶昴㍣㜹㡡㝥ㅤㄵ㐱㤳昱㥡㝣搶攴戱㝡挲㘳挴㉣づ㍤敥㘵捣昲㜱改摡ち㠷㠶搹挸〸挱㈸挱㉥㠲摤〰敡㌱㡦㐳挰㉢ㅦ㝤ㄵ搲晡㙡㠲㙢〰捡㌸㜴ㅤ㤲挶昵〰愷扡㙢㜹㤲愶㍢㘱㑥㍡㜶敥搹㠷㥣㑣搲〴搳攸㑥ぢ搳㙥〰愲挷〰ㄴ㥤㙡㤷㘹㌷〲㥢㤳㘹昴挱㘷㌳㉤〹㙡㑣捦㤳愷攸慥搷㘲摡㍤㜳㌱敤㙥㉦愳摡戳㡦㜰㥤慣戶㔱戲㠵㉡昹㍣㘵摥ㄴ㍦㘹愴㜷攵㌳㑥戱㍥摤〵ㅥ昴㘵㥣㥥愲搳㤰〶〰㉡㔵㑥ㄷ昷愰慣㔲㑢㝡㜷挶㍡㌸㡡㔹㝡昶散㉣散㉥扢㈷㡢㘰㈶攷敤㔹戳昳㝢散㥤戶搳㤳㈹敥换㥡搳㉢㙢㘴扢㌹㔷㑥㔸㜹昸慢〵戸慤挷㉡㘴敦摢㘷愵㙡昴㜱挴㥥㉣㈴慤晥㥥㤳挱攳㔵敥㍡ㄲ㠰愹挲㉡愲㔶捤敤攱㤵昱㥤㕥㑦㄰收㑤㉤搰㘱愲晤㠶㕢㐱ㄸ挰㐷㘳㌱㥤〷㠶㤹㄰愱ㄷ㌵扦㡡㤴昹搰㥣〷戱㌴挴敡搲ㅡ扤㑤㕡㝦扥㤸㐹㔹㌱㉦㜵㜹㈶摦攴愱㠳㤳㑥㐵㡥㌹戵挴换改捡㘶〷昳㄰㝤搲㉣愴㑥〶愹㘰㘰㜸㕣㤱㈸〳晦ㄶ挶㘸㌰户昲㜹㙢㌳㈶扢つㅡ㜹㑤㘷戵收㤲㔸㥡㡥㐰捡戶㈰捤㈸摦㐸㜶㤷挸㔱愶㉥户捣扣㐸㘱挴㐹昵㔸〷㥡愴㠴〵〵㐷㔰㈷㙢㉤愹㑣㡡㘷愴搳㕤攳㐵㍢㍢改㔸㑤㈵㑣㈶扡㑥て㕢㔹㤳摢挹㠶ㄲ㌶㤴㜴戰攱㉥戵挷慤攲挹㈳㈱㜰㈴散㐹㐹㠹㥣㡣㜹㤴户㜲㄰㥣㐳ぢ㤷㙡㕡㥥㥦㙥㔶昷ㅥ收昳搸收㠰㡦挴昸〴㈲〹㌴㝦晣晢㐵捥愴㈵㝥ㄸ挳戵㜰㘲扣ㅡ㝣ㅡ户㙡㡤㘹戱㝢㠸挷㌰㥥搷捣愹㤳㐵戰㤵ぢ㔳㌶㍢摤㤴敥捦㈷戳㤳㈹㙢挰ㅣ户戲扥捤戶ぢ戹㤳㐴㕥ㄲ㤱㜶㘵㌵て㕦扣㑤㜴㍦挲搲晥敥㜴挱㘶㑥改㝤㘰慢戱ㅦ㈰戴愹慦ㅤ㜳㌱愶ぢ㐸㔰㍣攷攰昷㕤㙦搰改㜰㉣㥥〹㉦㐹愸ㄴ收㙤ㄶ㠹㜶㡤摢㤴搲ㅥ㕦㘶㕤㔹戱〱㝢挰㐶晣㈵㔵㐶摡㥥㜱㐹㈷捤摣ㄲ㔱ㄹ㠶戱搰㐵〶扣挲㜳㤴㥥㈸㝦㙦晤挵挶挳㑦敦㌸敤敦㌷㉢昰㥦ㄲ㌸ㄷ搴敡つ㑥㤹㌳㈲敢扦ㄸ㐲㍡挳捤戴㘲慥昳㌰㥡㜱戲㔶㝤㕡昲〵㡦㜲㕡㤰㥢㜵改搱〹㙣ㄶ㝡ㅡ搳摢ち㤹㔴㌶㤳户攸㠸㈰ㅥ挸昰昴㠰戵〷㤱慢㈱扢㤸攱㌹㐸㘳㝡戴㘰收㡢晢戸㈷㑣㑥㉦慥㐸㠹戰㈲改慤㤹㍣㈶㤱晢㑤攲捤改㤱〹晢㈰㡥㔲㈶㜳昹㙤收扥攲㐹㈱愸㤹昵挵㥤㔹㐱ㄵっ慡㘸㌰扡搰昵捡㈸㠲搹搱敤昶㑤㘶摢㌹㍤㜰搲搱晥㕡㔰㠲〴㥥摣ㄸ晥㤸㘷〲㔳㘴㕥㄰㤱ㄳ㤸ㅤ慣㌸㤱愸ㄹ扢㈸ㅤ㑡㐹㌸挷㘱㥤㐹㠰ㅤ摢㜶昵捦㠴㥥㝦慤昳愴〸〳㌶昳慣つ愲㈳愵㌸搷㌲ㄴ㙥㜲昵㠶㌴慡㤱ㄶ昱㌳㔵慤㡢戱戴㤴愱㕡㘲㌹㘵㜱愲㝤㠸㍤㌴挰ち挰ㄶ㈳㘶〳㈳摣攴㈶攸摦攵捣㙣搱换敢戶㜳㌹㤳㝡㐶ㅤㅤ㠱㈱户愲攲㙣挳慣攸㌴㠰㈸愳㐷㌲愷㐰㌲愷㠴㠴昵㤹戱㙢挱搹㤶扤挷㉣㘴㥣㠹㕣㈶ㄹ㘵㠲昱攵㤳㐲㐱愱㐲ㄲ㈷〱㐳昹㠸㤶挲㜳慤㡥て戹㈱つ㠸扢ㄵ㥢〹戲㡥攲㠷ㅡ〷㘵㔱㔷ぢっっ㐲㝤㘵挳愵て愲戵〸㐳㘹㔸㑢〰昱ㅣ昵㑦㑡㡦摥ち㡡㔸㈴挵ㄸㅥ戳昵㤴㠷㌰ㄱ㘶戰㙣摥㈸つ㜵㌶㌶㘰㥢愹㍥ㅣ㐱搸㠵㍡敦晣㌳ち搱搲扥ㄴ攲㡣捣㜵㈳戸㡤愰昹〱㌸挶㠵㈸〹㈳㠸㜹㠵ㄹ搳㌳㕣ㄹ㤲㌷㠱㐸愴㍥㕡敢㕢晤㝥㕢㉢扤〸㐶昹㠹㙥晦慣昶㝦㜲㐵㈷捣㉣㠷㈵ㄱ㠱㘹愰晡㘶〰挵㤸ㅦ挷㔳㔵㠰〱〴㝤ぢ㐰㠴愱㥦敡㔹㌲㘷ㄴ㡢㡤㐷㜲㡣慥㐵㜳ㅣづ晣て〳㌱㌷㐴改挰ㄲ愳㍥摡挲㘶㍦っ昰敤㤷㕥摡㠴㥦㠰㘲㤸挸晦㍥㌷敥戱㤸㑣昸㡦〰搵户戲㐰㈷〰㜷愹㈲戶㠰晥㈸㔰㡡㠴㍢㤴㡦〱挵扡愱ㄸつ攱㉥挵㤷㈴搰㡢敦㔸昳晡㥤搳扤㤷㘲㝤晦戸㔷㡡攱ㄲ晡搷慣㝤㉣㕦㑤㌱慣㤲㘰㔹㝤〸搰戸ㅤ㈰戴愹扦ㅤ㕦㠸改㑦㈰挱捦㌲敡㜲づ摥て㉤晤攳㙤慦摤㝣愸戴慣ㅤ㝡攷㝢㕦扤扦敤つ㝦㔹㔳㤷愲っ㤷㌶㘵晣〶㘰㍢㘴捥愳昱㠴〸㌹戱㝡て㕣敢㝣挲㤹㌰ㅤ〰〶㠸摤摣㑣ㄱ攱攲〳㔶ㄶ㠷㉡㈹昰〷㝤慥戲扡㡡摦愳攵搵㥦㘴摢㕢〰㘸搰㔰搲㔵昰摦〴敥㉡㜸㄰㤵昱摣㜶敤㌳㉥㜲搴搹〲挴㔵㜰㐶㠰㐸搵㥦昲㄰㈶㔴て㠰㉦ㄴㄲ㍣慤戹〳愸晥㌴ぢ㌰㌲㔴愳挰㥤㉣昰ㄹㄶ㘰慣㠸㥡愳㝦ぢ愰㈴散㝥㈴晣㙡攳挰㍤㘱晦㌶ぢ摥〵愰愸〱㘵挲晥ㅤ㈴㐱愵㝦愰敦〶㐶慥㌳戰㈳挲㘶ㄶ㥥戲㘹ぢ搹摣〳ち㑢㌱昲㜳摣挲摥㠵挲〹扣㑡㝦ㄶ搰昸ㅣ〰扣挳づ㡣㍣愶て㈳挱〶ㄹ㐰㍡〷慦晢ㅣ㝤挷晢扤搵晢㠵㌰㕣㠶㕥〵〲㠵捤㔰ㄴㅡ愸ㄶ摡搵挸ㄱ愱摤ぢ㐴㕤〳㔰㈱戴晢㐰㌸戶㔵㘲㔰ち㙤〷昴晤〰晥愳㙥〰收㌳㤷戹㥥搰㝥ㄷ愸㝥〰㐰㡤搵㉥昰㈰ぢ㍣挴〲㌷〲㠸搰ㅥ〶㔲ㄲ㕡ㄲ〹扦摤换㠰㝢㐲㝢〴愸晥㍣㐰㠴㐱㠳攳て㔲挴换㈲㐷㕣㐵㡢㡢搲㔷㑣㥡㔹㕣㌶ㄸ挴昶挵㈱改㘴㔸愶挲敥㈶戲晡㜸扡昲づ〲攲㉦㌲㠴㙢慦㘷挸扤㥡〷㤵㘵扤戱ㄵ㔹㜲㘱㥢捣㔸攴㕡㠴昱㡥敦㉢㔴㠰扡〳㍣昳ㄸㅢ挳改ㄵ㔲㈱扣㌱晤〵㐲愸㌳㠳㍢愲㐲扦〷㈴攸扤㡡㘱〸愱晥㍥㄰晦㠹㜰换㌴㡦㝢㔷戵㍦㘳晤㈵㌳㡢ㄱ摤㡥㤶㉣㉦ㄷ搵㕡挵㉡扤扣挷㔰㔵ㄵ〸昰敡昲㍥㈸㍡㠰㐲晤㐳て攱㜰㈲㕣挴㡦改㌷㠴㔱〸㤱㈷㜸㄰㈳捥㜴ㄶ㕥ㅢ㔱挶ㅢ㕤㡣换㤴㥢㡤㑥摢〵散㐹挳搵攷㠳愵扡㉢搰㔴晤搲慡昳㔸愹挶ㅣ㍡㈸㤱㔱㠸㘸捥晡ㅣ挱㡣㔴㔸㠷㡦昱㐷〰㑢㉦捦㈴㜱搲㘰愷㥤挴〸戶㈱〹㥥搰愷戱㈱敤㡡っ愳挵㥡摦攴挰挲㜹摥换ㄱ㐱挷昶收敤㠳㜹改㑤愴挸㡢ち挲慦扡㍡㝥㠶摢㔴㜹捥〵ㄷ攳㜴㘶㔸㔹㍦づ搰ㄸ㡡搳ㅢ㘰㘱攳〹㠰㔵摤㕢扢㠷挷摡㌶㙣攸㘸㙢敦㔸戳戶摤ㅣ敦ㄸ㕦戳愱㌳戹㜱扤搹搹搹㤶㑣慦㕢摦㥥㕡戳㌶㉥捥〳㡡敢㉦〲挴改㉥挸攷扥挴搴㉤㝥㡡㜹捤ㅦ〶攰昷つ扣㈷昴㠹㝦〴捤㔱て㡣㍦〱㘸敡摥㍡㔶戶搳㌰晥ㄴ戴〶搰㘴㤹ㅤ挶搵〰攳㐹㔰ㄶ㠱㔲㜹挵㈹㑥ㄳ捥㔶㘶㉥〲改㍦㐷㔲㝤ㄴ㠰愶㉤愶晡㈰〱㑥㍤㜷ち㝤㤵㌴㑣愱㡦戱㄰㕥晤ㄴ〰戳昸慡㡦ㄳ攰搵㕦〳昰ㅦ㜵〸ㄸ愷㤱㝥ㅡ㐰㝤㠲㠰愹㡡㌲㥦昴愹捦昸〸㝦戹㡣㔳捤搵㘶㜴㠰捡〵㍣㘰晣ㄵ挰㥣ㅡ愳㌶愱ㄸ戵愶㔲敡㕣攱㐵敡捦〱㠱搴戹㥡戳ㄷ挶搷〱㍣愹㈷㍢㍢㍡搷㡣㙦㘸㑦戵㔹ㅤ收扡つ㘶攷晡捥戵攳㙤ㅢ㍢㌷慣ㅦ㕦㍦㥥㕡ㄳ㤷挵ㅦ挵昵昳〰㜱㉥昷㌲㡥ㄷ㤸㤲㜵摦捦㙢收扡晦摥㐸㥤摥〲㔹㙤㝣ㄳ愰㕡敡㉦㠲㔶㈹昵㙦㠱㔲㐳敡㜷㠱捣㔶㜴㥣㘰ㄱ挱㕦〳㈸扡ㅣ慥搴摢挰挱ㄹ愹㝦〷㜴㑡㥤㙥㠸㡣戹㘲敤愵摢㌱㥢㑡㙦㐲愴晥㕤㘶搳㤳㤸㕤㐶晣〰攴攸㤷扤㙣搱愲晢㤰㄰愹户愰ㄳ㈵愹㝦ㅦ搴戹愵㝥㐱㑤愹晢摤㡣搳て攰攷㡤扦〳㜰挵扤㈱㘹愵捤㜵ㅢ搷㔹㙢㍢捤㡥㡥㜵ㅢ挷摢摢捣戴戹戶㌳搵戱㝥摣㑣慦㌵攳攲㌶愰戸晥〱㐰晣㐱〰ㄹ挰て㤹㝡挸㑦㌱慦㤹ㅥ挳㝢㈳敥㐷搰戲㠸晢ㅦ㠰㔴㡢晢ㅦ㐱慢ㄴ昷㉢愰搴㄰昷攷扤㔶昴㈹㐰攴〲㥣㝥つ㤸晡〲〱㐹慦〳昰㌳㝣攳㕣ㄴ㘵慡晣㌳㄰㝤〴愰㌱ㄸ昷搷㈳㈵换ㄴ㌳摥〰㘰攵㍡扣㜱㉥㑣㔲攷㕦㠰㌴㠶㈲戴慤㤷捣㝤㜴㔳㘶慡㕡戰㠲㔶㕣愱敡挵㤵愸改㈰敡㠷戰ㅢ㡣㠸〱ぢ〷㉦㕥㔸㕢昴㑦搸㍦扥㤱攵㔰㤱㕦愳ㅤㄹ㙢挹愹㘰㡢㘷攳搵晦捡愶㘹敡㙢㐶㑦攷扢收㘹愰搲戲㕣㝦ㄱ收ㄹ户㑤㐶敤慥搲㔵搳㐵扥搹㙥昱㙦扡慣㥡愱昸㐷ㄵ㝥戵挱㐲愹ㅥ㉥㙥挰攷㐱㐶ぢ敦挵㉣㥢㐹㤵㕤搹㌸㘳㠶㡡㜳㈹㐴换慤㤴摦㘲ㄱ㥢㡤㜰㌰愴摥㍦㌷戳㜱ぢ挰昳㜸晣㘶㡡攴挴ㄹ㌵戶攱㕢㌳㡥㌸㌸ㅣ愶搲㑦〰ㅡ晦づ㄰搹戴戲㙦㘵㝢㘴ㄹ㠴昱敥扥㌳㥢晦㘸つ㑥摤㑦〰ㄵ㔷㕥㌶㐹㤲攲〲搶㠴户晡㔴㍤㡥〲㌵敦ㅤ㌴㝢ㄹ戳敥ㅤ㜰戵㤳〹昲㜳㈰愵〹挲㈵㑦㤴晤㑤㝥攴ㄷ〴晦〹㄰㡢晢㉢㥡㤲㠵㡥昴晦〲㠸攰㕤㠲㌷晥っ㠰搴晢㙦㈰㡤㈱昵ㅣ㝥㌸㔱㔴ㄴ摦愷㜶㡡㐲晤て㈹捦〳㔰愹㤴收晡㘴晣㉦〰ㄸ搷扦戲㕤㠵㔱捥ㅦ㘹㑣扦捤㌲㉦〰昸㈴㐵㍢㕥㙢昰敦晣㙡㡥挱晦捡换㤸㜵愵㠰㐶㕦〶ㅦ〲昴〷慦挴㥡㈳㐷昳晣㠲搹㥣慡㜱摡㙦ㄹ㕡〴㈴っ㡤㘶搱敤㍦つ慥㔱〷慡〸扥㐳扤㠵捦昹㥤㡤㘹捤㐶㘸㔱㝤㤲㝡つ㠹㕡晤㝦㜳慥晥晦摣换愸㍥摤㡦搳愸㐹㥦㥡昱ㄱㅤ㈷㔸〴㄰㔳戴㙢挲昷㥦愲㉡昹扥ㅡ㠴㈸㐲㘱㐷晣㡣晦昰㌲戸昳搳㑢㔱㈹㑥㙢㈷㡤㉤㐳ち〶㡥㜶敥挲戹攷㠹ㅢ扥㥣戹晦摡㡣攲㤱㌴晤敥晡戴㝢晤㤴愶㐹㡥㠴戳攲戴㌶㈰㤲㔹挰つ搴〱㐴改ㄱ扦挴㑤㙦捦㔱㐳昴㥥ㄱ㈵㍦㔶愶㈵挵捡㐶㝡戰㠰攰㔹㕤扡扦㠸戳㠰㔴ㄴㄷ扡ㅣ摣〸捥㥦っ晢㐷㙣㈳挲搴ぢ攸つ㑦昱㠳㌵㍤昸ㄵ挸慥㡥慤㤵ㅤ㜸捣昰挳㍦昸ち㌲〰扡戰摤愳㜱ち挴㐶㠳㠸扦て㘰㙣愹散㉡㘲㔰晤ㅢ愴㉤ㅥ攳㡦搷㉥ㄷぢ㐲愵搶愷愱㠶戱ㅣ㠰㔷㥦㤴㡣㠶昱慦搳㐱㜱㘳㑣攷㜱㝣ㄱ摡晦敡攱㜱㔷搵挷ㅡ㔵㔷㈹敢敢㌹收搱挳㝦戱攵敤昶敢扢挲戴㕣昳㔹㑥捥戹扡摣㤸挹扦㔰㠹收挶戲㔶㝥㡦㌳㔱晡慢ㄴ搸㕤㕣㤸搳㉢搰ㅦ㝥㡡㙦㥣㘶㑡戴昴㑣昶昲㉣㠲戳〱㘲㡡㤶㑡㔴晥㔵㑦戳改昳㐵㘱敢㘹扤㈴攳㥦慡收〲㉤㥡㘴扣㔲㍥ㄷ捥㐵㙢㜱ㅡ戵㈸㕥扤㤲ㅦ㔸㐵㜰ㅥ挱昹〴慢〱㘰〰㘸攲㌸㐷㡣ぢ㤰㥥㡢昱摦慦挹昸ㄶ㌶搳㠱扡㌳㑣㝦㍦㐹攴户ㅢ〷㔵戴㤱㘴㝣攰捤晡慥挰㡦ㅥ敤㔲戴㠳㘴愷晥〰㑡㤶搸㐱挳㈵散㔸挳晡㙤〴㙢〱㘲㜱摡㉥挹攰㈱㈸㝡㑢慢㈵扤㘵搸㙢慥摥㝥慢㘶㙦搷愳㠶戱〱㘰㐶㑤昰〵摤〹㑡㜹㡦㘹攸愴㠳ㄷ〳昱㍢愸㘸㤹㠴挹㕦昷㤸晣㐱㡣㈱ㅡ㌴ㄴ慤㤵㘴㍣攷㘵㙣㤲っ摣㔱昳㌳㥥昵㌲㌶㜳搴㤷㠲摡㑣㍢搵㠰㔴摤摦㈰收昹㤵搰ㄱ昵㕣昰㠸㝡㈴㜸㌴㤰㐵㐶㔶㈱㥡㑥摢㔵ㅤ㐱㈹㥢㜱㘵戱っㄱ㙦㡥㜷ㅢ㌸昹㘲戹摥晣愴㝢㠹搴挸昱搴㉦扦挸㉢摢㔲㉡戳戸㐴㈹㤵㙤㉡㤱愴捥㜲㌷㘸捦㉢戹㉣搲㌲搳攸戲敡ㅣ㈹て〱㔱㐶㠱昷捤㙤㘶晤づ搲〷㠹慡攳㉥ㄸ㜵慦㐹昳㑣㠰愲㔰扡㠴㐹㌲挲愹㝦摣㤶〹㘵ㄷㅡ昲搹㠲扡㡡〶㠵㙤攸㉥て㘱愲㤹搳㥡㐸㤴㐶㐰㜱㍡㡢㍡㍣㕤愵㈷㥣攲㤲昱戵㉡㍤攱戴㤷㡣愷捡昵愴ㄷ搴㘶捥㘱慥戰愲㈷ㄷㅡ㠷㐲㡦㠶㕥㔵攱挸搱挰㜷㌰晡㙦㔰㑦㜰㐴愵㌸户愹㉦扡て挰攵㔲〹㤳愴攲挴㤷ㄲ摢㠰ㄸ散愶㉥㘱㤲㔴戴ち㔲㘲㍢㄰㙥㤰㤴㉥㘱㤲㔴㌴ㄹ㔲愲ㅦ㠸っ㔵㤷㌰㐹㉡摡ㄳ㈹戱〳㐸愳戴㔱挲㈴愹㘸㉦㈸㌱㝤ㄹ㠰愲愹挰晦㠰ㅥ〰㘴㐷昹㌶搳㉣㤰敡戲㤳收㐰㤸昳攵㉡㜶搲㐴㐸挶㤷慡搸㐹戳㈱ㄹ㕦㉣㘷攷㄰愸㡡㈶㐴㍡㜸〵㄰㤷㔱㈵捣㘵ㄴ㑤㠴㜴㜰㤸攵㘹ㄹ昰ㅦ㤷㌴㍤㠴㠹㘶㥡〵㈲搲挱㘶捥攷㉢㤱ち㑥愹攴㡤愹ㅢ㙦㝣慢㌹㥣㌸㍤㝣搵㤶㠶挳慦扥昸晡㕤㉦㕦户改㐷扦扣敦扥㤷㡦摣昵搲㉦㥦ㅡ摦昴挲挳て㍦户攳㠱㤷㕥㕦㥣㝥㌰昸攴㕢〳て摥搲戶昷㤶晤改㕤ㄷ㙥扢攵敡㥢慥㘸ㅢ㕡搴ㄲち搵搵㥤扦攴ㅢ愷慤㡥摦戶晦捦搴㕦晥攰搴㝣㠴ち㝦ㅣ搳㠵㍤㕡㘰㌸㜳ㄴ㜵搵ㄶ〲戴愱㜷ㄱ攲攱㠴㡥㔳搱挵晡敥〶搲ㄸ㙡愶㔶扥㤷愳㔵㔴㕣㡥㔸㕦〹愰愸愴㤲扡㡡㈹㉡愴愴慥㘶㡡捡㈷愹㙢㤸愲愲㐹敡㕡愶㐴扤搰㝦㝤ㅤ㔳㐰愸愰㜱慡㤹っ收㝡㈰晡〶㠰挶㘰㌳ㄵ攳㍤ㅤㄱ㌵㑣㝡㌶〶㐴㠹㕥戱㘷昷〳昸㑦㥣晡㈵㍤㌳㠱㘰㤱ㄳ㠹㈰㔷㡦㈳敤㍦㜱㑡㠶愵ㅡ挳㡡攲㄰㈵扦摦㔳昲慤愰㐷㜱ㅦ㔲搸〶扣愲愶ㄲ昶捤愲ちㅢ㘷㔱㠵㥤戳愸挲㔶㔲㔳昸㌲㍢挵㌷㑥昶㑡扦㉤㈰攸㌷ㄹ㉢摤扡户慡㕢㘴戶㘴ㅣ昶㌲攲㙣㙢〲㔴㈵㙣㘱慡㥣㈳㡡㡣㤰ち昷㔴戶ㄴ昷㌹ㄲ㘷㐷攴摢㝢㠱挰捤㘷ㄷ收戹㤴㌳攳愳晥扦㔸㌰改㐸攰㍦捣㜸〹㤳愴㈲捦挵挲攵㠰㐴挸扢㜹㤶捦捡㙢㠷㕣〷ㅡ㜳敥戵㈲㠹㈹攰㡦㝡戸慣捦昶㌹ㄶ㤳摣㔲㔱㌴收㤲〸㥢㕤戴攴㝣搴㝢㔹昴㔶摥慤攷㔱〷ㄵ攰㡢㘵敤慣昹㥤て搷昱㌸扥㔲㥥搷㤱〷㜷㘲㙣㕣改ㄹ㔴搲㡡㕣㤵㔹㙤〳㔱攴㈵晥捦〴捡戹愸㌶戳づㅦ㐳㐹㈱㘰㝡扦㐷㈲㌹敥㈷敡晦て搲㐶搲愱"]
["Decisioneering:7.0.0.0","Decisioneering:7.0.0.0","Decisioneering:7.0.0.0","Decisioneering:7.0.0.0"]
["CB_Block_7.0.0.0:1","CB_Block_0","CB_Block_0","CB_Block_0"]
["㜸〱捤㔹㕦㡣ㅢ挵ㄹ昷慣扤㝢㕥摢㜷昱㈵〴㐸㐸挰愴愱〱㉥戸戹晣㈹㐷㘸〸㍥晢晥㈵㤷昳攵散㕣愰㠰㥣戵㍤㝢摥摣㝡昷戲扢㑥捥㔵愴昲搰㠷㍥昵㠱ㄶ㈱㉡愴㔲㕡㕡㔱愹ㄲ晤愳戶慡ㅡ㔵㉤愸戴㠸㠷㤶㐲慢扥㔴〸㈱㈱ㄵ㔴㐵慤㔴愱ち㠹㝥扦搹戵捦攷㜳挸㜱愴㔲昶㙥㘷㘷收㥢昹㘶收晢㍦㥦㐳㉣ㄴち㝤㐴て扥㜸㈲愸散㈸㌴㕤㡦搷搳㔹摢㌴㜹挵㌳㙣换㑤㘷ㅣ㐷㙢㑥ㅢ慥ㄷ愶〱㑡挹㈰戸㉢㤷㕣攳㑢㍣㕡㍡捦ㅤ㤷〶挹愱㔰㌴慡㑡〴〷ㄲ扣挹㔶㐳挵慣㐴㠴㡡㘲㜶㌴㕦㍥㑢㔸ぢ㥥敤昰扤愹㜹㝦敥㤱攱攱昴㜰晡攰扤挳㥦㑦敦摢㥢捡㌶㑣慦攱昰㈳ㄶ㙦㜸㡥㘶敥㑤捤㌶捡愶㔱㌹捥㥢㐵㝢㤱㕢㐷㜸㜹摦㠱戲㜶㜰㘴昸攰愱㐳晡㝤昷㡤㈴㘸改搰㙣㜶㜴㤲㥢㑢㠴敦㕡㘱㔵〸敢㑣㜶㜴搶攱晡戵挲㈹㠳㄰昷攴㜸挵〰挵㌸㜷っ㙢㈱㥤ㅤ愵晦づ慡㔰敢摥㜴扥㤰㈷扡㥡㕡ㄳ㘷㔳敢昹㑡㜹㕥㌳ㅢ㕣愹㡢敤㐴敢昳㥡㌳愳搵㜹㝦晤㤴换攷㌴㙢㠱愳㈵搷㈷ㅡ㐶㌵㐲㕣っ摦搵㙢㤱㠰㐰改㝣㜶㌴㕢搳ㅣ㑦愰挴〲㐳扤㐶㡢㤵搲挱㌶挴㜸搱〳戲戰㜸㈰㈳㘲㍤散戰て㐵㤴ち㐵愵㘲挷㠴昳搲户㜵愳㘲愷慡㍣攵㌶㠸㉢㑢戶㙢㔴㡣㤷㝥㘲愵㠶㔹攴㍦㈴㜲㥤ㄸ攲㌴㐵㉡㘹㔲愹㉣㤵㉡㔲愹㉡㤵戸㔴搲愵搲㠲㔴慡㐹㈵㐳㉡㥤㤵㑡㡢㌴愶昵㐴晢晡愴攰昹敢㥦㐶ㅥ㤸㝣昵㕦愳㕦㜹散慢ㄷ昷晣昶捤㙣〲戸㘶攸㠰改ㄹ敥㕤㈳㐹㤰㜱戸昵ㄳ㌴㐱愳攵扡捦㡦ㅣ㜷㉢㉡㤸㌵㘵㔵昹戲㐲㌵㘲㘲愲㥥戵㉤㡦㉦㝢㌹捤搳晡敡戳㥡挳㉤㑦愵㐱㐳㘲㤶㕦挳捣㝥搱搷㥡ㅤぢ㕡㠴㈱㈹慡ㅤ㔸攲愲挳挷挴㐸昷挲ㄱ扦㡣㉡扤戴㜹㔲㜳㙢㥥㔶㌶昹敥㉥扥㠳㙥㈴㙡愷㍣挳㜴搳㠴㜲挲戱ㅢ㑢愰攸戵挲㈳愴ㄹㄲ愲昴㔳㈱㙣て扥愱搰攵愳敡〰㝤㘲㉡㠰㉡㠰戰㑢昴愱愷〵㑢㙣愶挶挹㐰昲㜲㡥㜶㠱戴㘷㠵挵晢搳晢昰㜷㜵昳㐱搶㐳㍦愴摦慢てて㔷て敤搳づ㘸㌲挴昶㤳㘸㐰㤲挶㈷昴搳㠶㔵戵㉦〸㤵搸㌱慡戹㝣㐵㐳㠶〲搸愸摤戰慡敥㉤扤㠱〵㑦昳昸昶㙥搸ち㤲㌵搳ち㘴㉤戸㉢搶扢戵㝢㥡㄰慢捣戲攱㠳㜷㜶㠱挹㘶搸攵㉢㐳挷ㅤ㝥慥つ㕤戳愳っ㜹㠰昳ㅣ昰㌵愷昴㐱晥扥㔲搹㥡敤㜲㑢㙣㙦愸㍥㙢㔴ㄶ戹㔳攰昰ㅦ扣㉡㡥扡ㄵ㈰㑥㤲㕥攱敥㔰摥愲㠳㤲搱慡敥敡散搵挷㤶㍤㑥㝡㔲愵晤㤲挹昰㥡㐵挸攸㡤慢㠶昸㙢ㄲ㘰摢慡敥㜱扢搲㜰愱て㡥㙤慥㠶㘴慡攷㌵㕡戳㝡挲慥昲㐸㈴ㄴ挱㐳摥㈹ㅣ㈶〵搹摢㈵晥挲ㄲ〳慦摢㌲㝢ㅤ㑣㠶摤扢㜹戵昰愵攷攸㝣㜴づ㤳㐳㌲愵㙥㙤敡㐰户挲㔷愰改㘹㑢晣㜵㍢㑥〵㜷㡢搱㜷㕥㜹㤷〲㙤㥢㜷晦摦挱㤲戴㈵㌸晤搸㜹戲㔷㤳㥡㔵㌵戹搳换扣戴㠳〵㠶ㅤ愹㕢愸㤰摦㈷㙤扥㈲昵㄰ㄹ戰㘵搶㤴㉦ㄸ㔵慦愶搴戸戱㔰昳愸㡦〲㡡㘸ㄴ愴摤ㅥ扣㌲㡤㉣挲㠷慡㕢㔱摣㠸攲㈶㉡㘲㌱摦㘶㈸㌱㜵ㅢ㌵ㄵ㡣㑦ㄶ㡤㈵攱㝦ㄶ〲㕦ㄴ㘳ㄱ㤸㤸㕥㍢㙥ㅢ㐴㔸晡搸戴慤㔵挷戵ち㐵㈸㝤㐱㝣ㄲ捤摡昵㈵㌲搳㑥ㄲ㈳戳㈴㑡㈴愲攷㡤㉡㜷愲攸㈸㔰ㅣㄴ愱昰挴㔵㠴㈲扡㘴㝦挳㈱㔹㡥㐷㝢慤㌵搵挲戵㍢㈰㘷㘷㥣㌵戵〶晦晢㈷㐷㡥㈲㡥㡡挵挴戹㙦愱慡扡㠳ちㄹ㘴晤㐴〲㡣挳㉢晡㈹换昰摣戸㥥㘹㜸昶戸攱攵㕣㉦愱㔳㐱㔵㈱㝦摢㠵㐴㜵㐸晤㤰㍥㙦昰ぢ挵收ㄲ扦㙤㉤㠸㘲㡦㙣挳昵㙣攱戶㙥㕤ぢ捦搹㌳戶㤷㌳摣㈵㡡㘳㜶昷〰晢㤰搳㌵㙥㤱㠹㜰挸㔲㕣㙤㤰扤戴挴慢㍤昶㔸戰ㅢ㑥㠵㑦攵慥〷㈳挳㐲㄰㘷ㄲ㘸㘱㘲搸ㅤ㔷搶摥づ扡㐳㔱㈴㐶捦〶㜵㑣㜸㔳昵㔶戱㌰㉤ㅤ㡢愹户㔱㥤搴㐲㠶愲慣换㌰挱慢㙤搲摢㉣㉤ㅡ㥥挹攳扡攰㥡愸㐷㜵㘲ㄲ㤹昵㙡㥦㕥慣㌹㥣攷晡昵〹挷愸㥡㠶挵㈱ㅥ㌷昸㐳愷昹〲㤹昰㔹㡡昶㜰㜱攸搷㡢㡥㘶戹㔰ㅤ慢搲摣扣慡攵〷㥦晡愸㘱㤱㌸晡㘲㠴晡㈶扤㔰戳㉦㤰㑥㌴敡搶㠴戶攴㕥て㉣ㄵ户ㄹ㥦戶㍥㔳㈵㈶㐹㉣㉡㐵㌷挸㉥愶愴〸㕢㈲扦〴ㅡ愵〴㈱㐲㡣㠵㐳晢愹㌷㡣㠲㌸〷摥挱扥慤摦㔷攰捡㤵㄰昷㠳挰捤㠶㝢㤹㥦戶㜱ㄶ戶昹㜶捣搹㐵挵戱㠹㔳㔳㉢戱搴愷扡㡥挹戰挸敢㜶㕡㤰捦〱㕦㜶攰挸㈰㑡慡㄰〱戴扡攵㌱愶㡢㌱㄰捤㠱㤵敡㌸昹晤㠴㍥慤㤵戹㌹㙥㍢㜵捤ㅢ昰ㅢ搰扣扡㘶扡〱㡣散㙥㕤㠳慣攱敡㔳愸㘸㈶㡦ち㌳㜸挲戰㔴㥤ち挱㠷愰㑢㕢愶㉥㙤㔹㜴㈵昴㌹〴㜲愲づ㕣昶㠲收ㄸ㕥慤㙥㔴愲㘸㈰搸扡㉥㠴㤴昴摥户㍣㐴㔱㝡㠴愴㤲㑤㐹㜵ㄹ㈰㍦戸㈷㜶愷挹捣㠳㜴㘰㍦㠹戲挴ㄴ晡㘳ㅢ昴昲㈴扦㈲㙡㔷㜷ㄳ㌶㔹㕣晣㜱〳挱㜳戹㤵㕥戸晣㘵敡ㄱ㤲捤攰愵〱㔶敦〸㉡㘸㈴攱摣㌰㔵昹㉣ㄵ〳搹搱㔲㐷㌴愴散愱扥㐱敡昳㙦捡㔳㔵㡡㐱っ慦㤹㠴㉦挴ㅣ㜱昹㔴敦愲㥡っ㌳戸㍥戳ぢ㜷㥦散昰㠵㤰㍥㜷㔰㍦搹搰㑣挲㥤搷挹㉤愲敢㝡㘰㙦㈴㈲ㄸ扡愷㡢㥢戸戱ㄵ㡣晡㜱敥㔸摣㑣㤳㐷ㄱ㐷㜸攴㌱㕣摡扡㘹戰㝡㙣㜰㌶ㄷ㈳㌷收㜵㘲昲㕦㈸慡㕢摦㉡攰㙦摦㜹摣㝥㑢愵㔰ㄴ㙢㈲㥣㠹愹㐳㈸㘳㈱〶㜷㈵〴㘲㙦㔰㐱㠳摤摥敡扤㠷㉡攰昲㌰扤㌲㐴散慡㔲つ㔵㠸改㤰敦㠲搷㌴挹愶愰㡡㑢戹㕦㐳挸收㠳挹搵搸づ愵㑣㈲摤攱㘹㝢㉥㈲搰昸つ㕤愱扦㤸〶挸㉥㝡攵搷㝢㠴户敤昹慢捦㡥㌹㜸㤴捦㔱㜱挳〹愳攲搸慥慤㝢愹〲㌹捡ㄴ㉥㔳㝡㈸戴㉦㈳晦㤱㌰昶㕣ㄳ〷㡢㔸挸昶〸㜲挶ㄶ㉤晢㠲㈵㜶㈳扢戸㔳ち㉡昶昵㘱㤹ㄸ扤攲昹っ搱㌶〹㔵挳㘴ㄵ㐴散て㈷昶搳㠷㐴㈲㘷搷㌵挳扡㔶戶ㅦち搸昳㉥敤㉦搳捥㜴戵昴ㄷ〹㠱〴搲㕢㐵ち㈹挰㥥愸㘸㤰搲昵搷㑦摢捥㘲搹戶ㄷ搱㍤㈰㕡㙥㡤㜳て㌹愷㜸摤㌷〳愸㔳搴ㄴづ慦㑡㈷〵慣〲㄰㠷㔴づ㔰㤱㉣摡㔵摢㑤㤹㜸㡤㌲搱㕣㌹㐸扤晤㐴〰攱て㠴㜵㔷づ㔱㔷㈶㤳㥡ㅢ换㑣愷昲戳挵愹晣㑣敡㐴㍥㌷㌶㥤ㅡ捦捦愵㡡㤳㘳愹昹捣昴愹㡣攸捦㡦愷愶㘶㘶昲昳㝥㙢㜶㉥㝦㙣㉣㕢㉣愴㤷㑤户捥㕥㈵摥㈱挷昵扢慦㕤㝡昱㥦敦扣㌷昱搵晦晥昴ㅦ㍢攷㉦㥦㘵㝦〸〰摤㔹㉢〶㌵㄰㡣ㅢ愱ち㌴〳㙦ㄲ扡㈰㌸㜶ㅦ㔵晡挳㐹㘸〱㤲ㄵ敡㘱ㄴ昷愳㔳㤱挱捤晢扢慣㐲挷捤戳挳㠴づ㜵摦慦挷攸扥摣㠴㕡㠵改昲㈲ぢㄲ㐴愴挳ㅢ挳〵扢㠳㤰〲慦晣㌲㥤昳㔳攰㔹慤㌰挰〸昳愰ㅥ愱㈲〹〲〹㥡㍣㠰慥愳㈸ㅥ愴㈲挶㐰㈳搰㠲晤㥡ㄶ挷〶〶愹ㄱ㤵挲㌲㠸㜵昷㤵て攵㠷〳㉢挹㤵㑤㌴㕣搶㈱㜳㜱摤捦㙤攰㘸㘴㉢っ搳ㄴ㙡㤶愰挸挰愱昴挶㌴㐵扥ㄴて㤰昵つ㕣ㄲ㐵挴挸攸戵慥㠶慡㘸〹扡攸㜹㠷敥㡡㝤晡㤴㑢昱㜵㌵㑡㈹㍦捦㈳㡢㝤㍤昸ㄵ㌲㝣ㄱ㠸〰〹〱㔲㈲㔲㑦㥢〳㘳昲㌱ㄱ摤ち㍤㕡㌹ぢ〹〱挵挶扣㡡㌲㑡㡢㔱昲㤱慣㌲㘵㡦捤ㄴ㤱戳㐹㘹ㄶ扡捡㙢㔵㍢㜵慥挱㔳㠶㐵愹㘴㝣挴㉦て挸㈹㑢散ㄲ㌱ㅣ㈶㌳昶摥晥㙤ㅦ攱㌴昰ㄷ㙡㡥㍥敡ㄸㄵ㑣ㅣ㤱㤱挳ㄹ㐷ㄷ慥㑢愲〸㌱㘸ㄱ㈴㐴㤹愴㘲て㉤㠶㕦㈷晣㤸㍣㜵㥡挲㍣扢攱愵㠲㐰㥤昶㤰㈹㔳摡挳戶㈴昶昳搶㝡㤳㤳慤㌴㈵慤㜷っ㜸㡦㔳㐱搱ㄴ㑡㕡㙦ㅡ㕤㉢敢挹㄰攲㙥ㅡ挳ㄹ㡤㘳㠷㕤〹㤰㜸ㅣ㠴て晤㍢㥥〹扤晢㝣㠶㐱攲㠵㠴晦㤸ㄶ㠷㠴㝦㠱㍡愲㤲挲愰〵〲昰愳〰㠰㐵愲ㄴ晢㍤搸〲扣ㄸ〰㠴扥㥣愴㕥ㄹ愴㔹㌷㑢㜱㤸㉤㈴晣挱敦㐱〸㜹㠷㑣晣ㅡ㜴昵ㅢ挶ㅣ㑤㘵㘰〱㍣㠳㈰㠴㔲愴㕡㜸摣愹㠸ㄶ晢〱㙤つ挶昲㥢〳㐷て㍦扥昰搴昱㈷㜷扥昲昷捡㥤㜷㙣㘵㉦〴㠰挱挸敥挵摣㥦㐷㘶㕥㜸昳慤攷㈳改㐷愶ㄸ㔸㈸㡣攵㐳㔴〱搹昰㌲搰㕥昰晢㘱戴挰㠴昶㡡㉡㔶昴㔷晢㑥㠰㜴㥢㜶昸昶㑢㍢㥦㍤㜱改昵昹㤱㤳〷ㅥ晤〶㝢㉥〰㝣敦愹㘶㘱扦㜲收搸て扦昸摤㜷戵㕦㝥㝦㤰㠱㠱㘲戵ㄲ㔵㕡慢㙤〲つ㑦愳㘳㤹㔵捥㔴捦㥣昹㘰㔳㈴戵㍤昲搰㠳㠹愷摦㝡昵敤㈷摥㜸昴挸扢ㅦ㍥昳捣ㅢ敦㍣昱摡㠷扦㉡ㅦ㜹攵戹攷㕥㍥昶慤搷摥摥慣㍦㉢晤散㠳改㘷㉦づ㉦㕥㍣愷㥦扡㝢攲攲挳㘷㑦づ捦づづ㠵挳㝤㝤㝢戶晣晥收㍢㤳㡦㥦晢〵晢捤摦㙥戲㤸愰ㅢ㉤愰㥥愱挲ㄷ㈶戲㝥㌸戱戰㝥ㅡ㐰㘵㉡晡㈵㈶づ㡣㜶㠵ちっ㠵㔳㑤㘲扢㘲㘸㤵㉡㉡愷愲㕦㑡㥥㘹㜵敡㘸㠷ㄹ搰〸挹㜹㥡㡥て㤱㐲ㄶ㐰慤㔱挱㠰㕣㠰㥥ち㐰愳搴ㄱ愵㌸〲慢〸挴㘷愹㐲㌸㠰㕦っ㝣戲ㄳ㠷㐹扤っ慢ち搰搷㔷攳㤰戱晣挷㘴㈵㔶っ㡡㜰㜷㜵㘴㤰㘱㕡㘲昵㌱慢攱晦㠸愲搴㤱㈷戰〶挹愷㌹㤴慢ㅢ㙡㡦搹摣敥㘹㡦ㅤ㘸㜷㠹㌹摢晣っㅣ㤲换ㄸ㌲戴㠲㜴㙢㌷㐴㡣愷挳攲扣愱㕤㔷㜶㈲慤つ㉡㌴㉣捡搶㍤㌰敡㘷㐸㉤㥡㈵㔸慣戶㙢愲挹挰㠸ㅣ扤慡㡤ㄱ愰㌷〸愷㉥愱㠵㜷愵收㡦〷搱挵昸㜳㔴㤱㠱㙣ㅤ㕢挱搴つ㉡户㐳㔳㤹搸ㅢ㔵㔴捡㝢㡡〷㐴㘰搸㈳㌶愰㈲㤱换戰ㅦ慣愳㌶愸挰〳㌹㘳㘲㍡㔵摡㌳〵愴㠵㠶㠹㤹㙢挰㉤っ昱晦〱㠷㙣㈹㌰","㜸〱敤㕣㕢㙣ㅣ搷㜹摥㌳㝢攱捥㤲ㄴ㘹㔱ㄷ换㜱㙣挶㡥㘳挷㔴ㄹ㔱戶攲㈸㡤㉣昳㈲㔲㑡㈸㠹㌲㈹㈹㙥㤳搲挳摤ㄹ㜲慣㥤㔹㙡㘶㐸㠹慥㕢㍢慤摤㌴㘹㔱ㄴ㐹摢㌴㐱㤰㈸㑥㉦㈸㥡㈶つ搲㌸㉥㄰戴〸㕡愰㐵愱〰㉤㤰㍥ㄴ挸㠳ㅢㄴ敤㐳㡡㐲㐰㕦昲㄰挰晤扥㝦㘶㜶㘷㜷戹㐳㙡㙤户㜴挱㘳敦捦㌳攷㌶攷㥣晦㝡晥晦㡣㌲㉡㤳挹扣㡥挴扦㑣㌹㘶敥㥥摦昰〳搳ㄹ㥤慣㔵慢㘶㌹戰㙢慥㍦㍡敥㜹挶挶慣敤〷㔹㌴㈸㉣摡愸昷昳㡢扥晤慣㔹㕣㕣㌷㍤ㅦ㡤昲㤹㑣戱愸㙢愸攷㈰晣つ挶て㍡㝢昵攵〰ㄶ㈶㈷捥㉦㍤㠳㔱攷㠳㥡㘷ㅥㅥ扥ㄴ昶㍤㌱㌶㌶㍡㌶晡攸㘳㘳敦ㅦ㍤㜲㜸㜸㜲慤ㅡ慣㜹收〹搷㕣ぢ㍣愳㝡㜸㜸㙥㙤愹㙡㤷㍦㘲㙥㉣搴慥㤸敥〹㜳改挸㈳㑢挶愳ㅦㄸ㝢昴搸㌱敢昸昱て昴攱搵㤹㜳㤳ㄳ㜳㥥㘹昹㙦搲㤸㜹㑥昹搱㈹戳㙣㜳㙤愶改搹敥昲攸攴〴晥㑦捣ㅦ㑦㡦㡤捥慦㤸㘶挰㔷㥢㥥改㤶㑤㕦㐷挷㕥㘷摣昷搷㥣㔵㙥㥥敥㑣㘳愹㘵挳て昲捥愴㔹慤敡㑥㍣㙡搱㌹㡦扤慢ㅡㅢ㝤捥扣改晡㜶㘰慦摢挱㐶挱㔹挰㐰㤵㝥攷愲㙦㍥㘹戸换收㌹挳㌱昳捥捣㥡㕤挹㠵㈹㤳㝤㌰ㅥ㈲㌹㌱㔹晥攸戸敦㑣慥ㄸ㥥捣挸攷挶愴戴㥤昶捡捤㙤敦敦㍣㉥愷㉥㙦攰㤸て㜴㙥㠷㥡㑢㠶㔷㙦㌹搲戹㘵戴昸收ㄹ扣慦㜳晢挴ㅥ㌵昷㜹㙦攷㍥戲㤵捤慤㔵㙦㐴摦戲愳㔸㡣㕥㈰攸㈱㈸ㄲ㄰㠱㝡㠹愰㤷愰て㐰攵晥ㅢ㕣㤲散挸㉡㙤搱搰ㄶ㤷戴挵戲戶㔸搱ㄶ㑤㙤搱搲ㄶ㤷戵挵ㄵ㙤搱搶ㄶ㥦搱ㄶ慦愰㑤㥣㡡㍤㍤㕡㤴敥ㅥ捥扥昸昸昱ぢ愷㕥㍡昲㡤㥢㕦晢㘳搷敦摢㠳㐶ㄷ愲㐹㑤㜹挶㌵㤰㕡㠳㡡㡦㡥ㅥ攱㝦㕢㜳〵㤸挲㍡㘶㍤㘶㡤㡤㔵㡥ㅤ㌱ㅥ㌱昲㕣㔶ち昲㥢〸㘵㄰㙤晢慣换戶㕢愹㕤ㄳ摣摤㍤㘱昸㘶㘳攳㐶愲扡㠹摡㥡㕢昱摦戱㜹攵㝣㘰〴收㕤慤㜵㡤㐱摡扡捤㠳慤㑣㕦摥㜷㑦㙢户㑢㐶㜵捤ㅣ扦㙥㠷搵敦㙣愹㜶收扣摡㔲攷摡㘹捦扣㕡慦㙤㥢搱㌸㠴摡扡㡣摤戶捡戰㉡㥣搷昰攴㑡捤㌷㕤㤹摥㠸㌳㘷㤷慦㤸摥扣㐹㤱㘸㔶㘴愹晢㔹ㄵ㜱晤挸㜹ㄷぢ〵户㔶敥㑢㤶㕡愷慥〷㘰㘶戳㠲昹慥㥡㕥戰戱㘰㉣㔵捤〳㑤㑤挲㜷愲攲㔰㔳昱㜴慤扣收㑦搶摣挰慢㔵㥢㙢挶㉢敢〶㈴㑤攵㙣慤㘲收㜲ㄹㄱち㄰戸搹慣㔲㤹㠷㍢昳㠲㈰㈲㠱㘲㌲昲㥤捤㘴㌷晡㈴㔶㠷㔵㔴㑤搲愴昶敥㉤〶攳㝣㐵挶愴㜰㘰㘲㑤搴ㅦ㝣改㐳㕢っ㕢挷摣㕢摢㔸搳㠶愲搵㥦㕡㌷摤攰戴攱㔶慡愶㤷慡晤ㄴ㘷愴て〰攴㙦㐱㈰㜴摣㍤慡㍡㜵㕤㙤攴慦搹㤵㘰愵戰㘲摡换㉢〱捡愰㈱㡢㐵㙥㙤㕢搲敦㐰㤱扥㤷㘰〸愰㔴捡ㄴ昶戱㔱愱㠴㤴挹㔳㍡愵昰㜲㤳㈰㘷扦㈶㕥敥戳愶敤㙡㘰㠶㐲㜹挰〲㐶㐲慤㈶攸敢㈷㠹㝡㐶㌹㔴ㄸ晢慣㐹㔰愹㘱扢挱㐶㠳㙦摢戸㈴㈴愲㕤㔹戰攳㘴〱㐵㐱戳㍣㐸攱㌵㄰㑤㡢㌴㐸㙦㥣㈰㈲戲㐱㡡㘶挷挸捤㐴挶昶㈹㌲〲敤㤳㐴挸搶㐷㍡换〸ㄲ㝢㍢㤱戲㔳㐷㝥摣㤵㘶㥢搹昲愱㌴摢㡦㡤搳て㄰ㅣ㈴戸㤳攰㄰㠰晡㜷㐸㌸㑡㌹攴㥢㤳晥づ㍣敢㜷ㄳ扣ㄳ〰昲㐹愷捣㠹㐴ㄵ㙤愸敤搸㤱㙣搷て㍢㔹㡣攲㔰ㄴ搱㌲慥摢㤹晤㡥㈰㍡戲㍡㜷㠶慥捤㠹㡥㝤㑦㘷摡㑣㉥㠷ㄴ㤹搲㌴戹搶㉤㥡㈶㌷㠲㑤扢搴㕢昷愲慢㍥㑣昰㉥㠰㤲㝥ㅦ㈱㤴ぢつ摥敤㔹昴㌴㈹摦ㄶ㘶㔱㘸っ㜵愹攰㈳㐲收ㄱ㈰㐵挸戵ㅤ㕦㜶㙤㘸㥡㠳㈳搶摢摥㠶㍥摣㤹扦㈳愴户攸捤㕤扤㐳㝦搱㙤㕡搱昷㠳扤搴て㍢敡㤸〷㔰慤扦㠷攰㐱㠰ㄶㅤ挳搳昷敤㝡ち挴㉣㜶ㄲ㤸摢㑢慦㡢㔸戹ぢㅢ慢愶㘸愰㍥㙢挱昰㤶捤〰ㅥ㡣㌳㔳戰㠵㙢㥥㘷㔶㜱愸慤㐸〱捦㉦〷㥢ぢ晤㘹慦收戰㝣搷㐶昶摦ㄶ㡡㈱㤷搳戲㤹ㄶㅢ㌹挵搶㑣昸㥣ㄲ㤴㐳ㅤ晣㐸㘷㈱㤱攸搴㑣㕥散㤷㝥扥摣㤵㈴㕤㐸㤲昷㘲㕢昵㠷〱㈰㈵搴㍦㜷㤴㈸㠷搹散㘷愴㔹戳挵㑡て㕦捡改愴挵㠷搸㈶㐷㝡㐳㠷敤〴晣〷㝥扦㌳㙦㍢㜵㘱搱敢捣㤹㕥ㄹ扥〵扢㙡㤶㐲户㉣㐵捤慥慣㜸㥢挸㡡㙣戶敤㍣㥤攲㕦ㄳ㍡㘹㤱ㄲ愹摣㥥㕡㤹㜲ㄶ㙦㄰ㄵ摤㤰ㄴ㉡㈹慥愱扡〴㈲攵戱敤慥㠸改㐲挴扣てㅢ愷ㅦ㈱ㄸ㈳㌸ち㤰晦㍥㈴捤㜶㌷㥥攱戰㥥㜵扡戴ㄷㄷ㌳㐵愲㐱㕣㠴㌷㍢ち慢㘳㝣捤晢〹ㅥ〳㘸㌱㝦攸㠰㑣㈱㐴㐱㜹㠲㄰㈵㡣㘱㕤戲捤㙢愴㠱㍤ㄶ〲㑢㤳㙢㝥㔰㜳ㄸ㔹敡户愶㙡攷㙡挱㤴敤慦㈲ㄲ㌵㘴㐵㤹换㉢愶ぢ敡昲㘰晢戴㤴搵㔶㔷捤㡡㙥捤搷搶㈰摡捥㑣敤㠴㠳㌹戶〳戶愴㥣捤㌵㠵搴摤昹ㄸ㐳㈸散戴昸㕢改㡤摤㤶昷㥢㠷扥㠱挶㡥㉥搸㐱搵散戵㐲愶㘳扥㘸㘱ㄷㄱ㌹愸昴㔸ぢ㉢㥥㘹㑥昵㕢㌳㥥㕤愹摡慥㐹㘴挰挶㘴戰㙥搶㕣㐶㤴㘰慥挶ㄸ㘰捤敤户ㄶ㍣挳昵㔷つ〶ㄴ㌷昶㌶㍤㐹㔸㈴㙦㑤搸慥㡦搷〸ㄶ㤹ㅦ戰收㔷㙡搷㄰戱㕤㜳摣ㄹ㘳搵摦ㄱ㔸㈱搱㠷㐹㔰愳㌴愵㘹慡愸ㄵ扢挵てて攴㤹っ㜹㉦㐷㈰戸捡攴改㌳㑦搱摥戴敢愳ㄸつ敤㜴捥愹て搱愳㝡㘱㌶㔵ち㤳㔳昵攳散昳㐱㠰て捦㕣㍣搳㠸捣扤愱㤸㜵㥥㕥晥ㄴㄹ㉦㘴㔱て㠴搰㐷户㈷㈴ㄵ㤶㤱㜲挰㠱挰㌸㥦㕡挹慦㘴㐹ㅢ㔲摦㥥㐶㜶ㅡ㤱愴㍥㙢搶㔸㌲慢㠸㐷㍢㐶戰㈷㝣愰ㄹ敢ㄸ㔵㍦慡㥢慣㌹㡥㐱搲㈲㔹捥㤷つ㔲昰昸㕡㔰㍢㙢扢扡〵㈰昴ㄷㄵㄹ搷㔱㘴㕣㤷愲㍥敢㐹㠶〶㈵捦戱㙡换㠶㘷〷㉢㡥㕤㉥昲㠱攱扢ㅤ㐱㤳㘰㜲㑡摥㌸挵㌲㘳戸挵㥡扦〸㤳捤ㅦ〵扡㐷㈱㐷戹㜵㐴㍦㈸㔷㔳〵晣愷扡㜴㉣㐱挰㠸愷㔴晦㄰㐶换换敤〸㠸ㅣ㐹户攲㍢ㄸ户㥥㐷㐹㈸㠴㠸昵ㄴㄲ㠱㔷㌰㈱攴改攲㉥㔸ㄷ㕤㍢〰昶㠸戱㘹㍢㤸昲㠱㜲〰㘴攵㜸㝢㤷㘰㌵搱㘹愴慥ㄵ敥㙤慦㙡㔲ㄳ昷戴搷㈷昵挶扢㌷愹づ㌵㑡㐲㤱㙣搵㐸㌴换㈶㜳摣㐹慡㐶㠹攲㡥戵㡤㑡㜳㥢㌶昶㥤㔲攴つ㈸㈶愱㤹㡣晥戸㄰ち〲扤愵㤲㝥ㄲ㜹扡㙥改户㑦㈷㤱㐴搴㠶㜶㐰㠹扡㉡㉣敢㡦挲㠲㘷㜰昵愴㘲㤶愲㈷昰昸㥥㈸㝢㝥㉤㘸慡㌱慥て㐵㌵攳搵敡㜹ㄷ㤶㐲搹昰㉡㍢㠴慤戱戶㔰换〸㠷㜶㘷〱挴ち㉢挱㡣㜰㤳㍦挱㙤挳㕥㌳㍣㤲攲て〶㍢㠲挹ㄲ㤱㔵㕡㘹晤摣敥㝡㜱㤱㑦㘷㑤挳ㄵ㉣捣〷㤵㈹㜳㕤捣戱㠶㐵㍦㈴ㅤ敡愷㐶㤱愷扡㌵扥攴㐳戵〷㤴攷㔱㑥ㄸ㕤户㥥愴㝢ち㤷ㄹ㈰㝥愳摣㕣㌹㐰㠸户㍥〰㑦〸㍢〷㐳搸㤱㌰㠴㐲㉢㡤㤲戴㤰㐲扣捤㡢㈰て㜵㠷㔵摥㐵戳㈴晤搷㐹昵㠵捦㌳晤挹挹㑣㥣㠹っ㍥㠶扤㔲慣〸㈰㌷ㄹ愱㈴㈷つ挵㠱昳㔰挲㠹昰敡㡢换㘸㙡昴搳昴昳〲摣收㘱㑣㙢㠰慣㔳挵㝤户挰㠶㔶慤㙥散戱捥戸攵敡㕡挵ㄴ㤵ㅣ换㙣搱捣㍢〲㕦㜲ㄵ㌰攴愸㤴㝤㠹㌶攵っ㡥㔴㕣㌲㤱搴戵晤慤昴㜱㜴㉦㑣〰攴㑥㑣ㅥ㍤㐲㍤愸㑦攲㠹捣挷㠸㘴㡡㥦㑥㈲㘴㙤ㄷㄷ㘸㌰敥㙤摣㘸㤰摢㜴㤰㙦㙤㐵ㄴ㙣戳戸愰㔷て㉢ぢ摢㈵㥡捤搶㘶㙢㌴攲ㄳ㐵愷敤戰㘸㐷㈰ぢ敢っ愵㕦愱〰敢愴㑢㌶攱㈰㤹㕢㔱戸昷搶昳昲㤸戹〵㑤㈳搶㠸㘲搰㤷挷愲っ㜶ㄵ愸愱〵慥㌵捣㜰挵㜰㌰㑤㜱㝤ち㐰㌱㉥㑣ぢㄷ㉤㐳㡢㘷ㅡ昹搰攲搱搰㤹㈹㈱㘴〵搳㌳㈸㈳愶敦挵摦㤴戰㘹㌲挲捡挰攵㄰扣昸㐰ㅣ㔸㡢愷敢㠵ㅡ戴㔲戰㑦㙥㡢挵ㄷㄶ㐷ㅣ㥣㡢㙡摥㠱㤶挲㌹㈳挰㥤ㄸ昷㔰㑢昱㜸愵㐲ㅢㄸ㑥扢ㅤ㠱㔹摣攷〸㙤搴㝤㉤㌷戵㘴㑤㌴晡敥㙦愹㠸㙥㄰ㅥ㥤ㅡ㍤㙤〴攵㤵昹㘰㈳扣捤搵㉤㔹攴㕦㠵㤳㘲搳户搳㤰捥戹扣㥤扡捥扤㉦㕤㜱㙢搷㕣㤹㔷摥攷㔵㐰㈲㕡敦改攱㈴㑢㤹搷昱㥦㈴㉤㤳晦づ㐶摣捥戴㌹㐰挳㙢挲㜱㈴㠵搶昱㌰昲㈹㜴〲㠳扥㝥㤵㠰㜴戲慦㠵㑥㐴ㄸ散ㄲ㡡扢晣愶ㄱ㡡㝡〵㘸㈵戱㠴攷㜴散昹ㅦ㠱晤搵户㔱㐲㠴攳㌹ㄲ㈵昹㜷㈱㤷㠲㍡ㄱ收搱扤て摥ㄲ昹晦㠳愵㤸㥢㌷㘵愷晦〵㘶㔶㝦搱㡡愲㝢㠸愲㙦戵愱㐸昱㙥㠸昰敦㌹㘴攲㤴㘷捣昶戶愲攳㕣搳敥愹昴㉤扦〵晣㝦㜸㉡㥤㡢㠸㐳㠵㠶戴㝡〰捦㜵㌳㈱摢㘶㈶㌰愲㉦㘶挲〵㘴ㄴ㐳晢愱㤹㄰㌹㐶收㔱戰戵㘳㠴〱扦ㄴ㘳㌰ㄱ㝦㑤昸㍡㜸ㅣ㍢攰搰㘹㜶ㅡ户㜱㑤ㅦ㐱㝥㈸㉤㝦ㄲ㙥慡㠳敤挵㜳㠶㘷㌸㠷愴㝣挶㌳愱捣扣〵㕣敦㤶㉥散㜱搷愶㌵搲㘹ㄳ〷㐶散㝡摦㜵戲㙣敦㔲㍢㌰ㄵ愶搰愷慦㡡慡昰〶摣㈷㡡㘷㠷捣㉦敥晢晡捣扦㍥晢攲㐹㕥㘱㡢㘸㌵晦㌰昲摤挴昱㘹㑦㈰搲㥢戸㍤戲㥦㕦敢㥣挵㜷㑢昶㙡搵㥣㌰㍣戱㠲㝣摤㠹戳㈱攱㈵〸㌳㈴扥㥤㘰㘲攲㌲㐴㘸㘲㡥戶昸㐰攵㙢㈷昱ㅢ㡥㈶㈶㉥㡥扥㌸㤶愸㍡㉡戲㉥慤捤晣搷愰㡡㙥㜳㈲捤㔶㈲㡦愰㑣㑡晤㘹慢慥㍢㐶㕤ㄷㅥ㘶㜸ㄷ㈰㤶㔲〸㑡㤰㐲㤲㠷ㄹ摥ㄲ㄰㈹㜵〹㤹㍣㠳㝦㈹攱戶搶戸㉦㥤〳扢㐲挰慣摦〴散昲换ㄶ散㈲戰ㄸ㍢攸扢㍤搵搲ㄶ㡤㔵ㄳ攳户㘲搳㕣㐶㐶づ㉦㉣ㄸ㡢㑢㥢㉣ㅤ㥥㙣户敤㥢攲㑢晡㥤㌰ㅡㄷ㌲㜶摥愱攳慤攴㥣㜲搷㜰ㅤ〴㝡愶㈰ち挳摤换㘲ㅣ㐸㈵㜰ㄷ㌶㉤㠵㐵㠴〳㘱戶摥愹㌷慡㠲捥㜲て攱㔴㡡㠸㈰㍦ㅦ㘲晤㐸㘳攸晤慤㌵搴㜱㙥てㄶ挸ㅦ散慦㝢㔲ㄸㅢ㙦㈵挷㐰挲㙥慢㔵㌱扣㌳晥ㄴ扡㠸㤵慦昴㐶㤶敦㔲㡡㠱敢㤸戳戲㕡㥢晥㘷㐸㕢㌸敢攷搸㥡戱敤㈶晤晦㌱ㄴ㙣愹晦搵㜱昶挵㑦晦㜸㤴攱㐳㥥㐱㤵㉤攳㌸摣ㄱ戸扡ㄱ搱㤱㠳戱㉥㔹挶挱挳摣㍣扥㘸つ慢㐵㠲挳〹㤶㙢扤㉦㔱敦㑢摢戶户愳〰㘴挰㈸晦㌲㐴㔰挷晥捤㜲㡢愳㌱ㄵㄶ〱昶㥤戵换㕥捤慦㔹挱昰㍣㈲挱挳晣㈰捤㠲捤㌳慥㙥戴ち戵晢戱ㄳ㝤〶晡㥣㍢て㠱㝤捥っ摥慣〰㈵挳つ摢ぢ㙦昰攳愴挱㐴捣㠹摡挱扦挳扡戰㘶㔴昱㍤敢㜹㌸㍥〳ㄶ敤〸㘵ㄷ扡㥦㕢慦㙤㜰敢㜰㜱敢㈳昰〷㤹搵㔱㐴捣㘴〹㍦晦㜱敥㙢敢ㅥ㌴户㡤搶收戳㘵㜷㝥户㔲晥㑢挰改昶摥搲㑣㌲㝣㈷㍦㔳㉥改㘵㐲㕣㝥㍢㠹扦㙣愳㔷〰㘸改㠸戵昳〴㌲㔲㙡㈲ㄳ愷晣㌸㜲摢昷散戲晦㄰㜸㈲晡㈲㥣㑥戳㤱㉡㕣㙤摢〸㥦㠳㜰㌳㡡㝥㕣㤹挳㌲㌲㜱㔲㔳挸㐹改㑡㤴攱㠳㥡〶㈰㌳慢捦㘱㘳挸㐲挸㘷ち捦〰㜴收㡢摦摤㡣㉦ㄴ㝤㡡㌲㝥㤵㈳㐴扦挱㔸搰㉢㥥㕤㐸收㈵昵㔹㜴㈷ㅡ挲敤㜴㔹㠶敤㤴㌳ち昲㝡摣〳昹㡣攲ㄹ㐵愶昷摢攸㔰㥦摥㔵㤴㜶㥥摥㙦㙤㍡㍤㕡ㄷ㌲扤攴昸㠳戱㜶搲〳㔴敢㙢〴敢〴搷〰〶㈸㙥㈹挳ち㘱晣攲㉦㠹㜱愴㝦㡣晥扥㜶昲晢㌷㤹晥昳愴ㄲ〱㡢慡收挹㔳挰捡攴㍦㤹㥣晣戳㈸敤㍣昹㤷㌶㥢晣㈰㘵㉦㘷愲㍦〷搰㥦㔵愴㐱㔹捣㉦㈱挳㝤攴㙦㤰㠴㐸ㅦ㡥晥换〴捦ㄳ扣㐰昰〹㠲㕦㈱昸㔵㠰㝥㙤㌰愶㑤㈵攴挲㡡ㄷ〱㌸㈰㝦㠳㌱搹っ㤲㔲攴戵㉦㈱搳㥦ㅤ㈴㘶攵〵扦㠶㡣晥㐹㠲㕦㈷昸ㄴ挱愷〹㝥〳愰㕦㔳㐴慡捣敦㌷㤱㠹攷㤷攷ㅥ愷㝣慤㈴戶ㅤ㙦㜶昲ㄵ㠵搰㤱㕣〸㌵㝡搱㠹㍣挸㍢㐲慥㘱㐹晣晣户愳㍡㉡㜴㜹㘵㐱昹㌱昲㑦㥦㡥㍦〵搳愲攰ㄹ㠸㉦戴愶㐹愳摣㐸攵挵㡤扦昹㑡挳摤㡢ち㈴㔰㘸搸㤸戴㉣㡤慦挶㡤㡦攲㌳㌳㘹㤳攱㤵〸愶搷攲挶愴㜹㘹扣ㅡ㌷晥昱搱㐳昵挶㌱慤㠷㈳攷㐹㠸㈹㜶扡㥣㕣ㄲ㥦㥣搳㈱㤰户愸晢㝢慤戰㤸㔲㕦攲攰㔵搱晥㝤戸摤攲攱愳敦㔹㕣搶挲㥤ㄶ㈸㠸昰摦㝥㌸㠳㑢㕣㔳㐶㘰攰㥢敥㜵㐴捥㍤㕤㥥搸戹㘰㥤昷㔰搰㘳㥤昱㜱ㅥ慣散㈸ㄲ㠱㈹㤳ぢ昷㜷㡢㠰㐲㡡搹摢搸㡦㌸摡愷昱㔲㑣㜷㡡㑦〲㐳㌹攵挶㤸捤扣搰愰ㄹ晤戳㐰づ㈴㌰㈰㌳晡敦〰㠶㠱愴㝤㉣ㄸ愴㡣ㄱ㈹昰㝢慣昸ㅣ挱敦〳㤴昲ㄴ㌳㍦摢搹摥攵㜱㌶晥㘲ㅦ戱换愶㑦昳㑦攱㔳晢つ敥㔰ㄶ晦搲㐸㕥㡣昳㥣昶挱敥挶㈲㌱搰慥㤶摦㌲㔶昸〶挶攱㈶㌴愲㈰ㅣ㤱搲慢愴㈸㑣戹㕣㘵㘱㝣扥㠳㘶㜷㔱换慡ㄷ攲ち㌳慡㌸㠰㠲㤲晡㐴㕣㕣㠹㡡て㑡㌱㠵戰っ㔳㡥㡡ㅦ㐲㐱ㄱ㔱㕣ち㘶愹㔸㡡㉡攸㜶搳扦っ㌰㐸搱㉣摢㝦〳ㄹ挸晥㤷昰㠷摣㔷昸ち挰㝥㙣ㅤ晥挵ㄳ㝦戸㘲づ慦㝡收㍡晥〵㤵扦昹㤶慢愹㕦挰㌰ㄲㅥ㐸戲戰晥㔵㜶晢〳㠰㉣摣晥㉡ㄲ〰㈵晤て㔱㤲㐰戸愲㜴㤷挹㍣ㄵ㑤㈶摣〳捡㝢㈹晥㘸㔴捣㍤㈸㈹㙡〰㈹扥ㅣㄵ㠷㍢㐰㥤㈰挵㤷愲攲㜰〷愸㈵愴昸㘲㔴捣ㅤ㈸㈹敡つ㈹㕥㠸㡡戹晥搲㈰搵㠷慣晤捦㤰搱扦㑥昰つ㔶攴㐹戲摢收ㅤ㈲戵㑢㝢敡捦搱㔵㤱㈱㌸㠶晥捤㈸挳〷㐵㙥㤰㈹㥦㡢愶㑣㔵㕦搴ち㡡ㅣ㈲ㄵ㘷愳㡡ㄳ㔲愱ㄴ戹㐶㉡㘶愳㡡㤳㈸搰扦つ㌰㐰㑣昷攱搷昳㑦〸搹扥㥥晤愱敡挳敦挷摡慤㑣〵敦慡愸㙣㈶㝦〳戵慤㠶㙢挲㙢㤴戸ㅣ㐰昵愹换㤹㤸㠲愳晤㕣㝣㐷搴㜶愴摥㘶㙦扤愴㝥ㅣ摥㔳㉦㤲ㄳ敥敤㥥㠸㠱㌴攲㉤㜳㕦㘷㤶收㜹㍢㤶㙣㐵戵敤㠶搱愹昸ㄵっ㑥〲㔶㝡㍤㈷㡦㡡㌴㑥敡搰扦挳㕡㤲戶愰敥搵㈸㈳愸㈳㌵〹㈲㘶㕡㔰㐷ち㤳㡡改ㄶ搴㤱敡愴攲㔴ㄲ㜵摦攵愰㐲㈲挸㌴搹㝥㠳㈴ㄵ愱摣扦㐲愶㍦㍢㐰㉣㕦挶㑦扢慥捡㑦㔷㥥㝥晡㈷〳戹攱扢㜲ㅦ㝤愲敦昳慦晤挳㡦㍥昳㠳㡦㥤昸㡦㥦㝥昱㡢㍦昸户捦摣晣改㜷㤷㑥晣摤换㉦晦敤㠷扦㝣昳㐷㝢慤ㅢ摡㉢㍦㤹扤昱摣搸㤵攷慥㕡ㄷㅦ㥥㜹敥愹㘷㉥㡣捤摤㌱㤲捤昶昴㍣㌸昴昷㜷㍥㌴昸挲搵㔷搵昷晥攵愰㥢攷㌶㙣㘳ㄳ戹晥㉥㜹攱慦搱㔵挹慥㈲搳扣㕡敥慥慣昶㝢挸㘰戵摣㤸户㜲戵㡡扢㉡昸㜸㍣挲挷〴ち㡡㜰㌹捡㈴㤱搷㘳㈳ㄶ昹㡣攲戴愴昹㠷㥡㥢昷晥て㌲㔳愸㡤","㜸〱敤㕣㕢㙣ㅣ㔷ㄹ摥ㄹ敦慥㜷搶㜶散挶㐹摢㠴㤲㥡㤶㕥愸㠳ㅢ愷㑤搳〲㈱昵愵㐹㑣㥤搸慤㥤㤴㤶挲㘶扣㝢挶㥥㘶㘷挶㥤㤹㜵攲㔲㠹〲㉤〸㉡㉥㐵㔰搴搲慡㕣〴ㄲ㉦㐵〸愹㔰攰㠵㡢〴㠲㔶攲愱㍣㈰昱㔰㉡〴㐸㈰ㄴ愹㉦㍣㈰㤵敦㍢㌳戳㍢戳敢ㅤ扢摢ㄶㅣ攴㐹㝣㝣收摣捦㝦㍦晦㝦挶ㄹ㈵㤳挹扣㠶㠷扦昹㘴㤹戹㙣㙥搵昳㠵㌵㌲攱㔴慢愲散㥢㡥敤㡤㡣戹慥扥㍡㙤㝡㝥ㄷㅡ攴㑢㈶敡扤㕣挹㌳ㅦ㄰㠵搲㡡㜰㍤㌴捡㘵㌲㠵㠲愶愲㥥㠳昰㘷㈰㝡搱搸慢㌷㡢㘴㝥㘲㝣㘶攱㍥㡣㍡攷㍢慥搸㍢㜴㉡攸㝢㘸㜴㜴㘴㜴攴挶㠳愳㌷㡤散摢㍢㌴㔱慢晡㌵㔷ㅣ戲㐵捤㜷昵敡摥愱搹摡㐲搵㉣摦㉥㔶攷㥤㌳挲㍥㈴ㄶ昶摤戰愰摦㜸昳攸㡤〷づㄸ户摣㜲㜳㉦愶捥㥣㤸ㄸ㥦㜵㠵攱扤㐹㘳收戸攴ㅢ㈷㐵搹攴摥㠴㜰㑤㝢㜱㘴㘲ㅣ晦㘳敢挷摢挱㤱戹㈵㈱㝣㑥㉤㕣㘱㤷㠵愷愱㘳㡦㌵收㜹㌵㙢㤹挰搳慣㈳搸㙡㔹昷晣㥣㌵㈱慡㔵捤㡡㐶㉤㔸㌳㠰㕤㔵㕦敤戵收㠴敤㤹扥戹㘲晡慢㜹㙢ㅥ〳㔵晡慣㤳㥥戸㔳户ㄷ挵〹摤ㄲ㌹敢㘸捤慣㘴㠳㈷搳㜵㑤㌴㐴㝣㘱㜲晢㈳㘳㥥㌵戱愴扢㜲㐵ㅥ〱㤳搲昶㠸㕢㑥戶扤戲晤戸㕣扡㥣㠱㘳㕥搵扥ㅤ㙡㑥改㙥扤攵㜰晢㤶攱收㤳㉢戸扥㝤晢ㄸ㡣㤲㝤摥搵扥㡦〴㘵戲戵搲ㄳ搲户㠴㈸㌶愳攵㤹㜴㌳㈹㌰㈱〲戵㈲㤳ㅥ㈶扤㐸㤴散慢攰㤲㜸㐷㔶愹㈵㕤㉤㉤愸愵戲㕡慡愸㈵愱㤶っ戵戴愸㤶㤶搴㤲愹㤶敥㔳㑢㘷搰㈶㝡ち摤摤㙡昸晣昶改㕦扤㍡晣昳挷挶㝥昰摡㔷敥㤹摡㌶晥户摥㙤㘸㜴㐷戸愸㐹㔷㍦ぢ㔲㙢㔰昱晥㤱㝤晣户㍥㔷㠰㈹㡣〳挶㐱㘳㜴戴㜲㘰㥦㝥㠳㥥攳戶㔲㤰㥦㈰㤴〱戴敤㌵敥㌲敤㡡㜳㔶攲敥戲㜱摤ㄳつ挰つ㠷㜵攳㑥捤慥㜸㙦㕢扢㜲捥搷㝤戱扢戹慥㌱㐸㑢户㌹戰㤵昰攴㝣㝢㥡扢㥤搲慢㌵㌱㜶捥っ慡摦摥㔴㙤捤扡捥㐲晢摡㈳慥戸扦㕥摢戲愲㌱〸戵ㄵ㌹㜶换㉥㠳慡㘰㕤㐳ㄳ㑢㡥㈷㙣戹扣㘱㙢搶㉣㥦ㄱ敥㥣愰㐸ㄴㄵ戹搵㥤慣ち戹㝥㜸挶挶㐶挱慤㤵㉢攲愵挶㙤攷㝣㌰戳愸㘰扤换挲昵㔷攷昵㠵慡戸㌸搱㈴㤸ㄳㄵ扢ㄲ挵㐷㥣㜲捤㥢㜰㙣摦㜵慡挹㥡戱捡㡡づ㐹㔳㌹敥㔴㐴㌶㥢㤱㐲〱〲户慢㑢㔱㌲搷戵攷〵㠹㠸ㄸ㡡挹挸㤷㈶挹㙥攴㑥散づ扢愸ち搲愴晡捥㜵〶攳㝡愵㡣㐹攱挰搸㥥愸㍦㌸改戵敢っ㕢挷摣㕢摢㔸㔵〷挳摤摦戶㈲㙣晦㤸㙥㔷慡挲㑤搵㝥ち㔷愴昵㈳挹㥤㠷㐰㘸ぢ㍤慡㍡攵㥣戲㥡㍢㙢㔶晣愵晣㤲㌰ㄷ㤷㝣㤴㐱㐳ㄶち〴㙤换愳㕤㠴㈲㙤㍢㤳㐱㈴挵㘲㈶扦㠳㡤昲㐵㍣㤹ㅣ愵㔳ち㉦㈷〴㌹晢㈵㜸戹搷㌸㘲㔶㝤ㄱ〸攵㝥〳ㄸ〹戴㥡㐴㕦ㅦ㐹搴搵换㠱挲搸㘱㑣㠰㑡㜵搳昶㔷ㅢ㝣摢挲㈵〱ㄱ㙤挹㠲㑤㈷ぢ㈸ち㤲昲㈰㠵搷㐰㌴㑤搲㈰扤㜱㡣㠸挸〶㈹㥡ㅤ㈳㈷㠹㡣敤㔳㘴〴摡挷㠹㤰慤昷戵㤷ㄱ㈴昶㔶㈲㘵愷戶晣戸㈵捤搶戲攵〳㘹戶ㄳ㠰搳㉥㘶㜲〹㤳㑢㤹散㐲愲晣〵ㄲ㡥㔲づ昹攴愳扤つ敦摡㘵㑣摥㡥〴昲㐹愳捣〹㐵ㄵ㙤愸㡤搸㤱㙣搷〷㍢㔹ㅡ挵㠱㈸愲㘵㕣户㌳晢㉣㠹攸搰敡摣ㅣ扡㌶㉢㜵散搵敤㘹㌳扥ㅤ㔲㘴㑡搳昸㕥搷㘹ㅡ〷〴㥢㜶愸户㉥㐷㔷㙤㠸挹㍢㤰ㄴ戵㉢㤸㐲戹搰攰摤㤸㐵㑦㤳昲㠲㌰㡢〲㘳愸㐳〵ㅦㄲ㌲㡦〰㈹㐲慥攵昸戲㘵㐳搳ㅣㅣ㌶㉥㜸ㅢ㝡㙦㝢晥づ㤱摥愴㌷户昴づ晤㐵慦搳㡡扥ㄲ散愵晣戱慤㡥戹ち搵摡搵㑣慥㐱搲愴㘳㜸晡㝥扤㥥〲㘹ㄶ㕢㌱捣㙤愷搷㐵㕡戹昳慢换㐲㙡愰㕥㘳㕥㜷ㄷ㠵てて挶搴㈴㙣㘱挷㜵㐵ㄵ㠷摡㡡㉣攰昹攵㤲㘴愱㜷挴㜵㉣㤶㙦搹挸摥〵愱ㄸ戲㔹戵㉢搳㘴㈳愷搸㥡㌱㥦㔳㡣㜲愸㠳㙦㘸㉦㈴㘲㥤㤲攴挵㝥改攷换㉤㐹搲㠱㈴㜹ㄷ挰慡㕤㠷〴㔲㐲昹㝤㕢㠹戲㤷捤摥㉤㥢㈵㉤㔶㝡昸㔲㑥㈷㑤㍥挴ㄶ㌹搲ㄳ㌸㙣挷攱㍦昰晡慣㌹搳慡ぢ㡢ㅥ㙢㔶戸㘵昸ㄶ捣慡㈸〶㙥㔹㡡㥡㉤㔹㜱㠱挸㡡慥慥㤶昳㜴㡡㝦㑤搲㐹㤳㤴㐸攵昶搴捡㤴戳㜸㠳愸攸㠶愴㔰㐹㜱つ搵㈵㄰㈹㡦㙤户㐴㑣〷㈲收㝡〰㑥摢挷㘴㤴挹㝥㈴戹ㄷ㈱㘹㌶ち㜸㠶挳扡㔷攸搲㉥㤵㌲〵愲㐱扡〸㕦㘸㉢慣づ㜰㥡㥢㤸ㅣ㐴搲㘴晥搰〱㤹㐲㠸ㄲ攵㌱㐲㤴㘱っ攳㤴㈹捥㤲〶戶ㄹ〸㉣㑤搴㍣摦戱ㄸ㔹敡㌳㈶㥤ㄳ㡥㍦㘹㝡换㠸㐴つㅡ㘱收慥㈵㘱㠳扡㕣搸㍥㑤㘵捥昲戲愸㘸挶㥣㔳㠳㘸㥢㥡摣っ〷㜳㠰〳戶愴㍣㥢慢ち㥥捥捥挷ㄸ㐲〱愴愵扦㤵摥搸つ㜹扦㜹攸敢㙦㐰㜴摥昴慢愲挷〸㤸㡥昹㠲〱㈸㈲㜲㔰改㌶收㤷㕣㈱㈶晢㡣愳慥㔹愹㥡戶㈰㌲㘰㘳㌲㔸㌷㉤ㄶㄱ㈵㤸㜵ㄸ〳㜴散㍥㘳摥搵㙤㙦㔹㘷㐰㜱㜵㝢攲㑤㠶㐵㜲挶戸㘹㝢㤸㐶㘲㤱昹㝥㘳㙥挹㌹㡢㠸㙤捤戲㡦敡换摥愶挰ち㠹㍥㜸㈴㙡ㄴ㔵㔱㔵愵愰ㄶ㍡挵てて攴㤹っ㜹㉦换㐴攲㉡㤳愳捦㍣㐵㝢搳慥て㘳㌴戴搳戹愶㕥㐴㡦敡㠵㕤愹㔲㤸㥣慡摤挲㍥敦㐱昲㠱愳㈷愷ㅡ㤱戹㌷ㄴ戳捥搱换㥦㈲攳㈵㔹搴〳㈱昴搱㙤ぢ㐸㠵㘵愴ㅣ㜰㈰㌰捥户㘶昲㉢ㅡ戲つ愹㙦㕢㈳㝢〴㤱愴㕥㘳㕡㕦㄰㔵挴愳㉤摤摦ㄶ扣搰㡣戵昴慡ㄷ搶㑤㌸㤶愵㤳戴㐸㤶㜳㘵㥤ㄴ㍣㔶昳㥤攳愶慤ㄹ㐸㈴晤㠵㐵晡㌹ㄴ改攷㘴㔱慦㜱㈷㐳㠳㌲捦戱㥣㐵摤㌵晤㈵换㉣ㄷ昸挲昰摤愶愰㐹㌰㌹㈵㙦昴㐴㌲㘳愸挹㥡㍦〹㤳捤ㅢ〱扡㐷㈰㐷〹㍡愲ㅦ㤴慢㉡㜹晣㔳㍡㜴㉣㐱挰㐸㑦愹昶㍥㡣㤶㤳户㈳㈰㜲攴㜳㍥扡㠳㜱晥㘳㈸〹㠴㄰戱㥥㐲㈲昰ち挶㠴㍣㕤摣㜹攳愴㙤晡挰ㅥ㌱㜶挴昴㈷㍤愰ㅣ〹戲昲㜸扢㕢㘲㌵搶㘹戸慥ㄵ㉥㙦慤㑡愸㠹㍤慤昵㜱扤昱捥㌵慡〳㡤ㄲ㔳㈴敢㌵㤲㥡㘵㡤㌵㙥㈶㔵愳㐸挵ㅤ㘹ㅢ㈵捤㙤摡㠰㍢愵挸ㅢ㔰㑣㤲㘶㌲摡晢㈵愱㈰搰ㅢ敡㈸晡散搳挹㈳ㄶ戱愱つ㔰愴㥥ち捡晡挲㤰攰ㄴ慥㥤㔴㐴㌱㝣〳㝦㙦ぢ戳㌳㌵㍦㔱愳㥦ㅢっ㙢挶慡搵ㄹㅢ㔶㐲㔹㜷㉢㥢㠴愵戱户㐰挳㐸敥散㑣晢㐷捡㉡挶㠸㜰㤱ㅦ㈶搸攰㈲㘷㘸㈴挵ㄷっ㔶〴㠳挵愲慡戴搰晡〸敥㝡㜱㠱㙦挷㠵㙥㑢㉣捣昹㤵㐹戱㈲㑤戱㠶㌵㍦㈸㍢搴㑦㡣㔲㤶㙡挶搸㠲〷戵敥㔳㤶㠷㌹挹攴㥡㜱㈷㕤㔳戸挸〰搱ㅢ收㘶换㍥挲扢昵〱㜸㍡搸㍣ㄸ〲㐴㠲昰〹㉤㌴㑡搱㝣ち昱㈶㌷㐱晥改っ慢扣㠷㘶挸攷㥦㠷㤵㈷㥦攰昳摤挳㤹㈸ㄳ㌲ㄲ㐳㕥㈹ㄶ〴㤰ㅢ㡦㑥㤲㤳〶愳愰㜹㈰摤愴攰敡㡤捡㘸㘶昴搱散㜳㝤摣攴㘱㍣慢㥦慣㔳挵㕤㌷摦㠴㐶慤慥㙥㌳愶散㜲戵㔶ㄱ㔲ㅤ㐷昲㕡㙡攵㑤㠱㉦㜹つ㌰攰愸ㄴ戸㠴㐰㤹挲㜱㡡㕢㈶㤲㍡户扤戵㕢搱㕤ち㍡㡣ㄱ愸㍦〶㈱㔳㕣㜳㌲㈸搶㜲㔷㠱㌶攲昶挶㈵〶㜹㠱づ㘲慤愵㠸昲㙣ㅡ㜷昲敡㤱㘴挹㙤戱㘶搳捥戴㐳扢㍤㔶㜴捣っ㡡㌶〵㡥戰捦㐰攸攵昳㌰㐸㍡攴づづ㤲㌹ㅦ㐶㜸捦㝦㑣扥㘶捥㐳攸㐹っ㈸㡣昳昲㈴㤴〱㔴挱㐸㌴扡搵㠶攵慤㌰〲㑣敢㕢ㅢ㐷愲㌰ㄴ㑣愳ㄶ㉤〳㈳㘷ㄲ昹昵㡤㥣换搱㉡㈵㑡ㅡて愸㌲㑥㌹〸愷㍤㤰〶㙥攲㘱㝡摥㠱㈲昲㜷挸换㘱搱晤挴㘱ぢ挷㈰挷扤戸愹㜰㔶昷㜱〵挶摥搵㔴㍣㔶愹搰攴㠵㡦㙥㔳㘰ㄵ搷㌷〲㤳㜴㐷搳挵㉣戹㈷摡㜸㔷㌶㔵㠴ㄷ〶昷㑦㡥ㅣ搳晤昲搲㥣扦ㅡ㕣摥敡㤴㈴㜲㍦㠱㑦㘲捤搹㘹㌷㘷㙤㕥㐶㕤㈱散㡢㘷㙣攷慣㉤搷㤵昳㜸昳㡦ㅡ㔴敢敥收㈲㡢㤹搷昰㑦㍥㙡㈶昷㘳㡣戸㤱㘵㜳㠰㠶㤳㠴攳挸㈷㤰〶㐳挸愷搰〹散昷晡捤〱搲挹㡥㈶㍡㤱㠲㘰㡢㔰散挵㌷㡤㔰㤴攷㠱㔶ㄲ㑢㜰㉣〷捣扦〳搶㔷㝥㠴ㄲ㈲ㅣ敦愱ㄸ挹扤〳戹ㄴ搴㐹㐱ㅥ㕥昳攰愵㤰晦ㅦ㉣㐵摣扣㈶㍢晤ㄷ㤸㔹昹㘱㌳㡡昶㄰㐵捦戵愰㐸攱㔵㄰挹扦户㈳ㄳ㍤㌹㠶㘸㕦㔷㌰㥣㝢摡㍡㠴扥攵㤷㝥晦㠷㠷搰攳㈱㜱㐸ㅢつ攱戶慢昰㕥㌷ㄱ扡㕡㑣〴〶昰愵㠹㜰〲ㄹ㠵㤱晣挰㐴〸晤㈰戳㈸㔸摦㐴㘰㝣㉦挵㄰㡣㠵㕢㘳慥つ㥥挰㉥戶攸㈳㍢㠶换户挲㐳㑣ㅦ㑡换㥢㠰㔷敡㤲搶攲㔹摤搵慤㕤戲晣愸㉢愰捣摣㜹摣收㤶㕤搸㘳昷㥡㌵戲搳ㅡ晥㡡挸搳扥攵㔳搹搸ㅤ㜶㘰㉡㜸〲ㄷ扥㔲㔰昲㙦挰㕢愲昰摣㤰昹攸㡥㘷㡦晥改㠱㠷て昳挶㕡㐸慢戹敢㤰敦㈴㙣㑦㝢〲㠱摤搸㘵㤱㥤晣㌸攷㌸㍥㔳㌲㤷慢㘲㕣㜷愵ㄵ攴㘹㔶㤴つ〸㉦㐶㤸〱昱㙤〶ㄳㄳ㜷ㅦ〲ㄳ㜳愴挹攵㈹㍦㙥㤲㙥挲㤱搸挲愵㕦㉦ちㅤ㉡㙤ㄵ㔹㠷搶㘶敥㝢㔰㐵慦㜳㈱㐹㉢㤱愷㑥㍥㡡昲㙣戳慥㍢㐰㕤ㄷㅣ㘴ㄸ晡㡦愴ㄴ㘲㄰愴㤰昸㐱㠶㤷〲愴㤴㥡㐳㈶挷㔸㕦㑡㜴慤㌹捣㑢㝦挰㤶㄰㄰昵㡢㝦ㅤ㝥挸〲㈸〲㡢㤱㍦扥搳ㄳ㉤㙤搱㐸㌵㌱㕣㉢㙤㥡㜹㘴攴攱㠵〵愳㔱㘹挲搲攱愹㜶挳敥㈸㑥搲㘷〵挱户㠰戱㜳ㄶ㝤㙤㐵敢㌶扢㠶摢ㅦ搰㌳㜹愹㌰散敤㉣挶㠱㔴挶改㠲愶挵愰㠸㘹㝦㤰慤㜷敡〹慢愰戳散㕤㌸㤵㈲〰挸慦㠵㔸㍦摣ㄸ㝡㘷㜳つ㜵㥣摤㡤つ昲〷昶搷㥥ㄴ挶挶慣攴ㄸ㐸搸つ戵㉡〴㔷挴㑦愱㡢戴昲ㄵ慤㤱攵㕣㡡挲㌸㜵挴㔹㕤㙡㡢晥㘷〴㕢㜲搶㕤㙣捤㔰㜶㐲晦摦㡤㠲㜵昵扦㜲ぢ晢攲㐷扢㈷捣昰㈵挷ㄸ捡扡㘱ㅢ㐲〴摥㙤〴㜰攴挱㔸㤳㔹㠶扤㠳摣ㅣ㍥㘰つ慡愵〴㠷摦㉢摢㝣㍤愲摥㤷戶㙤㑦㕢〱挸昸㔰敥摢㄰㐱㙤晢㈷攵ㄶ㐷攳㤳扦ㄷ挹㡥攳㘶搹㜵㍣挷昰㠷收㄰昸ㅤ攲昷㘷〶㙣㥥㌱攵㕢捤㐲敤㑡㐰愲昷㈳攸㜳㘲〶〲晢㠴昰摦慣㜸㈴愳ぢㅢ㡢㘶昰㕢愴㠱㔸㠸㠹摡挱扢挸戸愳愶㔷昱昹敡っ㝣㥤㍥㡢㌶㠵戲ぢ㍣捥捤户㌴〸㍡摣搳扡ㅤ晥㈰㔱ㅤ㐱㠰㑣㙥攱㐳ㅦ㈶㕣㥢㘱㤰㙣ㅢ敥捤㘳换捥㝣㙥挵摣㌷㠰搳㡤捤㤲㈴ㄹ捥挹慦㤲㡢摡㘹愶㌰扥攱愸ぢㄸ㈳㈱换㙥㐵改挶摤戶㥣㘳㄰搴ㅦ㝥敡㑤昷搸㜰ㄵ㑥戵つ挴挵ㄷ㌸扤昴晤㈱愳㤵昹ㄶ晤㑣㈲㐳〶㔵㥥挲㘶挹ㄶ挸㘷昲〲㐹㝢㕡㝦㜲㉤㕡ㅦ㠸戶愶昰攴㐱㈲㉤㉡㑦愰㈱㠱ㄸ〰㘳㠹㘵〰㠶㍣㘱㈰慦㐵㍤㤰捦㈸㍣㘱挸㠵㍣㡥づ昵㠵㥣㐱㘹晢㠵㝣㜹慤㠵㈸戴つ戸扦挴昸〳㤱㙥搱㙣㔶㌹㑣㤶㤹摣㡦愴㥦挲㤲ㄲ㈸ㅦ〴ㅣ㥥㈷扥昰晣㉥晣晤昲攱ㄷ㕦攰昳㡦挳㡡ㄴ㡦愸㑡っ慥㔰㍣捡挵㝦㉥扥㜸ㅦ愵敤ㄷ晦攸㕡㡢ㅦ愰攴攴㑡戴ㄵ㈴㝤㕤捡㘹晣㤲㥢㌹㡢っ攱挸ㅦ㐵㈲ㄴ㤹挴㉡〶㠸㔸搹㜷ㄵㄹ昴㈵挰㘵摦〷㤰㠹晡收戸晦㤴捦㝥愴搵挴㉢㤲昴昰攴〳ㄷ㙤㍥搰㤵〵㉢昴捤㙥ち㠹㠱㉤昱㍢摡戶㠲㍥摦㘱散㕦㜹㈴㐲捣戱㘳搱㌷㔵㙡ㄸ㠹〲㘱〴㜶㉡改㠷㠰㔴ㅥ㡥ㅡ㝦晦戹㠶㈳ㄵㄵ㜸㐰㍤㐱㘳搲㤹㙣晣挹愸昱㝥㝣慦㈵摢㘴搴攰㔷收攵愸㌱改㔱㌶晥㐴搴昸敦晢㜷搵ㅢ㐷㜴ㄸ㡣㥣㈳㤱愴㔸挰昲㑣㄰晢㜶㥢㐷敤㥣㐱慤摡㘳〴挵㤴愷㌲愸㕣㤵㝡戵ㄷ搷㐴㕣㝣㍤㍤㡤㕢㑦戸ㅣ〲搱ㅢ晣ㄱ㠵㈹摣㠶㥡搴㝤ㅤㅦ㐷慦㈰っ敤㙡昲㡤㥤昳挶㡣㡢㠲㙥㘳捡挳㐹慢戲愹㐸〴㐶㐲㌶㠰敦㍡慥晡ㄴ㠳戲〱㡦㈸㜴愶昲㜶㐹㘷㉡㐵㠶㕢戲捡㐳ㄱ㘶㌳て㌵㘸㐶晢㌸㤰〳改㠸㤴ㄹ敤ㄳ㐸㠳昰っ敦㌱㘷〶挸晦㤲戹ㅦ㘶挵㈳㑣㍥㠵愴愸㤰搹㐹〷昹㑦㈳搹〹摢ㄵ㝦挴挲ㅢ慡㠸愱㘵㔷慣攰㡦㘲晣攲〷戶慡㥣㡢愶㡣ㄳ㤳昶ㄹ㜶晢㉣㤲㉥戸㜶㤵㤰ㄴ㡢摡愳㈸㠹㑦㑤昱㈱愷晥ㅣ㉢㍥捦攴ぢ㐸㡡㌹㉥㜹挳戰攳捥㍡搴㕦㕦㐴㔷㠵〰攱ㄸ摡㘳㘱㠶㉦㌹㐲攳扤敤敤㘸ㅥ㤳愳て晦ㄱ〶㑤㝣攱㝦ㅢ扥搸㕦攵愶扢昰〷㑢㜲搲攸捦慡敦改㙣㉣戲〲敤㜵昹㘳〳搸㙦㘰ㅣ敥慢ㄱ㕤攱㠸㔴㉤〵㌵慦㄰敢摣戰㘲㘱〶捥㜲㐸㔶㈸ち㈹㐱㔶㔴挳ち㉡㉥敤㉢㙣㑡ㅣ㝦㥣㙦㡦昳㡤愸㤵㐰晣㙡㤸攱㡢㐲扣捡敥㑢㘱昷㘸㐲攲㕡㔶㉣㌶㑤㐸晣换ち㈳㍥攱搷㌸㤸㐴ㄶ㌲㐹摤㐴愴㘵㔹晡㌴㤲扥慥㝥慥㡤扡㔴㍤愷㤴㑦㔷㑥㥦晥㔷㝦㜶㘸㜷昶㠳户昶㍥昱昲㙦㕥昹搲㑢昷ㅥ晡敢扦㥦㝡敡愵㍦㝦改㠵㝦晦㜴攱搰慦扥昹捤㕦㝥攰㤹ㄷ㕥搹㙥㝣㕤㝤敥㕦搳㕦㝦㜰昴捣㠳昷ㅢ㈷慦㍢晡攰摤昷摤㌱㍡㝢搱㜰㔷㔷㜷昷㌵㠳扦扥昴摡㠱㠷敥晦㤱昲戳㍦㕣㘲㉢㜲扢㥣㌰㙥㘵っ㜰摢㜲ㄹ捦㈰㠳㘵㜰挵㙦改㌲戸㕤〹愸搳㈱愰挶㔱㔰㠰扦㠳ぢ㤰ㄵ愵㘴㐵捦㝦〰㐷㌱戸㜵","㜸〱敤㕣㕢㙣ㅣ搵ㄹ摥ㄹ敦慥㜷搶㜶㙣攲〴〸㔷㜳扦㌸㌵㜱㈰摣摡㌴昸㐲ㄲ㐳㉥〶㍢愱戴戴㥢昱敥ㄹ㝢挸捥㡣㤹㤹㜵㘲㡡㔴愰搰慡㐵昴㠲㕡㉡㈸〸㑡搵㑡㝤愱㐲㤵戸戴㝤愹㕡愹ㄵ〵愹て昴愱㔲ㅦ㈸慤摡㠷㔶㈸㔲㕦㜸㐰愲摦㜷㘶㘶㜷㘶搷㍢㌶ぢ戴愶昲㈴㍥㍥㜳敥攷扦㥦晦㍦攳㡣㤲挹㘴摥挳挳摦㝣戲捣㥣㌳戳散昹挲ㅡ㤹㜰慡㔵㔱昶㑤挷昶㐶挶㕣㔷㕦㍥㘰㝡㝥ㄷㅡ攴㑢㈶敡扤㕣挹㌳敦ㄵ㠵搲㤲㜰㍤㌴捡㘵㌲㠵㠲愶愲㥥㠳昰㘷㈰㝡搱搸慢㌷㡢㘴㜶㘲晣昰摣摤ㄸ㜵挶㜷㕣戱㝤攸㘸搰㜷昷攸攸挸攸挸㌵搷㡤㕥㍢戲㘳晢搰㐴慤敡搷㕣戱摢ㄶ㌵摦搵慢摢㠷愶㙢㜳㔵戳㝣慢㔸㥥㜵㡥ぢ㝢户㤸摢㜱昵㥣㝥捤昵愳搷散摡㘵摣㜰挳昵扤㤸㍡㜳㘸㘲㝣摡ㄵ㠶昷㈱㡤㤹攳㤲慦㤹ㄴ㘵㤳㝢ㄳ挲㌵敤昹㤱㠹㜱晣㡦慤ㅦ㙦搷㡤捣㉣〸攱㜳㙡攱ち扢㉣㍣つㅤ㝢慣㌱捦慢㔹㡢〴㥥㘶敤挵㔶换扡攷攷慣〹㔱慤㙡㔶㌴㙡挱㍡っ搸㔵昵攵㕥㙢㐶搸㥥改㥢㑢愶扦㥣户㘶㌱㔰愵捦㍡攲㠹摢㜵㝢㕥ㅣ搲㉤㤱戳昶搵捣㑡㌶㜸㌲㕤㤷㐵㐳挴ㄷ㈶户㍦㌲收㔹ㄳぢ扡㉢㔷攴ㄱ㌰㈹㙤昷扡攵㘴摢㡢摡㡦换愵换ㄹ㌸收㈵敤摢愱收愸敥搶㕢づ户㙦ㄹ㙥㍥戹㠲慢摡户㡦挱㈸搹攷㡡昶㝤㈴㈸㤳慤㤵㥥㤰扥㈵㐴戱ㄹ㉤捦愴㥢㐹㠱〹ㄱ愸ㄵ㤹昴㌰改㐵愲㘴晦つ㉥㠹㜷㘴㤵㕡搲搵搲㥣㕡㉡慢愵㡡㕡ㄲ㙡挹㔰㑢昳㙡㘹㐱㉤㤹㙡改㙥戵㜴ㅣ㙤愲愷搰摤慤㠶捦慢㉦晤晥改㌷戴敡搴㌳慦㥦晤昶ぢ㝦㜵敥散摤㠴㐶户㠵㡢㥡㜴昵ㄳ㈰戵〶ㄵ敦ㅣ搹挱㝦慢㜳〵㤸挲搸㘵㕣㘷㡣㡥㔶㜶敤搰慦搶㜳摣㔶ち昲ㄳ㠴㌲㠰戶扤挶ㅤ愶㕤㜱㑥㐸摣㥤㌳慥㝢愲〱戸攱戰㙥摣愹搹ㄵ敦散㤵㉢㘷㝣摤ㄷ㘷㌵搷㌵〶㘹改㌶〳戶ㄲ㥥㥣敦扣收㙥㐷昵㙡㑤㡣㥤㌴㠳敡㜳㥢慡慤㘹搷㤹㙢㕦扢搷ㄵ昷搴㙢㕢㔶㌴〶愱戶㈴挷㙥搹㘵㔰ㄵ慣㙢㘸㘲挱昱㠴㉤㤷㌷㙣㑤㥢攵攳挲㥤ㄱㄴ㠹愲㈲户扡㤵㔵㈱搷てㅦ戶戱㔱㜰㙢攵挲㜸愹㜱昳㐹ㅦ捣㉣㉡㔸敦愲㜰晤攵㔹㝤慥㉡㑥㑦㌴〹收㐴挵戶㐴昱㕥愷㕣昳㈶ㅣ摢㜷㥤㙡戲㘶慣戲愴㐳搲㔴づ㍡ㄵ㤱捤㘶愴㔰㠰挰敤敡㔲㤴捣㤵敤㜹㐱㈲㈲㠶㘲㌲昲㤹㐹戲ㅢ戹ㅤ扢挳㉥慡㠲㌴愹㕥扣捡㘰㕣慦㤴㌱㈹ㅣㄸ摢ㄳ昵〷㈷扤㝣㤵㘱敢㤸晢㘸ㅢ慢敡㘰戸晢㥢㤷㠴敤敦搷敤㑡㔵戸愹摡㑦攱㡡戴㝥㈴戹㔳㄰〸㙤愱㐷㔵愷㥣㔴㤶㜳㈷捣㡡扦㤰㕦㄰收晣㠲㡦㌲㘸挸㐲㠱愰㙤㜹戴搳㔰愴㙤㘶㌲㠸愴㔸捣攴户戰㔱扥㠸㈷㤳愳㜴㑡攱攵㠴㈰㘷扦〴㉦昷ㅡ㝢捤慡㉦〲愱摣㙦〰㈳㠱㔶㤳攸敢㈳㠹扡㝡㌹㔰ㄸ㕢㡣〹㔰愹㙥摡晥㜲㠳㙦㕢戸㈴㈰愲つ㔹戰敥㘴〱㐵㐱㔲ㅥ愴昰ㅡ㠸愶㐹ㅡ愴㌷㡥ㄱㄱ搹㈰㐵戳㘳攴㈴㤱戱㝤㡡㡣㐰晢㌸ㄱ戲昵㡥昶㌲㠲挴摥㑡愴散搴㤶ㅦ㌷愴搹㑡戶㝣㈰捤戶〲㜰摡改㑣捥㘰㜲㈶㤳㙤㐸㤴扦㐳挲㔱捡㈱㥦㝣戴戳昱慥㥤挳攴㕣㈴㤰㑦ㅡ㘵㑥㈸慡㘸㐳慤挵㡥㘴扢㍥搸挹搲㈸づ㐴ㄱ㉤攳扡㥤搹㘷㐹㐴㠷㔶攷晡搰戵㔹愹㘳㉦㙤㑦㥢昱敤㤰㈲㔳㥡挶昷扡㑡搳㌸㈰搸戴㐳扤㜵㍥扡㙡㐳㑣㉥㐰㔲搴㉥㘴ち攵㐲㠳㜷㙤ㄶ㍤㑤捡㡦㠵㔹ㄴㄸ㐳ㅤ㉡昸㤰㤰㜹〴㐸ㄱ㜲㉤挷㤷つㅢ㥡收攰戰昱戱户愱户户攷敦㄰改㑤㝡㜳㐳敦搰㕦昴㍥慤攸㡢挰㕥捡㥦摢敡㤸㑢㔰慤㕤捡攴㌲㈴㑤㍡㠶愷敦昷敢㈹㤰㘶戱ㄵ挳摣㘶㝡㕤愴㤵㍢扢扣㈸愴〶敡㌵㘶㜵㜷㕥昸昰㘰㑣㑤挲ㄶ㜶㕣㔷㔴㜱愸慤挸〲㥥㕦捥㐸ㄶ㝡㝢㕤挷㘲昹㠶㡤散㝤㉣ㄴ㐳㌶慢㜶㘵㥡㙣攴ㄴ㕢㌳收㜳㡡㔱づ㜵昰搵敤㠵㐴慣㔳㤲扣搸㉦晤㝣戹㈱㐹㍡㤰㈴㔷〰慣摡㤵㐸㈰㈵㤴㍦戶㤵㈸摢搹散ㄳ戲㔹搲㘲愵㠷㉦攵㜴搲攴㐳㙣㤱㈳㍤㠱挳㜶ㅣ晥〳慦捦㥡㌱慤扡戰攸戱愶㠵㕢㠶㙦挱慣㡡㘲攰㤶愵愸搹㤰ㄵㅦㄳ㔹搱搵搵㜲㥥㑥昱慦㐹㍡㘹㤲ㄲ愹摣㥥㕡㤹㜲ㄶ㙦㄰ㄵ摤㤰ㄴ㉡㈹慥愱扡〴㈲攵戱敤㠶㠸改㐰挴㕣〵挰㘹㍢㤸㡣㌲搹㠹㈴昷㍡㈴捤㕡〱捦㜰㔸昷ㄲ㕤摡愵㔲愶㐰㌴㐸ㄷ攱㙢㙤㠵搵㉥㑥㜳㉤㤳敢㤰㌴㤹㍦㜴㐰愶㄰愲㐴㜹㡣㄰㘵ㄸ挳㌸㙡㡡ㄳ愴㠱㑤〶〲㑢ㄳ㌵捦㜷㉣㐶㤶晡㡣㐹攷㤰攳㑦㥡摥㈲㈲㔱㠳㐶㤸戹㘳㐱搸愰㉥ㄷ戶㑦㔳㤹戳戸㈸㉡㥡㌱攳搴㈰摡愶㈶搷挳挱ㅣ攰㠰㉤㈹捦收慡㠲愷戳昳㌱㠶㔰〰㘹改㙦愵㌷㜶㑤摥㙦ㅥ晡晡ㅢ㄰㥤㌵晤慡攸㌱〲愶㘳扥㘰〰㡡㠸ㅣ㔴扡㡤搹〵㔷㠸挹㍥㘳㥦㙢㔶慡愶㉤㠸っ搸㤸っ搶ㅤ㄰昳㠸ㄲ㑣㍢㡣〱㍡㜶㥦㌱敢敡戶户愸㌳愰戸扣㌹昱㈶挳㈲㌹㘳摣戴㍤㑣㈳戱挸㝣扦㌱戳攰㥣㐰挴戶㘶搹晢昴㐵㙦㕤㘰㠵㐴ㅦ㍣ㄲ㌵㡡慡愸慡㔲㔰ぢ㥤攲㠷〷昲㑣㠶扣㤷㘵㈲㜱㤵挹搱㘷㥥愲扤㘹搷㠷㌱ㅡ摡改㕣㔳㉦愲㐷昵挲慥㔴㈹㑣㑥搵㙥㘰㥦ㅢ㤱摣戲敦挸㔴㈳㌲昷㠱㘲搶㌹㝡昹㔳㘴扣㈴㡢㝡㈰㠴㍥扡㑤〱愹戰㡣㤴〳づ〴挶昹搶㑣㝥㐵㐳戶㈱昵㙤㙡㘴昷㈲㤲搴㙢ㅣ搰攷㐴ㄵ昱㘸㑢昷㌷〵㉦㌴㘳㉤扤敡㠵㜵ㄳ㡥㘵改㈴㉤㤲攵㑣㔹㈷〵㡦搵㝣攷愰㘹㙢〶ㄲ㐹㝦㘱㤱㝥ㄲ㐵晡㐹㔹搴㙢摣捥搰愰捣㜳㉣㘷㕥㜷㑤㝦挱㌲换〵扥㌰㝣户㉥㘸ㄲ㑣㑥挹ㅢ㍤㤱捣ㄸ㙡戲收㡦挰㘴昳㐶㠰敥ㄱ挸㔱㠲㡥攸〷攵慡㑡ㅥ晦㤴づㅤ㑢㄰㌰搲㔳慡㝤ち愳攵攴敤〸㠸ㅣ昹㥣㡡敥㘰㥣晡ㄲ㑡〲㈱㐴慣愷㤰〸扣㠲㌱㈱㑦ㄷ㜷摥㌸㘲㥢㍥戰㐷㡣敤㌵晤㐹て㈸㐷㠲慣㍣摥㥥㈵戱ㅡ敢㌴㕣搷ち攷户㔶㈵搴挴㜹慤昵㜱扤㜱昱ち搵㠱㐶㠹㈹㤲搵ㅡ㐹捤戲挲ㅡ搷㤳慡㔱愴攲㡥戴㡤㤲收㌶㙤挰㥤㔲攴〳㈸㈶㐹㌳ㄹ敤搳㤲㔰㄰攸つ㜵ㄴ㝤昶改攴ㄱ㡢搸搰〶㈸㔲㑦〵㘵㝤㘱㐸㜰ち搷㑥㉡愲ㄸ扥㠱扦㌷㠵搹挳㌵㍦㔱愳㥦ㅣっ㙢挶慡搵挳㌶慣㠴戲敥㔶搶〹㑢㘳㙦㠱㠶㤱摣搹㤹昶㡦㤴㔵㡣ㄱ攱㈲摦㐳戰挱㐵捥搰㐸㡡㉦ㄸ慣〸〶㡢㐵㔵㘹愱昵ㄱ摣昵攲〲摦づち摤㤶㔸㤸昱㉢㤳㘲㐹㥡㘲つ㙢㝥㔰㜶愸㥦ㄸ愵㉣搵㡣戱㌹て㙡摤愷㉣て㜳㤲挹㌵攳㜶扡愶㜰㤱〱愲㌷捣㑤㤷㝤㠴㜷敢〳昰㜴戰㝥㌰〴㠸〴攱ㄳ㕡㘸㤴愲昹ㄴ攲㑤㙥㠲晣搳ㄹ㔶㜹て捤㤰捦摢㝢㤴㈷㥦攰昳㤳㍤㤹㈸ㄳ㌲ㄲ㐳㕥㈹ㄶ〴㤰ㅢ㡦㑥㤲㤳〶愳愰㜹㈰摤愴攰敡㡤捡㘸㘶昴搱散㜳㝤摣攴㘱㍣慢㥦慣㔳挵㕤㌷摦㠴㐶慤㉥㙦㌲愶散㜲戵㔶ㄱ㔲ㅤ㐷昲㕡㙡攵㜵㠱㉦㜹つ㌰攰愸ㄴ戸㠴㐰㤹挲㜱㡡㕢㈶㤲㍡户扤戵㥢搰㕤ち㍡㡣ㄱ愸㍦〶㈱㔳㕣㜳㌲㈸搶㜲㔷㠱㌶攲收挶㈵〶㜹㠱づ㘲慤愵㠸昲散〰敥攴搵㈳挹㤲摢㘲捤づ㌸〷ㅣ摡敤戱愲晤㘶㔰戴㉥㜰㠴㝤〶㐲㉦㥦㠷㐱搲㈱㜷㜰㤰捣愹㌰挲㝢敡㑢昲㌵㜳ち㐲㑦㘲㐰㘱㥣㤷㈷愱っ愰ち㐶愲搱慤㌶㉣㙦㠵ㄱ㘰㕡摦摡㌸ㄲ㠵愱㘰ㅡ戵㘸ㄹㄸ㌹㤳挸慦㙥攴㥣㡦㔶㈹㔱搲㜸㐰㤵㜱捡㐱㌸敤㠱㌴㜰ㄳて搳戳づㄴ㤱扦㐵㕥づ㡢敥㈷づ㕢㌸〶㌹敥改㑤㠵搳扡㡦㉢㌰昶戶愶攲戱㑡㠵㈶㉦㝣㜴敢〲慢戸扥ㄱ㤸愴㕢㥡㉥㘶挹㍤搱挶扢愸愹㈲扣㌰戸㜳㜲㘴扦敥㤷ㄷ㘶晣攵攰昲㔶愷㈴㤱晢〵㝣ㄲ㉢捥㑥扢㌹㙢昳㌲敡ㄲ㘱㕦㍣㙥㍢㈷㙣戹慥㥣挷㥢㝦搴愰㕡㜷㌷ㄷ㔹捣扣㠷㝦昲㔱㌳戹㥦㘳挴戵㉣㥢〳㌴㥣㈴ㅣ㐷㍥㠱㌴ㄸ㐲㍥㠵㑥㘰扦搷㙦づ㤰㑥戶㌴搱㠹ㄴ〴ㅢ㠴㘲捦㝦㘸㠴愲扣〲戴㤲㔸㠲㘳㌹㘰晥㘳戰扥昲㌲㑡㠸㜰扣㠷㘲㈴㜷〱㜲㈹愸㤳㠲㍣扣收挱㑢㈱晦㍦㔸㡡戸㜹㐵㜶晡㉦㌰戳昲㔲㌳㡡捥㈳㡡㕥㙣㐱㤱挲慢㈰㤲㝦㙦㐵㈶㝡㜲っ搱扥慦㘰㌸昷戴㜱〸晤挸㉦晤晥てて愱〷㐳攲㤰㌶ㅡ挲㙤㤷攰扤㙥㈲㜴戵㤸〸っ攰㑢ㄳ攱㄰㌲ち㈳昹㠱㠹㄰晡㐱愶㔱戰扡㠹挰昸㕥㡡㈱ㄸぢ户挶㕣ㅢ㍣㠱㥤㙥搱㐷戶ㅦ㤷㙦㠵㠷㤸㍥㤴㤶㌷〱慦搴ㄹ慤挵搳扡慢㕢摢㘴昹㍥㔷㐰㤹戹戳戸捤㉤扢戰挷㔹㉢搶挸㑥㉢昸㉢㈲㑦晢㠶㑦㘵㙤㜷搸㠱愹攰〹㕣昸㑡㐱挹㝦〰㙦㠹挲㜳㐳收㡢㕢㥥摦昷㤷㝢ㅦ摡挳ㅢ㙢㈱慤收慥㐴扥㤳戰㍤敤〹〴㜶㘳㤷㐵戶昲攳㥣㠳昸㑣挹㕣慣㡡㜱摤㤵㔶㤰愷㔹㔱㌶㈰扣ㄸ㘱〶挴户ㅥ㑣㑣摣㝤〸㑣捣㤱㈶㤷愷晣戸㐹扡〹㐷㘲ぢ㤷㝥扤㈸㜴愸戴㔵㘴ㅤ㕡㥢戹㥦㐲ㄵ扤捦㠵㈴慤㐴㥥㍡昹㈸捡昳捤扡㙥ㄷ㜵㕤㜰㤰㘱攸㍦㤲㔲㠸㐱㤰㐲攲〷ㄹ㕥ち㤰㔲㙡〶㤹ㅣ㘳㝤㈹搱戵收㌰㉦晤〱ㅢ㐲㐰搴㉦晥㜵昸㈱ぢ愰〸㉣㐶晥昸㑥㑦戴戴㐵㈳搵挴㜰慤戴㘹㘶㤱㤱㠷ㄷㄶ㡣㐶愵〹㑢㠷愷摡㌵扢愳㌸㐹㥦ㄵ〴摦〲挶捥㔹昴戵ㄵ慤㥢敤ㅡ㙥㝦㐰捦攴愵挲戰㌷戳ㄸ〷㔲ㄹ愷ぢ㥡ㄶ㠳㈲愶晤㐱戶摥愹㈷慣㠲捥戲户攱㔴㡡〰㈰扦ㄶ㘲晤㜰㘳攸慤捤㌵搴㜱㜶㌷㌶挸ㅦ搸㕦攷愵㌰㌶㘶㈵挷㐰挲慥愹㔵㈱戸㈲㝥ㄴ㕤愴㤵慦㘸㡤㉣攷㔲ㄴ挶愹㈳捥敡㔲㕢昴㍦㈳搸㤲戳敥㘰㙢㠶戲ㄳ晡晦㑥ㄴ慣慡晦㤵ㅢ搸ㄷ㍦摡㘷挳っ㕦㜲㡣愱慣ㅡ戶㈱㐴攰摤㐶〰㐷ㅥ㡣㌵㤹㘵搸㍢挸捤攰〳搶愰㕡㑡㜰昸扤戲捤搷㈳敡㝤㘹摢昶戴ㄵ㠰㡣て攵㝥〴ㄱ搴戶㝦㔲㙥㜱㌴㍥昹扢㤰㙣㌹㘸㤶㕤挷㜳っ㝦㘸〶㠱摦㈱㝥㝦㘶挰收ㄹ㔳㝥搸㉣搴㉥〲㈴㝡扦㠰㍥㠷づ㐳㘰ㅦㄲ晥㠷ㄵ㡦㘴㜴㘱㙤搱っ㝥㡢㌴㄰ぢ㌱㔱㍢㜸愷ㄹ户搵昴㉡㍥㕦㍤っ㕦愷捦愲㜵愱散〲㡦㜳昳㉤つ㠲づ昷戴㙥㠵㍦㐸㔴㐷㄰㈰㤳㕢昸摣攷〹搷㘶ㄸ㈴摢㠶㝢昳搸戲㌳㥦㕢㌱昷〳攰㜴㙤戳㈴㐹㠶㜳昲慢攴愲㜶㡣㈹㡣㙦㌸敡〲挶㐸挸戲㥢㔰扡㜶户㉤攷ㄸ〴昵㠷㥦㝡搳㍤㌶㕣㠵㔳㙤つ㜱昱㌹㑥㉦㝤㝦挸㘸㘵扥㐵㍦㤳挸㤰㐱㤵愷戰㔹戲〵昲㤹扣㐰搲㥥搶㥦㕣㠹搶〷愲慤㈹㍣㜹㤰㐸㡢捡ㄳ㘸㐸㈰〶挰㔸㘰ㄹ㠰㈱㑦ㄸ挸㙢㔱て攴㌳ち㑦ㄸ㜲㈱㡦愳㐳㝤㈱挷㔱摡㝥㈱摦㔹㘹㈱ち㙤〳敥㉦㌱晥㐰愴㕢㌴㥢㔵づ㤳㐵㈶昷㈰改愷戰愴〴捡〷〱㠷㔷㠸㉦㍣㝦〸㝦扦戹攷昵搷昸晣㙢㡦㈲挵㈳慡ㄲ㠳㉢ㄴ㡦㜲昱㡦挶ㄷ敦愳戴晤攲ㅦ㔹㘹昱〳㤴㥣㕣㠹戶㠴愴慦㑢㌹㠶㕦㜲㌳㈷㤰㈱ㅣ昹愳㐸㠴㈲㤳㔸挵〰ㄱ㉢晢㉥㈳㠳扥〴戸散㝢㉦㌲㔱摦ㅣ昷㥦昲搹㡦戴㥡㜸㐵㤲ㅥ㥥㝣攰愲捤〷扡戲㘰㠵扥搹㜵㈱㌱戰㈵㝥㐷摢㔶搰攷㍢㡣晤㉢て㐷㠸搹扦㍦晡愶㑡つ㈳㔱㈰㡣挰㑥㈵晤㄰㤰捡㐳㔱攳ㄷ㕥㙣㌸㔲㔱㠱〷搴ㄳ㌴㈶㥤挹挶㕦㡥ㅡ敦挴昷㕡戲㑤㐶つ㝥㘵摥㡣ㅡ㤳ㅥ㘵攳〷愳挶晦摣戹慤摥㌸愲挳㘰攴ㅣ㠹㈴挵〲㤶㘷㠲搸户摢㍣㙡攷っ㙡搵ㅥ㈳㈸愶㍣㤵㐱攵慡搴慢扤戸㈶攲攲敢改〳戸昵㠴换㈱㄰扤挱ㅦ㔱㤸挲㙤愸㐹摤搷昱㜱昴ㄲ挲搰慥㈶摦搸㌹㙦ㅣ㜶㔱搰㙤㑣㜹㌸㘹㔵搶ㄵ㠹挰㐸挸〶昰㕤挵㔵㥦㘲㔰㌶攰ㄱ㠵捥㔴摥㉥改㑣愵挸㜰㑢㔶戹㍦挲㙣收晥〶捤㘸て〰㌹㤰㡥㐸㤹搱ㅥ㐴ㅡ㠴㘷㜸㡦㌹㌳㐰晥㤷捣晤㄰㉢ㅥ㘶昲ㄵ㈴㐵㠵捣㑥㍡挸㝦ㄵ挹㔶搸慥昸㈳ㄶ摥㔰㐵っ㉤扡㘲〹㝦ㄴ攳搷㍦戳㔵攵㘴㌴㘵㥣㤸戴慦戱摢搷㤱㜴挱戵慢㠴愴㔸搴ㅥ㐱㐹㝣㙡㡡て㌹昵愳慣昸〶㤳㙦㈲㈹收戸攴㌵挳㡥㍢敢㔰㝦㝤ぢ㕤ㄵ〲㠴㘳㘸摦づ㌳㝣挹ㄱㅡ㥦㙣㙦㐷昳㤸ㅣ㝤昸㡦㌰㘸攲ぢ晦㥢昱挵晥㌲㌷摤㠵㍦㔸㤲㤳㐶㝦㔶扤戱戳戱挸ち戴搷攵㡦つ㘰㝦㠰㜱戸慦㐶㜴㠵㈳㔲戵ㄴ搴扣㐲慣㜳挳㡡㠵ㄹ㌸换㙥㔹愱㈸愴〴㔹㔱つ㉢愸戸戴敦戲㈹㜱晣〰摦ㅥ攷ㅢ㔱㉢㠱昸扤㌰挳ㄷ㠵㜸㤵摤ㄷ挲敥搱㠴挴戵慣㤸㙦㥡㤰昸㤷ㄵ㐶㝣挲敦㜳㌰㠹㉣㘴㤲扡㠹㐸换戲昴㘹㈴㝤㕤晤㕣ㅢ㜵愹㝡㔲㈹ㅦ慢ㅣ㍢昶㑥㝦㜶攸慣散㘷㙥敡㝤攲捤㔷摦㝡散㡤扢㜶晦攳摤愷㥥㝡攳㙦㡦扤昶敥㉦攷㜶晦昶戹攷㝥㜳换㌳慦扤戵搹㜸㔶㝤昱㥤〳捦摥㌷㝡晣扥㝢㡣㈳㔷敥扢敦捥扢㙦ㅢ㥤㍥㙤戸慢慢扢晢戲挱摦㥤㜹昹挰晤昷扣慣晣敡㑦㘷搸㡡摣㉥㈷㡣㕢ㄹ〳摣戶㕣挶㌳挸㘰ㄹ㕣昱㐷扡っ㙥㔷〲敡㔸〸愸㜱ㄴㄴ攰敦攰〲㘴㐵㈹㔹搱昳ㅦ挷㜷戸扥"]
["Decisioneering:7.0.0.0","Decisioneering:7.0.0.0","Decisioneering:7.0.0.0","Decisioneering:7.0.0.0"]

{"sheet":"Data","index":1,"n_rows":102,"n_cols":21,"rows_kept":102,"cut":false,"hidden":false,"merged":[[18,4,18,5],[13,4,13,5],[16,1,16,2],[5,4,5,5],[4,4,4,5],[3,4,3,5],[6,4,6,5],[15,4,15,5],[11,4,11,5],[12,4,12,5]]}
[]
[]
[]
[null,"Variable","Value",null,"Sales are expected to start after completion and: "]
[null,"Remaining development project cost as estimated today ($)",15,null,null,null,1]
[null,"Investment per Year",{"$f":"C5/C9","v":4.2857142857142856},null,null,null,null,null,"Sales are expected to continue after patent expiration",null,null,null,null,null,null,null,null,null,null,null,{"$f":"Model!I21","v":26.00999232894516}]
[null,"Development time as estimated today (in years)",3.5,null,null,null,null,null,"Sales are expected to continue for a limited number of years after completion"]
[null,"Annual probability of failure (%)",4.7500000000000001E-2,null,"Time to patent expiration (in years) ",17]
[null,"First expected annual cash flow as estimated today ($)",3.5,null,"Market share after patent expiration (%)"]
[null,"Annual drift in net sales (%)",6.8500000000000005E-2,null,"Years of exploitation after completion",7]
[null,"Risk premium (%)",2.35E-2,null,null,null,2]
[null,"Discount rate (%)",0.05,null,"Select whether you want to: "]
[null,"Industry"]
[null,"Frequency of evaluation",{"$f":"IF(B49=1,4,IF(B49=2,2,IF(B49=3,1,)))","v":2}]
[null,"Risk tolerance coefficient ($)",25]
[null,"NPV",{"$f":"+Model!BOW28","v":11.275426896799406},null,"If you chose the first option: "]
[null,{"$f":"IF(F8>20,\"Time to patent expiration should be lower or equal to 20\",IF(C14*F8>80,\"Choose a lower frequency of evaluation. (The time to patent expiration by the frequency of evaluation - 12 for monthly, 4 for quarterly, 2 for semmiannaully and 1 for annualy - should be lower or equal to 60)\",\" \"))","v":" "},null,null,"Volatility of the industry",{"$f":"IF(B84=1,C69,IF(B84=2,C70,IF(B84=3,C71,IF(B84=4,C72,IF(B84=5,C73,IF(B84=6,C74,IF(B84=7,C75,IF(B84=8,C76,IF(B84=9,C77,IF(B84=10,F18))))))))))","v":0.34}]
[null,null,null,null,"Other/manual"]
[null,"Recommendation (CE and Maximum Tolerable Loss)",{"$f":"Hoja1!A13","v":"Invest in the project"},null,"If you chose the second option:"]
[null,"Project Value ",{"$f":"+Hoja1!J6","v":14.811475476920823},null,"Volatility of costs",0.34]
[null,"Probability of a Positive Project Value",{"$f":"+Hoja1!G3","v":0.66335403726708086},null,"Volatility of cash flows",0.20399999999999999]
[]
[]
[null,"Interval","Probability"]
[null,{"$f":"(\"[\"&J52&\", \"&J53&\"]\")","v":"[22.5, ∞]"},{"$f":"H53/D56","v":0.40246913580246912}]
[null,{"$f":"(\"[\"&J51&\", \"&J52&\"]\")","v":"[18, 22.5]"},{"$f":"H52/D56","v":5.3086419753086415E-2}]
[null,{"$f":"(\"[\"&J50&\", \"&J51&\"]\")","v":"[13.5, 18]"},{"$f":"H51/D56","v":6.6666666666666666E-2}]
[null,{"$f":"(\"[\"&J49&\", \"&J50&\"]\")","v":"[9, 13.5]"},{"$f":"H50/D56","v":5.3086419753086415E-2}]
[null,{"$f":"(\"[\"&J48&\", \"&J49&\"]\")","v":"[4.5, 9]"},{"$f":"H49/D56","v":5.6790123456790118E-2}]
[null,{"$f":"(\"[\"&J47&\", \"&J48&\"]\")","v":"[0, 4.5]"},{"$f":"H48/D56","v":2.716049382716049E-2}]
[null,0,0]
[null,{"$f":"(\"[-\"&E48&\", \"&E47&\"]\")","v":"[-3, 0]"},{"$f":"D48/D56","v":0.12222222222222222}]
[null,{"$f":"(\"[\"&-E49&\", -\"&E48&\"]\")","v":"[-6, -3]"},{"$f":"D49/D56","v":8.1481481481481474E-2}]
[null,{"$f":"(\"[\"&-E50&\", -\"&E49&\"]\")","v":"[-9, -6]"},{"$f":"D50/D56","v":9.3827160493827153E-2}]
[null,{"$f":"(\"[\"&-E51&\", -\"&E50&\"]\")","v":"[-12, -9]"},{"$f":"D51/D56","v":3.7037037037037035E-2}]
[null,{"$f":"(\"[\"&-E52&\", -\"&E51&\"]\")","v":"[-15, -12]"},{"$f":"D52/D56","v":3.7037037037037034E-3}]
[null,{"$f":"(\"[-\"&E53&\", -\"&E52&\"]\")","v":"[-∞, -15]"},{"$f":"D53/D56","v":2.4691358024691358E-3}]
[]
[]
[]
[]
[]
[null,null,{"$f":"C5/5","v":3},{"$f":"ROUND(C43,1)","v":3}]
[]
[null,"Quarterly",null,null,null,null,null,null,{"$f":"N45/5","v":4.5149999999999997},{"$f":"I45","v":4.5149999999999997},null,null,null,{"$f":"(C7*(F8-C9)-C5)*0.7","v":22.574999999999999}]
[null,"Semiannually",{"$f":"IF(Hoja1!$B$3<0,1,0)","v":0}]
[null,"Annually",null,null,0,{"$f":"IF(Hoja1!$B$3=0,1,0)","v":0},null,0.19500000000000001,null,0,null,9.8360624551116338,{"$f":"L47/100","v":9.8360624551116341E-2},{"$f":"ROUND(M47,1)*100","v":10}]
[null,null,{"$f":"IF(AND(Hoja1!$B$3<0,Hoja1!$B$3>-E48),1,0)","v":0},9.9000000000000005E-2,{"$f":"D43","v":3},{"$f":"IF(AND(Hoja1!$B$3>0,Hoja1!$B$3<J48),1,0)","v":0},null,2.1999999999999999E-2,null,{"$f":"ROUNDDOWN(J45,1)","v":4.5},null,{"$f":"+Hoja1!J7","v":-17.880493602959504},-0.17880493602959505,{"$f":"ROUND(M48,1)*100","v":-20}]
[null,2,{"$f":"IF(AND(Hoja1!$B$3<=-E48,Hoja1!$B$3>-E49),1,0)","v":0},6.6000000000000003E-2,{"$f":"+E48+$E$48","v":6},{"$f":"IF(AND(Hoja1!$B$3>=J48,Hoja1!$B$3<J49),1,0)","v":0},null,4.5999999999999999E-2,null,{"$f":"+J48+$J$48","v":9},null,{"$f":"+Hoja1!J8","v":-6.1163203346948549},-6.1163203346948553E-2,{"$f":"ROUND(M49,1)*100","v":-10}]
[null,null,{"$f":"IF(AND(Hoja1!$B$3<=-E49,Hoja1!$B$3>-E50),1,0)","v":0},7.5999999999999998E-2,{"$f":"+E49+$E$48","v":9},{"$f":"IF(AND(Hoja1!$B$3>=J49,Hoja1!$B$3<J50),1,0)","v":0},null,4.2999999999999997E-2,null,{"$f":"+J49+$J$48","v":13.5},null,{"$f":"+Hoja1!J9","v":-4.128298578276528},-4.1282985782765277E-2,0]
[null,null,{"$f":"IF(AND(Hoja1!$B$3<=-E50,Hoja1!$B$3),1,0)","v":0},0.03,12,{"$f":"IF(AND(Hoja1!$B$3>=J50,Hoja1!$B$3<J51),1,0)","v":0},null,5.3999999999999999E-2,null,{"$f":"+J50+$J$48","v":18},null,{"$f":"+Hoja1!J10","v":-2.089949811489284},-2.0899498114892841E-2,0]
[null,null,{"$f":"IF(AND(Hoja1!$B$3<=-E51,Hoja1!$B$3>-E52),1,0)","v":0},3.0000000000000001E-3,15,{"$f":"IF(AND(Hoja1!$B$3>=J51,Hoja1!$B$3<J52),1,0)","v":0},null,4.2999999999999997E-2,null,{"$f":"+J51+$J$48","v":22.5},null,{"$f":"+Hoja1!J11","v":7.0894031202017116},7.0894031202017121E-2,10]
[null,null,{"$f":"IF(Hoja1!$B$3<=-E52,1,0)","v":0},2E-3,"∞",{"$f":"IF(Hoja1!$B$3>=J52,1,0)","v":1},null,0.32600000000000001,null,"∞",null,{"$f":"+Hoja1!J12","v":14.810011910474158},0.14810011910474158,10]
[null,null,null,null,null,null,null,null,null,null,null,{"$f":"+Hoja1!J13","v":23.059757358961008},0.23059757358961008,20]
[null,null,null,null,null,null,null,null,null,null,null,{"$f":"+Hoja1!J14","v":29.312163366730115},0.29312163366730115,30]
[null,null,null,{"$f":"SUM(D48:D53)+SUM(H48:H53)","v":0.81},null,null,null,null,null,null,null,{"$f":"+Hoja1!J15","v":39.19437092226412},0.39194370922264121,40]
[null,null,null,null,null,null,null,null,null,null,null,{"$f":"+Hoja1!J16","v":54.882254805982654},0.54882254805982655,50]
[null,null,null,null,null,null,null,null,null,null,null,{"$f":"+Hoja1!J17","v":147.00313374779836},{"$f":"L58/100","v":1.4700313374779836},150]
[]
[]
[]
[null,"1/T",{"$f":"1/C14","v":0.5}]
[null,"Volatility of Cost",{"$f":"IF($G$11=1,$F$17,F20)","v":0.34},null,"Take the same volatility value for all volatilities (industry's average)"]
[null,"Volatility of Periodical Investment",{"$f":"IF($G$11=1,$F$17,#REF!)","v":{"$error":"#REF!"}},null,"Take different volatility values for all volatilities (manual)"]
[null,"Volatility of Expected Cash Flows",{"$f":"IF($G$11=1,$F$17,F21)","v":0.20399999999999999}]
[null,"Volatility of the Market Share",{"$f":"IF($G$11=1,$F$17,F23)","v":0}]
[]
[null,"Industry","Yearly MAPE","CAPM"]
[null,"Chemicals (agricultural, industrial and consumer use)",0.41110000000000002,{"$f":"+E90","v":0.10102800000000001},{"$f":"IF(B84=1,D69,IF(B84=2,D70,IF(B84=3,D71,IF(B84=4,D72,IF(B84=5,D73,IF(B84=6,D74,IF(B84=7,D75,IF(B84=8,D76,IF(B84=9,D77,IF(B84=10,F18))))))))))","v":8.6435999999999999E-2}]
[null,"Automotive",0.46,{"$f":"+E99","v":9.9204000000000001E-2}]
[null,"Computer & Technology",0.17,{"$f":"+E98","v":9.9204000000000001E-2}]
[null,"Consumer Products",0.48,{"$f":"+E91","v":9.9204000000000001E-2}]
[null,"Food & Beverages",0.19,{"$f":"+E90","v":0.10102800000000001}]
[null,"Healthcare",0.3,{"$f":"+E92","v":9.6467999999999998E-2}]
[null,"Industrial Products",0.4,{"$f":"+E91","v":9.9204000000000001E-2}]
[null,"Pharmaceutical",0.34,{"$f":"+E101","v":8.6435999999999999E-2}]
[null,"Average / Overall",0.28999999999999998,{"$f":"+AVERAGE(E90:E102)","v":9.4339999999999993E-2}]
[null,"Other / Manual"]
[]
[]
[]
[]
[]
[null,8]
[]
[]
[]
[]
[null,"Industry","Annual Std Deviation","Betas","CAPM",null,"Tasa Libre de Riesgo",null,null,"Mercado"]
[null,"Chemicals (agricultural, industrial and consumer use)",0.2152278899933345,1.07,{"$f":"$H$90+D90*($J$90-$H$90)","v":0.10102800000000001},null,null,{"$f":"C10","v":6.8500000000000005E-2},null,9.8900000000000002E-2]
[null,"Industrial Machinery, Equipment & Products",0.18649904955860921,1.01,{"$f":"$H$90+D91*($J$90-$H$90)","v":9.9204000000000001E-2}]
[null,"Health Care",0.192045284761692,0.92,9.6467999999999998E-2]
[null,"Energy, Power Supply",0.15147675210677836,7.0000000000000007E-2,7.062800000000001E-2]
[null,"Aerospace & Defense",0.19047298923083966,0.93,9.6771999999999997E-2]
[null,"Oil Exploration & Production",0.29593068329729943,1.24,0.106196]
[null,"Iron & Steel",0.2251527157418135,0.78,9.2212000000000002E-2]
[null,"Public Utilities",0.13489416839335047,0.45,8.2180000000000003E-2]
[null,"Technology (Excluding Telecommunications)",0.18953475579087795,1.01,9.9204000000000001E-2]
[null,"Transportation",0.21308604734769537,1.01,9.9204000000000001E-2]
[null,"Telecommunications",0.20644320333380847,0.99,9.8596000000000003E-2]
[null,"Pharmaceutical",0.13844988687979118,0.59,8.6435999999999999E-2]
[null,"Biotechnology",0.2204944919176188,0.98,9.8292000000000004E-2]

{"sheet":"Hoja2","index":2,"n_rows":198,"n_cols":2,"rows_kept":198,"cut":false,"hidden":true,"merged":[]}
[0.99,{"$f":"-LN(A1)","v":1.0050335853501451E-2}]
[{"$f":"A1-0.005","v":0.98499999999999999},{"$f":"-LN(A2)","v":1.5113637810048184E-2}]
[{"$f":"A2-0.005","v":0.98},2.0202707317519466E-2]
[0.97499999999999998,2.5317807984289897E-2]
[0.97,3.0459207484708574E-2]
[0.96499999999999997,3.562717764315116E-2]
[0.96,4.0821994520255166E-2]
[0.95499999999999996,4.6043938501406846E-2]
[0.95,5.1293294387550578E-2]
[0.94499999999999995,5.6570351488394351E-2]
[0.94,6.1875403718087529E-2]
[0.93499999999999994,6.7208749693450115E-2]
[0.92999999999999994,7.2570692834835498E-2]
[0.92499999999999993,7.7961541469711931E-2]
[0.91999999999999993,8.3381608939051138E-2]
[0.91499999999999992,8.8831213706615814E-2]
[0.90999999999999992,9.4310679471241415E-2]
[0.90499999999999992,9.9820335282211028E-2]
[0.89999999999999991,0.10536051565782641]
[0.89499999999999991,0.11093156070728179]
[0.8899999999999999,0.11653381625595163]
[0.8849999999999999,0.12216763397420766]
[0.87999999999999989,0.12783337150988502]
[0.87499999999999989,0.13353139262452274]
[0.86999999999999988,0.13926206733350779]
[0.86499999999999988,0.14502577205025788]
[0.85999999999999988,0.15082288973458377]
[0.85499999999999987,0.15665381004537698]
[0.84999999999999987,0.16251892949777508]
[0.84499999999999986,0.16841865162496336]
[0.83999999999999986,0.17435338714477791]
[0.83499999999999985,0.18032355413128173]
[0.82999999999999985,0.18632957819149362]
[0.82499999999999984,0.19237189264745624]
[0.81999999999999984,0.19845093872383845]
[0.81499999999999984,0.20456716574127454]
[0.80999999999999983,0.21072103131565281]
[0.80499999999999983,0.2169130015635739]
[0.79999999999999982,0.22314355131420999]
[0.79499999999999982,0.22941316432780537]
[0.78999999999999981,0.23572233352107011]
[0.78499999999999981,0.24207156119972886]
[0.7799999999999998,0.24846135929849988]
[0.7749999999999998,0.25489224962879031]
[0.7699999999999998,0.26136476413440779]
[0.76499999999999979,0.26787944515560147]
[0.75999999999999979,0.27443684570176058]
[0.75499999999999978,0.28103752973311263]
[0.74999999999999978,0.28768207245178123]
[0.74499999999999977,0.29437106060257784]
[0.73999999999999977,0.30110509278392195]
[0.73499999999999976,0.30788477976930068]
[0.72999999999999976,0.31471074483970057]
[0.72499999999999976,0.32158362412746261]
[0.71999999999999975,0.32850406697203638]
[0.71499999999999975,0.33547273628812974]
[0.70999999999999974,0.34249030894677629]
[0.70499999999999974,0.34955747616986876]
[0.69999999999999973,0.35667494393873278]
[0.69499999999999973,0.36384343341734532]
[0.68999999999999972,0.3710636813908324]
[0.68499999999999972,0.37833644071991218]
[0.67999999999999972,0.38566248081198506]
[0.67499999999999971,0.39304258810960768]
[0.66999999999999971,0.40047756659712574]
[0.6649999999999997,{"$f":"-LN(A66)","v":0.40796823832628337}]
[{"$f":"A66-0.005","v":0.6599999999999997},0.41551544396166629]
[0.65499999999999969,0.42312004334688558]
[0.64999999999999969,0.43078291609245473]
[0.64499999999999968,0.43850496218636503]
[0.63999999999999968,0.44628710262842003]
[0.63499999999999968,0.45413028008944589]
[0.62999999999999967,0.46203545959655923]
[0.62499999999999967,0.47000362924573608]
[0.61999999999999966,0.47803580094300036]
[0.61499999999999966,0.48613301117561974]
[0.60999999999999965,0.49429632181478067]
[0.60499999999999965,0.50252682095129619]
[0.59999999999999964,0.51082562376599128]
[0.59499999999999964,0.51919387343650791]
[0.58999999999999964,0.52763274208237254]
[0.58499999999999963,0.53614343175028123]
[0.57999999999999963,0.54472717544167271]
[0.57499999999999962,0.55338523818478724]
[0.56999999999999962,0.56211891815354187]
[0.56499999999999961,0.57092954783569683]
[0.55999999999999961,0.57981849525294282]
[0.5549999999999996,0.58878716523570329]
[0.5499999999999996,0.59783700075562118]
[0.5449999999999996,0.60696948431889375]
[0.53999999999999959,0.61618613942381772]
[0.53499999999999959,0.62548853208613131]
[0.52999999999999958,0.63487827243597028]
[0.52499999999999958,0.64435701639051413]
[0.51999999999999957,0.65392646740666482]
[0.51499999999999957,0.66358837831840178]
[0.50999999999999956,0.67334455326376641]
[0.50499999999999956,0.68319684970677808]
[0.49999999999999956,0.69314718055994617]
[0.49499999999999955,0.70319751641344763]
[0.48999999999999955,0.71334988787746567]
[0.48499999999999954,0.72360638804465482]
[0.47999999999999954,0.73396917508020143]
[0.47499999999999953,0.74444047494749688]
[0.46999999999999953,0.75502258427803381]
[0.46499999999999952,0.76571787339478181]
[0.45999999999999952,0.7765287894989974]
[0.45499999999999952,0.78745786003118767]
[0.44999999999999951,0.79850769621777273]
[0.44499999999999951,0.809680996815898]
[0.4399999999999995,0.82098055206983134]
[0.4349999999999995,0.83240924789345416]
[0.42999999999999949,0.84397007029453008]
[0.42499999999999949,0.85566611005772142]
[0.41999999999999948,0.86750056770472428]
[0.41499999999999948,0.87947675875144005]
[0.40999999999999948,0.89159811928378485]
[0.40499999999999947,0.90386821187559918]
[0.39999999999999947,0.91629073187415644]
[0.39499999999999946,0.92886951408101659]
[0.38999999999999946,0.94160853985844628]
[0.38499999999999945,0.9545119446943543]
[0.37999999999999945,0.96758402626170703]
[0.37499999999999944,0.98082925301172774]
[0.36999999999999944,0.99425227334386845]
[0.36499999999999944,1.0078579253996471]
[0.35999999999999943,1.021651247531983]
[0.35499999999999943,1.0356374895067229]
[0.34999999999999942,1.0498221244986794]
[0.34499999999999942,{"$f":"-LN(A130)","v":1.0642108619507791}]
[{"$f":"A130-0.005","v":0.33999999999999941},1.0788096613719318]
[0.33499999999999941,1.0936247471570724]
[0.3299999999999994,1.1086626245216129]
[0.3249999999999994,1.1239300966524015]
[{"$f":"A134-0.005","v":0.3199999999999994},1.1394342831883668]
[0.31499999999999939,1.155182640156506]
[0.30999999999999939,1.1711829815029471]
[0.30499999999999938,1.1874435023747274]
[0.29999999999999938,1.2039728043259381]
[0.29499999999999937,1.2207799226423193]
[0.28999999999999937,1.2378743560016194]
[0.28499999999999936,1.2552660987134887]
[0.27999999999999936,1.2729656758128898]
[0.27499999999999936,1.290984181315568]
[0.26999999999999935,1.3093333199837647]
[0.26499999999999935,1.3280254529959172]
[0.25999999999999934,1.3470736479666119]
[0.25499999999999934,1.3664917338237135]
[0.24999999999999933,1.3862943611198932]
[0.24499999999999933,1.4064970684374127]
[0.23999999999999932,1.4271163556401485]
[{"$f":"A151-0.005","v":0.23499999999999932},1.448169764837981]
[0.22999999999999932,1.4696759700589446]
[0.22499999999999931,1.49165487677772]
[0.21999999999999931,1.5141277326297786]
[0.2149999999999993,1.5371172508544775]
[0.2099999999999993,1.5606477482646717]
[0.20499999999999929,1.5847452998437324]
[0.19999999999999929,1.6094379124341038]
[0.19499999999999929,1.634755720418394]
[0.18999999999999928,1.6607312068216546]
[0.18499999999999928,1.6873994539038162]
[0.17999999999999927,1.7147984280919306]
[0.17499999999999927,1.7429693050586272]
[0.16999999999999926,1.7719568419318796]
[0.16499999999999926,1.801809805081561]
[0.15999999999999925,1.8325814637483149]
[0.15499999999999925,1.8643301620628954]
[0.14999999999999925,1.8971199848858864]
[0.14499999999999924,1.9310215365615679]
[0.13999999999999924,1.9661128563728383]
[0.13499999999999923,2.0024805005437134]
[0.12999999999999923,2.0402208285265604]
[0.12499999999999922,2.079441541679842]
[0.11999999999999922,2.1202635362000977]
[0.11499999999999921,2.1628231506188937]
[0.10999999999999921,2.2072749131897278]
[0.10499999999999921,2.2537949288246213]
[9.9999999999999201E-2,2.3025850929940539]
[9.4999999999999196E-2,2.3538783873816045]
[8.9999999999999192E-2,2.4079456086518811]
[8.4999999999999187E-2,2.4651040224918304]
[7.9999999999999183E-2,2.5257286443082658]
[7.4999999999999178E-2,2.5902671654458373]
[6.9999999999999174E-2,2.6592600369327899]
[6.499999999999917E-2,2.7333680090865129]
[5.9999999999999172E-2,2.8134107167600502]
[5.4999999999999175E-2,2.9004220937496812]
[4.9999999999999177E-2,2.9957322735540073]
[4.499999999999918E-2,3.1010927892118354]
[3.9999999999999182E-2,3.218875824868221]
[3.4999999999999185E-2,3.3524072174927468]
[2.9999999999999184E-2,3.5065578973200089]
[2.4999999999999183E-2,{"$f":"-LN(A194)","v":3.6888794541139691}]
[1.9999999999999182E-2,3.9120230054281868]
[1.4999999999999181E-2,4.1997050778799814]
[9.9999999999991797E-3,4.6051701859881735]
[4.9999999999991796E-3,5.2983173665482006]

{"sheet":"Model","index":3,"n_rows":195,"n_cols":1774,"rows_kept":69,"cut":true,"hidden":true,"merged":[[111,1,111,18],[24,1651,24,1668],[24,1673,24,1690],[24,1695,24,1712],[24,1717,24,1734],[24,1431,24,1448],[24,1453,24,1470],[24,1475,24,1492],[24,1497,24,1514],[24,1519,24,1536],[24,1321,24,1338],[24,1343,24,1360],[24,1365,24,1382],[24,1387,24,1404],[24,1409,24,1426],[24,45,24,62],[24,1739,24,1756],[24,1541,24,1558],[24,1563,24,1580],[24,1585,24,1602],[24,1607,24,1624],[24,1629,24,1646],[24,22,24,39],[24,177,24,194],[24,155,24,172],[24,133,24,150],[24,111,24,128],[24,89,24,106],[24,1299,24,1316],[24,749,24,766],[24,1,24,18],[24,727,24,744],[24,705,24,722],[24,683,24,700],[24,661,24,678],[24,639,24,656],[24,617,24,634],[24,595,24,612],[24,573,24,590],[24,551,24,568],[24,529,24,546],[24,507,24,524],[24,485,24,502],[24,67,24,84],[24,1189,24,1206],[24,1211,24,1228],[24,1233,24,1250],[24,1255,24,1272],[24,1277,24,1294],[24,1079,24,1096],[24,1101,24,1118],[24,1123,24,1140],[24,1145,24,1162],[24,1167,24,1184],[24,243,24,260],[24,221,24,238],[24,199,24,216],[24,463,24,480],[24,441,24,458],[24,419,24,436],[24,397,24,414],[24,375,24,392],[24,353,24,370],[24,331,24,348],[24,309,24,326],[24,287,24,304],[24,1760,24,1765],[24,771,24,788],[24,793,24,810],[24,815,24,832],[24,265,24,282],[24,837,24,854],[24,859,24,876],[24,881,24,898],[24,903,24,920],[24,925,24,942],[24,947,24,964],[24,969,24,986],[24,991,24,1008],[24,1013,24,1030],[24,1035,24,1052],[24,1057,24,1074]],"bounds":{"rows_first":31,"rows_last":7,"rows_between":31,"halvings":6}}
[null,null,"risk premium",{"$f":"Data!C11","v":2.35E-2}]
[null,null,null,"Value",null,null,null,null,"No abandonment",{"$f":"I114","v":27.292748969822568},null,null," "]
[null,null,"K",{"$f":"Data!C5","v":15},null,null,null,{"$f":"1.0198^20-1","v":0.4801309932001574},null,null,null,null," "]
[null,null,"s",{"$f":"Data!C63","v":0.34},null,null,null,null,null,null,null,null," "]
[null,"  ","I",{"$f":"Data!C6/D12","v":2.1428571428571428},null,null,null,{"$f":"0.36^(1/10)","v":0.90288045144743423},null,null,null,null," "]
[null,null,"g",{"$f":"+D4","v":0.34},null,null,null,{"$f":"1-H5","v":9.7119548552565771E-2},null,null,null,null," "]
[null,null,"C",{"$f":"Data!C9*D13","v":1.75},null,null,null,null,null,null,null,null," "]
[null,null,"a",{"$f":"Data!C10","v":6.8500000000000005E-2},null,null,null,null,null,null,null,null," "]
[null,null,"f",{"$f":"Data!C65","v":0.20399999999999999}]
[null,null,"l",{"$f":"Data!C8","v":4.7500000000000001E-2},null,null,null,null,null,null,null,null," "]
[null,null,"M",{"$f":"Data!F10","v":7},null,null,"Año de Terminación de Proyecto",null,null,{"$f":"MODE(P24,AL24,BI24,CE24,DA24,DW24,ES24,FO24,GK24,HG24,IC24,IY24,JU24,KQ24,LM24,MI24,NE24,OA24,OW24,PS24,QO24,RK24,SG24,TC24,TY24,UU24,VQ24,WM24,XI24,YE24,ZA24,ZW24,AAS24,ABO24,ACK24,ADG24,AEC24,AEY24,AFU24,AGQ24,AHM24,AII24,AJE24,AKA24,AKW24,ALS24,AMO24,ANK24,AOG24,APC24,APY24,AQU24,ARQ24,ASM24,ATI24,AUE24,AVA24,AVW24,AWS24,AXO24,AYK24,AZG24,BAC24,BAY24,BBU24,BCQ24,BDM24,BEI24,BFE24,BGA24,BGW24,BHS24,BIO24,BJK24,BKG24,BLC24,BLY24,BMU24,BNQ24,BOM24)","v":19},{"$f":"MODE(P24,AL24,BI24,CE24,DA24,DW24,ES24,FO24,GK24,HG24,IC24,IY24,JU24,KQ24,LM24,MI24,NE24,OA24,OW24,PS24,QO24,RK24,SG24,TC24,TY24,UU24,VQ24,WM24,XI24,YE24,ZA24,ZW24,AAS24,ABO24,ACK24,ADG24,AEC24,AEY24,AFU24,AGQ24,AHM24,AII24,AJE24,AKA24,AKW24,ALS24,AMO24,ANK24,AOG24,APC24,APY24,AQU24,ARQ24,ASM24,ATI24,AUE24,AVA24,AVW24,AWS24,AXO24,AYK24,AZG24,BAC24,BAY24,BBU24,BCQ24,BDM24,BEI24,BFE24,BGA24,BGW24,BHS24,BIO24,BJK24,BKG24,BLC24,BLY24,BMU24,BNQ24,BOM24)","v":19},null," "]
[null,null,"N",{"$f":"Data!C14","v":2}]
[null,null,"Dt",{"$f":"Data!C62","v":0.5},null,null,"Cuando se acaba antes de la patente",null,null,null,null,null," "," "," "]
[null,null,"T",{"$f":"Data!F8","v":17},null,null,null,null,null,null,null,null," "]
[null,null,"T*",{"$f":"Data!C9","v":3.5},null,null,"PV of Investments ",null,{"$f":"I22","v":9.7783807675050358},{"$f":"IF(J11=1,K27,IF(J11=2,AG27,IF(J11=3,BD27,IF(J11=4,BZ27,IF(J11=5,CV27,IF(J11=6,DR27,IF(J11=7,EN27,IF(J11=8,FJ27,IF(J11=9,GF27,IF(J11=10,HB27,IF(J11=11,HX27,IF(J11=12,IT27,IF(J11=13,JP27,IF(J11=14,KL27,IF(J11=15,LH27,IF(J11=16,MD27,IF(J11=17,MZ27,IF(J11=18,NV27,IF(J11=19,OR27,IF(J11=20,PN27,IF(J11=21,QJ27,IF(J11=22,RF27,IF(J11=23,SB27,IF(J11=24,SX27,IF(J11=25,TT27,IF(J11=26,UP27,IF(J11=27,VL27,IF(J11=28,WH27,IF(J11=29,XD27,IF(J11=30,XZ27,IF(J11=31,YV27,IF(J11=32,ZR27,IF(J11=33,AAN27,IF(J11=34,ABJ27,IF(J11=35,ACF27,IF(J11=36,ADB27,IF(J11=37,ADX27,IF(J11=38,AET27,IF(J11=39,AFP27,IF(J11=40,AGL27,IF(J11=41,AHH27,IF(J11=42,AID27,IF(J11=43,AIZ27,IF(J11=44,AJV27,IF(J11=45,AKR27,IF(J11=46,ALN27,IF(J11=47,AMJ27,IF(J11=48,ANF27,IF(J11=49,AOB27,IF(J11=50,AOX27,IF(J11=51,APT27,IF(J11=52,AQP27,IF(J11=53,ARL27,IF(J11=54,ASH27,IF(J11=55,ATD27,IF(J11=56,ATZ27,IF(J11=57,AUV27,IF(J11=58,AVR27,IF(J11=59,AWN27,IF(J11=60,AXJ27,IF(J11=61,AYF27,IF(J11=62,AZB27,IF(J11=63,AZX27,IF(J11=64,BAT27))))))))))))))))))))))))))))))))))))))))))))))))))))))))))))))))","v":9.7783807675050358},{"$f":"IF(J11=65,BBP27,IF(J11=66,BCL27,IF(J11=67,BDH27,IF(J11=68,BED27,IF(J11=69,BEZ27,IF(J11=70,BFV27,IF(J11=71,BGR27,IF(J11=72,BHN27,IF(J11=73,BIJ27,IF(J11=74,BJF27,IF(J11=75,BKB27,IF(J11=76,BKX27,IF(J11=77,BLT27,IF(J11=78,BMP27,IF(J11=79,BNL27,IF(J11=1000,BOH27))))))))))))))))","v":false}]
[null,null,"r",{"$f":"Data!C12","v":0.05},null,null,"PV of Cash Flows",null,{"$f":"IF(M20=-1,J16,IF(M20<J11,0,J16))","v":34.569281419070137},{"$f":"IF(J11=1,R27,IF(J11=2,AN27,IF(J11=3,BK27,IF(J11=4,CG27,IF(J11=5,DC27,IF(J11=6,DY27,IF(J11=7,EU27,IF(J11=8,FQ27,IF(J11=9,GM27,IF(J11=10,HI27,IF(J11=11,IE27,IF(J11=12,JA27,IF(J11=13,JW27,IF(J11=14,KS27,IF(J11=15,LO27,IF(J11=16,MK27,IF(J11=17,NG27,IF(J11=18,OC27,IF(J11=19,OY27,IF(J11=20,PU27,IF(J11=21,QQ27,IF(J11=22,RM27,IF(J11=23,SI27,IF(J11=24,TE27,IF(J11=25,UA27,IF(J11=26,UW27,IF(J11=27,VS27,IF(J11=28,WO27,IF(J11=29,XK27,IF(J11=30,YG27,IF(J11=31,ZC27,IF(J11=32,ZY27,IF(J11=33,AAU27,IF(J11=34,ABQ27,IF(J11=35,ACM27,IF(J11=36,ADI27,IF(J11=37,AEE27,IF(J11=38,AFA27,IF(J11=39,AFW27,IF(J11=40,AGS27,IF(J11=41,AHO27,IF(J11=42,AIK27,IF(J11=43,AJG27,IF(J11=44,AKC27,IF(J11=45,AKY27,IF(J11=46,ALU27,IF(J11=47,AMQ27,IF(J11=48,ANM27,IF(J11=49,AOI27,IF(J11=50,APE27,IF(J11=51,AQA27,IF(J11=52,AQW27,IF(J11=53,ARS27,IF(J11=54,ASO27,IF(J11=55,ATK27,IF(J11=56,AUG27,IF(J11=57,AVC27,IF(J11=58,AVY27,IF(J11=59,AWU27,IF(J11=60,AXQ27,IF(J11=61,AYM27,IF(J11=62,AZI27,IF(J11=63,BAE27,IF(J11=64,BBA27))))))))))))))))))))))))))))))))))))))))))))))))))))))))))))))))","v":34.569281419070137},{"$f":"IF(J11=65,BBW27,IF(J11=66,BCS27,IF(J11=67,BDO27,IF(J11=68,BEK27,IF(J11=69,BFG27,IF(J11=70,BGC27,IF(J11=71,BGY27,IF(J11=72,BHU27,IF(J11=73,BIQ27,IF(J11=74,BJM27,IF(J11=75,BKI27,IF(J11=76,BLE27,IF(J11=77,BMA27,IF(J11=78,BMW27,IF(J11=79,BNS27,IF(J11=1000,BOO27))))))))))))))))","v":false},"CF"]
[null,null,"Var mkt",{"$f":"D9","v":0.20399999999999999}]
[null,null,"Mkt. Share",{"$f":"Data!F9","v":0},null,null,null,null,null,null,null,null,null,null,null,null,null,null,null,null,null,null,null,null,null,null,null,null,null,null,null,null,null,null,null,null,null,null,null,null,null,null,null,null,null,null,null,null,null,null,null,null,null,null,null,null,null,null,null,null,null,null,null,null,null,null,null,null,null,null,null,null,null,null,null,null,null,null,null,null,null,null,null,null,null,null,null,null,null,null,null,null,null,null,null,null,null,null,null,null,null,null,null,null,null,null,null,null,null,null,null,null,null,null,null,null,null,null,null,null,null,null,null,null,null,null,null,null,null,null,null,null,null,null,null,null,null,null,null,null,null,null,null,null,null,null,null,null,null,null,null,null,null,null,null,null,null,null,null,null,null,null,null,null,null,null,null,null,null,null,null,null,null,null,null,null,null,null,null,null,null,null,null,null,null,null,null,null,null,null,null,null,null,null,null,null,null,null,null,null,null,null,null,null,null,null,null,null,null,null,null,null,null,null,null,null,null,null,null,null,null,null,null,null,null,null,null,null,null,null,null,null,null,null,null,null,null,null,null,null,null,null,null,null,null,null,null,null,null,null,null,null,null,null,null,null,null,null,null,null,null,null,null,null,null,null,null,null,null,null,null,null,null,null,null,null,null,null,null,null,null,null,null,null,null,null,null,null,null,null,null,null,null,null,null,null,null,null,null,null,null,null,null,null,null,null,null,null,null,null,null,null,null,null,null,null,null,null,null,null,null,null,null,null,null,null,null,null,null,null,null,null,null,null,null,null,null,null,null,null,null,null,null,null,null,null,null,null,null,null,null,null,null,null,null,null,null,null,null,null,null,null,null,null,null,null,null,null,null,null,null,null,null,null,null,null,null,null,null,null,null,null,null,null,null,null,null,null,null,null,null,null,null,null,null,null,null,null,null,null,null,null,null,null,null,null,null,null,null,null,null,null,null,null,null,null,null,null,null,null,null,null,null,null,null,null,null,null,null,null,null,null,null,null,null,null,null,null,null,null,null,null,null,null,null,null,null,null,null,null,null,null,null,null,null,null,null,null,null,null,null,null,null,null,null,null,null,null,null,null,null,null,null,null,null,null,null,null,null,null,null,null,null,null,null,null,null,null,null,null,null,null,null,null,null,null,null,null,null,null,null,null,null,null,null,null,null,null,null,null,null,null,null,null,null,null,null,null,null,null,null,null,null,null,null,null,null,null,null,null,null,null,null,null,null,null,null,null,null,null,null,null,null,null,null,null,null,null,null,null,null,null,null,null,null,null,null,null,null,null,null,null,null,null,null,null,null,null,null,null,null,null,null,null,null,null,null,null,null,null,null,null,null,null,null,null,null,null,null,null,null,null,null,null,null,null,null,null,null,null,null,null,null,null,null,null,null,null,null,null,null,null,null,null,null,null,null,null,null,null,null,null,null,null,null,null,null,null,null,null,null,null,null,null,null,null,null,null,null,null,null,null,null,null,null,null,null,null,null,null,null,null,null,null,null,null,null,null,null,null,null,null,null,null,null,null,null,null,null,null,null,null,null,null,null,null,null,null,null,null,null,null,null,null,null,null,null,null,null,null,null,null,null,null,null,null,null,null,null,null,null,null,null,null,null,null,null,null,null,null,null,null,null,null,null,null,null,null,null,null,null,null,null,null,null,null,null,null,null,null,null,null,null,null,null,null,null,null,null,null,null,null,null,null,null,null,null,null,null,null,null,null,null,null,null,null,null,null,null,null,null,null,null,null,null,null,null,null,null,null,null,null,null,null,null,null,null,null,null,null,null,null,null,null,null,null,null,null,null,null,null,null,null,null,null,null,null,null,null,null,null,null,null,null,null,null,null,null,null,null,null,null,null,null,null,null,null,null,null,null,null,null,null,null,null,null,null,null,null,null,null,null,null,null,null,null,null,null,null,null,null,null,null,null,null,null,null,null,null,null,null,null,null,null,null,null,null,null,null,null,null,null,null,null,null,null,null,null,null,null,null,null,null,null,null,null,null,null,null,null,null,null,null,null,null,null,null,null,null,null,null,null,null,null,null,null,null,null,null,null,null,null,null,null,null,null,null,null,null,null,null,null,null,null,null,null,null,null,null,null,null,null,null,null,null,null,null,null,null,null,null,null,null,null,null,null,null,null,null,null,null,null,null,null,null,null,null,null,null,null,null,null,null,null,null,null,null,null,null,null,null,null,null,null,null,null,null,null,null,null,null,null,null,null,null,null,null,null,null,null,null,null,null,null,null,null,null,null,null,null,null,null,null,null,null,null,null,null,null,null,null,null,null,null,null,null,null,null,null,null,null,null,null,null,null,null,null,null,null,null,null,null,null,null,null,null,null,null,null,null,null,null,null,null,null,null,null,null,null,null,null,null,null,null,null,null,null,null,null,null,null,null,null,null,null,null,null,null,null,null,null,null,null,null,null,null,null,null,null,null,null,null,null,null,null,null,null,null,null,null,null,null,null,null,null,null,null,null,null,null,null,null,null,null,null,null,null,null,null,null,null,null,null,null,null,null,null,null,null,null,null,null,null,null,null,null,null,null,null,null,null,null,null,null,null,null,null,null,null,null,null,null,null,null,null,null,null,null,null,null,null,null,null,null,null,null,null,null,null,null,null,null,null,null,null,null,null,null,null,null,null,null,null,null,null,null,null,null,null,null,null,null,null,null,null,null,null,null,null,null,null,null,null,null,null,null,null,null,null,null,null,null,null,null,null,null,null,null,null,null,null,null,null,null,null,null,null,null,null,null,null,null,null,null,null,null,null,null,null,null,null,null,null,null,null,null,null,null,null,null,null,null,null,null,null,null,null,null,null,null,null,null,null,null,null,null,null,null,null,null,null,null,null,null,null,null,null,null,null,null,null,null,null,null,null,null,null,null,null,null,null,null,null,null,null,null,null,null,null,null,null,null,null,null,null,null,null,null,null,null,null,null,null,null,null,null,null,null,null,null,null,null,null,null,null,null,null,null,null,null,null,null,null,null,null,null,null,null,null,null,null,null,null,null,null,null,null,null,null,null,null,null,null,null,null,null,null,null,null,null,null,null,null,null,null,null,null,null,null,null,null,null,null,null,null,null,null,null,null,null,null,null,null,null,null,null,null,null,null,null,null,null,null,null,null,null,null,null,null,null,null,null,null,null,null,null,null,null,null,null,null,null,null,null,null,null,null,null,null,null,null,null,null,null,null,null,null,null,null,null,null,null,null,null,null,null,null,null,null,null,null,null,null,null,null,null,null,null,null,null,null,null,null,null,null,null,null,null,null,null,null,null,null,null,null,null,null,null,null,null,null,null,null,null,null,null,null,null,null,null,null,null,null,null,null,null,null,null,null,null,null,null,null,null,null,null,null,null,null,null,null,null,null,null,null,null,null,null,null,null,null,null,null,null,null,null,null,null,null,null,null,null,null,null,null,null,null,null,null,null,null,null,null,null,null,null,null,null,null,null,null,null,null,null,null,null,null,null,null,null,null,null,null,null,null,null,null,null,null,null,null,null,null,null,null,null,null,null,null,null,null,null,null,null,null,null,null,null,null,null,null,null,null,null,null,null,null,null,null,null,null,null,null,null,null,null,null,null,null,null,null,null,null,null,null,null,null,null,null,null,null,null,null,null,null,null,null,null,null,null,null,null,null,null,null,null,null,null,null,null,null,null,null,null,null,null,null,null,null,null,null,null,null,null,null,null,null,null,null,null,null,null,null,null,null,null,null,null,null,null,null,null,null,null,null,null,null,null,null,null,null,null,null,null,null,null,null,null,null,null,null,null,null,null,null,null,null,null,null,null,null,null,null,null,null,null,null,null,null,null,null,null,null,null,null,null,null,null,null,null,null,null,null,null,null,null,null,null,null,null,null,null,null,null,null,null,null,null,null,null,null,null,null,null,null,null,null,null,null,null,null,null,null,null,null,null,null,null,null,null,null,null,null,null,null,null,null,null,null,null,null,null,null,null,null,null,null,null,null,null,null,null,null,null,null,null,null,null,null,null,null,null,null,",BOM107*EXP(($D$8-(1/2)*$D$9^2)*$D$13+$D$9*RAIZ($D$13)*BOL108)))"]
[null,null,null,{"$f":"Data!G5","v":1},{"$f":"Data!F10","v":7},null,null,null,null,null,null,null,"Abandonado en:"]
[null,null,3.2624999999999997,null,null,null,"Abandonado en:",null,{"$f":"(MIN(M26,AI26,BF26,CB26,CX26,DT26,EP26,FL26,GH26,HD26,HZ26,IV26,JR26,KN26,LJ26,MF26,NB26,NX26,OT26,PP26,QL26,RH26,SD26,SZ26,TV26,UR26,VN26,WJ26,XF26,YB26,YX26,ZT26,AAP26,ABL26,ACH26,ADD26,ADZ26,AEV26,AFR26,AGN26,AHJ26,AIF26,AJB26,AJX26,AKT26,ALP26,AML26,ANH26,AOD26,AOZ26,APV26,AQR26,ARN26,ASJ26,ATF26,AUB26,AUX26,AVT26,AWP26,AXL26,AYH26,AZD26,AZZ26,BAV26,BBR26,BCN26,BDJ26,BEF26,BFB26,BFX26,BGT26,BHP26,BIL26,BJH26,BKD26,BKZ26,BLV26,BMR26,BNN26,BOJ26))-1","v":999},{"$f":"(MIN(M26,AI26,BF26,CB26,CX26,DT26,EP26,FL26,GH26,HD26,HZ26,IV26,JR26,KN26,LJ26,MF26,NB26,NX26,OT26,PP26,QL26,RH26,SD26,SZ26,TV26,UR26,VN26,WJ26,XF26,YB26,YX26,ZT26,AAP26,ABL26,ACH26,ADD26,ADZ26,AEV26,AFR26,AGN26,AHJ26,AIF26,AJB26,AJX26,AKT26,ALP26,AML26,ANH26,AOD26,AOZ26,APV26,AQR26,ARN26,ASJ26,ATF26,AUB26,AUX26,AVT26,AWP26,AXL26,AYH26,AZD26,AZZ26,BAV26,BBR26,BCN26,BDJ26,BEF26,BFB26,BFX26,BGT26,BHP26,BIL26,BJH26,BKD26,BKZ26,BLV26,BMR26,BNN26,BOJ26))","v":1000},{"$f":"IF(J20=1000,\"No Abandonado\",J20)","v":"No Abandonado"},null,{"$f":"IF(J20=1000,-1,(J20-1)*D13)","v":-1},"Año",null,"Value without option ",null,{"$f":"IF(J20=1000,Q21,P21)","v":26.00999232894516},null,"TIR"]
[null,"Value without option",{"$f":"C23-C22","v":30.251567279713626},null,{"$f":"E23-E22","v":30.251567279713626},null,"PV of Project",null,{"$f":"IF(M20=0,0,IF(M20=-1,I23-I22,-I22))","v":26.00999232894516},null,{"$f":"IF(K20<>\"No Abandonado\",0,BOH27)","v":9.7783807675050358},{"$f":"IF($J$20=1,I27,IF($J$20=2,AE27,IF($J$20=3,BB27,IF($J$20=4,BX27,IF($J$20=5,CT27,IF($J$20=6,DP27,IF($J$20=7,EL27,IF($J$20=8,FH27,IF($J$20=9,GD27,IF($J$20=10,GZ27,IF($J$20=11,HV27,IF($J$20=12,IR27,IF($J$20=13,JN27,IF($J$20=14,KJ27,IF($J$20=15,LF27,IF($J$20=16,MB27,IF($J$20=17,MX27,IF($J$20=18,NT27,IF($J$20=19,OP27,IF($J$20=20,PL27,IF($J$20=21,QH27,IF($J$20=22,RD27,IF($J$20=23,RZ27,IF($J$20=24,SV27,IF($J$20=25,TR27,IF($J$20=26,UN27,IF($J$20=27,VJ27,IF($J$20=28,WF27,IF($J$20=29,XB27,IF($J$20=30,XX27,IF($J$20=31,YT27,IF($J$20=32,ZP27,IF($J$20=33,AAL27,IF($J$20=34,ABH27,IF($J$20=35,ACD27,IF($J$20=1000,ADB27))))))))))))))))))))))))))))))))))))","v":9.7783807675050358},"Terminado en: ",null,null,{"$f":"IF($J$20=1,I24,IF($J$20=2,AE24,IF($J$20=3,BB24,IF($J$20=4,BX24,IF($J$20=5,CT24,IF($J$20=6,DP24,IF($J$20=7,EL24,IF($J$20=8,FH24,IF($J$20=9,GD24,IF($J$20=10,GZ24,IF($J$20=11,HV24,IF($J$20=12,IR24,IF($J$20=13,JN24,IF($J$20=14,KJ24,IF($J$20=15,LF24,IF($J$20=16,MB24,IF($J$20=17,MX24,IF($J$20=18,NT24,IF($J$20=19,OP24,IF($J$20=20,PL24,IF($J$20=21,QH24,IF($J$20=22,RD24,IF($J$20=23,RZ24,IF($J$20=24,SV24,IF($J$20=25,TR24,IF($J$20=26,UN24,IF($J$20=27,VJ24,IF($J$20=28,WF24,IF($J$20=29,XB24,IF($J$20=30,XX24,IF($J$20=31,YT24,IF($J$20=32,ZP24,IF($J$20=33,AAL24,IF($J$20=34,ABH24,IF($J$20=35,ACD24,IF($J$20=36,ACZ24,IF($J$20=37,ADV24,IF($J$20=38,AER24,IF($J$20=39,AFN24,IF($J$20=40,AGJ24,IF($J$20=41,AHF24,IF($J$20=42,AIB24,IF($J$20=43,AIX24,IF($J$20=44,AJT24,IF($J$20=45,AKP24,IF($J$20=46,ALL24,IF($J$20=47,AMH24,IF($J$20=48,AND24,IF($J$20=49,ANZ24,IF($J$20=50,AOV24,IF($J$20=51,APR24,IF($J$20=52,AQN24,IF($J$20=53,ARJ24,IF($J$20=54,ASF24,IF($J$20=55,ATB24,IF($J$20=56,ATX24,IF($J$20=57,AUT24,IF($J$20=58,AVP24,IF($J$20=59,AWL24,IF($J$20=60,AXH24,IF($J$20=61,AYD24,IF($J$20=62,AYZ24,IF($J$20=63,AZV24,IF($J$20=64,BAR24))))))))))))))))))))))))))))))))))))))))))))))))))))))))))))))))","v":false},{"$f":"IF($J$20=65,BBN24,IF($J$20=66,BCJ24,IF($J$20=67,BDF24,IF($J$20=68,BEB24,IF($J$20=69,BEX24,IF($J$20=70,BFT24,IF($J$20=71,BGP24,IF($J$20=72,BHL24,IF($J$20=73,BIH24,IF($J$20=74,BJD24,IF($J$20=75,BJZ24,IF($J$20=76,BKV24,IF($J$20=77,BLR24,IF($J$20=78,BMN24,IF($J$20=79,BNJ24,IF($J$20=1000,I21))))))))))))))))","v":26.00999232894516},null,null,{"$f":"IRR(S28:S108)","v":0.16096478977817585},null,null,null,null,null,null,null,null,null,null,null,null,null,null,null,null,null,null,null,null,null,null,null,null,null,null,null,null,null,null,null,null,null,null,null,null,null,null,null,null,null,null,null,null,null,null,null,null,null,null,null,null,null,null,null,null,null,null,null,null,null,null,null,null,null,null,null,null,null,null,null,null,null,null,null,null,null,null,null,null,null,null,null,null,null,null,null,null,null,null,null,null,null,null,null,null,null,null,null,null,null,null,null,null,null,null,null,null,null,null,null,null,null,null,null,null,null,null,null,null,null,null,null,null,null,null,null,null,null,null,null,null,null,null,null,null,null,null,null,null,null,null,null,null,null,null,null,null,null,null,null,null,null,null,null,null,null,null,null,null,null,null,null,null,null,null,null,null,null,null,null,null,null,null,null,null,null,null,null,null,null,null,null,null,null,null,null,null,null,null,null,null,null,null,null,null,null,null,null,null,null,null,null,null,null,null,null,null,null,null,null,null,null,null,null,null,null,null,null,null,null,null,null,null,null,null,null,null,null,null,null,null,null,null,null,null,null,null,null,null,null,null,null,null,null,null,null,null,null,null,null,null,null,null,null,null,null,null,null,null,null,null,null,null,null,null,null,null,null,null,null,null,null,null,null,null,null,null,null,null,null,null,null,null,null,null,null,null,null,null,null,null,null,null,null,null,null,null,null,null,null,null,null,null,null,null,null,null,null,null,null,null,null,null,null,null,null,null,null,null,null,null,null,null,null,null,null,null,null,null,null,null,null,null,null,null,null,null,null,null,null,null,null,null,null,null,null,null,null,null,null,null,null,null,null,null,null,null,null,null,null,null,null,null,null,null,null,null,null,null,null,null,null,null,null,null,null,null,null,null,null,null,null,null,null,null,null,null,null,null,null,null,null,null,null,null,null,null,null,null,null,null,null,null,null,null,null,null,null,null,null,null,null,null,null,null,null,null,null,null,null,null,null,null,null,null,null,null,null,null,null,null,null,null,null,null,null,null,null,null,null,null,null,null,null,null,null,null,null,null,null,null,null,null,null,null,null,null,null,null,null,null,null,null,null,null,null,null,null,null,null,null,null,null,null,null,null,null,null,null,null,null,null,null,null,null,null,null,null,null,null,null,null,null,null,null,null,null,null,null,null,null,null,null,null,null,null,null,null,null,null,null,null,null,null,null,null,null,null,null,null,null,null,null,null,null,null,null,null,null,null,null,null,null,null,null,null,null,null,null,null,null,null,null,null,null,null,null,null,null,null,null,null,null,null,null,null,null,null,null,null,null,null,null,null,null,null,null,null,null,null,null,null,null,null,null,null,null,null,null,null,null,null,null,null,null,null,null,null,null,null,null,null,null,null,null,null,null,null,null,null,null,null,null,null,null,null,null,null,null,null,null,null,null,null,null,null,null,null,null,null,null,null,null,null,null,null,null,null,null,null,null,null,null,null,null,null,null,null,null,null,null,null,null,null,null,null,null,null,null,null,null,null,null,null,null,null,null,null,null,null,null,null,null,null,null,null,null,null,null,null,null,null,null,null,null,null,null,null,null,null,null,null,null,null,null,null,null,null,null,null,null,null,null,null,null,null,null,null,null,null,null,null,null,null,null,null,null,null,null,null,null,null,null,null,null,null,null,null,null,null,null,null,null,null,null,null,null,null,null,null,null,null,null,null,null,null,null,null,null,null,null,null,null,null,null,null,null,null,null,null,null,null,null,null,null,null,null,null,null,null,null,null,null,null,null,null,null,null,null,null,null,null,null,null,null,null,null,null,null,null,null,null,null,null,null,null,null,null,null,null,null,null,null,null,null,null,null,null,null,null,null,null,null,null,null,null,null,null,null,null,null,null,null,null,null,null,null,null,null,null,null,null,null,null,null,null,null,null,null,null,null,null,null,null,null,null,null,null,null,null,null,null,null,null,null,null,null,null,null,null,null,null,null,null,null,null,null,null,null,null,null,null,null,null,null,null,null,null,null,null,null,null,null,null,null,null,null,null,null,null,null,null,null,null,null,null,null,null,null,null,null,null,null,null,null,null,null,null,null,null,null,null,null,null,null,null,null,null,null,null,null,null,null,null,null,null,null,null,null,null,null,null,null,null,null,null,null,null,null,null,null,null,null,null,null,null,null,null,null,null,null,null,null,null,null,null,null,null,null,null,null,null,null,null,null,null,null,null,null,null,null,null,null,null,null,null,null,null,null,null,null,null,null,null,null,null,null,null,null,null,null,null,null,null,null,null,null,null,null,null,null,null,null,null,null,null,null,null,null,null,null,null,null,null,null,null,null,null,null,null,null,null,null,null,null,null,null,null,null,null,null,null,null,null,null,null,null,null,null,null,null,null,null,null,null,null,null,null,null,null,null,null,null,null,null,null,null,null,null,null,null,null,null,null,null,null,null,null,null,null,null,null,null,null,null,null,null,null,null,null,null,null,null,null,null,null,null,null,null,null,null,null,null,null,null,null,null,null,null,null,null,null,null,null,null,null,null,null,null,null,null,null,null,null,null,null,null,null,null,null,null,null,null,null,null,null,null,null,null,null,null,null,null,null,null,null,null,null,null,null,null,null,null,null,null,null,null,null,null,null,null,null,null,null,null,null,null,null,null,null,null,null,null,null,null,null,null,null,null,null,null,null,null,null,null,null,null,null,null,null,null,null,null,null,null,null,null,null,null,null,null,null,null,null,null,null,null,null,null,null,null,null,null,null,null,null,null,null,null,null,null,null,null,null,null,null,null,null,null,null,null,null,null,null,null,null,null,null,null,null,null,null,null,null,null,null,null,null,null,null,null,null,null,null,null,null,null,null,null,null,null,null,null,null,null,null,null,null,null,null,null,null,null,null,null,null,null,null,null,null,null,null,null,null,null,null,null,null,null,null,null,null,null,null,null,null,null,null,null,null,null,null,null,null,null,null,null,null,null,null,null,null,null,null,null,null,null,null,null,null,null,null,null,null,null,null,null,null,null,null,null,null,null,null,null,null,null,null,null,null,null,null,null,null,null,null,null,null,null,null,null,null,null,null,null,null,null,null,null,null,null,null,null,null,null,null,null,null,null,null,null,null,null,null,null,null,null,null,null,null,null,null,null,null,null,null,null,null,null,null,null,null,null,null,null,null,null,null,null,null,null,null,null,null,null,null,null,null,null,null,null,null,null,null,null,null,null,null,null,null,null,null,null,null,null,null,null,null,null,null,null,null,null,null,null,null,null,null,null,null,null,null,null,null,null,null,null,null,null,null,null,null,null,null,null,null,null,null,null,null,null,null,null,null,null,null,null,null,null,null,null,null,null,null,null,null,null,null,null,null,null,null,null,null,null,null,null,null,null,null,null,null,null,null,null,null,null,null,null,null,null,null,null,null,null,null,null,null,null,null,null,null,null,null,null,null,null,null,null,null,null,null,null,null,null,null,null,null,null,null,null,null,null,null,null,null,null,null,null,null,null,null,null,null,null,null,null,null,null,null,null,null,null,null,null,null,null,null,null,null,null,null,null,null,null,null,null,null,null,null,null,null,null,null,null,null,null,null,null,null,null,null,null,null,null,null,null,null,null,null,null,null,null,null,null,null,null,null,null,null,null,null,null,null,null,null,null,null,null,null,null,null,null,null,null,null,null,null,null,null,null,null,null,null,null,null,null,null,null,null,null,null,null,null,null,null,null,null,null,null,null,null,null,null,null,null,null,null,null,null,null,null,null,null,null,null,null,null,null,null,null,null,null,null,null,null,null,null,null,null,null,null,null,null,null,null,null,null,null,null,null,null,null,null,null,null,null,null,null,null,null,null,null,null,null,null,null,null,null,null,null,null,null,null,null,null,null,null,null,null,null,null,null,null,null,null,null,null,null,null,null,null,null,null,null,null,null,null,null,null,null,null,null,null,null,null,null,null,null,null,null,null,null,null,null,null,null,null,null,null,null,null,null,null,null,null,null,null,null,null,null,null,{"$f":"1.175*EXP(($D$8-0.5*0)*$D$13+$D$9*SQRT($D$13))","v":1.4046215835519722}]
[null,"Investmnet",{"$f":"BOH27","v":9.7783807675050358},null,{"$f":"IF(C21<0,0,C22)","v":9.7783807675050358},null,"PV of Investments",null,{"$f":"IF(J20<=64,J22,K22)","v":9.7783807675050358},{"$f":"IF($J$20=1,K27,IF($J$20=2,AG27,IF($J$20=3,BD27,IF($J$20=4,BZ27,IF($J$20=5,CV27,IF($J$20=6,DR27,IF($J$20=7,EN27,IF($J$20=8,FJ27,IF($J$20=9,GF27,IF($J$20=10,HB27,IF($J$20=11,HX27,IF($J$20=12,IT27,IF($J$20=13,JP27,IF($J$20=14,KL27,IF($J$20=15,LH27,IF($J$20=16,MD27,IF($J$20=17,MZ27,IF($J$20=18,NV27,IF($J$20=19,OR27,IF($J$20=20,PN27,IF($J$20=21,QJ27,IF($J$20=22,RF27,IF($J$20=23,SB27,IF($J$20=24,SX27,IF($J$20=25,TT27,IF($J$20=26,UP27,IF($J$20=27,VL27,IF($J$20=28,WH27,IF($J$20=29,XD27,IF($J$20=30,XZ27,IF($J$20=31,YV27,IF($J$20=32,ZR27,IF($J$20=33,AAN27,IF($J$20=34,ABJ27,IF($J$20=35,ACF27,IF($J$20=36,ADB27,IF($J$20=37,ADX27,IF($J$20=38,AET27,IF($J$20=39,AFP27,IF($J$20=40,AGL27,IF($J$20=41,AHH27,IF($J$20=42,AID27,IF($J$20=43,AIZ27,IF($J$20=44,AJV27,IF($J$20=45,AKR27,IF($J$20=46,ALN27,IF($J$20=47,AMJ27,IF($J$20=48,ANF27,IF($J$20=49,AOB27,IF($J$20=50,AOX27,IF($J$20=51,APT27,IF($J$20=52,AQP27,IF($J$20=53,ARL27,IF($J$20=54,ASH27,IF($J$20=55,ATD27,IF($J$20=56,ATZ27,IF($J$20=57,AUV27,IF($J$20=58,AVR27,IF($J$20=59,AWN27,IF($J$20=60,AXJ27,IF($J$20=61,AYF27,IF($J$20=62,AZB27,IF($J$20=63,AZX27,IF($J$20=64,BAT27))))))))))))))))))))))))))))))))))))))))))))))))))))))))))))))))","v":false},{"$f":"IF($J$20=65,BBP27,IF($J$20=66,BCL27,IF($J$20=67,BDH27,IF($J$20=68,BED27,IF($J$20=69,BEZ27,IF($J$20=70,BFV27,IF($J$20=71,BGR27,IF($J$20=72,BHN27,IF($J$20=73,BIJ27,IF($J$20=74,BJF27,IF($J$20=75,BKB27,IF($J$20=76,BKX27,IF($J$20=77,BLT27,IF($J$20=78,BMP27,IF($J$20=79,BNL27,IF($J$20=1000,BOH27))))))))))))))))","v":9.7783807675050358},null,{"$f":"MAX(H26,AD26,BA26,BW26,CS26,DO26,EK26,FG26,GC26,GY26,HU26,IQ26,JM26,KI26,LE26,MA26,MW26,NS26,OO26,PK26,QG26,RC26,RY26,SU26,TQ26,UM26,VI26,WE26,XA26,XW26,YS26,ZO26,AAK26,ABG26,ACC26,ACY26,ADU26,AEQ26,AFM26,AGI26,AHE26,AIA26,AIW26,AJS26,AKO26,ALK26,AMG26,ANC26,ANY26,AOU26,APQ26,AQM26,ARI26,ASE26,ATA26,ATW26,AUS26,AVO26,AWK26,AXG26,AYC26,AYY26,AZU26,BAQ26,BBM26,BCI26,BDE26,BEA26,BEW26,BFS26,BGO26,BHK26,BIG26,BJC26,BJY26,BKU26,BLQ26,BMM26,BNI26,BOE26)","v":5},"Periodo"]
[null,"Cash Flow",{"$f":"MAX(D23,D24)","v":40.02994804721866},{"$f":"IF(D14*D12=1,R27,IF(D14*D12=2,AN27,IF(D14*D12=3,BK27,IF(D14*D12=4,CG27,IF(D14*D12=5,DC27,IF(D14*D12=6,DY27,IF(D14*D12=7,EU27,IF(D14*D12=8,FQ27,IF(D14*D12=9,GM27,IF(D14*D12=10,HI27,IF(D14*D12=11,IE27,IF(D14*D12=12,JA27,IF(D14*D12=13,JW27,IF(D14*D12=14,KS27,IF(D14*D12=15,LO27,IF(D14*D12=16,MK27,IF(D14*D12=17,NG27,IF(D14*D12=18,OC27,IF(D14*D12=19,OY27,IF(D14*D12=20,PU27,IF(D14*D12=21,QQ27,IF(D14*D12=22,RM27,IF(D14*D12=23,SI27,IF(D14*D12=24,TE27,IF(D14*D12=25,UA27,IF(D14*D12=26,UW27,IF(D14*D12=27,VS27,IF(D14*D12=28,WO27,IF(D14*D12=29,XK27,IF(D14*D12=30,YG27,IF(D14*D12=31,ZC27,IF(D14*D12=32,ZY27,IF(D14*D12=33,AAU27,IF(D14*D12=34,ABQ27,IF(D14*D12=35,ACM27,IF(D14*D12=36,ADI27,IF(D14*D12=37,AEE27,IF(D14*D12=38,AFA27,IF(D14*D12=39,AFW27,IF(D14*D12=40,AGS27,IF(D14*D12=41,AHO27,IF(D14*D12=42,AIK27,IF(D14*D12=43,AJG27,IF(D14*D12=44,AKC27,IF(D14*D12=45,AKY27,IF(D14*D12=46,ALU27,IF(D14*D12=47,AMQ27,IF(D14*D12=48,ANM27,IF(D14*D12=49,AOI27,IF(D14*D12=50,APE27,IF(D14*D12=51,AQA27,IF(D14*D12=52,AQW27,IF(D14*D12=53,ARS27,IF(D14*D12=54,ASO27,IF(D14*D12=55,ATK27,IF(D14*D12=56,AUG27,IF(D14*D12=57,AVC27,IF(D14*D12=58,AVY27,IF(D14*D12=59,AWU27,IF(D14*D12=60,AXQ27,IF(D14*D12=61,AYM27,IF(D14*D12=62,AZI27,IF(D14*D12=63,BAE27,IF(D14*D12=64,BBA27,))))))))))))))))))))))))))))))))))))))))))))))))))))))))))))))))","v":40.02994804721866},{"$f":"IF(C21<0,0,C23)","v":40.02994804721866},null,"PV of Cash Flows",null,{"$f":"IF(M20=0,-1,IF(M22<=64,J23,K23))","v":35.788373096450194},{"$f":"IF(M20<>-1,0,IF(M22=1,R27,IF(M22=2,AN27,IF(M22=3,BK27,IF(M22=4,CG27,IF(M22=5,DC27,IF(M22=6,DY27,IF(M22=7,EU27,IF(M22=8,FQ27,IF(M22=9,GM27,IF(M22=10,HI27,IF(M22=11,IE27,IF(M22=12,JA27,IF(M22=13,JW27,IF(M22=14,KS27,IF(M22=15,LO27,IF(M22=16,MK27,IF(M22=17,NG27,IF(M22=18,OC27,IF(M22=19,OY27,IF(M22=20,PU27,IF(M22=21,QQ27,IF(M22=22,RM27,IF(M22=23,SI27,IF(M22=24,TE27,IF(M22=25,UA27,IF(M22=26,UW27,IF(M22=27,VS27,IF(M22=28,WO27,IF(M22=29,XK27,IF(M22=30,YG27,IF(M22=31,ZC27,IF(M22=32,ZY27,IF(M22=33,AAU27,IF(M22=34,ABQ27,IF(M22=35,ACM27,IF(M22=36,ADI27,IF(M22=37,AEE27,IF(M22=38,AFA27,IF(M22=39,AFW27,IF(M22=40,AGS27,IF(M22=41,AHO27,IF(M22=42,AIK27,IF(M22=43,AJG27,IF(M22=44,AKC27,IF(M22=45,AKY27,IF(M22=46,ALU27,IF(M22=47,AMQ27,IF(M22=48,ANM27,IF(M22=49,AOI27,IF(M22=50,APE27,IF(M22=51,AQA27,IF(M22=52,AQW27,IF(M22=53,ARS27,IF(M22=54,ASO27,IF(M22=55,ATK27,IF(M22=56,AUG27,IF(M22=57,AVC27,IF(M22=58,AVY27,IF(M22=59,AWU27,IF(M22=60,AXQ27,IF(M22=61,AYM27,IF(M22=62,AZI27,IF(M22=63,BAE27,IF(M22=64,BBA27,)))))))))))))))))))))))))))))))))))))))))))))))))))))))))))))))))","v":35.788373096450194},{"$f":"IF(M20<>-1,0,IF(M22=65,BBW27,IF(M22=66,BCS27,IF(M22=67,BDO27,IF(M22=68,BEK27,IF(M22=69,BFG27,IF(M22=70,BGC27,IF(M22=71,BGY27,IF(M22=72,BHU27,IF(M22=73,BIQ27,IF(M22=74,BJM27,IF(M22=75,BKI27,IF(M22=76,BLE27,IF(M22=77,BMA27,IF(M22=78,BMW27,IF(M22=79,BNS27,IF(M22=80,BOO27,)))))))))))))))))","v":0},null,{"$f":"IF(M20=-1,M22*D13,0)","v":2.5},"Año",null,"Periodo de Terminación","I","W(t)",null,null,null,null,null,null,null,null,null,null,null,null,null,null,null,null,null,null,null,"Periodo de Terminación","I","W(t)",null,null,null,null,null,null,null,null,null,null,null,null,null,null,null,null,null,null,null,null,"Periodo de Terminación","I","W(t)",null,null,null,null,null,null,null,null,null,null,null,null,null,null,null,null,null,null,null,"Periodo de Terminación","I","W(t)",null,null,null,null,null,null,null,null,null,null,null,null,null,null,null,null,null,null,null,"Periodo de Terminación","I","W(t)",null,null,null,null,null,null,null,null,null,null,null,null,null,null,null,null,null,null,null,"Periodo de Terminación","I","W(t)",null,null,null,null,null,null,null,null,null,null,null,null,null,null,null,null,null,null,null,"Periodo de Terminación","I","W(t)",null,null,null,null,null,null,null,null,null,null,null,null,null,null,null,null,null,null,null,"Periodo de Terminación","I","W(t)",null,null,null,null,null,null,null,null,null,null,null,null,null,null,null,null,null,null,null,"Periodo de Terminación","I","W(t)",null,null,null,null,null,null,null,null,null,null,null,null,null,null,null,null,null,null,null,"Periodo de Terminación","I","W(t)",null,null,null,null,null,null,null,null,null,null,null,null,null,null,null,null,null,null,null,"Periodo de Terminación","I","W(t)",null,null,null,null,null,null,null,null,null,null,null,null,null,null,null,null,null,null,null,"Periodo de Terminación","I","W(t)",null,null,null,null,null,null,null,null,null,null,null,null,null,null,null,null,null,null,null,"Periodo de Terminación","I","W(t)",null,null,null,null,null,null,null,null,null,null,null,null,null,null,null,null,null,null,null,"Periodo de Terminación","I","W(t)",null,null,null,null,null,null,null,null,null,null,null,null,null,null,null,null,null,null,null,"Periodo de Terminación","I","W(t)",null,null,null,null,null,null,null,null,null,null,null,null,null,null,null,null,null,null,null,"Periodo de Terminación","I","W(t)",null,null,null,null,null,null,null,null,null,null,null,null,null,"Periodo de Terminación","I","W(t)",null,null,null,"Periodo de Terminación","I","W(t)",null,null,null,null,null,null,null,null,null,null,null,null,null,null,null,null,null,null,null,"Periodo de Terminación","I","W(t)",null,null,null,null,null,null,null,null,null,null,null,null,null,null,null,null,null,null,null,"Periodo de Terminación","I","W(t)",null,null,null,null,null,null,null,null,null,null,null,null,null,null,null,null,null,null,null,"Periodo de Terminación","I","W(t)",null,null,null,null,null,null,null,null,null,null,null,null,null,null,null,null,null,null,null,"Periodo de Terminación","I","W(t)",null,null,null,null,null,null,null,null,null,null,null,null,null,null,null,null,null,null,null,"Periodo de Terminación","I","W(t)",null,null,null,null,null,null,null,null,null,null,null,null,null,null,null,null,null,null,null,"Periodo de Terminación","I","W(t)",null,null,null,null,null,null,null,null,null,null,null,null,null,null,null,null,null,null,null,"Periodo de Terminación","I","W(t)",null,null,null,null,null,null,null,null,null,null,null,null,null,null,null,null,null,null,null,"Periodo de Terminación","I","W(t)",null,null,null,null,null,null,null,null,null,null,null,null,null,null,null,null,null,null,null,"Periodo de Terminación","I","W(t)",null,null,null,null,null,null,null,null,null,null,null,null,null,null,null,null,null,null,null,"Periodo de Terminación","I","W(t)",null,null,null,null,null,null,null,null,null,null,null,null,null,null,null,null,null,null,null,"Periodo de Terminación","I","W(t)",null,null,null,null,null,null,null,null,null,null,null,null,null,null,null,null,null,null,null,"Periodo de Terminación","I","W(t)",null,null,null,null,null,null,null,null,null,null,null,null,null,null,null,null,null,null,null,"Periodo de Terminación","I","W(t)",null,null,null,null,null,null,null,null,null,null,null,null,null,null,null,null,null,null,null,"Periodo de Terminación","I","W(t)",null,null,null,null,null,null,null,null,null,null,null,null,null,null,null,null,null,null,null,"Periodo de Terminación","I","W(t)",null,null,null,null,null,null,null,null,null,null,null,null,null,null,null,null,null,null,null,"Periodo de Terminación","I","W(t)",null,null,null,null,null,null,null,null,null,null,null,null,null,null,null,null,null,null,null,"Periodo de Terminación","I","W(t)",null,null,null,null,null,null,null,null,null,null,null,null,null,null,null,null,null,null,null,"Periodo de Terminación","I","W(t)",null,null,null,null,null,null,null,null,null,null,null,null,null,null,null,null,null,null,null,"Periodo de Terminación","I","W(t)",null,null,null,null,null,null,null,null,null,null,null,null,null,null,null,null,null,null,null,"Periodo de Terminación","I","W(t)",null,null,null,null,null,null,null,null,null,null,null,null,null,null,null,null,null,null,null,"Periodo de Terminación","I","W(t)",null,null,null,null,null,null,null,null,null,null,null,null,null,null,null,null,null,null,null,"Periodo de Terminación","I","W(t)",null,null,null,null,null,null,null,null,null,null,null,null,null,null,null,null,null,null,null,"Periodo de Terminación","I","W(t)",null,null,null,null,null,null,null,null,null,null,null,null,null,null,null,null,null,null,null,"Periodo de Terminación","I","W(t)",null,null,null,null,null,null,null,null,null,null,null,null,null,null,null,null,null,null,null,"Periodo de Terminación","I","W(t)",null,null,null,null,null,null,null,null,null,null,null,null,null,null,null,null,null,null,null,"Periodo de Terminación","I","W(t)",null,null,null,null,null,null,null,null,null,null,null,null,null,null,null,null,null,null,null,"Periodo de Terminación","I","W(t)",null,null,null,null,null,null,null,null,null,null,null,null,null,null,null,null,null,null,null,"Periodo de Terminación","I","W(t)",null,null,null,null,null,null,null,null,null,null,null,null,null,null,null,null,null,null,null,"Periodo de Terminación","I","W(t)",null,null,null,null,null,null,null,null,null,null,null,null,null,null,null,null,null,null,null,"Periodo de Terminación","I","W(t)",null,null,null,null,null,null,null,null,null,null,null,null,null,null,null,null,null,null,null,"Periodo de Terminación","I","W(t)",null,null,null,null,null,null,null,null,null,null,null,null,null,null,null,null,null,null,null,"Periodo de Terminación","I","W(t)",null,null,null,null,null,null,null,null,null,null,null,null,null,null,null,null,null,null,null,"Periodo de Terminación","I","W(t)",null,null,null,null,null,null,null,null,null,null,null,null,null,null,null,null,null,null,null,"Periodo de Terminación","I","W(t)",null,null,null,null,null,null,null,null,null,null,null,null,null,null,null,null,null,null,null,"Periodo de Terminación","I","W(t)",null,null,null,null,null,null,null,null,null,null,null,null,null,null,null,null,null,null,null,"Periodo de Terminación","I","W(t)",null,null,null,null,null,null,null,null,null,null,null,null,null,null,null,null,null,null,null,"Periodo de Terminación","I","W(t)",null,null,null,null,null,null,null,null,null,null,null,null,null,null,null,null,null,null,null,"Periodo de Terminación","I","W(t)",null,null,null,null,null,null,null,null,null,null,null,null,null,null,null,null,null,null,null,"Periodo de Terminación","I","W(t)",null,null,null,null,null,null,null,null,null,null,null,null,null,null,null,null,null,null,null,"Periodo de Terminación","I","W(t)",null,null,null,null,null,null,null,null,null,null,null,null,null,null,null,null,null,null,null,"Periodo de Terminación","I","W(t)",null,null,null,null,null,null,null,null,null,null,null,null,null,null,null,null,null,null,null,"Periodo de Terminación","I","W(t)",null,null,null,null,null,null,null,null,null,null,null,null,null,null,null,null,null,null,null,"Periodo de Terminación","I","W(t)",null,null,null,null,null,null,null,null,null,null,null,null,null,null,null,null,null,null,null,"Periodo de Terminación","I","W(t)",null,null,null,null,null,null,null,null,null,null,null,null,null,null,null,null,null,null,null,"Periodo de Terminación","I","W(t)",null,null,null,null,null,null,null,null,null,null,null,null,null,null,null,null,null,null,null,"Periodo de Terminación","I","W(t)",null,null,null,null,null,null,null,null,null,null,null,null,null,null,null,null,null,null,null,"Periodo de Terminación","I","W(t)",null,null,null,null,null,null,null,null,null,null,null,null,null,null,null,null,null,null,null,"Periodo de Terminación","I","W(t)",null,null,null,null,null,null,null,null,null,null,null,null,null,null,null,null,null,null,null,"Periodo de Terminación","I","W(t)",null,null,null,null,null,null,null,null,null,null,null,null,null,null,null,null,null,null,null,"Periodo de Terminación","I","W(t)",null,null,null,null,null,null,null,null,null,null,null,null,null,null,null,null,null,null,null,"Periodo de Terminación","I","W(t)",null,null,null,null,null,null,null,null,null,null,null,null,null,null,null,null,null,null,null,"Periodo de Terminación","I","W(t)",null,null,null,null,null,null,null,null,null,null,null,null,null,null,null,null,null,null,null,"Periodo de Terminación","I","W(t)",null,null,null,null,null,null,null,null,null,null,null,null,null,null,null,null,null,null,null,"Periodo de Terminación","I","W(t)",null,null,null,null,null,null,null,null,null,null,null,null,null,null,null,null,null,null,null,"Periodo de Terminación","I","W(t)",null,null,null,null,null,null,null,null,null,null,null,null,null,null,null,null,null,null,null,"Periodo de Terminación","I","W(t)",null,null,null,null,null,null,null,null,null,null,null,null,null,null,null,null,null,null,null,"Periodo de Terminación","I","W(t)",null,null,null,null,null,null,null,null,null,null,null,null,null,null,null,null,null,null,null,"Periodo de Terminación","I","W(t)",null,null,null,null,null,null,null,null,null,null,null,null,null,null,null,null,null,null,null,"Periodo de Terminación","I","W(t)",null,null,null,null,null,null,null,null,null,null,null,null,null,null,null,null,null,null,null,"Periodo de Terminación","I","W(t)",null,null,null,null,null,null,null,null,null,null,null,null,null,null,null,null,null,null,null,"Periodo de Terminación","I","W(t)",null,null,null,null,null,null,null,null,null,null,null,null,null,null,null,null,null,null,null,"Periodo de Terminación","I","W(t)",null,null,null,null,null,null,null,null,null,null,null,null,null,null,null,null,null,null,null,"Periodo de Terminación","I","W(t)"]
[null,null,{"$f":"NORMSINV(RAND())","v":-0.44516514748923541},{"$f":"IF(D14*D12=65,BBW27,IF(D14*D12=66,BCS27,IF(D14*D12=67,BDO27,IF(D14*D12=68,BEK27,IF(D14*D12=69,BFG27,IF(D14*D12=70,BGC27,IF(D14*D12=71,BGY27,IF(D14*D12=72,BHU27,IF(D14*D12=73,BIQ27,IF(D14*D12=74,BJM27,IF(D14*D12=75,BKI27,IF(D14*D12=76,BLE27,IF(D14*D12=77,BMA27,IF(D14*D12=78,BMW27,IF(D14*D12=79,BNS27,IF(D14*D12=80,BOO27,))))))))))))))))","v":0},null,null,null,null,{"$f":"IF(U26<>1000,-K27,R27-G27)","v":23.114298870595597},null,null,null,{"$f":"+M23+E19","v":9.5},null,{"$f":"COUNTIF(G28:G107,\">\"&0)","v":5},{"$f":"O24+$E$19*$D$12","v":19},{"$f":"IF(P24=B25+1,K27,0)","v":0},{"$f":"IF(P24=B25+1,R27,0)","v":0},null,null,null,null,null,null,null,null,null,null,null,null,{"$f":"IF(AQ26<>1000,-AG27,AN27-AC27)","v":63.073846804052792},null,null,null,null,null,{"$f":"COUNTIF(AC28:AC107,\">\"&0)","v":6},{"$f":"AK24+$E$19*$D$12","v":20},{"$f":"IF(AL24=W25+1,AG27,0)","v":0},{"$f":"IF(AL24=W25+1,AN27,0)","v":0},null,null,null,null,null,null,null,null,null,null,null,null,null,{"$f":"IF(BN26<>1000,-BD27,BK27-AZ27)","v":40.949235804469275},null,null,null,null,null,{"$f":"COUNTIF(AZ28:AZ107,\">\"&0)","v":6},{"$f":"BH24+$E$19*$D$12","v":20},{"$f":"IF(BI24=AT25+1,BD27,0)","v":0},{"$f":"IF(BI24=AT25+1,BK27,0)","v":0},null,null,null,null,null,null,null,null,null,null,null,null,{"$f":"IF(CJ26<>1000,-BZ27,CG27-BV27)","v":15.096129016200871},null,null,null,null,null,{"$f":"COUNTIF(BV28:BV107,\">\"&0)","v":5},{"$f":"CD24+$E$19*$D$12","v":19},{"$f":"IF(CE24=BP25+1,BZ27,0)","v":0},{"$f":"IF(CE24=BP25+1,CG27,0)","v":0},null,null,null,null,null,null,null,null,null,null,null,null,{"$f":"IF(DF26<>1000,-CV27,DC27-CR27)","v":26.00999232894516},null,null,null,null,null,{"$f":"COUNTIF(CR28:CR107,\">\"&0)","v":5},{"$f":"CZ24+$E$19*$D$12","v":19},{"$f":"IF(DA24=CL25+1,CV27,0)","v":0},{"$f":"IF(DA24=CL25+1,DC27,0)","v":0},null,null,null,null,null,null,null,null,null,null,null,null,{"$f":"IF(EB26<>1000,-DR27,DY27-DN27)","v":28.951555319114604},null,null,null,null,null,{"$f":"COUNTIF(DN28:DN107,\">\"&0)","v":5},{"$f":"DV24+$E$19*$D$12","v":19},{"$f":"IF(DW24=DH25+1,DR27,0)","v":0},{"$f":"IF(DW24=DH25+1,DY27,0)","v":0},null,null,null,null,null,null,null,null,null,null,null,null,{"$f":"IF(EX26<>1000,-EN27,EU27-EJ27)","v":35.095336110747716},null,null,null,null,null,{"$f":"COUNTIF(EJ28:EJ107,\">\"&0)","v":5},{"$f":"ER24+$E$19*$D$12","v":19},{"$f":"IF(ES24=ED25+1,EN27,0)","v":0},{"$f":"IF(ES24=ED25+1,EU27,0)","v":0},null,null,null,null,null,null,null,null,null,null,null,null,{"$f":"IF(FT26<>1000,-FJ27,FQ27-FF27)","v":37.8598675651821},null,null,null,null,null,{"$f":"COUNTIF(FF28:FF107,\">\"&0)","v":5},{"$f":"FN24+$E$19*$D$12","v":19},{"$f":"IF(FO24=EZ25+1,FJ27,0)","v":0},{"$f":"IF(FO24=EZ25+1,FQ27,0)","v":0},null,null,null,null,null,null,null,null,null,null,null,null,{"$f":"IF(GP26<>1000,-GF27,GM27-GB27)","v":29.153586722756522},null,null,null,null,null,{"$f":"COUNTIF(GB28:GB107,\">\"&0)","v":5},{"$f":"GJ24+$E$19*$D$12","v":19},{"$f":"IF(GK24=FV25+1,GF27,0)","v":0},{"$f":"IF(GK24=FV25+1,GM27,0)","v":0},null,null,null,null,null,null,null,null,null,null,null,null,{"$f":"IF(HL26<>1000,-HB27,HI27-GX27)","v":31.22859628533066},null,null,null,null,null,{"$f":"COUNTIF(GX28:GX107,\">\"&0)","v":5},{"$f":"HF24+$E$19*$D$12","v":19},{"$f":"IF(HG24=GR25+1,HB27,0)","v":0},{"$f":"IF(HG24=GR25+1,HI27,0)","v":0},null,null,null,null,null,null,null,null,null,null,null,null,{"$f":"IF(IH26<>1000,-HX27,IE27-HT27)","v":30.227043285974027},null,null,null,null,null,{"$f":"COUNTIF(HT28:HT107,\">\"&0)","v":5},{"$f":"IB24+$E$19*$D$12","v":19},{"$f":"IF(IC24=HN25+1,HX27,0)","v":0},{"$f":"IF(IC24=HN25+1,IE27,0)","v":0},null,null,null,null,null,null,null,null,null,null,null,null,{"$f":"IF(JD26<>1000,-IT27,JA27-IP27)","v":11.98089750225571},null,null,null,null,null,{"$f":"COUNTIF(IP28:IP107,\">\"&0)","v":5},{"$f":"IX24+$E$19*$D$12","v":19},{"$f":"IF(IY24=IJ25+1,IT27,0)","v":0},{"$f":"IF(IY24=IJ25+1,JA27,0)","v":0},null,null,null,null,null,null,null,null,null,null,null,null,{"$f":"IF(JZ26<>1000,-JP27,JW27-JL27)","v":12.801239687977409},null,null,null,null,null,{"$f":"COUNTIF(JL28:JL107,\">\"&0)","v":5},{"$f":"JT24+$E$19*$D$12","v":19},{"$f":"IF(JU24=JF25+1,JP27,0)","v":0},{"$f":"IF(JU24=JF25+1,JW27,0)","v":0},null,null,null,null,null,null,null,null,null,null,null,null,{"$f":"IF(KV26<>1000,-KL27,KS27-KH27)","v":24.695226606200968},null,null,null,null,null,{"$f":"COUNTIF(KH28:KH107,\">\"&0)","v":5},{"$f":"KP24+$E$19*$D$12","v":19},{"$f":"IF(KQ24=KB25+1,KL27,0)","v":0},{"$f":"IF(KQ24=KB25+1,KS27,0)","v":0},null,null,null,null,null,null,null,null,null,null,null,null,{"$f":"IF(LR26<>1000,-LH27,LO27-LD27)","v":14.992161040402516},null,null,null,null,null,{"$f":"COUNTIF(LD28:LD107,\">\"&0)","v":5},{"$f":"LL24+$E$19*$D$12","v":19},{"$f":"IF(LM24=KX25+1,LH27,0)","v":0},{"$f":"IF(LM24=KX25+1,LO27,0)","v":0},null,null,null,null,null,null,null,null,null,null,null,null,{"$f":"IF(MN26<>1000,-MD27,MK27-LZ27)","v":22.980665463098418},null,null,null,null,null,{"$f":"COUNTIF(LZ28:LZ107,\">\"&0)","v":5},{"$f":"MH24+$E$19*$D$12","v":19},{"$f":"IF(MI24=LT25+1,MD27,0)","v":0},{"$f":"IF(MI24=LT25+1,MK27,0)","v":0},null,null,null,null,null,null,null,null,null,null,null,null,{"$f":"IF(NJ26<>1000,-MZ27,NG27-MV27)","v":19.375680159531932},{"$f":"MX24+$E$19*$D$12","v":33.375680159531932},{"$f":"IF(MY24=MJ25+1,MT27,0)","v":0},{"$f":"IF(MY24=MJ25+1,NA27,0)","v":0},null,null,{"$f":"COUNTIF(MV28:MV107,\">\"&0)","v":5},{"$f":"ND24+$E$19*$D$12","v":19},{"$f":"IF(NE24=MP25+1,MZ27,0)","v":0},{"$f":"IF(NE24=MP25+1,NG27,0)","v":0},null,null,null,null,null,null,null,null,null,null,null,null,{"$f":"IF(OF26<>1000,-NV27,OC27-NR27)","v":28.747622864618364},null,null,null,null,null,{"$f":"COUNTIF(NR28:NR107,\">\"&0)","v":5},{"$f":"NZ24+$E$19*$D$12","v":19},{"$f":"IF(OA24=NL25+1,NV27,0)","v":0},{"$f":"IF(OA24=NL25+1,OC27,0)","v":0},null,null,null,null,null,null,null,null,null,null,null,null,{"$f":"IF(PB26<>1000,-OR27,OY27-ON27)","v":24.790900651565103},null,null,null,null,null,{"$f":"COUNTIF(ON28:ON107,\">\"&0)","v":5},{"$f":"OV24+$E$19*$D$12","v":19},{"$f":"IF(OW24=OH25+1,OR27,0)","v":9.7783807675050358},{"$f":"IF(OW24=OH25+1,OY27,0)","v":34.569281419070137},null,null,null,null,null,null,null,null,null,null,null,null,{"$f":"IF(PX26<>1000,-PN27,PU27-PJ27)","v":24.251920408880764},null,null,null,null,null,{"$f":"COUNTIF(PJ28:PJ107,\">\"&0)","v":5},{"$f":"PR24+$E$19*$D$12","v":19},{"$f":"IF(PS24=PD25+1,PN27,0)","v":0},{"$f":"IF(PS24=PD25+1,PU27,0)","v":0},null,null,null,null,null,null,null,null,null,null,null,null,{"$f":"IF(QT26<>1000,-QJ27,QQ27-QF27)","v":22.704037288612604},null,null,null,null,null,{"$f":"COUNTIF(QF28:QF107,\">\"&0)","v":5},{"$f":"QN24+$E$19*$D$12","v":19},{"$f":"IF(QO24=PZ25+1,QJ27,0)","v":0},{"$f":"IF(QO24=PZ25+1,QQ27,0)","v":0},null,null,null,null,null,null,null,null,null,null,null,null,{"$f":"IF(RP26<>1000,-RF27,RM27-RB27)","v":24.805923842734003},null,null,null,null,null,{"$f":"COUNTIF(RB28:RB107,\">\"&0)","v":5},{"$f":"RJ24+$E$19*$D$12","v":19},{"$f":"IF(RK24=QV25+1,RF27,0)","v":0},{"$f":"IF(RK24=QV25+1,RM27,0)","v":0},null,null,null,null,null,null,null,null,null,null,null,null,{"$f":"IF(SL26<>1000,-SB27,SI27-RX27)","v":30.355350537021458},null,null,null,null,null,{"$f":"COUNTIF(RX28:RX107,\">\"&0)","v":5},{"$f":"SF24+$E$19*$D$12","v":19},{"$f":"IF(SG24=RR25+1,SB27,0)","v":0},{"$f":"IF(SG24=RR25+1,SI27,0)","v":0},null,null,null,null,null,null,null,null,null,null,null,null,{"$f":"IF(TH26<>1000,-SX27,TE27-ST27)","v":32.112812786622463},null,null,null,null,null,{"$f":"COUNTIF(ST28:ST107,\">\"&0)","v":5},{"$f":"TB24+$E$19*$D$12","v":19},{"$f":"IF(TC24=SN25+1,SX27,0)","v":0},{"$f":"IF(TC24=SN25+1,TE27,0)","v":0},null,null,null,null,null,null,null,null,null,null,null,null,{"$f":"IF(UD26<>1000,-TT27,UA27-TP27)","v":28.225876467328519},null,null,null,null,null,{"$f":"COUNTIF(TP28:TP107,\">\"&0)","v":5},{"$f":"TX24+$E$19*$D$12","v":19},{"$f":"IF(TY24=TJ25+1,TT27,0)","v":0},{"$f":"IF(TY24=TJ25+1,UA27,0)","v":0},null,null,null,null,null,null,null,null,null,null,null,null,{"$f":"IF(UZ26<>1000,-UP27,UW27-UL27)","v":31.554083294715646},null,null,null,null,null,{"$f":"COUNTIF(UL28:UL107,\">\"&0)","v":5},{"$f":"UT24+$E$19*$D$12","v":19},{"$f":"IF(UU24=UF25+1,UP27,0)","v":0},{"$f":"IF(UU24=UF25+1,UW27,0)","v":0},null,null,null,null,null,null,null,null,null,null,null,null,{"$f":"IF(VV26<>1000,-VL27,VS27-VH27)","v":30.245550309879846},null,null,null,null,null,{"$f":"COUNTIF(VH28:VH107,\">\"&0)","v":5},{"$f":"VP24+$E$19*$D$12","v":19},{"$f":"IF(VQ24=VB25+1,VL27,0)","v":0},{"$f":"IF(VQ24=VB25+1,VS27,0)","v":0},null,null,null,null,null,null,null,null,null,null,null,null,{"$f":"IF(WR26<>1000,-WH27,WO27-WD27)","v":30.481771895492635},null,null,null,null,null,{"$f":"COUNTIF(WD28:WD107,\">\"&0)","v":5},{"$f":"WL24+$E$19*$D$12","v":19},{"$f":"IF(WM24=VX25+1,WH27,0)","v":0},{"$f":"IF(WM24=VX25+1,WO27,0)","v":0},null,null,null,null,null,null,null,null,null,null,null,null,{"$f":"IF(XN26<>1000,-XD27,XK27-WZ27)","v":33.445903417059469},null,null,null,null,null,{"$f":"COUNTIF(WZ28:WZ107,\">\"&0)","v":5},{"$f":"XH24+$E$19*$D$12","v":19},{"$f":"IF(XI24=WT25+1,XD27,0)","v":0},{"$f":"IF(XI24=WT25+1,XK27,0)","v":0},null,null,null,null,null,null,null,null,null,null,null,null,{"$f":"IF(YJ26<>1000,-XZ27,YG27-XV27)","v":32.459844329492064},null,null,null,null,null,{"$f":"COUNTIF(XV28:XV107,\">\"&0)","v":5},{"$f":"YD24+$E$19*$D$12","v":19},{"$f":"IF(YE24=XP25+1,XZ27,0)","v":0},{"$f":"IF(YE24=XP25+1,YG27,0)","v":0},null,null,null,null,null,null,null,null,null,null,null,null,{"$f":"IF(ZF26<>1000,-YV27,ZC27-YR27)","v":30.578881850957181},null,null,null,null,null,{"$f":"COUNTIF(YR28:YR107,\">\"&0)","v":5},{"$f":"YZ24+$E$19*$D$12","v":19},{"$f":"IF(ZA24=YL25+1,YV27,0)","v":0},{"$f":"IF(ZA24=YL25+1,ZC27,0)","v":0},null,null,null,null,null,null,null,null,null,null,null,null,{"$f":"IF(AAB26<>1000,-ZR27,ZY27-ZN27)","v":30.396454069035087},null,null,null,null,null,{"$f":"COUNTIF(ZN28:ZN107,\">\"&0)","v":5},{"$f":"ZV24+$E$19*$D$12","v":19},{"$f":"IF(ZW24=ZH25+1,ZR27,0)","v":0},{"$f":"IF(ZW24=ZH25+1,ZY27,0)","v":0},null,null,null,null,null,null,null,null,null,null,null,null,{"$f":"IF(AAX26<>1000,-AAN27,AAU27-AAJ27)","v":30.165118684142911},null,null,null,null,null,{"$f":"COUNTIF(AAJ28:AAJ107,\">\"&0)","v":5},{"$f":"AAR24+$E$19*$D$12","v":19},{"$f":"IF(AAS24=AAD25+1,AAN27,0)","v":0},{"$f":"IF(AAS24=AAD25+1,AAU27,0)","v":0},null,null,null,null,null,null,null,null,null,null,null,null,{"$f":"IF(ABT26<>1000,-ABJ27,ABQ27-ABF27)","v":30.251567279713626},null,null,null,null,null,{"$f":"COUNTIF(ABF28:ABF107,\">\"&0)","v":5},{"$f":"ABN24+$E$19*$D$12","v":19},{"$f":"IF(ABO24=AAZ25+1,ABJ27,0)","v":0},{"$f":"IF(ABO24=AAZ25+1,ABQ27,0)","v":0},null,null,null,null,null,null,null,null,null,null,null,null,{"$f":"IF(ACP26<>1000,-ACF27,ACM27-ACB27)","v":30.251567279713626},null,null,null,null,null,{"$f":"COUNTIF(ACB28:ACB107,\">\"&0)","v":5},{"$f":"ACJ24+$E$19*$D$12","v":19},{"$f":"IF(ACK24=ABV25+1,ACF27,0)","v":0},{"$f":"IF(ACK24=ABV25+1,ACM27,0)","v":0},null,null,null,null,null,null,null,null,null,null,null,null,{"$f":"IF(ADL26<>1000,-ADB27,ADI27-ACX27)","v":30.251567279713626},null,null,null,null,null,{"$f":"COUNTIF(ACX28:ACX107,\">\"&0)","v":5},{"$f":"ADF24+$E$19*$D$12","v":19},{"$f":"IF(ADG24=ACR25+1,ADB27,0)","v":0},{"$f":"IF(ADG24=ACR25+1,ADI27,0)","v":0},null,null,null,null,null,null,null,null,null,null,null,null,{"$f":"IF(AEH26<>1000,-ADX27,AEE27-ADT27)","v":30.251567279713626},null,null,null,null,null,{"$f":"COUNTIF(ADT28:ADT107,\">\"&0)","v":5},{"$f":"AEB24+$E$19*$D$12","v":19},{"$f":"IF(AEC24=ADN25+1,ADX27,0)","v":0},{"$f":"IF(AEC24=ADN25+1,AEE27,0)","v":0},null,null,null,null,null,null,null,null,null,null,null,null,{"$f":"IF(AFD26<>1000,-AET27,AFA27-AEP27)","v":30.251567279713626},null,null,null,null,null,{"$f":"COUNTIF(AEP28:AEP107,\">\"&0)","v":5},{"$f":"AEX24+$E$19*$D$12","v":19},{"$f":"IF(AEY24=AEJ25+1,AET27,0)","v":0},{"$f":"IF(AEY24=AEJ25+1,AFA27,0)","v":0},null,null,null,null,null,null,null,null,null,null,null,null,{"$f":"IF(AFZ26<>1000,-AFP27,AFW27-AFL27)","v":30.251567279713626},null,null,null,null,null,{"$f":"COUNTIF(AFL28:AFL107,\">\"&0)","v":5},{"$f":"AFT24+$E$19*$D$12","v":19},{"$f":"IF(AFU24=AFF25+1,AFP27,0)","v":0},{"$f":"IF(AFU24=AFF25+1,AFW27,0)","v":0},null,null,null,null,null,null,null,null,null,null,null,null,{"$f":"IF(AGV26<>1000,-AGL27,AGS27-AGH27)","v":30.251567279713626},null,null,null,null,null,{"$f":"COUNTIF(AGH28:AGH107,\">\"&0)","v":5},{"$f":"AGP24+$E$19*$D$12","v":19},{"$f":"IF(AGQ24=AGB25+1,AGL27,0)","v":0},{"$f":"IF(AGQ24=AGB25+1,AGS27,0)","v":0},null,null,null,null,null,null,null,null,null,null,null,null,{"$f":"IF(AHR26<>1000,-AHH27,AHO27-AHD27)","v":30.251567279713626},null,null,null,null,null,{"$f":"COUNTIF(AHD28:AHD107,\">\"&0)","v":5},{"$f":"AHL24+$E$19*$D$12","v":19},{"$f":"IF(AHM24=AGX25+1,AHH27,0)","v":0},{"$f":"IF(AHM24=AGX25+1,AHO27,0)","v":0},null,null,null,null,null,null,null,null,null,null,null,null,{"$f":"IF(AIN26<>1000,-AID27,AIK27-AHZ27)","v":30.251567279713626},null,null,null,null,null,{"$f":"COUNTIF(AHZ28:AHZ107,\">\"&0)","v":5},{"$f":"AIH24+$E$19*$D$12","v":19},{"$f":"IF(AII24=AHT25+1,AID27,0)","v":0},{"$f":"IF(AII24=AHT25+1,AIK27,0)","v":0},null,null,null,null,null,null,null,null,null,null,null,null,{"$f":"IF(AJJ26<>1000,-AIZ27,AJG27-AIV27)","v":30.251567279713626},null,null,null,null,null,{"$f":"COUNTIF(AIV28:AIV107,\">\"&0)","v":5},{"$f":"AJD24+$E$19*$D$12","v":19},{"$f":"IF(AJE24=AIP25+1,AIZ27,0)","v":0},{"$f":"IF(AJE24=AIP25+1,AJG27,0)","v":0},null,null,null,null,null,null,null,null,null,null,null,null,{"$f":"IF(AKF26<>1000,-AJV27,AKC27-AJR27)","v":30.251567279713626},null,null,null,null,null,{"$f":"COUNTIF(AJR28:AJR107,\">\"&0)","v":5},{"$f":"AJZ24+$E$19*$D$12","v":19},{"$f":"IF(AKA24=AJL25+1,AJV27,0)","v":0},{"$f":"IF(AKA24=AJL25+1,AKC27,0)","v":0},null,null,null,null,null,null,null,null,null,null,null,null,{"$f":"IF(ALB26<>1000,-AKR27,AKY27-AKN27)","v":30.251567279713626},null,null,null,null,null,{"$f":"COUNTIF(AKN28:AKN107,\">\"&0)","v":5},{"$f":"AKV24+$E$19*$D$12","v":19},{"$f":"IF(AKW24=AKH25+1,AKR27,0)","v":0},{"$f":"IF(AKW24=AKH25+1,AKY27,0)","v":0},null,null,null,null,null,null,null,null,null,null,null,null,{"$f":"IF(ALX26<>1000,-ALN27,ALU27-ALJ27)","v":30.251567279713626},null,null,null,null,null,{"$f":"COUNTIF(ALJ28:ALJ107,\">\"&0)","v":5},{"$f":"ALR24+$E$19*$D$12","v":19},{"$f":"IF(ALS24=ALD25+1,ALN27,0)","v":0},{"$f":"IF(ALS24=ALD25+1,ALU27,0)","v":0},null,null,null,null,null,null,null,null,null,null,null,null,{"$f":"IF(AMT26<>1000,-AMJ27,AMQ27-AMF27)","v":30.251567279713626},null,null,null,null,null,{"$f":"COUNTIF(AMF28:AMF107,\">\"&0)","v":5},{"$f":"AMN24+$E$19*$D$12","v":19},{"$f":"IF(AMO24=ALZ25+1,AMJ27,0)","v":0},{"$f":"IF(AMO24=ALZ25+1,AMQ27,0)","v":0},null,null,null,null,null,null,null,null,null,null,null,null,{"$f":"IF(ANP26<>1000,-ANF27,ANM27-ANB27)","v":30.251567279713626},null,null,null,null,null,{"$f":"COUNTIF(ANB28:ANB107,\">\"&0)","v":5},{"$f":"ANJ24+$E$19*$D$12","v":19},{"$f":"IF(ANK24=AMV25+1,ANF27,0)","v":0},{"$f":"IF(ANK24=AMV25+1,ANM27,0)","v":0},null,null,null,null,null,null,null,null,null,null,null,null,{"$f":"IF(AOL26<>1000,-AOB27,AOI27-ANX27)","v":30.251567279713626},null,null,null,null,null,{"$f":"COUNTIF(ANX28:ANX107,\">\"&0)","v":5},{"$f":"AOF24+$E$19*$D$12","v":19},{"$f":"IF(AOG24=ANR25+1,AOB27,0)","v":0},{"$f":"IF(AOG24=ANR25+1,AOI27,0)","v":0},null,null,null,null,null,null,null,null,null,null,null,null,{"$f":"IF(APH26<>1000,-AOX27,APE27-AOT27)","v":30.251567279713626},null,null,null,null,null,{"$f":"COUNTIF(AOT28:AOT107,\">\"&0)","v":5},{"$f":"APB24+$E$19*$D$12","v":19},{"$f":"IF(APC24=AON25+1,AOX27,0)","v":0},{"$f":"IF(APC24=AON25+1,APE27,0)","v":0},null,null,null,null,null,null,null,null,null,null,null,null,{"$f":"IF(AQD26<>1000,-APT27,AQA27-APP27)","v":30.251567279713626},null,null,null,null,null,{"$f":"COUNTIF(APP28:APP107,\">\"&0)","v":5},{"$f":"APX24+$E$19*$D$12","v":19},{"$f":"IF(APY24=APJ25+1,APT27,0)","v":0},{"$f":"IF(APY24=APJ25+1,AQA27,0)","v":0},null,null,null,null,null,null,null,null,null,null,null,null,{"$f":"IF(AQZ26<>1000,-AQP27,AQW27-AQL27)","v":30.251567279713626},null,null,null,null,null,{"$f":"COUNTIF(AQL28:AQL107,\">\"&0)","v":5},{"$f":"AQT24+$E$19*$D$12","v":19},{"$f":"IF(AQU24=AQF25+1,AQP27,0)","v":0},{"$f":"IF(AQU24=AQF25+1,AQW27,0)","v":0},null,null,null,null,null,null,null,null,null,null,null,null,{"$f":"IF(ARV26<>1000,-ARL27,ARS27-ARH27)","v":30.251567279713626},null,null,null,null,null,{"$f":"COUNTIF(ARH28:ARH107,\">\"&0)","v":5},{"$f":"ARP24+$E$19*$D$12","v":19},{"$f":"IF(ARQ24=ARB25+1,ARL27,0)","v":0},{"$f":"IF(ARQ24=ARB25+1,ARS27,0)","v":0},null,null,null,null,null,null,null,null,null,null,null,null,{"$f":"IF(ASR26<>1000,-ASH27,ASO27-ASD27)","v":30.251567279713626},null,null,null,null,null,{"$f":"COUNTIF(ASD28:ASD107,\">\"&0)","v":5},{"$f":"ASL24+$E$19*$D$12","v":19},{"$f":"IF(ASM24=ARX25+1,ASH27,0)","v":0},{"$f":"IF(ASM24=ARX25+1,ASO27,0)","v":0},null,null,null,null,null,null,null,null,null,null,null,null,{"$f":"IF(ATN26<>1000,-ATD27,ATK27-ASZ27)","v":30.251567279713626},null,null,null,null,null,{"$f":"COUNTIF(ASZ28:ASZ107,\">\"&0)","v":5},{"$f":"ATH24+$E$19*$D$12","v":19},{"$f":"IF(ATI24=AST25+1,ATD27,0)","v":0},{"$f":"IF(ATI24=AST25+1,ATK27,0)","v":0},null,null,null,null,null,null,null,null,null,null,null,null,{"$f":"IF(AUJ26<>1000,-ATZ27,AUG27-ATV27)","v":30.251567279713626},null,null,null,null,null,{"$f":"COUNTIF(ATV28:ATV107,\">\"&0)","v":5},{"$f":"AUD24+$E$19*$D$12","v":19},{"$f":"IF(AUE24=ATP25+1,ATZ27,0)","v":0},{"$f":"IF(AUE24=ATP25+1,AUG27,0)","v":0},null,null,null,null,null,null,null,null,null,null,null,null,{"$f":"IF(AVF26<>1000,-AUV27,AVC27-AUR27)","v":30.251567279713626},null,null,null,null,null,{"$f":"COUNTIF(AUR28:AUR107,\">\"&0)","v":5},{"$f":"AUZ24+$E$19*$D$12","v":19},{"$f":"IF(AVA24=AUL25+1,AUV27,0)","v":0},{"$f":"IF(AVA24=AUL25+1,AVC27,0)","v":0},null,null,null,null,null,null,null,null,null,null,null,null,{"$f":"IF(AWB26<>1000,-AVR27,AVY27-AVN27)","v":30.251567279713626},null,null,null,null,null,{"$f":"COUNTIF(AVN28:AVN107,\">\"&0)","v":5},{"$f":"AVV24+$E$19*$D$12","v":19},{"$f":"IF(AVW24=AVH25+1,AVR27,0)","v":0},{"$f":"IF(AVW24=AVH25+1,AVY27,0)","v":0},null,null,null,null,null,null,null,null,null,null,null,null,{"$f":"IF(AWX26<>1000,-AWN27,AWU27-AWJ27)","v":30.251567279713626},null,null,null,null,null,{"$f":"COUNTIF(AWJ28:AWJ107,\">\"&0)","v":5},{"$f":"AWR24+$E$19*$D$12","v":19},{"$f":"IF(AWS24=AWD25+1,AWN27,0)","v":0},{"$f":"IF(AWS24=AWD25+1,AWU27,0)","v":0},null,null,null,null,null,null,null,null,null,null,null,null,{"$f":"IF(AXT26<>1000,-AXJ27,AXQ27-AXF27)","v":30.251567279713626},null,null,null,null,null,{"$f":"COUNTIF(AXF28:AXF107,\">\"&0)","v":5},{"$f":"AXN24+$E$19*$D$12","v":19},{"$f":"IF(AXO24=AWZ25+1,AXJ27,0)","v":0},{"$f":"IF(AXO24=AWZ25+1,AXQ27,0)","v":0},null,null,null,null,null,null,null,null,null,null,null,null,{"$f":"IF(AYP26<>1000,-AYF27,AYM27-AYB27)","v":30.251567279713626},null,null,null,null,null,{"$f":"COUNTIF(AYB28:AYB107,\">\"&0)","v":5},{"$f":"AYJ24+$E$19*$D$12","v":19},{"$f":"IF(AYK24=AXV25+1,AYF27,0)","v":0},{"$f":"IF(AYK24=AXV25+1,AYM27,0)","v":0},null,null,null,null,null,null,null,null,null,null,null,null,{"$f":"IF(AZL26<>1000,-AZB27,AZI27-AYX27)","v":30.251567279713626},null,null,null,null,null,{"$f":"COUNTIF(AYX28:AYX107,\">\"&0)","v":5},{"$f":"AZF24+$E$19*$D$12","v":19},{"$f":"IF(AZG24=AYR25+1,AZB27,0)","v":0},{"$f":"IF(AZG24=AYR25+1,AZI27,0)","v":0},null,null,null,null,null,null,null,null,null,null,null,null,{"$f":"IF(BAH26<>1000,-AZX27,BAE27-AZT27)","v":30.251567279713626},null,null,null,null,null,{"$f":"COUNTIF(AZT28:AZT107,\">\"&0)","v":5},{"$f":"BAB24+$E$19*$D$12","v":19},{"$f":"IF(BAC24=AZN25+1,AZX27,0)","v":0},{"$f":"IF(BAC24=AZN25+1,BAE27,0)","v":0},null,null,null,null,null,null,null,null,null,null,null,null,{"$f":"IF(BBD26<>1000,-BAT27,BBA27-BAP27)","v":30.251567279713626},null,null,null,null,null,{"$f":"COUNTIF(BAP28:BAP107,\">\"&0)","v":5},{"$f":"BAX24+$E$19*$D$12","v":19},{"$f":"IF(BAY24=BAJ25+1,BAT27,0)","v":0},{"$f":"IF(BAY24=BAJ25+1,BBA27,0)","v":0},null,null,null,null,null,null,null,null,null,null,null,null,{"$f":"IF(BBZ26<>1000,-BBP27,BBW27-BBL27)","v":30.251567279713626},null,null,null,null,null,{"$f":"COUNTIF(BBL28:BBL107,\">\"&0)","v":5},{"$f":"BBT24+$E$19*$D$12","v":19},{"$f":"IF(BBU24=BBF25+1,BBP27,0)","v":0},{"$f":"IF(BBU24=BBF25+1,BBW27,0)","v":0},null,null,null,null,null,null,null,null,null,null,null,null,{"$f":"IF(BCV26<>1000,-BCL27,BCS27-BCH27)","v":30.251567279713626},null,null,null,null,null,{"$f":"COUNTIF(BCH28:BCH107,\">\"&0)","v":5},{"$f":"BCP24+$E$19*$D$12","v":19},{"$f":"IF(BCQ24=BCB25+1,BCL27,0)","v":0},{"$f":"IF(BCQ24=BCB25+1,BCS27,0)","v":0},null,null,null,null,null,null,null,null,null,null,null,null,{"$f":"IF(BDR26<>1000,-BDH27,BDO27-BDD27)","v":30.251567279713626},null,null,null,null,null,{"$f":"COUNTIF(BDD28:BDD107,\">\"&0)","v":5},{"$f":"BDL24+$E$19*$D$12","v":19},{"$f":"IF(BDM24=BCX25+1,BDH27,0)","v":0},{"$f":"IF(BDM24=BCX25+1,BDO27,0)","v":0},null,null,null,null,null,null,null,null,null,null,null,null,{"$f":"IF(BEN26<>1000,-BED27,BEK27-BDZ27)","v":30.251567279713626},null,null,null,null,null,{"$f":"COUNTIF(BDZ28:BDZ107,\">\"&0)","v":5},{"$f":"BEH24+$E$19*$D$12","v":19},{"$f":"IF(BEI24=BDT25+1,BED27,0)","v":0},{"$f":"IF(BEI24=BDT25+1,BEK27,0)","v":0},null,null,null,null,null,null,null,null,null,null,null,null,{"$f":"IF(BFJ26<>1000,-BEZ27,BFG27-BEV27)","v":30.251567279713626},null,null,null,null,null,{"$f":"COUNTIF(BEV28:BEV107,\">\"&0)","v":5},{"$f":"BFD24+$E$19*$D$12","v":19},{"$f":"IF(BFE24=BEP25+1,BEZ27,0)","v":0},{"$f":"IF(BFE24=BEP25+1,BFG27,0)","v":0},null,null,null,null,null,null,null,null,null,null,null,null,{"$f":"IF(BGF26<>1000,-BFV27,BGC27-BFR27)","v":30.251567279713626},null,null,null,null,null,{"$f":"COUNTIF(BFR28:BFR107,\">\"&0)","v":5},{"$f":"BFZ24+$E$19*$D$12","v":19},{"$f":"IF(BGA24=BFL25+1,BFV27,0)","v":0},{"$f":"IF(BGA24=BFL25+1,BGC27,0)","v":0},null,null,null,null,null,null,null,null,null,null,null,null,{"$f":"IF(BHB26<>1000,-BGR27,BGY27-BGN27)","v":30.251567279713626},null,null,null,null,null,{"$f":"COUNTIF(BGN28:BGN107,\">\"&0)","v":5},{"$f":"BGV24+$E$19*$D$12","v":19},{"$f":"IF(BGW24=BGH25+1,BGR27,0)","v":0},{"$f":"IF(BGW24=BGH25+1,BGY27,0)","v":0},null,null,null,null,null,null,null,null,null,null,null,null,{"$f":"IF(BHX26<>1000,-BHN27,BHU27-BHJ27)","v":30.251567279713626},null,null,null,null,null,{"$f":"COUNTIF(BHJ28:BHJ107,\">\"&0)","v":5},{"$f":"BHR24+$E$19*$D$12","v":19},{"$f":"IF(BHS24=BHD25+1,BHN27,0)","v":0},{"$f":"IF(BHS24=BHD25+1,BHU27,0)","v":0},null,null,null,null,null,null,null,null,null,null,null,null,{"$f":"IF(BIT26<>1000,-BIJ27,BIQ27-BIF27)","v":30.251567279713626},null,null,null,null,null,{"$f":"COUNTIF(BIF28:BIF107,\">\"&0)","v":5},{"$f":"BIN24+$E$19*$D$12","v":19},{"$f":"IF(BIO24=BHZ25+1,BIJ27,0)","v":0},{"$f":"IF(BIO24=BHZ25+1,BIQ27,0)","v":0},null,null,null,null,null,null,null,null,null,null,null,null,{"$f":"IF(BJP26<>1000,-BJF27,BJM27-BJB27)","v":30.251567279713626},null,null,null,null,null,{"$f":"COUNTIF(BJB28:BJB107,\">\"&0)","v":5},{"$f":"BJJ24+$E$19*$D$12","v":19},{"$f":"IF(BJK24=BIV25+1,BJF27,0)","v":0},{"$f":"IF(BJK24=BIV25+1,BJM27,0)","v":0},null,null,null,null,null,null,null,null,null,null,null,null,{"$f":"IF(BKL26<>1000,-BKB27,BKI27-BJX27)","v":30.251567279713626},null,null,null,null,null,{"$f":"COUNTIF(BJX28:BJX107,\">\"&0)","v":5},{"$f":"BKF24+$E$19*$D$12","v":19},{"$f":"IF(BKG24=BJR25+1,BKB27,0)","v":0},{"$f":"IF(BKG24=BJR25+1,BKI27,0)","v":0},null,null,null,null,null,null,null,null,null,null,null,null,{"$f":"IF(BLH26<>1000,-BKX27,BLE27-BKT27)","v":30.251567279713626},null,null,null,null,null,{"$f":"COUNTIF(BKT28:BKT107,\">\"&0)","v":5},{"$f":"BLB24+$E$19*$D$12","v":19},{"$f":"IF(BLC24=BKN25+1,BKX27,0)","v":0},{"$f":"IF(BLC24=BKN25+1,BLE27,0)","v":0},null,null,null,null,null,null,null,null,null,null,null,null,{"$f":"IF(BMD26<>1000,-BLT27,BMA27-BLP27)","v":30.251567279713626},null,null,null,null,null,{"$f":"COUNTIF(BLP28:BLP107,\">\"&0)","v":5},{"$f":"BLX24+$E$19*$D$12","v":19},{"$f":"IF(BLY24=BLJ25+1,BLT27,0)","v":0},{"$f":"IF(BLY24=BLJ25+1,BMA27,0)","v":0},null,null,null,null,null,null,null,null,null,null,null,null,{"$f":"IF(BMZ26<>1000,-BMP27,BMW27-BML27)","v":30.251567279713626},null,null,null,null,null,{"$f":"COUNTIF(BML28:BML107,\">\"&0)","v":5},{"$f":"BMT24+$E$19*$D$12","v":19},{"$f":"IF(BMU24=BMF25+1,BMP27,0)","v":0},{"$f":"IF(BMU24=BMF25+1,BMW27,0)","v":0},null,null,null,null,null,null,null,null,null,null,null,null,{"$f":"IF(BNV26<>1000,-BNL27,BNS27-BNH27)","v":30.251567279713626},null,null,null,null,null,{"$f":"COUNTIF(BNH28:BNH107,\">\"&0)","v":5},{"$f":"BNP24+$E$19*$D$12","v":19},{"$f":"IF(BNQ24=BNB25+1,BNL27,0)","v":0},{"$f":"IF(BNQ24=BNB25+1,BNS27,0)","v":0},null,null,null,null,null,null,null,null,null,null,null,null,{"$f":"IF(BOR26<>1000,-BOH27,BOO27-BOD27)","v":30.251567279713626},null,null,null,null,null,{"$f":"COUNTIF(BOD28:BOD107,\">\"&0)","v":5},{"$f":"BOL24+$E$19*$D$12","v":19},{"$f":"IF(BOM24=BNX25+1,BOH27,0)","v":0},{"$f":"IF(BOM24=BNX25+1,BOO27,0)","v":0},null,null,null,null,null,null,{"$f":"COUNTIF(BOU28:BOU107,\">\"&0)","v":7}]
[null,0,null,null,null,null,null,null,null,null,null,null,null,null,null,null,null,null,null,null,null,null,1,null,null,null,null,null,null,null,null,null,null,null,null,null,null,null,null,null,null,null,null,null,null,2,null,null,null,null,null,null,null,null,null,null,null,null,null,null,null,null,null,null,null,null,null,3,null,null,null,null,null,null,null,null,null,null,null,null,null,null,null,null,null,null,null,null,null,4,null,null,null,null,null,null,null,null,null,null,null,null,null,null,null,null,null,null,null,null,null,5,null,null,null,null,null,null,null,null,null,null,null,null,null,null,null,null,null,null,null,null,null,6,null,null,null,null,null,null,null,null,null,null,null,null,null,null,null,null,null,null,null,null,null,7,null,null,null,null,null,null,null,null,null,null,null,null,null,null,null,null,null,null,null,null,null,8,null,null,null,null,null,null,null,null,null,null,null,null,null,null,null,null,null,null,null,null,null,9,null,null,null,null,null,null,null,null,null,null,null,null,null,null,null,null,null,null,null,null,null,10,null,null,null,null,null,null,null,null,null,null,null,null,null,null,null,null,null,null,null,null,null,11,null,null,null,null,null,null,null,null,null,null,null,null,null,null,null,null,null,null,null,null,null,12,null,null,null,null,null,null,null,null,null,null,null,null,null,null,null,null,null,null,null,null,null,13,null,null,null,null,null,null,null,null,null,null,null,null,null,null,null,null,null,null,null,null,null,14,null,null,null,null,null,null,null,null,null,null,null,null,null,null,null,null,null,null,null,null,null,15,null,null,null,null,null,null,null,null,null,null,null,null,null,null,null,null,null,null,null,null,null,16,null,null,null,null,null,null,null,null,null,null,null,null,null,null,null,null,null,null,null,null,null,17,null,null,null,null,null,null,null,null,null,null,null,null,null,null,null,null,null,null,null,null,null,18,null,null,null,null,null,null,null,null,null,null,null,null,null,null,null,null,null,null,null,null,null,19,null,null,null,null,null,null,null,null,null,null,null,null,null,null,null,null,null,null,null,null,null,20,null,null,null,null,null,null,null,null,null,null,null,null,null,null,null,null,null,null,null,null,null,21,null,null,null,null,null,null,null,null,null,null,null,null,null,null,null,null,null,null,null,null,null,22,null,null,null,null,null,null,null,null,null,null,null,null,null,null,null,null,null,null,null,null,null,23,null,null,null,null,null,null,null,null,null,null,null,null,null,null,null,null,null,null,null,null,null,24,null,null,null,null,null,null,null,null,null,null,null,null,null,null,null,null,null,null,null,null,null,25,null,null,null,null,null,null,null,null,null,null,null,null,null,null,null,null,null,null,null,null,null,26,null,null,null,null,null,null,null,null,null,null,null,null,null,null,null,null,null,null,null,null,null,27,null,null,null,null,null,null,null,null,null,null,null,null,null,null,null,null,null,null,null,null,null,28,null,null,null,null,null,null,null,null,null,null,null,null,null,null,null,null,null,null,null,null,null,29,null,null,null,null,null,null,null,null,null,null,null,null,null,null,null,null,null,null,null,null,null,30,null,null,null,null,null,null,null,null,null,null,null,null,null,null,null,null,null,null,null,null,null,31,null,null,null,null,null,null,null,null,null,null,null,null,null,null,null,null,null,null,null,null,null,32,null,null,null,null,null,null,null,null,null,null,null,null,null,null,null,null,null,null,null,null,null,33,null,null,null,null,null,null,null,null,null,null,null,null,null,null,null,null,null,null,null,null,null,34,null,null,null,null,null,null,null,null,null,null,null,null,null,null,null,null,null,null,null,null,null,35,null,null,null,null,null,null,null,null,null,null,null,null,null,null,null,null,null,null,null,null,null,36,null,null,null,null,null,null,null,null,null,null,null,null,null,null,null,null,null,null,null,null,null,37,null,null,null,null,null,null,null,null,null,null,null,null,null,null,null,null,null,null,null,null,null,38,null,null,null,null,null,null,null,null,null,null,null,null,null,null,null,null,null,null,null,null,null,39,null,null,null,null,null,null,null,null,null,null,null,null,null,null,null,null,null,null,null,null,null,40,null,null,null,null,null,null,null,null,null,null,null,null,null,null,null,null,null,null,null,null,null,41,null,null,null,null,null,null,null,null,null,null,null,null,null,null,null,null,null,null,null,null,null,42,null,null,null,null,null,null,null,null,null,null,null,null,null,null,null,null,null,null,null,null,null,43,null,null,null,null,null,null,null,null,null,null,null,null,null,null,null,null,null,null,null,null,null,44,null,null,null,null,null,null,null,null,null,null,null,null,null,null,null,null,null,null,null,null,null,45,null,null,null,null,null,null,null,null,null,null,null,null,null,null,null,null,null,null,null,null,null,46,null,null,null,null,null,null,null,null,null,null,null,null,null,null,null,null,null,null,null,null,null,47,null,null,null,null,null,null,null,null,null,null,null,null,null,null,null,null,null,null,null,null,null,48,null,null,null,null,null,null,null,null,null,null,null,null,null,null,null,null,null,null,null,null,null,49,null,null,null,null,null,null,null,null,null,null,null,null,null,null,null,null,null,null,null,null,null,50,null,null,null,null,null,null,null,null,null,null,null,null,null,null,null,null,null,null,null,null,null,51,null,null,null,null,null,null,null,null,null,null,null,null,null,null,null,null,null,null,null,null,null,52,null,null,null,null,null,null,null,null,null,null,null,null,null,null,null,null,null,null,null,null,null,53,null,null,null,null,null,null,null,null,null,null,null,null,null,null,null,null,null,null,null,null,null,54,null,null,null,null,null,null,null,null,null,null,null,null,null,null,null,null,null,null,null,null,null,55,null,null,null,null,null,null,null,null,null,null,null,null,null,null,null,null,null,null,null,null,null,56,null,null,null,null,null,null,null,null,null,null,null,null,null,null,null,null,null,null,null,null,null,57,null,null,null,null,null,null,null,null,null,null,null,null,null,null,null,null,null,null,null,null,null,58,null,null,null,null,null,null,null,null,null,null,null,null,null,null,null,null,null,null,null,null,null,59,null,null,null,null,null,null,null,null,null,null,null,null,null,null,null,null,null,null,null,null,null,60,null,null,null,null,null,null,null,null,null,null,null,null,null,null,null,null,null,null,null,null,null,61,null,null,null,null,null,null,null,null,null,null,null,null,null,null,null,null,null,null,null,null,null,62,null,null,null,null,null,null,null,null,null,null,null,null,null,null,null,null,null,null,null,null,null,63,null,null,null,null,null,null,null,null,null,null,null,null,null,null,null,null,null,null,null,null,null,64,null,null,null,null,null,null,null,null,null,null,null,null,null,null,null,null,null,null,null,null,null,65,null,null,null,null,null,null,null,null,null,null,null,null,null,null,null,null,null,null,null,null,null,66,null,null,null,null,null,null,null,null,null,null,null,null,null,null,null,null,null,null,null,null,null,67,null,null,null,null,null,null,null,null,null,null,null,null,null,null,null,null,null,null,null,null,null,68,null,null,null,null,null,null,null,null,null,null,null,null,null,null,null,null,null,null,null,null,null,69,null,null,null,null,null,null,null,null,null,null,null,null,null,null,null,null,null,null,null,null,null,70,null,null,null,null,null,null,null,null,null,null,null,null,null,null,null,null,null,null,null,null,null,71,null,null,null,null,null,null,null,null,null,null,null,null,null,null,null,null,null,null,null,null,null,72,null,null,null,null,null,null,null,null,null,null,null,null,null,null,null,null,null,null,null,null,null,73,null,null,null,null,null,null,null,null,null,null,null,null,null,null,null,null,null,null,null,null,null,74,null,null,null,null,null,null,null,null,null,null,null,null,null,null,null,null,null,null,null,null,null,75,null,null,null,null,null,null,null,null,null,null,null,null,null,null,null,null,null,null,null,null,null,76,null,null,null,null,null,null,null,null,null,null,null,null,null,null,null,null,null,null,null,null,null,77,null,null,null,null,null,null,null,null,null,null,null,null,null,null,null,null,null,null,null,null,null,78,null,null,null,null,null,null,null,null,null,null,null,null,null,null,null,null,null,null,null,null,null,79,null,null,null,null,null,null,null,null,null,null,null,null,null,null,null,null,null,null,null,null,"NPV"]
["Period","Años","dz","I(t)","K(t+1)","K(t)","E(t)",{"$f":"SUM(H27:H107)","v":0},"Value of Project","I real ","PV de I en t","Decision",{"$f":"IF(SUM(M27:M107)=0,1000,SUM(M27:M107))","v":1000},null,"dz",null,"C(t)*","W(t)",null,"Failure",{"$f":"IF(SUM(U27:U107)=0,1000,SUM(U27:U107))","v":1000},null,"Period","Años","dz","I(t)","K(t+1)","K(t)","E(t)",{"$f":"SUM(AD27:AD107)","v":0},"Value of Project","I real ","PV de I en t","Decision",{"$f":"IF(SUM(AI27:AI107)=0,1000,SUM(AI27:AI107))","v":1000},null,"dz",null,"C(t)*","W(t)",null,"Failure",{"$f":"IF(SUM(AQ27:AQ107)=0,1000,SUM(AQ27:AQ107))","v":1000},null,null,"Period","Años","dz","I(t)","K(t+1)","K(t)","E(t)",{"$f":"SUM(BA27:BA107)","v":0},"Value of Project","I real ","PV de I en t","Decision",{"$f":"IF(SUM(BF27:BF107)=0,1000,SUM(BF27:BF107))","v":1000},null,"dz",null,"C(t)*","W(t)",null,"Failure",{"$f":"IF(SUM(BN27:BN107)=0,1000,SUM(BN27:BN107))","v":1000},null,"Period","Años","dz","I(t)","K(t+1)","K(t)","E(t)",{"$f":"SUM(BW27:BW107)","v":0},"Value of Project","I real ","PV de I en t","Decision",{"$f":"IF(SUM(CB27:CB107)=0,1000,SUM(CB27:CB107))","v":1000},null,"dz",null,"C(t)*","W(t)",null,"Failure",{"$f":"IF(SUM(CJ27:CJ107)=0,1000,SUM(CJ27:CJ107))","v":1000},null,"Periodos","Años","dz","I","K(t+1)",null,"E(t)",{"$f":"SUM(CS27:CS107)","v":5},"Value of Project","I real ","PV de I","Decisión",{"$f":"IF(SUM(CX27:CX107)=0,1000,SUM(CX27:CX107))","v":1000},null,"dz",null,"C(t)*","W(t)",null,"Failure",{"$f":"IF(SUM(DF27:DF107)=0,1000,SUM(DF27:DF107))","v":1000},null,"Periodos","Años","dz","I","K(t+1)",null,"E(t)",{"$f":"SUM(DO27:DO107)","v":0},"Value of Project","I real ","PV de I","Decisión",{"$f":"IF(SUM(DT27:DT107)=0,1000,SUM(DT27:DT107))","v":1000},null,"dz",null,"C(t)*","W(t)",null,"Failure",{"$f":"IF(SUM(EB27:EB107)=0,1000,SUM(EB27:EB107))","v":1000},null,"Periodos","Años","dz","I","K(t+1)",null,"E(t)",{"$f":"SUM(EK27:EK107)","v":0},"Value of Project","I real ","PV de I","Decisión",{"$f":"IF(SUM(EP27:EP107)=0,1000,SUM(EP27:EP107))","v":1000},null,"dz",null,"C(t)*","W(t)",null,"Failure",{"$f":"IF(SUM(EX27:EX107)=0,1000,SUM(EX27:EX107))","v":1000},null,"Periodos","Años","dz","I","K(t+1)",null,"E(t)",{"$f":"SUM(FG27:FG107)","v":0},"Value of Project","I real ","PV de I","Decisión",{"$f":"IF(SUM(FL27:FL107)=0,1000,SUM(FL27:FL107))","v":1000},null,"dz",null,"C(t)*","W(t)",null,"Failure",{"$f":"IF(SUM(FT27:FT107)=0,1000,SUM(FT27:FT107))","v":1000},null,"Periodos","Años","dz","I","K(t+1)",null,"E(t)",{"$f":"SUM(GC27:GC107)","v":0},"Value of Project","I real ","PV de I","Decisión",{"$f":"IF(SUM(GH27:GH107)=0,1000,SUM(GH27:GH107))","v":1000},null,"dz",null,"C(t)*","W(t)",null,"Failure",{"$f":"IF(SUM(GP27:GP107)=0,1000,SUM(GP27:GP107))","v":1000},null,"Periodos","Años","dz","I","K(t+1)",null,"E(t)",{"$f":"SUM(GY27:GY107)","v":0},"Value of Project","I real ","PV de I","Decisión",{"$f":"IF(SUM(HD27:HD107)=0,1000,SUM(HD27:HD107))","v":1000},null,"dz",null,"C(t)*","W(t)",null,"Failure",{"$f":"IF(SUM(HL27:HL107)=0,1000,SUM(HL27:HL107))","v":1000},null,"Periodos","Años","dz","I","K(t+1)",null,"E(t)",{"$f":"SUM(HU27:HU107)","v":0},"Value of Project","I real ","PV de I","Decisión",{"$f":"IF(SUM(HZ27:HZ107)=0,1000,SUM(HZ27:HZ107))","v":1000},null,"dz",null,"C(t)*","W(t)",null,"Failure",{"$f":"IF(SUM(IH27:IH107)=0,1000,SUM(IH27:IH107))","v":1000},null,"Periodos","Años","dz","I","K(t+1)",null,"E(t)",{"$f":"SUM(IQ27:IQ107)","v":0},"Value of Project","I real ","PV de I","Decisión",{"$f":"IF(SUM(IV27:IV107)=0,1000,SUM(IV27:IV107))","v":1000},null,"dz",null,"C(t)*","W(t)",null,"Failure",{"$f":"IF(SUM(JD27:JD107)=0,1000,SUM(JD27:JD107))","v":1000},null,"Periodos","Años","dz","I","K(t+1)",null,"E(t)",{"$f":"SUM(JM27:JM107)","v":0},"Value of Project","I real ","PV de I","Decisión",{"$f":"IF(SUM(JR27:JR107)=0,1000,SUM(JR27:JR107))","v":1000},null,"dz",null,"C(t)*","W(t)",null,"Failure",{"$f":"IF(SUM(JZ27:JZ107)=0,1000,SUM(JZ27:JZ107))","v":1000},null,"Periodos","Años","dz","I","K(t+1)",null,"E(t)",{"$f":"SUM(KI27:KI107)","v":0},"Value of Project","I real ","PV de I","Decisión",{"$f":"IF(SUM(KN27:KN107)=0,1000,SUM(KN27:KN107))","v":1000},null,"dz",null,"C(t)*","W(t)",null,"Failure",{"$f":"IF(SUM(KV27:KV107)=0,1000,SUM(KV27:KV107))","v":1000},null,"Periodos","Años","dz","I","K(t+1)",null,"E(t)",{"$f":"SUM(LE27:LE107)","v":0},"Value of Project","I real ","PV de I","Decisión",{"$f":"IF(SUM(LJ27:LJ107)=0,1000,SUM(LJ27:LJ107))","v":1000},null,"dz",null,"C(t)*","W(t)",null,"Failure",{"$f":"IF(SUM(LR27:LR107)=0,1000,SUM(LR27:LR107))","v":1000},null,"Periodos","Años","dz","I","K(t+1)",null,"E(t)",{"$f":"SUM(MA27:MA107)","v":0},"Value of Project","I real ","PV de I","Decisión",{"$f":"IF(SUM(MF27:MF107)=0,1000,SUM(MF27:MF107))","v":1000},null,"dz",null,"C(t)*","W(t)",null,"Failure",{"$f":"IF(SUM(MN27:MN107)=0,1000,SUM(MN27:MN107))","v":1000},null,"Periodos","Años","dz","I","K(t+1)",null,"E(t)",{"$f":"SUM(MW27:MW107)","v":0},"Value of Project","I real ","PV de I","Decisión",{"$f":"IF(SUM(NB27:NB107)=0,1000,SUM(NB27:NB107))","v":1000},null,"dz",null,"C(t)*","W(t)",null,"Failure",{"$f":"IF(SUM(NJ27:NJ107)=0,1000,SUM(NJ27:NJ107))","v":1000},null,"Periodos","Años","dz","I","K(t+1)",null,"E(t)",{"$f":"SUM(NS27:NS107)","v":0},"Value of Project","I real ","PV de I","Decisión",{"$f":"IF(SUM(NX27:NX107)=0,1000,SUM(NX27:NX107))","v":1000},null,"dz",null,"C(t)*","W(t)",null,"Failure",{"$f":"IF(SUM(OF27:OF107)=0,1000,SUM(OF27:OF107))","v":1000},null,"Periodos","Años","dz","I","K(t+1)",null,"E(t)",{"$f":"SUM(OO27:OO107)","v":0},"Value of Project","I real ","PV de I","Decisión",{"$f":"IF(SUM(OT27:OT107)=0,1000,SUM(OT27:OT107))","v":1000},null,"dz",null,"C(t)*","W(t)",null,"Failure",{"$f":"IF(SUM(PB27:PB107)=0,1000,SUM(PB27:PB107))","v":1000},null,"Periodos","Años","dz","I","K(t+1)",null,"E(t)",{"$f":"SUM(PK27:PK107)","v":0},"Value of Project","I real ","PV de I","Decisión",{"$f":"IF(SUM(PP27:PP107)=0,1000,SUM(PP27:PP107))","v":1000},null,"dz",null,"C(t)*","W(t)",null,"Failure",{"$f":"IF(SUM(PX27:PX107)=0,1000,SUM(PX27:PX107))","v":1000},null,"Periodos","Años","dz","I","K(t+1)",null,"E(t)",{"$f":"SUM(QG27:QG107)","v":0},"Value of Project","I real ","PV de I","Decisión",{"$f":"IF(SUM(QL27:QL107)=0,1000,SUM(QL27:QL107))","v":1000},null,"dz",null,"C(t)*","W(t)",null,"Failure",{"$f":"IF(SUM(QT27:QT107)=0,1000,SUM(QT27:QT107))","v":1000},null,"Periodos","Años","dz","I","K(t+1)",null,"E(t)",{"$f":"SUM(RC27:RC107)","v":0},"Value of Project","I real ","PV de I","Decisión",{"$f":"IF(SUM(RH27:RH107)=0,1000,SUM(RH27:RH107))","v":1000},null,"dz",null,"C(t)*","W(t)",null,"Failure",{"$f":"IF(SUM(RP27:RP107)=0,1000,SUM(RP27:RP107))","v":1000},null,"Periodos","Años","dz","I","K(t+1)",null,"E(t)",{"$f":"SUM(RY27:RY107)","v":0},"Value of Project","I real ","PV de I","Decisión",{"$f":"IF(SUM(SD27:SD107)=0,1000,SUM(SD27:SD107))","v":1000},null,"dz",null,"C(t)*","W(t)",null,"Failure",{"$f":"IF(SUM(SL27:SL107)=0,1000,SUM(SL27:SL107))","v":1000},null,"Periodos","Años","dz","I","K(t+1)",null,"E(t)",{"$f":"SUM(SU27:SU107)","v":0},"Value of Project","I real ","PV de I","Decisión",{"$f":"IF(SUM(SZ27:SZ107)=0,1000,SUM(SZ27:SZ107))","v":1000},null,"dz",null,"C(t)*","W(t)",null,"Failure",{"$f":"IF(SUM(TH27:TH107)=0,1000,SUM(TH27:TH107))","v":1000},null,"Periodos","Años","dz","I","K(t+1)",null,"E(t)",{"$f":"SUM(TQ27:TQ107)","v":0},"Value of Project","I real ","PV de I","Decisión",{"$f":"IF(SUM(TV27:TV107)=0,1000,SUM(TV27:TV107))","v":1000},null,"dz",null,"C(t)*","W(t)",null,"Failure",{"$f":"IF(SUM(UD27:UD107)=0,1000,SUM(UD27:UD107))","v":1000},null,"Periodos","Años","dz","I","K(t+1)",null,"E(t)",{"$f":"SUM(UM27:UM107)","v":0},"Value of Project","I real ","PV de I","Decisión",{"$f":"IF(SUM(UR27:UR107)=0,1000,SUM(UR27:UR107))","v":1000},null,"dz",null,"C(t)*","W(t)",null,"Failure",{"$f":"IF(SUM(UZ27:UZ107)=0,1000,SUM(UZ27:UZ107))","v":1000},null,"Periodos","Años","dz","I","K(t+1)",null,"E(t)",{"$f":"SUM(VI27:VI107)","v":0},"Value of Project","I real ","PV de I","Decisión",{"$f":"IF(SUM(VN27:VN107)=0,1000,SUM(VN27:VN107))","v":1000},null,"dz",null,"C(t)*","W(t)",null,"Failure",{"$f":"IF(SUM(VV27:VV107)=0,1000,SUM(VV27:VV107))","v":1000},null,"Periodos","Años","dz","I","K(t+1)",null,"E(t)",{"$f":"SUM(WE27:WE107)","v":0},"Value of Project","I real ","PV de I","Decisión",{"$f":"IF(SUM(WJ27:WJ107)=0,1000,SUM(WJ27:WJ107))","v":1000},null,"dz",null,"C(t)*","W(t)",null,"Failure",{"$f":"IF(SUM(WR27:WR107)=0,1000,SUM(WR27:WR107))","v":1000},null,"Periodos","Años","dz","I","K(t+1)",null,"E(t)",{"$f":"SUM(XA27:XA107)","v":0},"Value of Project","I real ","PV de I","Decisión",{"$f":"IF(SUM(XF27:XF107)=0,1000,SUM(XF27:XF107))","v":1000},null,"dz",null,"C(t)*","W(t)",null,"Failure",{"$f":"IF(SUM(XN27:XN107)=0,1000,SUM(XN27:XN107))","v":1000},null,"Periodos","Años","dz","I","K(t+1)",null,"E(t)",{"$f":"SUM(XW27:XW107)","v":0},"Value of Project","I real ","PV de I","Decisión",{"$f":"IF(SUM(YB27:YB107)=0,1000,SUM(YB27:YB107))","v":1000},null,"dz",null,"C(t)*","W(t)",null,"Failure",{"$f":"IF(SUM(YJ27:YJ107)=0,1000,SUM(YJ27:YJ107))","v":1000},null,"Periodos","Años","dz","I","K(t+1)",null,"E(t)",{"$f":"SUM(YS27:YS107)","v":0},"Value of Project","I real ","PV de I","Decisión",{"$f":"IF(SUM(YX27:YX107)=0,1000,SUM(YX27:YX107))","v":1000},null,"dz",null,"C(t)*","W(t)",null,"Failure",{"$f":"IF(SUM(ZF27:ZF107)=0,1000,SUM(ZF27:ZF107))","v":1000},null,"Periodos","Años","dz","I","K(t+1)",null,"E(t)",{"$f":"SUM(ZO27:ZO107)","v":0},"Value of Project","I real ","PV de I","Decisión",{"$f":"IF(SUM(ZT27:ZT107)=0,1000,SUM(ZT27:ZT107))","v":1000},null,"dz",null,"C(t)*","W(t)",null,"Failure",{"$f":"IF(SUM(AAB27:AAB107)=0,1000,SUM(AAB27:AAB107))","v":1000},null,"Periodos","Años","dz","I","K(t+1)",null,"E(t)",{"$f":"SUM(AAK27:AAK107)","v":0},"Value of Project","I real ","PV de I","Decisión",{"$f":"IF(SUM(AAP27:AAP107)=0,1000,SUM(AAP27:AAP107))","v":1000},null,"dz",null,"C(t)*","W(t)",null,"Failure",{"$f":"IF(SUM(AAX27:AAX107)=0,1000,SUM(AAX27:AAX107))","v":1000},null,"Period","Años","dz","I(t)","K(t+1)","K(t)","E(t)",{"$f":"SUM(ABG27:ABG107)","v":0},"Value of Project","I real ","PV de I en t","Decision",{"$f":"IF(SUM(ABL27:ABL107)=0,1000,SUM(ABL27:ABL107))","v":1000},null,"dz",null,"C(t)*","W(t)",null,"Failure",{"$f":"IF(SUM(ABT27:ABT107)=0,1000,SUM(ABT27:ABT107))","v":1000},null,"Periodos","Años","dz","I","K(t+1)",null,"E(t)",{"$f":"SUM(ACC27:ACC107)","v":0},"Value of Project","I real ","PV de I","Decisión",{"$f":"IF(SUM(ACH27:ACH107)=0,1000,SUM(ACH27:ACH107))","v":1000},null,"dz",null,"C(t)*","W(t)",null,"Failure",{"$f":"IF(SUM(ACP27:ACP107)=0,1000,SUM(ACP27:ACP107))","v":1000},null,"Periodos","Años","dz","I","K(t+1)",null,"E(t)",{"$f":"SUM(ACY27:ACY107)","v":0},"Value of Project","I real ","PV de I","Decisión",{"$f":"IF(SUM(ADD27:ADD107)=0,1000,SUM(ADD27:ADD107))","v":1000},null,"dz",null,"C(t)*","W(t)",null,"Failure",{"$f":"IF(SUM(ADL27:ADL107)=0,1000,SUM(ADL27:ADL107))","v":1000},null,"Periodos","Años","dz","I","K(t+1)",null,"E(t)",{"$f":"SUM(ADU27:ADU107)","v":0},"Value of Project","I real ","PV de I","Decisión",{"$f":"IF(SUM(ADZ27:ADZ107)=0,1000,SUM(ADZ27:ADZ107))","v":1000},null,"dz",null,"C(t)*","W(t)",null,"Failure",{"$f":"IF(SUM(AEH27:AEH107)=0,1000,SUM(AEH27:AEH107))","v":1000},null,"Periodos","Años","dz","I","K(t+1)",null,"E(t)",{"$f":"SUM(AEQ27:AEQ107)","v":0},"Value of Project","I real ","PV de I","Decisión",{"$f":"IF(SUM(AEV27:AEV107)=0,1000,SUM(AEV27:AEV107))","v":1000},null,"dz",null,"C(t)*","W(t)",null,"Failure",{"$f":"IF(SUM(AFD27:AFD107)=0,1000,SUM(AFD27:AFD107))","v":1000},null,"Periodos","Años","dz","I","K(t+1)",null,"E(t)",{"$f":"SUM(AFM27:AFM107)","v":0},"Value of Project","I real ","PV de I","Decisión",{"$f":"IF(SUM(AFR27:AFR107)=0,1000,SUM(AFR27:AFR107))","v":1000},null,"dz",null,"C(t)*","W(t)",null,"Failure",{"$f":"IF(SUM(AFZ27:AFZ107)=0,1000,SUM(AFZ27:AFZ107))","v":1000},null,"Periodos","Años","dz","I","K(t+1)",null,"E(t)",{"$f":"SUM(AGI27:AGI107)","v":0},"Value of Project","I real ","PV de I","Decisión",{"$f":"IF(SUM(AGN27:AGN107)=0,1000,SUM(AGN27:AGN107))","v":1000},null,"dz",null,"C(t)*","W(t)",null,"Failure",{"$f":"IF(SUM(AGV27:AGV107)=0,1000,SUM(AGV27:AGV107))","v":1000},null,"Periodos","Años","dz","I","K(t+1)",null,"E(t)",{"$f":"SUM(AHE27:AHE107)","v":0},"Value of Project","I real ","PV de I","Decisión",{"$f":"IF(SUM(AHJ27:AHJ107)=0,1000,SUM(AHJ27:AHJ107))","v":1000},null,"dz",null,"C(t)*","W(t)",null,"Failure",{"$f":"IF(SUM(AHR27:AHR107)=0,1000,SUM(AHR27:AHR107))","v":1000},null,"Periodos","Años","dz","I","K(t+1)",null,"E(t)",{"$f":"SUM(AIA27:AIA107)","v":0},"Value of Project","I real ","PV de I","Decisión",{"$f":"IF(SUM(AIF27:AIF107)=0,1000,SUM(AIF27:AIF107))","v":1000},null,"dz",null,"C(t)*","W(t)",null,"Failure",{"$f":"IF(SUM(AIN27:AIN107)=0,1000,SUM(AIN27:AIN107))","v":1000},null,"Periodos","Años","dz","I","K(t+1)",null,"E(t)",{"$f":"SUM(AIW27:AIW107)","v":0},"Value of Project","I real ","PV de I","Decisión",{"$f":"IF(SUM(AJB27:AJB107)=0,1000,SUM(AJB27:AJB107))","v":1000},null,"dz",null,"C(t)*","W(t)",null,"Failure",{"$f":"IF(SUM(AJJ27:AJJ107)=0,1000,SUM(AJJ27:AJJ107))","v":1000},null,"Periodos","Años","dz","I","K(t+1)",null,"E(t)",{"$f":"SUM(AJS27:AJS107)","v":0},"Value of Project","I real ","PV de I","Decisión",{"$f":"IF(SUM(AJX27:AJX107)=0,1000,SUM(AJX27:AJX107))","v":1000},null,"dz",null,"C(t)*","W(t)",null,"Failure",{"$f":"IF(SUM(AKF27:AKF107)=0,1000,SUM(AKF27:AKF107))","v":1000},null,"Periodos","Años","dz","I","K(t+1)",null,"E(t)",{"$f":"SUM(AKO27:AKO107)","v":0},"Value of Project","I real ","PV de I","Decisión",{"$f":"IF(SUM(AKT27:AKT107)=0,1000,SUM(AKT27:AKT107))","v":1000},null,"dz",null,"C(t)*","W(t)",null,"Failure",{"$f":"IF(SUM(ALB27:ALB107)=0,1000,SUM(ALB27:ALB107))","v":1000},null,"Periodos","Años","dz","I","K(t+1)",null,"E(t)",{"$f":"SUM(ALK27:ALK107)","v":0},"Value of Project","I real ","PV de I","Decisión",{"$f":"IF(SUM(ALP27:ALP107)=0,1000,SUM(ALP27:ALP107))","v":1000},null,"dz",null,"C(t)*","W(t)",null,"Failure",{"$f":"IF(SUM(ALX27:ALX107)=0,1000,SUM(ALX27:ALX107))","v":1000},null,"Periodos","Años","dz","I","K(t+1)",null,"E(t)",{"$f":"SUM(AMG27:AMG107)","v":0},"Value of Project","I real ","PV de I","Decisión",{"$f":"IF(SUM(AML27:AML107)=0,1000,SUM(AML27:AML107))","v":1000},null,"dz",null,"C(t)*","W(t)",null,"Failure",{"$f":"IF(SUM(AMT27:AMT107)=0,1000,SUM(AMT27:AMT107))","v":1000},null,"Periodos","Años","dz","I","K(t+1)",null,"E(t)",{"$f":"SUM(ANC27:ANC107)","v":0},"Value of Project","I real ","PV de I","Decisión",{"$f":"IF(SUM(ANH27:ANH107)=0,1000,SUM(ANH27:ANH107))","v":1000},null,"dz",null,"C(t)*","W(t)",null,"Failure",{"$f":"IF(SUM(ANP27:ANP107)=0,1000,SUM(ANP27:ANP107))","v":1000},null,"Periodos","Años","dz","I","K(t+1)",null,"E(t)",{"$f":"SUM(ANY27:ANY107)","v":0},"Value of Project","I real ","PV de I","Decisión",{"$f":"IF(SUM(AOD27:AOD107)=0,1000,SUM(AOD27:AOD107))","v":1000},null,"dz",null,"C(t)*","W(t)",null,"Failure",{"$f":"IF(SUM(AOL27:AOL107)=0,1000,SUM(AOL27:AOL107))","v":1000},null,"Periodos","Años","dz","I","K(t+1)",null,"E(t)",{"$f":"SUM(AOU27:AOU107)","v":0},"Value of Project","I real ","PV de I","Decisión",{"$f":"IF(SUM(AOZ27:AOZ107)=0,1000,SUM(AOZ27:AOZ107))","v":1000},null,"dz",null,"C(t)*","W(t)",null,"Failure",{"$f":"IF(SUM(APH27:APH107)=0,1000,SUM(APH27:APH107))","v":1000},null,"Periodos","Años","dz","I","K(t+1)",null,"E(t)",{"$f":"SUM(APQ27:APQ107)","v":0},"Value of Project","I real ","PV de I","Decisión",{"$f":"IF(SUM(APV27:APV107)=0,1000,SUM(APV27:APV107))","v":1000},null,"dz",null,"C(t)*","W(t)",null,"Failure",{"$f":"IF(SUM(AQD27:AQD107)=0,1000,SUM(AQD27:AQD107))","v":1000},null,"Periodos","Años","dz","I","K(t+1)",null,"E(t)",{"$f":"SUM(AQM27:AQM107)","v":0},"Value of Project","I real ","PV de I","Decisión",{"$f":"IF(SUM(AQR27:AQR107)=0,1000,SUM(AQR27:AQR107))","v":1000},null,"dz",null,"C(t)*","W(t)",null,"Failure",{"$f":"IF(SUM(AQZ27:AQZ107)=0,1000,SUM(AQZ27:AQZ107))","v":1000},null,"Periodos","Años","dz","I","K(t+1)",null,"E(t)",{"$f":"SUM(ARI27:ARI107)","v":0},"Value of Project","I real ","PV de I","Decisión",{"$f":"IF(SUM(ARN27:ARN107)=0,1000,SUM(ARN27:ARN107))","v":1000},null,"dz",null,"C(t)*","W(t)",null,"Failure",{"$f":"IF(SUM(ARV27:ARV107)=0,1000,SUM(ARV27:ARV107))","v":1000},null,"Periodos","Años","dz","I","K(t+1)",null,"E(t)",{"$f":"SUM(ASE27:ASE107)","v":0},"Value of Project","I real ","PV de I","Decisión",{"$f":"IF(SUM(ASJ27:ASJ107)=0,1000,SUM(ASJ27:ASJ107))","v":1000},null,"dz",null,"C(t)*","W(t)",null,"Failure",{"$f":"IF(SUM(ASR27:ASR107)=0,1000,SUM(ASR27:ASR107))","v":1000},null,"Periodos","Años","dz","I","K(t+1)",null,"E(t)",{"$f":"SUM(ATA27:ATA107)","v":0},"Value of Project","I real ","PV de I","Decisión",{"$f":"IF(SUM(ATF27:ATF107)=0,1000,SUM(ATF27:ATF107))","v":1000},null,"dz",null,"C(t)*","W(t)",null,"Failure",{"$f":"IF(SUM(ATN27:ATN107)=0,1000,SUM(ATN27:ATN107))","v":1000},null,"Periodos","Años","dz","I","K(t+1)",null,"E(t)",{"$f":"SUM(ATW27:ATW107)","v":0},"Value of Project","I real ","PV de I","Decisión",{"$f":"IF(SUM(AUB27:AUB107)=0,1000,SUM(AUB27:AUB107))","v":1000},null,"dz",null,"C(t)*","W(t)",null,"Failure",{"$f":"IF(SUM(AUJ27:AUJ107)=0,1000,SUM(AUJ27:AUJ107))","v":1000},null,"Periodos","Años","dz","I","K(t+1)",null,"E(t)",{"$f":"SUM(AUS27:AUS107)","v":0},"Value of Project","I real ","PV de I","Decisión",{"$f":"IF(SUM(AUX27:AUX107)=0,1000,SUM(AUX27:AUX107))","v":1000},null,"dz",null,"C(t)*","W(t)",null,"Failure",{"$f":"IF(SUM(AVF27:AVF107)=0,1000,SUM(AVF27:AVF107))","v":1000},null,"Periodos","Años","dz","I","K(t+1)",null,"E(t)",{"$f":"SUM(AVO27:AVO107)","v":0},"Value of Project","I real ","PV de I","Decisión",{"$f":"IF(SUM(AVT27:AVT107)=0,1000,SUM(AVT27:AVT107))","v":1000},null,"dz",null,"C(t)*","W(t)",null,"Failure",{"$f":"IF(SUM(AWB27:AWB107)=0,1000,SUM(AWB27:AWB107))","v":1000},null,"Periodos","Años","dz","I","K(t+1)",null,"E(t)",{"$f":"SUM(AWK27:AWK107)","v":0},"Value of Project","I real ","PV de I","Decisión",{"$f":"IF(SUM(AWP27:AWP107)=0,1000,SUM(AWP27:AWP107))","v":1000},null,"dz",null,"C(t)*","W(t)",null,"Failure",{"$f":"IF(SUM(AWX27:AWX107)=0,1000,SUM(AWX27:AWX107))","v":1000},null,"Periodos","Años","dz","I","K(t+1)",null,"E(t)",{"$f":"SUM(AXG27:AXG107)","v":0},"Value of Project","I real ","PV de I","Decisión",{"$f":"IF(SUM(AXL27:AXL107)=0,1000,SUM(AXL27:AXL107))","v":1000},null,"dz",null,"C(t)*","W(t)",null,"Failure",{"$f":"IF(SUM(AXT27:AXT107)=0,1000,SUM(AXT27:AXT107))","v":1000},null,"Periodos","Años","dz","I","K(t+1)",null,"E(t)",{"$f":"SUM(AYC27:AYC107)","v":0},"Value of Project","I real ","PV de I","Decisión",{"$f":"IF(SUM(AYH27:AYH107)=0,1000,SUM(AYH27:AYH107))","v":1000},null,"dz",null,"C(t)*","W(t)",null,"Failure",{"$f":"IF(SUM(AYP27:AYP107)=0,1000,SUM(AYP27:AYP107))","v":1000},null,"Periodos","Años","dz","I","K(t+1)",null,"E(t)",{"$f":"SUM(AYY27:AYY107)","v":0},"Value of Project","I real ","PV de I","Decisión",{"$f":"IF(SUM(AZD27:AZD107)=0,1000,SUM(AZD27:AZD107))","v":1000},null,"dz",null,"C(t)*","W(t)",null,"Failure",{"$f":"IF(SUM(AZL27:AZL107)=0,1000,SUM(AZL27:AZL107))","v":1000},null,"Periodos","Años","dz","I","K(t+1)",null,"E(t)",{"$f":"SUM(AZU27:AZU107)","v":0},"Value of Project","I real ","PV de I","Decisión",{"$f":"IF(SUM(AZZ27:AZZ107)=0,1000,SUM(AZZ27:AZZ107))","v":1000},null,"dz",null,"C(t)*","W(t)",null,"Failure",{"$f":"IF(SUM(BAH27:BAH107)=0,1000,SUM(BAH27:BAH107))","v":1000},null,"Periodos","Años","dz","I","K(t+1)",null,"E(t)",{"$f":"SUM(BAQ27:BAQ107)","v":0},"Value of Project","I real ","PV de I","Decisión",{"$f":"IF(SUM(BAV27:BAV107)=0,1000,SUM(BAV27:BAV107))","v":1000},null,"dz",null,"C(t)*","W(t)",null,"Failure",{"$f":"IF(SUM(BBD27:BBD107)=0,1000,SUM(BBD27:BBD107))","v":1000},null,"Periodos","Años","dz","I","K(t+1)",null,"E(t)",{"$f":"SUM(BBM27:BBM107)","v":0},"Value of Project","I real ","PV de I","Decisión",{"$f":"IF(SUM(BBR27:BBR107)=0,1000,SUM(BBR27:BBR107))","v":1000},null,"dz",null,"C(t)*","W(t)",null,"Failure",{"$f":"IF(SUM(BBZ27:BBZ107)=0,1000,SUM(BBZ27:BBZ107))","v":1000},null,"Periodos","Años","dz","I","K(t+1)",null,"E(t)",{"$f":"SUM(BCI27:BCI107)","v":0},"Value of Project","I real ","PV de I","Decisión",{"$f":"IF(SUM(BCN27:BCN107)=0,1000,SUM(BCN27:BCN107))","v":1000},null,"dz",null,"C(t)*","W(t)",null,"Failure",{"$f":"IF(SUM(BCV27:BCV107)=0,1000,SUM(BCV27:BCV107))","v":1000},null,"Periodos","Años","dz","I","K(t+1)",null,"E(t)",{"$f":"SUM(BDE27:BDE107)","v":0},"Value of Project","I real ","PV de I","Decisión",{"$f":"IF(SUM(BDJ27:BDJ107)=0,1000,SUM(BDJ27:BDJ107))","v":1000},null,"dz",null,"C(t)*","W(t)",null,"Failure",{"$f":"IF(SUM(BDR27:BDR107)=0,1000,SUM(BDR27:BDR107))","v":1000},null,"Periodos","Años","dz","I","K(t+1)",null,"E(t)",{"$f":"SUM(BEA27:BEA107)","v":0},"Value of Project","I real ","PV de I","Decisión",{"$f":"IF(SUM(BEF27:BEF107)=0,1000,SUM(BEF27:BEF107))","v":1000},null,"dz",null,"C(t)*","W(t)",null,"Failure",{"$f":"IF(SUM(BEN27:BEN107)=0,1000,SUM(BEN27:BEN107))","v":1000},null,"Periodos","Años","dz","I","K(t+1)",null,"E(t)",{"$f":"SUM(BEW27:BEW107)","v":0},"Value of Project","I real ","PV de I","Decisión",{"$f":"IF(SUM(BFB27:BFB107)=0,1000,SUM(BFB27:BFB107))","v":1000},null,"dz",null,"C(t)*","W(t)",null,"Failure",{"$f":"IF(SUM(BFJ27:BFJ107)=0,1000,SUM(BFJ27:BFJ107))","v":1000},null,"Periodos","Años","dz","I","K(t+1)",null,"E(t)",{"$f":"SUM(BFS27:BFS107)","v":0},"Value of Project","I real ","PV de I","Decisión",{"$f":"IF(SUM(BFX27:BFX107)=0,1000,SUM(BFX27:BFX107))","v":1000},null,"dz",null,"C(t)*","W(t)",null,"Failure",{"$f":"IF(SUM(BGF27:BGF107)=0,1000,SUM(BGF27:BGF107))","v":1000},null,"Periodos","Años","dz","I","K(t+1)",null,"E(t)",{"$f":"SUM(BGO27:BGO107)","v":0},"Value of Project","I real ","PV de I","Decisión",{"$f":"IF(SUM(BGT27:BGT107)=0,1000,SUM(BGT27:BGT107))","v":1000},null,"dz",null,"C(t)*","W(t)",null,"Failure",{"$f":"IF(SUM(BHB27:BHB107)=0,1000,SUM(BHB27:BHB107))","v":1000},null,"Periodos","Años","dz","I","K(t+1)",null,"E(t)",{"$f":"SUM(BHK27:BHK107)","v":0},"Value of Project","I real ","PV de I","Decisión",{"$f":"IF(SUM(BHP27:BHP107)=0,1000,SUM(BHP27:BHP107))","v":1000},null,"dz",null,"C(t)*","W(t)",null,"Failure",{"$f":"IF(SUM(BHX27:BHX107)=0,1000,SUM(BHX27:BHX107))","v":1000},null,"Periodos","Años","dz","I","K(t+1)",null,"E(t)",{"$f":"SUM(BIG27:BIG107)","v":0},"Value of Project","I real ","PV de I","Decisión",{"$f":"IF(SUM(BIL27:BIL107)=0,1000,SUM(BIL27:BIL107))","v":1000},null,"dz",null,"C(t)*","W(t)",null,"Failure",{"$f":"IF(SUM(BIT27:BIT107)=0,1000,SUM(BIT27:BIT107))","v":1000},null,"Periodos","Años","dz","I","K(t+1)",null,"E(t)",{"$f":"SUM(BJC27:BJC107)","v":0},"Value of Project","I real ","PV de I","Decisión",{"$f":"IF(SUM(BJH27:BJH107)=0,1000,SUM(BJH27:BJH107))","v":1000},null,"dz",null,"C(t)*","W(t)",null,"Failure",{"$f":"IF(SUM(BJP27:BJP107)=0,1000,SUM(BJP27:BJP107))","v":1000},null,"Periodos","Años","dz","I","K(t+1)",null,"E(t)",{"$f":"SUM(BJY27:BJY107)","v":0},"Value of Project","I real ","PV de I","Decisión",{"$f":"IF(SUM(BKD27:BKD107)=0,1000,SUM(BKD27:BKD107))","v":1000},null,"dz",null,"C(t)*","W(t)",null,"Failure",{"$f":"IF(SUM(BKL27:BKL107)=0,1000,SUM(BKL27:BKL107))","v":1000},null,"Periodos","Años","dz","I","K(t+1)",null,"E(t)",{"$f":"SUM(BKU27:BKU107)","v":0},"Value of Project","I real ","PV de I","Decisión",{"$f":"IF(SUM(BKZ27:BKZ107)=0,1000,SUM(BKZ27:BKZ107))","v":1000},null,"dz",null,"C(t)*","W(t)",null,"Failure",{"$f":"IF(SUM(BLH27:BLH107)=0,1000,SUM(BLH27:BLH107))","v":1000},null,"Periodos","Años","dz","I","K(t+1)",null,"E(t)",{"$f":"SUM(BLQ27:BLQ107)","v":0},"Value of Project","I real ","PV de I","Decisión",{"$f":"IF(SUM(BLV27:BLV107)=0,1000,SUM(BLV27:BLV107))","v":1000},null,"dz",null,"C(t)*","W(t)",null,"Failure",{"$f":"IF(SUM(BMD27:BMD107)=0,1000,SUM(BMD27:BMD107))","v":1000},null,"Periodos","Años","dz","I","K(t+1)",null,"E(t)",{"$f":"SUM(BMM27:BMM107)","v":0},"Value of Project","I real ","PV de I","Decisión",{"$f":"IF(SUM(BMR27:BMR107)=0,1000,SUM(BMR27:BMR107))","v":1000},null,"dz",null,"C(t)*","W(t)",null,"Failure",{"$f":"IF(SUM(BMZ27:BMZ107)=0,1000,SUM(BMZ27:BMZ107))","v":1000},null,"Periodos","Años","dz","I","K(t+1)",null,"E(t)",{"$f":"SUM(BNI27:BNI107)","v":0},"Value of Project","I real ","PV de I","Decisión",{"$f":"IF(SUM(BNN27:BNN107)=0,1000,SUM(BNN27:BNN107))","v":1000},null,"dz",null,"C(t)*","W(t)",null,"Failure",{"$f":"IF(SUM(BNV27:BNV107)=0,1000,SUM(BNV27:BNV107))","v":1000},null,"Periodos","Años","dz","I","K(t+1)",null,"E(t)",{"$f":"SUM(BOE27:BOE107)","v":0},"Value of Project","I real ","PV de I","Decisión",{"$f":"IF(SUM(BOJ27:BOJ107)=0,1000,SUM(BOJ27:BOJ107))","v":1000},null,"dz",null,"C(t)*","W(t)",null,"Failure",{"$f":"IF(SUM(BOR27:BOR107)=0,1000,SUM(BOR27:BOR107))","v":1000},"Periodos","Años","I(t)","Cash Flows",null,"C(t)","I(t)","NPV","IRR",null,"Value of Project",null,"PV de E ","PV de C"]
[0,0,null,{"$f":"D5","v":2.1428571428571428},{"$f":"D3","v":15},{"$f":"E27","v":15},{"$f":"EXP(-($D$16)*$D$13)*(G28)","v":8.4515799645272409},{"$f":"IF(AND(F27=0,F26>0),A27,\" \")","v":" "},{"$f":"MAX(R27-G27,0)","v":23.114298870595597},{"$f":"$D$27","v":2.1428571428571428},{"$f":"EXP(-($D$16)*$D$13)*(K28)","v":8.4515799645272409},null,{"$f":"IF(L27=\"Abandon\",A27,)","v":0},null,null,{"$f":"D7","v":1.75},{"$f":"IF(A27>0,IF(F27=0,P27,0),0)","v":0},{"$f":"IF(A27=$D$14*$D$12,IF(Q27+(P28*$D$18)/(($D$16*$D$13)-($D$8*$D$13))<0,Q27,Q27+(P28*$D$18)/(($D$16*$D$13)-($D$8*$D$13))),IF(Q27=0,EXP(-($D$16+$D$10)*$D$13)*R28+Q27,EXP(-($D$16)*$D$13)*R28+Q27))","v":31.565878835122838},null,null,null,null,{"$f":"A27","v":0},0,0,{"$f":"$D$27","v":2.1428571428571428},15,15,{"$f":"EXP(-($D$16)*$D$13)*(AC28)","v":10.004408673999906},null,{"$f":"MAX(AN27-AC27,0)","v":63.073846804052792},{"$f":"$D$27","v":2.1428571428571428},{"$f":"EXP(-($D$16)*$D$13)*(AG28)","v":10.004408673999906},null,{"$f":"IF(AH27=\"Abandon\",W27,)","v":0},null,{"$f":"O27","v":0},{"$f":"P27","v":1.75},{"$f":"IF(W27>0,IF(AB27=0,AL27,0),0)","v":0},{"$f":"IF(W27=$D$14*$D$12,IF(AM27+(AL28*$D$18)/(($D$16*$D$13)-($D$8*$D$13))<0,AM27,AM27+(AL28*$D$18)/(($D$16*$D$13)-($D$8*$D$13))),IF(AM27=0,EXP(-($D$16)*$D$13)*AN28+AM27,EXP(-($D$16)*$D$13)*AN28+AM27))","v":73.078255478052697},null,null,null,null,null,{"$f":"X27","v":0},{"$f":"X27","v":0},0,2.1428571428571428,15,15,{"$f":"EXP(-($D$16)*$D$13)*(AZ28)","v":10.889958914202973},null,{"$f":"MAX(BK27-AZ27,0)","v":40.949235804469275},{"$f":"$D$27","v":2.1428571428571428},{"$f":"EXP(-($D$16)*$D$13)*(BD28)","v":10.889958914202973},null,{"$f":"IF(BE27=\"Abandon\",AT27,)","v":0},null,{"$f":"AK27","v":0},1.75,{"$f":"IF(AT27>0,IF(AY27=0,BI27,0),0)","v":0},{"$f":"IF(AT27=$D$14*$D$12,IF(BJ27+(BI28*$D$18)/(($D$16*$D$13)-($D$8*$D$13))<0,BJ27,BJ27+(BI28*$D$18)/(($D$16*$D$13)-($D$8*$D$13))),IF(BJ27=0,EXP(-($D$16)*$D$13)*BK28+BJ27,EXP(-($D$16)*$D$13)*BK28+BJ27))","v":51.839194718672246},null,null,null,null,{"$f":"AT27","v":0},0,0,2.1428571428571428,15,15,{"$f":"EXP(-($D$16)*$D$13)*(BV28)","v":9.7975390381465264},null,{"$f":"MAX(CG27-BV27,0)","v":15.096129016200871},{"$f":"$D$27","v":2.1428571428571428},{"$f":"EXP(-($D$16)*$D$13)*(BZ28)","v":9.7975390381465264},null,{"$f":"IF(CA27=\"Abandon\",BP27,)","v":0},null,{"$f":"BH27","v":0},1.75,{"$f":"IF(BP27>0,IF(BU27=0,CE27,0),0)","v":0},{"$f":"IF(BP27=$D$14*$D$12,IF(CF27+(CE28*$D$18)/(($D$16*$D$13)-($D$8*$D$13))<0,CF27,CF27+(CE28*$D$18)/(($D$16*$D$13)-($D$8*$D$13))),IF(CF27=0,EXP(-($D$16)*$D$13)*CG28+CF27,EXP(-($D$16)*$D$13)*CG28+CF27))","v":24.893668054347398},null,null,null,null,{"$f":"BP27","v":0},0,0,{"$f":"$D$27","v":2.1428571428571428},15,15,{"$f":"EXP(-($D$16)*$D$13)*(CR28)","v":9.7783807675050358},null,{"$f":"MAX(DC27-CR27,0)","v":26.00999232894516},{"$f":"$D$27","v":2.1428571428571428},{"$f":"EXP(-($D$16)*$D$13)*(CV28)","v":9.7783807675050358},null,{"$f":"IF(CW27=\"Abandon\",CL27,)","v":0},null,{"$f":"CD27","v":0},1.75,{"$f":"IF(CL27<=CZ$24,0,IF(AND(CL27>0,$D$19=1),DA27,IF(AND(CL27>0,CL27<=$E$19*$D$12+CZ$24),DA27,0)))","v":0},{"$f":"IF(CL27=$D$14*$D$12,IF(DB27+(DA28*$D$18)/(($D$16*$D$13)-($D$8*$D$13))<0,DB27,DB27+(DA28*$D$18)/(($D$16*$D$13)-($D$8*$D$13))),IF(DB27=0,EXP(-($D$16)*$D$13)*DC28+DB27,EXP(-($D$16)*$D$13)*DC28+DB27))","v":35.788373096450194},null,null,null,null,{"$f":"CL27","v":0},0,0,{"$f":"$D$27","v":2.1428571428571428},15,15,{"$f":"EXP(-($D$16)*$D$13)*(DN28)","v":9.7783807675050358},null,{"$f":"MAX(DY27-DN27,0)","v":28.951555319114604},{"$f":"$D$27","v":2.1428571428571428},{"$f":"EXP(-($D$16)*$D$13)*(DR28)","v":9.7783807675050358},null,{"$f":"IF(DS27=\"Abandon\",DH27,)","v":0},null,{"$f":"CZ27","v":0},1.75,{"$f":"IF(DH27<=DV$24,0,IF(AND(DH27>0,$D$19=1),DW27,IF(AND(DH27>0,DH27<=$E$19*$D$12+DV$24),DW27,0)))","v":0},{"$f":"IF(DH27=$D$14*$D$12,IF(DX27+(DW28*$D$18)/(($D$16*$D$13)-($D$8*$D$13))<0,DX27,DX27+(DW28*$D$18)/(($D$16*$D$13)-($D$8*$D$13))),IF(DX27=0,EXP(-($D$16)*$D$13)*DY28+DX27,EXP(-($D$16)*$D$13)*DY28+DX27))","v":38.729936086619638},null,null,null,null,{"$f":"DH27","v":0},0,0,{"$f":"$D$27","v":2.1428571428571428},15,15,{"$f":"EXP(-($D$16)*$D$13)*(EJ28)","v":9.7783807675050358},null,{"$f":"MAX(EU27-EJ27,0)","v":35.095336110747716},{"$f":"$D$27","v":2.1428571428571428},{"$f":"EXP(-($D$16)*$D$13)*(EN28)","v":9.7783807675050358},null,{"$f":"IF(EO27=\"Abandon\",ED27,)","v":0},null,{"$f":"DV27","v":0},1.75,{"$f":"IF(ED27<=ER$24,0,IF(AND(ED27>0,$D$19=1),ES27,IF(AND(ED27>0,ED27<=$E$19*$D$12+ER$24),ES27,0)))","v":0},{"$f":"IF(ED27=$D$14*$D$12,IF(ET27+(ES28*$D$18)/(($D$16*$D$13)-($D$8*$D$13))<0,ET27,ET27+(ES28*$D$18)/(($D$16*$D$13)-($D$8*$D$13))),IF(ET27=0,EXP(-($D$16)*$D$13)*EU28+ET27,EXP(-($D$16)*$D$13)*EU28+ET27))","v":44.87371687825275},null,null,null,null,{"$f":"ED27","v":0},0,0,{"$f":"$D$27","v":2.1428571428571428},15,15,{"$f":"EXP(-($D$16)*$D$13)*(FF28)","v":9.7783807675050358},null,{"$f":"MAX(FQ27-FF27,0)","v":37.8598675651821},{"$f":"$D$27","v":2.1428571428571428},{"$f":"EXP(-($D$16)*$D$13)*(FJ28)","v":9.7783807675050358},null,{"$f":"IF(FK27=\"Abandon\",EZ27,)","v":0},null,{"$f":"ER27","v":0},1.75,{"$f":"IF(EZ27<=FN$24,0,IF(AND(EZ27>0,$D$19=1),FO27,IF(AND(EZ27>0,EZ27<=$E$19*$D$12+FN$24),FO27,0)))","v":0},{"$f":"IF(EZ27=$D$14*$D$12,IF(FP27+(FO28*$D$18)/(($D$16*$D$13)-($D$8*$D$13))<0,FP27,FP27+(FO28*$D$18)/(($D$16*$D$13)-($D$8*$D$13))),IF(FP27=0,EXP(-($D$16)*$D$13)*FQ28+FP27,EXP(-($D$16)*$D$13)*FQ28+FP27))","v":47.638248332687134},null,null,null,null,{"$f":"EZ27","v":0},{"$f":"FA27","v":0},{"$f":"FB27","v":0},{"$f":"$D$27","v":2.1428571428571428},15,15,{"$f":"EXP(-($D$16)*$D$13)*(GB28)","v":9.7783807675050358},null,{"$f":"MAX(GM27-GB27,0)","v":29.153586722756522},{"$f":"$D$27","v":2.1428571428571428},{"$f":"EXP(-($D$16)*$D$13)*(GF28)","v":9.7783807675050358},null,{"$f":"IF(GG27=\"Abandon\",FV27,)","v":0},null,{"$f":"FN27","v":0},{"$f":"FO27","v":1.75},{"$f":"IF(FV27<=GJ$24,0,IF(AND(FV27>0,$D$19=1),GK27,IF(AND(FV27>0,FV27<=$E$19*$D$12+GJ$24),GK27,0)))","v":0},{"$f":"IF(FV27=$D$14*$D$12,IF(GL27+(GK28*$D$18)/(($D$16*$D$13)-($D$8*$D$13))<0,GL27,GL27+(GK28*$D$18)/(($D$16*$D$13)-($D$8*$D$13))),IF(GL27=0,EXP(-($D$16)*$D$13)*GM28+GL27,EXP(-($D$16)*$D$13)*GM28+GL27))","v":38.931967490261556},null,null,null,null,{"$f":"FV27","v":0},{"$f":"FW27","v":0},{"$f":"FX27","v":0},{"$f":"$D$27","v":2.1428571428571428},15,15,{"$f":"EXP(-($D$16)*$D$13)*(GX28)","v":9.7783807675050358},null,{"$f":"MAX(HI27-GX27,0)","v":31.22859628533066},{"$f":"$D$27","v":2.1428571428571428},{"$f":"EXP(-($D$16)*$D$13)*(HB28)","v":9.7783807675050358},null,{"$f":"IF(HC27=\"Abandon\",GR27,)","v":0},null,{"$f":"GJ27","v":0},{"$f":"GK27","v":1.75},{"$f":"IF(GR27<=HF$24,0,IF(AND(GR27>0,$D$19=1),HG27,IF(AND(GR27>0,GR27<=$E$19*$D$12+HF$24),HG27,0)))","v":0},{"$f":"IF(GR27=$D$14*$D$12,IF(HH27+(HG28*$D$18)/(($D$16*$D$13)-($D$8*$D$13))<0,HH27,HH27+(HG28*$D$18)/(($D$16*$D$13)-($D$8*$D$13))),IF(HH27=0,EXP(-($D$16)*$D$13)*HI28+HH27,EXP(-($D$16)*$D$13)*HI28+HH27))","v":41.006977052835694},null,null,null,null,{"$f":"GR27","v":0},{"$f":"GS27","v":0},{"$f":"GT27","v":0},{"$f":"$D$27","v":2.1428571428571428},15,15,{"$f":"EXP(-($D$16)*$D$13)*(HT28)","v":9.7783807675050358},null,{"$f":"MAX(IE27-HT27,0)","v":30.227043285974027},{"$f":"$D$27","v":2.1428571428571428},{"$f":"EXP(-($D$16)*$D$13)*(HX28)","v":9.7783807675050358},null,{"$f":"IF(HY27=\"Abandon\",HN27,)","v":0},null,{"$f":"HF27","v":0},{"$f":"HG27","v":1.75},{"$f":"IF(HN27<=IB$24,0,IF(AND(HN27>0,$D$19=1),IC27,IF(AND(HN27>0,HN27<=$E$19*$D$12+IB$24),IC27,0)))","v":0},{"$f":"IF(HN27=$D$14*$D$12,IF(ID27+(IC28*$D$18)/(($D$16*$D$13)-($D$8*$D$13))<0,ID27,ID27+(IC28*$D$18)/(($D$16*$D$13)-($D$8*$D$13))),IF(ID27=0,EXP(-($D$16)*$D$13)*IE28+ID27,EXP(-($D$16)*$D$13)*IE28+ID27))","v":40.005424053479061},null,null,null,null,{"$f":"HN27","v":0},{"$f":"HO27","v":0},{"$f":"HP27","v":0},{"$f":"$D$27","v":2.1428571428571428},15,15,{"$f":"EXP(-($D$16)*$D$13)*(IP28)","v":9.7783807675050358},null,{"$f":"MAX(JA27-IP27,0)","v":11.98089750225571},{"$f":"$D$27","v":2.1428571428571428},{"$f":"EXP(-($D$16)*$D$13)*(IT28)","v":9.7783807675050358},null,{"$f":"IF(IU27=\"Abandon\",IJ27,)","v":0},null,{"$f":"IB27","v":0},{"$f":"IC27","v":1.75},{"$f":"IF(IJ27<=IX$24,0,IF(AND(IJ27>0,$D$19=1),IY27,IF(AND(IJ27>0,IJ27<=$E$19*$D$12+IX$24),IY27,0)))","v":0},{"$f":"IF(IJ27=$D$14*$D$12,IF(IZ27+(IY28*$D$18)/(($D$16*$D$13)-($D$8*$D$13))<0,IZ27,IZ27+(IY28*$D$18)/(($D$16*$D$13)-($D$8*$D$13))),IF(IZ27=0,EXP(-($D$16)*$D$13)*JA28+IZ27,EXP(-($D$16)*$D$13)*JA28+IZ27))","v":21.759278269760745},null,null,null,null,{"$f":"IJ27","v":0},{"$f":"IK27","v":0},{"$f":"IL27","v":0},{"$f":"$D$27","v":2.1428571428571428},15,15,{"$f":"EXP(-($D$16)*$D$13)*(JL28)","v":9.7783807675050358},null,{"$f":"MAX(JW27-JL27,0)","v":12.801239687977409},{"$f":"$D$27","v":2.1428571428571428},{"$f":"EXP(-($D$16)*$D$13)*(JP28)","v":9.7783807675050358},null,{"$f":"IF(JQ27=\"Abandon\",JF27,)","v":0},null,{"$f":"IX27","v":0},{"$f":"IY27","v":1.75},{"$f":"IF(JF27<=JT$24,0,IF(AND(JF27>0,$D$19=1),JU27,IF(AND(JF27>0,JF27<=$E$19*$D$12+JT$24),JU27,0)))","v":0},{"$f":"IF(JF27=$D$14*$D$12,IF(JV27+(JU28*$D$18)/(($D$16*$D$13)-($D$8*$D$13))<0,JV27,JV27+(JU28*$D$18)/(($D$16*$D$13)-($D$8*$D$13))),IF(JV27=0,EXP(-($D$16)*$D$13)*JW28+JV27,EXP(-($D$16)*$D$13)*JW28+JV27))","v":22.579620455482445},null,null,null,null,{"$f":"JF27","v":0},{"$f":"JG27","v":0},{"$f":"JH27","v":0},{"$f":"$D$27","v":2.1428571428571428},15,15,{"$f":"EXP(-($D$16)*$D$13)*(KH28)","v":9.7783807675050358},null,{"$f":"MAX(KS27-KH27,0)","v":24.695226606200968},{"$f":"$D$27","v":2.1428571428571428},{"$f":"EXP(-($D$16)*$D$13)*(KL28)","v":9.7783807675050358},null,{"$f":"IF(KM27=\"Abandon\",KB27,)","v":0},null,{"$f":"JT27","v":0},{"$f":"JU27","v":1.75},{"$f":"IF(KB27<=KP$24,0,IF(AND(KB27>0,$D$19=1),KQ27,IF(AND(KB27>0,KB27<=$E$19*$D$12+KP$24),KQ27,0)))","v":0},{"$f":"IF(KB27=$D$14*$D$12,IF(KR27+(KQ28*$D$18)/(($D$16*$D$13)-($D$8*$D$13))<0,KR27,KR27+(KQ28*$D$18)/(($D$16*$D$13)-($D$8*$D$13))),IF(KR27=0,EXP(-($D$16)*$D$13)*KS28+KR27,EXP(-($D$16)*$D$13)*KS28+KR27))","v":34.473607373706002},null,null,null,null,{"$f":"KB27","v":0},{"$f":"KC27","v":0},{"$f":"KD27","v":0},{"$f":"$D$27","v":2.1428571428571428},15,15,{"$f":"EXP(-($D$16)*$D$13)*(LD28)","v":9.7783807675050358},null,{"$f":"MAX(LO27-LD27,0)","v":14.992161040402516},{"$f":"$D$27","v":2.1428571428571428},{"$f":"EXP(-($D$16)*$D$13)*(LH28)","v":9.7783807675050358},null,{"$f":"IF(LI27=\"Abandon\",KX27,)","v":0},null,{"$f":"KP27","v":0},{"$f":"KQ27","v":1.75},{"$f":"IF(KX27<=LL$24,0,IF(AND(KX27>0,$D$19=1),LM27,IF(AND(KX27>0,KX27<=$E$19*$D$12+LL$24),LM27,0)))","v":0},{"$f":"IF(KX27=$D$14*$D$12,IF(LN27+(LM28*$D$18)/(($D$16*$D$13)-($D$8*$D$13))<0,LN27,LN27+(LM28*$D$18)/(($D$16*$D$13)-($D$8*$D$13))),IF(LN27=0,EXP(-($D$16)*$D$13)*LO28+LN27,EXP(-($D$16)*$D$13)*LO28+LN27))","v":24.770541807907552},null,null,null,null,{"$f":"KX27","v":0},{"$f":"KY27","v":0},{"$f":"KZ27","v":0},{"$f":"$D$27","v":2.1428571428571428},15,15,{"$f":"EXP(-($D$16)*$D$13)*(LZ28)","v":9.7783807675050358},null,{"$f":"MAX(MK27-LZ27,0)","v":22.980665463098418},{"$f":"$D$27","v":2.1428571428571428},{"$f":"EXP(-($D$16)*$D$13)*(MD28)","v":9.7783807675050358},null,{"$f":"IF(ME27=\"Abandon\",LT27,)","v":0},null,{"$f":"LL27","v":0},{"$f":"LM27","v":1.75},{"$f":"IF(LT27<=MH$24,0,IF(AND(LT27>0,$D$19=1),MI27,IF(AND(LT27>0,LT27<=$E$19*$D$12+MH$24),MI27,0)))","v":0},{"$f":"IF(LT27=$D$14*$D$12,IF(MJ27+(MI28*$D$18)/(($D$16*$D$13)-($D$8*$D$13))<0,MJ27,MJ27+(MI28*$D$18)/(($D$16*$D$13)-($D$8*$D$13))),IF(MJ27=0,EXP(-($D$16)*$D$13)*MK28+MJ27,EXP(-($D$16)*$D$13)*MK28+MJ27))","v":32.759046230603452},null,null,null,null,{"$f":"LT27","v":0},{"$f":"LU27","v":0},{"$f":"LV27","v":0},{"$f":"$D$27","v":2.1428571428571428},15,15,{"$f":"EXP(-($D$16)*$D$13)*(MV28)","v":9.7783807675050358},null,{"$f":"MAX(NG27-MV27,0)","v":19.375680159531932},{"$f":"$D$27","v":2.1428571428571428},{"$f":"EXP(-($D$16)*$D$13)*(MZ28)","v":9.7783807675050358},null,{"$f":"IF(NA27=\"Abandon\",MP27,)","v":0},null,{"$f":"MH27","v":0},{"$f":"MI27","v":1.75},{"$f":"IF(MP27<=ND$24,0,IF(AND(MP27>0,$D$19=1),NE27,IF(AND(MP27>0,MP27<=$E$19*$D$12+ND$24),NE27,0)))","v":0},{"$f":"IF(MP27=$D$14*$D$12,IF(NF27+(NE28*$D$18)/(($D$16*$D$13)-($D$8*$D$13))<0,NF27,NF27+(NE28*$D$18)/(($D$16*$D$13)-($D$8*$D$13))),IF(NF27=0,EXP(-($D$16)*$D$13)*NG28+NF27,EXP(-($D$16)*$D$13)*NG28+NF27))","v":29.154060927036966},null,null,null,null,{"$f":"MP27","v":0},{"$f":"MQ27","v":0},{"$f":"MR27","v":0},{"$f":"$D$27","v":2.1428571428571428},15,15,{"$f":"EXP(-($D$16)*$D$13)*(NR28)","v":9.7783807675050358},null,{"$f":"MAX(OC27-NR27,0)","v":28.747622864618364},{"$f":"$D$27","v":2.1428571428571428},{"$f":"EXP(-($D$16)*$D$13)*(NV28)","v":9.7783807675050358},null,{"$f":"IF(NW27=\"Abandon\",NL27,)","v":0},null,{"$f":"ND27","v":0},{"$f":"NE27","v":1.75},{"$f":"IF(NL27<=NZ$24,0,IF(AND(NL27>0,$D$19=1),OA27,IF(AND(NL27>0,NL27<=$E$19*$D$12+NZ$24),OA27,0)))","v":0},{"$f":"IF(NL27=$D$14*$D$12,IF(OB27+(OA28*$D$18)/(($D$16*$D$13)-($D$8*$D$13))<0,OB27,OB27+(OA28*$D$18)/(($D$16*$D$13)-($D$8*$D$13))),IF(OB27=0,EXP(-($D$16)*$D$13)*OC28+OB27,EXP(-($D$16)*$D$13)*OC28+OB27))","v":38.526003632123398},null,null,null,null,{"$f":"NL27","v":0},{"$f":"NM27","v":0},{"$f":"NN27","v":0},{"$f":"$D$27","v":2.1428571428571428},15,15,{"$f":"EXP(-($D$16)*$D$13)*(ON28)","v":9.7783807675050358},null,{"$f":"MAX(OY27-ON27,0)","v":24.790900651565103},{"$f":"$D$27","v":2.1428571428571428},{"$f":"EXP(-($D$16)*$D$13)*(OR28)","v":9.7783807675050358},null,{"$f":"IF(OS27=\"Abandon\",OH27,)","v":0},null,{"$f":"NZ27","v":0},{"$f":"OA27","v":1.75},{"$f":"IF(OH27<=OV$24,0,IF(AND(OH27>0,$D$19=1),OW27,IF(AND(OH27>0,OH27<=$E$19*$D$12+OV$24),OW27,0)))","v":0},{"$f":"IF(OH27=$D$14*$D$12,IF(OX27+(OW28*$D$18)/(($D$16*$D$13)-($D$8*$D$13))<0,OX27,OX27+(OW28*$D$18)/(($D$16*$D$13)-($D$8*$D$13))),IF(OX27=0,EXP(-($D$16)*$D$13)*OY28+OX27,EXP(-($D$16)*$D$13)*OY28+OX27))","v":34.569281419070137},null,null,null,null,{"$f":"OH27","v":0},0,0,{"$f":"$D$27","v":2.1428571428571428},15,15,{"$f":"EXP(-($D$16)*$D$13)*(PJ28)","v":9.7783807675050358},null,{"$f":"MAX(PU27-PJ27,0)","v":24.251920408880764},{"$f":"$D$27","v":2.1428571428571428},{"$f":"EXP(-($D$16)*$D$13)*(PN28)","v":9.7783807675050358},null,{"$f":"IF(PO27=\"Abandon\",PD27,)","v":0},null,{"$f":"OV27","v":0},{"$f":"OW27","v":1.75},{"$f":"IF(PD27<=PR$24,0,IF(AND(PD27>0,$D$19=1),PS27,IF(AND(PD27>0,PD27<=$E$19*$D$12+PR$24),PS27,0)))","v":0},{"$f":"IF(PD27=$D$14*$D$12,IF(PT27+(PS28*$D$18)/(($D$16*$D$13)-($D$8*$D$13))<0,PT27,PT27+(PS28*$D$18)/(($D$16*$D$13)-($D$8*$D$13))),IF(PT27=0,EXP(-($D$16)*$D$13)*PU28+PT27,EXP(-($D$16)*$D$13)*PU28+PT27))","v":34.030301176385798},null,null,null,null,{"$f":"PD27","v":0},{"$f":"PE27","v":0},{"$f":"PF27","v":0},{"$f":"$D$27","v":2.1428571428571428},15,15,{"$f":"EXP(-($D$16)*$D$13)*(QF28)","v":9.7783807675050358},null,{"$f":"MAX(QQ27-QF27,0)","v":22.704037288612604},{"$f":"$D$27","v":2.1428571428571428},{"$f":"EXP(-($D$16)*$D$13)*(QJ28)","v":9.7783807675050358},null,{"$f":"IF(QK27=\"Abandon\",PZ27,)","v":0},null,{"$f":"PR27","v":0},{"$f":"PS27","v":1.75},{"$f":"IF(PZ27<=QN$24,0,IF(AND(PZ27>0,$D$19=1),QO27,IF(AND(PZ27>0,PZ27<=$E$19*$D$12+QN$24),QO27,0)))","v":0},{"$f":"IF(PZ27=$D$14*$D$12,IF(QP27+(QO28*$D$18)/(($D$16*$D$13)-($D$8*$D$13))<0,QP27,QP27+(QO28*$D$18)/(($D$16*$D$13)-($D$8*$D$13))),IF(QP27=0,EXP(-($D$16)*$D$13)*QQ28+QP27,EXP(-($D$16)*$D$13)*QQ28+QP27))","v":32.482418056117638},null,null,null,null,{"$f":"PZ27","v":0},{"$f":"QA27","v":0},{"$f":"QB27","v":0},{"$f":"$D$27","v":2.1428571428571428},{"$f":"QD27","v":15},{"$f":"QE27","v":15},{"$f":"EXP(-($D$16)*$D$13)*(RB28)","v":9.7783807675050358},null,{"$f":"MAX(RM27-RB27,0)","v":24.805923842734003},{"$f":"$D$27","v":2.1428571428571428},{"$f":"EXP(-($D$16)*$D$13)*(RF28)","v":9.7783807675050358},null,{"$f":"IF(RG27=\"Abandon\",QV27,)","v":0},null,{"$f":"QN27","v":0},{"$f":"QO27","v":1.75},{"$f":"IF(QV27<=RJ$24,0,IF(AND(QV27>0,$D$19=1),RK27,IF(AND(QV27>0,QV27<=$E$19*$D$12+RJ$24),RK27,0)))","v":0},{"$f":"IF(QV27=$D$14*$D$12,IF(RL27+(RK28*$D$18)/(($D$16*$D$13)-($D$8*$D$13))<0,RL27,RL27+(RK28*$D$18)/(($D$16*$D$13)-($D$8*$D$13))),IF(RL27=0,EXP(-($D$16)*$D$13)*RM28+RL27,EXP(-($D$16)*$D$13)*RM28+RL27))","v":34.584304610239037},null,null,null,null,{"$f":"QV27","v":0},{"$f":"QW27","v":0},{"$f":"QX27","v":0},{"$f":"$D$27","v":2.1428571428571428},{"$f":"QZ27","v":15},{"$f":"RA27","v":15},{"$f":"EXP(-($D$16)*$D$13)*(RX28)","v":9.7783807675050358},null,{"$f":"MAX(SI27-RX27,0)","v":30.355350537021458},{"$f":"$D$27","v":2.1428571428571428},{"$f":"EXP(-($D$16)*$D$13)*(SB28)","v":9.7783807675050358},null,{"$f":"IF(SC27=\"Abandon\",RR27,)","v":0},null,{"$f":"RJ27","v":0},{"$f":"RK27","v":1.75},{"$f":"IF(RR27<=SF$24,0,IF(AND(RR27>0,$D$19=1),SG27,IF(AND(RR27>0,RR27<=$E$19*$D$12+SF$24),SG27,0)))","v":0},{"$f":"IF(RR27=$D$14*$D$12,IF(SH27+(SG28*$D$18)/(($D$16*$D$13)-($D$8*$D$13))<0,SH27,SH27+(SG28*$D$18)/(($D$16*$D$13)-($D$8*$D$13))),IF(SH27=0,EXP(-($D$16)*$D$13)*SI28+SH27,EXP(-($D$16)*$D$13)*SI28+SH27))","v":40.133731304526492},null,null,null,null,{"$f":"RR27","v":0},{"$f":"RS27","v":0},{"$f":"RT27","v":0},{"$f":"$D$27","v":2.1428571428571428},{"$f":"RV27","v":15},{"$f":"RW27","v":15},{"$f":"EXP(-($D$16)*$D$13)*(ST28)","v":9.7783807675050358},null,{"$f":"MAX(TE27-ST27,0)","v":32.112812786622463},{"$f":"$D$27","v":2.1428571428571428},{"$f":"EXP(-($D$16)*$D$13)*(SX28)","v":9.7783807675050358},null,{"$f":"IF(SY27=\"Abandon\",SN27,)","v":0},null,{"$f":"SF27","v":0},{"$f":"SG27","v":1.75},{"$f":"IF(SN27<=TB$24,0,IF(AND(SN27>0,$D$19=1),TC27,IF(AND(SN27>0,SN27<=$E$19*$D$12+TB$24),TC27,0)))","v":0},{"$f":"IF(SN27=$D$14*$D$12,IF(TD27+(TC28*$D$18)/(($D$16*$D$13)-($D$8*$D$13))<0,TD27,TD27+(TC28*$D$18)/(($D$16*$D$13)-($D$8*$D$13))),IF(TD27=0,EXP(-($D$16)*$D$13)*TE28+TD27,EXP(-($D$16)*$D$13)*TE28+TD27))","v":41.891193554127497},null,null,null,null,{"$f":"SN27","v":0},{"$f":"SO27","v":0},{"$f":"SP27","v":0},{"$f":"$D$27","v":2.1428571428571428},15,15,{"$f":"EXP(-($D$16)*$D$13)*(TP28)","v":9.7783807675050358},null,{"$f":"MAX(UA27-TP27,0)","v":28.225876467328519},{"$f":"$D$27","v":2.1428571428571428},{"$f":"EXP(-($D$16)*$D$13)*(TT28)","v":9.7783807675050358},null,{"$f":"IF(TU27=\"Abandon\",TJ27,)","v":0},null,{"$f":"TB27","v":0},{"$f":"TC27","v":1.75},{"$f":"IF(TJ27<=TX$24,0,IF(AND(TJ27>0,$D$19=1),TY27,IF(AND(TJ27>0,TJ27<=$E$19*$D$12+TX$24),TY27,0)))","v":0},{"$f":"IF(TJ27=$D$14*$D$12,IF(TZ27+(TY28*$D$18)/(($D$16*$D$13)-($D$8*$D$13))<0,TZ27,TZ27+(TY28*$D$18)/(($D$16*$D$13)-($D$8*$D$13))),IF(TZ27=0,EXP(-($D$16)*$D$13)*UA28+TZ27,EXP(-($D$16)*$D$13)*UA28+TZ27))","v":38.004257234833553},null,null,null,null,{"$f":"TJ27","v":0},{"$f":"TK27","v":0},{"$f":"TL27","v":0},{"$f":"$D$27","v":2.1428571428571428},15,15,{"$f":"EXP(-($D$16)*$D$13)*(UL28)","v":9.7783807675050358},null,{"$f":"MAX(UW27-UL27,0)","v":31.554083294715646},{"$f":"$D$27","v":2.1428571428571428},{"$f":"EXP(-($D$16)*$D$13)*(UP28)","v":9.7783807675050358},null,{"$f":"IF(UQ27=\"Abandon\",UF27,)","v":0},null,{"$f":"TX27","v":0},{"$f":"TY27","v":1.75},{"$f":"IF(UF27<=UT$24,0,IF(AND(UF27>0,$D$19=1),UU27,IF(AND(UF27>0,UF27<=$E$19*$D$12+UT$24),UU27,0)))","v":0},{"$f":"IF(UF27=$D$14*$D$12,IF(UV27+(UU28*$D$18)/(($D$16*$D$13)-($D$8*$D$13))<0,UV27,UV27+(UU28*$D$18)/(($D$16*$D$13)-($D$8*$D$13))),IF(UV27=0,EXP(-($D$16)*$D$13)*UW28+UV27,EXP(-($D$16)*$D$13)*UW28+UV27))","v":41.33246406222068},null,null,null,null,{"$f":"UF27","v":0},{"$f":"UG27","v":0},{"$f":"UH27","v":0},{"$f":"$D$27","v":2.1428571428571428},15,15,{"$f":"EXP(-($D$16)*$D$13)*(VH28)","v":9.7783807675050358},null,{"$f":"MAX(VS27-VH27,0)","v":30.245550309879846},{"$f":"$D$27","v":2.1428571428571428},{"$f":"EXP(-($D$16)*$D$13)*(VL28)","v":9.7783807675050358},null,{"$f":"IF(VM27=\"Abandon\",VB27,)","v":0},null,{"$f":"UT27","v":0},{"$f":"UU27","v":1.75},{"$f":"IF(VB27<=VP$24,0,IF(AND(VB27>0,$D$19=1),VQ27,IF(AND(VB27>0,VB27<=$E$19*$D$12+VP$24),VQ27,0)))","v":0},{"$f":"IF(VB27=$D$14*$D$12,IF(VR27+(VQ28*$D$18)/(($D$16*$D$13)-($D$8*$D$13))<0,VR27,VR27+(VQ28*$D$18)/(($D$16*$D$13)-($D$8*$D$13))),IF(VR27=0,EXP(-($D$16)*$D$13)*VS28+VR27,EXP(-($D$16)*$D$13)*VS28+VR27))","v":40.02393107738488},null,null,null,null,{"$f":"VB27","v":0},0,0,{"$f":"$D$27","v":2.1428571428571428},15,15,{"$f":"EXP(-($D$16)*$D$13)*(WD28)","v":9.7783807675050358},null,{"$f":"MAX(WO27-WD27,0)","v":30.481771895492635},{"$f":"$D$27","v":2.1428571428571428},{"$f":"EXP(-($D$16)*$D$13)*(WH28)","v":9.7783807675050358},null,{"$f":"IF(WI27=\"Abandon\",VX27,)","v":0},null,{"$f":"VP27","v":0},{"$f":"VQ27","v":1.75},{"$f":"IF(VX27<=WL$24,0,IF(AND(VX27>0,$D$19=1),WM27,IF(AND(VX27>0,VX27<=$E$19*$D$12+WL$24),WM27,0)))","v":0},{"$f":"IF(VX27=$D$14*$D$12,IF(WN27+(WM28*$D$18)/(($D$16*$D$13)-($D$8*$D$13))<0,WN27,WN27+(WM28*$D$18)/(($D$16*$D$13)-($D$8*$D$13))),IF(WN27=0,EXP(-($D$16)*$D$13)*WO28+WN27,EXP(-($D$16)*$D$13)*WO28+WN27))","v":40.260152662997669},null,null,null,null,{"$f":"VX27","v":0},0,0,{"$f":"$D$27","v":2.1428571428571428},15,15,{"$f":"EXP(-($D$16)*$D$13)*(WZ28)","v":9.7783807675050358},null,{"$f":"MAX(XK27-WZ27,0)","v":33.445903417059469},{"$f":"$D$27","v":2.1428571428571428},{"$f":"EXP(-($D$16)*$D$13)*(XD28)","v":9.7783807675050358},null,{"$f":"IF(XE27=\"Abandon\",WT27,)","v":0},null,{"$f":"WL27","v":0},{"$f":"WM27","v":1.75},{"$f":"IF(WT27<=XH$24,0,IF(AND(WT27>0,$D$19=1),XI27,IF(AND(WT27>0,WT27<=$E$19*$D$12+XH$24),XI27,0)))","v":0},{"$f":"IF(WT27=$D$14*$D$12,IF(XJ27+(XI28*$D$18)/(($D$16*$D$13)-($D$8*$D$13))<0,XJ27,XJ27+(XI28*$D$18)/(($D$16*$D$13)-($D$8*$D$13))),IF(XJ27=0,EXP(-($D$16)*$D$13)*XK28+XJ27,EXP(-($D$16)*$D$13)*XK28+XJ27))","v":43.224284184564503},null,null,null,null,{"$f":"WT27","v":0},0,0,{"$f":"$D$27","v":2.1428571428571428},15,15,{"$f":"EXP(-($D$16)*$D$13)*(XV28)","v":9.7783807675050358},null,{"$f":"MAX(YG27-XV27,0)","v":32.459844329492064},{"$f":"$D$27","v":2.1428571428571428},{"$f":"EXP(-($D$16)*$D$13)*(XZ28)","v":9.7783807675050358},null,{"$f":"IF(YA27=\"Abandon\",XP27,)","v":0},null,{"$f":"XH27","v":0},{"$f":"XI27","v":1.75},{"$f":"IF(XP27<=YD$24,0,IF(AND(XP27>0,$D$19=1),YE27,IF(AND(XP27>0,XP27<=$E$19*$D$12+YD$24),YE27,0)))","v":0},{"$f":"IF(XP27=$D$14*$D$12,IF(YF27+(YE28*$D$18)/(($D$16*$D$13)-($D$8*$D$13))<0,YF27,YF27+(YE28*$D$18)/(($D$16*$D$13)-($D$8*$D$13))),IF(YF27=0,EXP(-($D$16)*$D$13)*YG28+YF27,EXP(-($D$16)*$D$13)*YG28+YF27))","v":42.238225096997098},null,null,null,null,{"$f":"XP27","v":0},0,0,{"$f":"$D$27","v":2.1428571428571428},15,15,{"$f":"EXP(-($D$16)*$D$13)*(YR28)","v":9.7783807675050358},null,{"$f":"MAX(ZC27-YR27,0)","v":30.578881850957181},{"$f":"$D$27","v":2.1428571428571428},{"$f":"EXP(-($D$16)*$D$13)*(YV28)","v":9.7783807675050358},null,{"$f":"IF(YW27=\"Abandon\",YL27,)","v":0},null,{"$f":"YD27","v":0},{"$f":"YE27","v":1.75},{"$f":"IF(YL27<=YZ$24,0,IF(AND(YL27>0,$D$19=1),ZA27,IF(AND(YL27>0,YL27<=$E$19*$D$12+YZ$24),ZA27,0)))","v":0},{"$f":"IF(YL27=$D$14*$D$12,IF(ZB27+(ZA28*$D$18)/(($D$16*$D$13)-($D$8*$D$13))<0,ZB27,ZB27+(ZA28*$D$18)/(($D$16*$D$13)-($D$8*$D$13))),IF(ZB27=0,EXP(-($D$16)*$D$13)*ZC28+ZB27,EXP(-($D$16)*$D$13)*ZC28+ZB27))","v":40.357262618462215},null,null,null,null,{"$f":"YL27","v":0},0,0,{"$f":"$D$27","v":2.1428571428571428},15,15,{"$f":"EXP(-($D$16)*$D$13)*(ZN28)","v":9.7783807675050358},null,{"$f":"MAX(ZY27-ZN27,0)","v":30.396454069035087},{"$f":"$D$27","v":2.1428571428571428},{"$f":"EXP(-($D$16)*$D$13)*(ZR28)","v":9.7783807675050358},null,{"$f":"IF(ZS27=\"Abandon\",ZH27,)","v":0},null,{"$f":"YZ27","v":0},{"$f":"ZA27","v":1.75},{"$f":"IF(ZH27<=ZV$24,0,IF(AND(ZH27>0,$D$19=1),ZW27,IF(AND(ZH27>0,ZH27<=$E$19*$D$12+ZV$24),ZW27,0)))","v":0},{"$f":"IF(ZH27=$D$14*$D$12,IF(ZX27+(ZW28*$D$18)/(($D$16*$D$13)-($D$8*$D$13))<0,ZX27,ZX27+(ZW28*$D$18)/(($D$16*$D$13)-($D$8*$D$13))),IF(ZX27=0,EXP(-($D$16)*$D$13)*ZY28+ZX27,EXP(-($D$16)*$D$13)*ZY28+ZX27))","v":40.174834836540121},null,null,null,null,{"$f":"ZH27","v":0},0,0,{"$f":"$D$27","v":2.1428571428571428},15,15,{"$f":"EXP(-($D$16)*$D$13)*(AAJ28)","v":9.7783807675050358},null,{"$f":"MAX(AAU27-AAJ27,0)","v":30.165118684142911},{"$f":"$D$27","v":2.1428571428571428},{"$f":"EXP(-($D$16)*$D$13)*(AAN28)","v":9.7783807675050358},null,{"$f":"IF(AAO27=\"Abandon\",AAD27,)","v":0},null,{"$f":"ZV27","v":0},{"$f":"ZW27","v":1.75},{"$f":"IF(AAD27<=AAR$24,0,IF(AND(AAD27>0,$D$19=1),AAS27,IF(AND(AAD27>0,AAD27<=$E$19*$D$12+AAR$24),AAS27,0)))","v":0},{"$f":"IF(AAD27=$D$14*$D$12,IF(AAT27+(AAS28*$D$18)/(($D$16*$D$13)-($D$8*$D$13))<0,AAT27,AAT27+(AAS28*$D$18)/(($D$16*$D$13)-($D$8*$D$13))),IF(AAT27=0,EXP(-($D$16)*$D$13)*AAU28+AAT27,EXP(-($D$16)*$D$13)*AAU28+AAT27))","v":39.943499451647945},null,null,null,null,{"$f":"AAD27","v":0},0,0,{"$f":"$D$27","v":2.1428571428571428},15,15,{"$f":"EXP(-($D$16)*$D$13)*(ABF28)","v":9.7783807675050358},null,{"$f":"MAX(ABQ27-ABF27,0)","v":30.251567279713626},{"$f":"$D$27","v":2.1428571428571428},{"$f":"EXP(-($D$16)*$D$13)*(ABJ28)","v":9.7783807675050358},null,{"$f":"IF(ABK27=\"Abandon\",AAZ27,)","v":0},null,{"$f":"AAR27","v":0},{"$f":"AAS27","v":1.75},{"$f":"IF(AAZ27<=ABN$24,0,IF(AND(AAZ27>0,$D$19=1),ABO27,IF(AND(AAZ27>0,AAZ27<=$E$19*$D$12+ABN$24),ABO27,0)))","v":0},{"$f":"IF(AAZ27=$D$14*$D$12,IF(ABP27+(ABO28*$D$18)/(($D$16*$D$13)-($D$8*$D$13))<0,ABP27,ABP27+(ABO28*$D$18)/(($D$16*$D$13)-($D$8*$D$13))),IF(ABP27=0,EXP(-($D$16)*$D$13)*ABQ28+ABP27,EXP(-($D$16)*$D$13)*ABQ28+ABP27))","v":40.02994804721866},null,null,null,null,{"$f":"AAZ27","v":0},0,0,{"$f":"$D$27","v":2.1428571428571428},15,15,{"$f":"EXP(-($D$16)*$D$13)*(ACB28)","v":9.7783807675050358},null,{"$f":"MAX(ACM27-ACB27,0)","v":30.251567279713626},{"$f":"$D$27","v":2.1428571428571428},{"$f":"EXP(-($D$16)*$D$13)*(ACF28)","v":9.7783807675050358},null,{"$f":"IF(ACG27=\"Abandon\",ABV27,)","v":0},null,{"$f":"ABN27","v":0},{"$f":"ABO27","v":1.75},{"$f":"IF(ABV27<=ACJ$24,0,IF(AND(ABV27>0,$D$19=1),ACK27,IF(AND(ABV27>0,ABV27<=$E$19*$D$12+ACJ$24),ACK27,0)))","v":0},{"$f":"IF(ABV27=$D$14*$D$12,IF(ACL27+(ACK28*$D$18)/(($D$16*$D$13)-($D$8*$D$13))<0,ACL27,ACL27+(ACK28*$D$18)/(($D$16*$D$13)-($D$8*$D$13))),IF(ACL27=0,EXP(-($D$16)*$D$13)*ACM28+ACL27,EXP(-($D$16)*$D$13)*ACM28+ACL27))","v":40.02994804721866},null,null,null,null,{"$f":"ABV27","v":0},{"$f":"ABW27","v":0},{"$f":"ABX27","v":0},{"$f":"$D$27","v":2.1428571428571428},{"$f":"ABZ27","v":15},{"$f":"ACA27","v":15},{"$f":"EXP(-($D$16)*$D$13)*(ACX28)","v":9.7783807675050358},null,{"$f":"MAX(ADI27-ACX27,0)","v":30.251567279713626},{"$f":"$D$27","v":2.1428571428571428},{"$f":"EXP(-($D$16)*$D$13)*(ADB28)","v":9.7783807675050358},null,{"$f":"IF(ADC27=\"Abandon\",ACR27,)","v":0},null,{"$f":"ACJ27","v":0},{"$f":"ACK27","v":1.75},{"$f":"IF(ACR27<=ADF$24,0,IF(AND(ACR27>0,$D$19=1),ADG27,IF(AND(ACR27>0,ACR27<=$E$19*$D$12+ADF$24),ADG27,0)))","v":0},{"$f":"IF(ACR27=$D$14*$D$12,IF(ADH27+(ADG28*$D$18)/(($D$16*$D$13)-($D$8*$D$13))<0,ADH27,ADH27+(ADG28*$D$18)/(($D$16*$D$13)-($D$8*$D$13))),IF(ADH27=0,EXP(-($D$16)*$D$13)*ADI28+ADH27,EXP(-($D$16)*$D$13)*ADI28+ADH27))","v":40.02994804721866},null,null,null,null,{"$f":"ACR27","v":0},{"$f":"ACS27","v":0},{"$f":"ACT27","v":0},{"$f":"$D$27","v":2.1428571428571428},{"$f":"ACV27","v":15},{"$f":"ACW27","v":15},{"$f":"EXP(-($D$16)*$D$13)*(ADT28)","v":9.7783807675050358},null,{"$f":"MAX(AEE27-ADT27,0)","v":30.251567279713626},{"$f":"$D$27","v":2.1428571428571428},{"$f":"EXP(-($D$16)*$D$13)*(ADX28)","v":9.7783807675050358},null,{"$f":"IF(ADY27=\"Abandon\",ADN27,)","v":0},null,{"$f":"ADF27","v":0},{"$f":"ADG27","v":1.75},{"$f":"IF(ADN27<=AEB$24,0,IF(AND(ADN27>0,$D$19=1),AEC27,IF(AND(ADN27>0,ADN27<=$E$19*$D$12+AEB$24),AEC27,0)))","v":0},{"$f":"IF(ADN27=$D$14*$D$12,IF(AED27+(AEC28*$D$18)/(($D$16*$D$13)-($D$8*$D$13))<0,AED27,AED27+(AEC28*$D$18)/(($D$16*$D$13)-($D$8*$D$13))),IF(AED27=0,EXP(-($D$16)*$D$13)*AEE28+AED27,EXP(-($D$16)*$D$13)*AEE28+AED27))","v":40.02994804721866},null,null,null,null,{"$f":"ADN27","v":0},{"$f":"ADO27","v":0},{"$f":"ADP27","v":0},{"$f":"$D$27","v":2.1428571428571428},{"$f":"ADR27","v":15},{"$f":"ADS27","v":15},{"$f":"EXP(-($D$16)*$D$13)*(AEP28)","v":9.7783807675050358},null,{"$f":"MAX(AFA27-AEP27,0)","v":30.251567279713626},{"$f":"$D$27","v":2.1428571428571428},{"$f":"EXP(-($D$16)*$D$13)*(AET28)","v":9.7783807675050358},null,{"$f":"IF(AEU27=\"Abandon\",AEJ27,)","v":0},null,{"$f":"AEB27","v":0},{"$f":"AEC27","v":1.75},{"$f":"IF(AEJ27<=AEX$24,0,IF(AND(AEJ27>0,$D$19=1),AEY27,IF(AND(AEJ27>0,AEJ27<=$E$19*$D$12+AEX$24),AEY27,0)))","v":0},{"$f":"IF(AEJ27=$D$14*$D$12,IF(AEZ27+(AEY28*$D$18)/(($D$16*$D$13)-($D$8*$D$13))<0,AEZ27,AEZ27+(AEY28*$D$18)/(($D$16*$D$13)-($D$8*$D$13))),IF(AEZ27=0,EXP(-($D$16)*$D$13)*AFA28+AEZ27,EXP(-($D$16)*$D$13)*AFA28+AEZ27))","v":40.02994804721866},null,null,null,null,{"$f":"AEJ27","v":0},{"$f":"AEK27","v":0},{"$f":"AEL27","v":0},{"$f":"$D$27","v":2.1428571428571428},{"$f":"AEN27","v":15},{"$f":"AEO27","v":15},{"$f":"EXP(-($D$16)*$D$13)*(AFL28)","v":9.7783807675050358},null,{"$f":"MAX(AFW27-AFL27,0)","v":30.251567279713626},{"$f":"$D$27","v":2.1428571428571428},{"$f":"EXP(-($D$16)*$D$13)*(AFP28)","v":9.7783807675050358},null,{"$f":"IF(AFQ27=\"Abandon\",AFF27,)","v":0},null,{"$f":"AEX27","v":0},{"$f":"AEY27","v":1.75},{"$f":"IF(AFF27<=AFT$24,0,IF(AND(AFF27>0,$D$19=1),AFU27,IF(AND(AFF27>0,AFF27<=$E$19*$D$12+AFT$24),AFU27,0)))","v":0},{"$f":"IF(AFF27=$D$14*$D$12,IF(AFV27+(AFU28*$D$18)/(($D$16*$D$13)-($D$8*$D$13))<0,AFV27,AFV27+(AFU28*$D$18)/(($D$16*$D$13)-($D$8*$D$13))),IF(AFV27=0,EXP(-($D$16)*$D$13)*AFW28+AFV27,EXP(-($D$16)*$D$13)*AFW28+AFV27))","v":40.02994804721866},null,null,null,null,{"$f":"AFF27","v":0},{"$f":"AFG27","v":0},{"$f":"AFH27","v":0},{"$f":"$D$27","v":2.1428571428571428},{"$f":"AFJ27","v":15},{"$f":"AFK27","v":15},{"$f":"EXP(-($D$16)*$D$13)*(AGH28)","v":9.7783807675050358},null,{"$f":"MAX(AGS27-AGH27,0)","v":30.251567279713626},{"$f":"$D$27","v":2.1428571428571428},{"$f":"EXP(-($D$16)*$D$13)*(AGL28)","v":9.7783807675050358},null,{"$f":"IF(AGM27=\"Abandon\",AGB27,)","v":0},null,{"$f":"AFT27","v":0},{"$f":"AFU27","v":1.75},{"$f":"IF(AGB27<=AGP$24,0,IF(AND(AGB27>0,$D$19=1),AGQ27,IF(AND(AGB27>0,AGB27<=$E$19*$D$12+AGP$24),AGQ27,0)))","v":0},{"$f":"IF(AGB27=$D$14*$D$12,IF(AGR27+(AGQ28*$D$18)/(($D$16*$D$13)-($D$8*$D$13))<0,AGR27,AGR27+(AGQ28*$D$18)/(($D$16*$D$13)-($D$8*$D$13))),IF(AGR27=0,EXP(-($D$16)*$D$13)*AGS28+AGR27,EXP(-($D$16)*$D$13)*AGS28+AGR27))","v":40.02994804721866},null,null,null,null,{"$f":"AGB27","v":0},{"$f":"AGC27","v":0},{"$f":"AGD27","v":0},{"$f":"$D$27","v":2.1428571428571428},{"$f":"AGF27","v":15},{"$f":"AGG27","v":15},{"$f":"EXP(-($D$16)*$D$13)*(AHD28)","v":9.7783807675050358},null,{"$f":"MAX(AHO27-AHD27,0)","v":30.251567279713626},{"$f":"$D$27","v":2.1428571428571428},{"$f":"EXP(-($D$16)*$D$13)*(AHH28)","v":9.7783807675050358},null,{"$f":"IF(AHI27=\"Abandon\",AGX27,)","v":0},null,{"$f":"AGP27","v":0},{"$f":"AGQ27","v":1.75},{"$f":"IF(AGX27<=AHL$24,0,IF(AND(AGX27>0,$D$19=1),AHM27,IF(AND(AGX27>0,AGX27<=$E$19*$D$12+AHL$24),AHM27,0)))","v":0},{"$f":"IF(AGX27=$D$14*$D$12,IF(AHN27+(AHM28*$D$18)/(($D$16*$D$13)-($D$8*$D$13))<0,AHN27,AHN27+(AHM28*$D$18)/(($D$16*$D$13)-($D$8*$D$13))),IF(AHN27=0,EXP(-($D$16)*$D$13)*AHO28+AHN27,EXP(-($D$16)*$D$13)*AHO28+AHN27))","v":40.02994804721866},null,null,null,null,{"$f":"AGX27","v":0},{"$f":"AGY27","v":0},{"$f":"AGZ27","v":0},{"$f":"$D$27","v":2.1428571428571428},{"$f":"AHB27","v":15},{"$f":"AHC27","v":15},{"$f":"EXP(-($D$16)*$D$13)*(AHZ28)","v":9.7783807675050358},null,{"$f":"MAX(AIK27-AHZ27,0)","v":30.251567279713626},{"$f":"$D$27","v":2.1428571428571428},{"$f":"EXP(-($D$16)*$D$13)*(AID28)","v":9.7783807675050358},null,{"$f":"IF(AIE27=\"Abandon\",AHT27,)","v":0},null,{"$f":"AHL27","v":0},{"$f":"AHM27","v":1.75},{"$f":"IF(AHT27<=AIH$24,0,IF(AND(AHT27>0,$D$19=1),AII27,IF(AND(AHT27>0,AHT27<=$E$19*$D$12+AIH$24),AII27,0)))","v":0},{"$f":"IF(AHT27=$D$14*$D$12,IF(AIJ27+(AII28*$D$18)/(($D$16*$D$13)-($D$8*$D$13))<0,AIJ27,AIJ27+(AII28*$D$18)/(($D$16*$D$13)-($D$8*$D$13))),IF(AIJ27=0,EXP(-($D$16)*$D$13)*AIK28+AIJ27,EXP(-($D$16)*$D$13)*AIK28+AIJ27))","v":40.02994804721866},null,null,null,null,{"$f":"AHT27","v":0},{"$f":"AHU27","v":0},{"$f":"AHV27","v":0},{"$f":"$D$27","v":2.1428571428571428},{"$f":"AHX27","v":15},{"$f":"AHY27","v":15},{"$f":"EXP(-($D$16)*$D$13)*(AIV28)","v":9.7783807675050358},null,{"$f":"MAX(AJG27-AIV27,0)","v":30.251567279713626},{"$f":"$D$27","v":2.1428571428571428},{"$f":"EXP(-($D$16)*$D$13)*(AIZ28)","v":9.7783807675050358},null,{"$f":"IF(AJA27=\"Abandon\",AIP27,)","v":0},null,{"$f":"AIH27","v":0},{"$f":"AII27","v":1.75},{"$f":"IF(AIP27<=AJD$24,0,IF(AND(AIP27>0,$D$19=1),AJE27,IF(AND(AIP27>0,AIP27<=$E$19*$D$12+AJD$24),AJE27,0)))","v":0},{"$f":"IF(AIP27=$D$14*$D$12,IF(AJF27+(AJE28*$D$18)/(($D$16*$D$13)-($D$8*$D$13))<0,AJF27,AJF27+(AJE28*$D$18)/(($D$16*$D$13)-($D$8*$D$13))),IF(AJF27=0,EXP(-($D$16)*$D$13)*AJG28+AJF27,EXP(-($D$16)*$D$13)*AJG28+AJF27))","v":40.02994804721866},null,null,null,null,{"$f":"AIP27","v":0},{"$f":"AIQ27","v":0},{"$f":"AIR27","v":0},{"$f":"$D$27","v":2.1428571428571428},{"$f":"AIT27","v":15},{"$f":"AIU27","v":15},{"$f":"EXP(-($D$16)*$D$13)*(AJR28)","v":9.7783807675050358},null,{"$f":"MAX(AKC27-AJR27,0)","v":30.251567279713626},{"$f":"$D$27","v":2.1428571428571428},{"$f":"EXP(-($D$16)*$D$13)*(AJV28)","v":9.7783807675050358},null,{"$f":"IF(AJW27=\"Abandon\",AJL27,)","v":0},null,{"$f":"AJD27","v":0},{"$f":"AJE27","v":1.75},{"$f":"IF(AJL27<=AJZ$24,0,IF(AND(AJL27>0,$D$19=1),AKA27,IF(AND(AJL27>0,AJL27<=$E$19*$D$12+AJZ$24),AKA27,0)))","v":0},{"$f":"IF(AJL27=$D$14*$D$12,IF(AKB27+(AKA28*$D$18)/(($D$16*$D$13)-($D$8*$D$13))<0,AKB27,AKB27+(AKA28*$D$18)/(($D$16*$D$13)-($D$8*$D$13))),IF(AKB27=0,EXP(-($D$16)*$D$13)*AKC28+AKB27,EXP(-($D$16)*$D$13)*AKC28+AKB27))","v":40.02994804721866},null,null,null,null,{"$f":"AJL27","v":0},{"$f":"AJM27","v":0},{"$f":"AJN27","v":0},{"$f":"$D$27","v":2.1428571428571428},{"$f":"AJP27","v":15},{"$f":"AJQ27","v":15},{"$f":"EXP(-($D$16)*$D$13)*(AKN28)","v":9.7783807675050358},null,{"$f":"MAX(AKY27-AKN27,0)","v":30.251567279713626},{"$f":"$D$27","v":2.1428571428571428},{"$f":"EXP(-($D$16)*$D$13)*(AKR28)","v":9.7783807675050358},null,{"$f":"IF(AKS27=\"Abandon\",AKH27,)","v":0},{"$f":"IF(AKM27>0,RANDBETWEEN(0,1000),1000)","v":816},{"$f":"AJZ27","v":0},{"$f":"AKA27","v":1.75},{"$f":"IF(AKH27<=AKV$24,0,IF(AND(AKH27>0,$D$19=1),AKW27,IF(AND(AKH27>0,AKH27<=$E$19*$D$12+AKV$24),AKW27,0)))","v":0},{"$f":"IF(AKH27=$D$14*$D$12,IF(AKX27+(AKW28*$D$18)/(($D$16*$D$13)-($D$8*$D$13))<0,AKX27,AKX27+(AKW28*$D$18)/(($D$16*$D$13)-($D$8*$D$13))),IF(AKX27=0,EXP(-($D$16)*$D$13)*AKY28+AKX27,EXP(-($D$16)*$D$13)*AKY28+AKX27))","v":40.02994804721866},null,null,null,null,{"$f":"AKH27","v":0},{"$f":"AKI27","v":0},{"$f":"AKJ27","v":0},{"$f":"$D$27","v":2.1428571428571428},{"$f":"AKL27","v":15},{"$f":"AKM27","v":15},{"$f":"EXP(-($D$16)*$D$13)*(ALJ28)","v":9.7783807675050358},null,{"$f":"MAX(ALU27-ALJ27,0)","v":30.251567279713626},{"$f":"$D$27","v":2.1428571428571428},{"$f":"EXP(-($D$16)*$D$13)*(ALN28)","v":9.7783807675050358},null,{"$f":"IF(ALO27=\"Abandon\",ALD27,)","v":0},{"$f":"IF(ALI27>0,RANDBETWEEN(0,1000),1000)","v":372},{"$f":"AKV27","v":0},{"$f":"AKW27","v":1.75},{"$f":"IF(ALD27<=ALR$24,0,IF(AND(ALD27>0,$D$19=1),ALS27,IF(AND(ALD27>0,ALD27<=$E$19*$D$12+ALR$24),ALS27,0)))","v":0},{"$f":"IF(ALD27=$D$14*$D$12,IF(ALT27+(ALS28*$D$18)/(($D$16*$D$13)-($D$8*$D$13))<0,ALT27,ALT27+(ALS28*$D$18)/(($D$16*$D$13)-($D$8*$D$13))),IF(ALT27=0,EXP(-($D$16)*$D$13)*ALU28+ALT27,EXP(-($D$16)*$D$13)*ALU28+ALT27))","v":40.02994804721866},null,null,null,null,{"$f":"ALD27","v":0},{"$f":"ALE27","v":0},{"$f":"ALF27","v":0},{"$f":"$D$27","v":2.1428571428571428},{"$f":"ALH27","v":15},{"$f":"ALI27","v":15},{"$f":"EXP(-($D$16)*$D$13)*(AMF28)","v":9.7783807675050358},null,{"$f":"MAX(AMQ27-AMF27,0)","v":30.251567279713626},{"$f":"$D$27","v":2.1428571428571428},{"$f":"EXP(-($D$16)*$D$13)*(AMJ28)","v":9.7783807675050358},null,{"$f":"IF(AMK27=\"Abandon\",ALZ27,)","v":0},{"$f":"IF(AME27>0,RANDBETWEEN(0,1000),1000)","v":533},{"$f":"ALR27","v":0},{"$f":"ALS27","v":1.75},{"$f":"IF(ALZ27<=AMN$24,0,IF(AND(ALZ27>0,$D$19=1),AMO27,IF(AND(ALZ27>0,ALZ27<=$E$19*$D$12+AMN$24),AMO27,0)))","v":0},{"$f":"IF(ALZ27=$D$14*$D$12,IF(AMP27+(AMO28*$D$18)/(($D$16*$D$13)-($D$8*$D$13))<0,AMP27,AMP27+(AMO28*$D$18)/(($D$16*$D$13)-($D$8*$D$13))),IF(AMP27=0,EXP(-($D$16)*$D$13)*AMQ28+AMP27,EXP(-($D$16)*$D$13)*AMQ28+AMP27))","v":40.02994804721866},null,null,null,null,{"$f":"ALZ27","v":0},{"$f":"AMA27","v":0},{"$f":"AMB27","v":0},{"$f":"$D$27","v":2.1428571428571428},{"$f":"AMD27","v":15},{"$f":"AME27","v":15},{"$f":"EXP(-($D$16)*$D$13)*(ANB28)","v":9.7783807675050358},null,{"$f":"MAX(ANM27-ANB27,0)","v":30.251567279713626},{"$f":"$D$27","v":2.1428571428571428},{"$f":"EXP(-($D$16)*$D$13)*(ANF28)","v":9.7783807675050358},null,{"$f":"IF(ANG27=\"Abandon\",AMV27,)","v":0},{"$f":"IF(ANA27>0,RANDBETWEEN(0,1000),1000)","v":348},{"$f":"AMN27","v":0},{"$f":"AMO27","v":1.75},{"$f":"IF(AMV27<=ANJ$24,0,IF(AND(AMV27>0,$D$19=1),ANK27,IF(AND(AMV27>0,AMV27<=$E$19*$D$12+ANJ$24),ANK27,0)))","v":0},{"$f":"IF(AMV27=$D$14*$D$12,IF(ANL27+(ANK28*$D$18)/(($D$16*$D$13)-($D$8*$D$13))<0,ANL27,ANL27+(ANK28*$D$18)/(($D$16*$D$13)-($D$8*$D$13))),IF(ANL27=0,EXP(-($D$16)*$D$13)*ANM28+ANL27,EXP(-($D$16)*$D$13)*ANM28+ANL27))","v":40.02994804721866},null,null,null,null,{"$f":"AMV27","v":0},{"$f":"AMW27","v":0},{"$f":"AMX27","v":0},{"$f":"$D$27","v":2.1428571428571428},{"$f":"AMZ27","v":15},{"$f":"ANA27","v":15},{"$f":"EXP(-($D$16)*$D$13)*(ANX28)","v":9.7783807675050358},null,{"$f":"MAX(AOI27-ANX27,0)","v":30.251567279713626},{"$f":"$D$27","v":2.1428571428571428},{"$f":"EXP(-($D$16)*$D$13)*(AOB28)","v":9.7783807675050358},null,{"$f":"IF(AOC27=\"Abandon\",ANR27,)","v":0},{"$f":"IF(ANW27>0,RANDBETWEEN(0,1000),1000)","v":626},{"$f":"ANJ27","v":0},{"$f":"ANK27","v":1.75},{"$f":"IF(ANR27<=AOF$24,0,IF(AND(ANR27>0,$D$19=1),AOG27,IF(AND(ANR27>0,ANR27<=$E$19*$D$12+AOF$24),AOG27,0)))","v":0},{"$f":"IF(ANR27=$D$14*$D$12,IF(AOH27+(AOG28*$D$18)/(($D$16*$D$13)-($D$8*$D$13))<0,AOH27,AOH27+(AOG28*$D$18)/(($D$16*$D$13)-($D$8*$D$13))),IF(AOH27=0,EXP(-($D$16)*$D$13)*AOI28+AOH27,EXP(-($D$16)*$D$13)*AOI28+AOH27))","v":40.02994804721866},null,null,null,null,{"$f":"ANR27","v":0},{"$f":"ANS27","v":0},{"$f":"ANT27","v":0},{"$f":"$D$27","v":2.1428571428571428},{"$f":"ANV27","v":15},{"$f":"ANW27","v":15},{"$f":"EXP(-($D$16)*$D$13)*(AOT28)","v":9.7783807675050358},null,{"$f":"MAX(APE27-AOT27,0)","v":30.251567279713626},{"$f":"$D$27","v":2.1428571428571428},{"$f":"EXP(-($D$16)*$D$13)*(AOX28)","v":9.7783807675050358},null,{"$f":"IF(AOY27=\"Abandon\",AON27,)","v":0},{"$f":"IF(AOS27>0,RANDBETWEEN(0,1000),1000)","v":486},{"$f":"AOF27","v":0},{"$f":"AOG27","v":1.75},{"$f":"IF(AON27<=APB$24,0,IF(AND(AON27>0,$D$19=1),APC27,IF(AND(AON27>0,AON27<=$E$19*$D$12+APB$24),APC27,0)))","v":0},{"$f":"IF(AON27=$D$14*$D$12,IF(APD27+(APC28*$D$18)/(($D$16*$D$13)-($D$8*$D$13))<0,APD27,APD27+(APC28*$D$18)/(($D$16*$D$13)-($D$8*$D$13))),IF(APD27=0,EXP(-($D$16)*$D$13)*APE28+APD27,EXP(-($D$16)*$D$13)*APE28+APD27))","v":40.02994804721866},null,null,null,null,{"$f":"AON27","v":0},{"$f":"AOO27","v":0},{"$f":"AOP27","v":0},{"$f":"$D$27","v":2.1428571428571428},{"$f":"AOR27","v":15},{"$f":"AOS27","v":15},{"$f":"EXP(-($D$16)*$D$13)*(APP28)","v":9.7783807675050358},null,{"$f":"MAX(AQA27-APP27,0)","v":30.251567279713626},{"$f":"$D$27","v":2.1428571428571428},{"$f":"EXP(-($D$16)*$D$13)*(APT28)","v":9.7783807675050358},null,{"$f":"IF(APU27=\"Abandon\",APJ27,)","v":0},{"$f":"IF(APO27>0,RANDBETWEEN(0,1000),1000)","v":467},{"$f":"APB27","v":0},{"$f":"APC27","v":1.75},{"$f":"IF(APJ27<=APX$24,0,IF(AND(APJ27>0,$D$19=1),APY27,IF(AND(APJ27>0,APJ27<=$E$19*$D$12+APX$24),APY27,0)))","v":0},{"$f":"IF(APJ27=$D$14*$D$12,IF(APZ27+(APY28*$D$18)/(($D$16*$D$13)-($D$8*$D$13))<0,APZ27,APZ27+(APY28*$D$18)/(($D$16*$D$13)-($D$8*$D$13))),IF(APZ27=0,EXP(-($D$16)*$D$13)*AQA28+APZ27,EXP(-($D$16)*$D$13)*AQA28+APZ27))","v":40.02994804721866},null,null,null,null,{"$f":"APJ27","v":0},{"$f":"APK27","v":0},{"$f":"APL27","v":0},{"$f":"$D$27","v":2.1428571428571428},{"$f":"APN27","v":15},{"$f":"APO27","v":15},{"$f":"EXP(-($D$16)*$D$13)*(AQL28)","v":9.7783807675050358},null,{"$f":"MAX(AQW27-AQL27,0)","v":30.251567279713626},{"$f":"$D$27","v":2.1428571428571428},{"$f":"EXP(-($D$16)*$D$13)*(AQP28)","v":9.7783807675050358},null,{"$f":"IF(AQQ27=\"Abandon\",AQF27,)","v":0},null,{"$f":"APX27","v":0},{"$f":"APY27","v":1.75},{"$f":"IF(AQF27<=AQT$24,0,IF(AND(AQF27>0,$D$19=1),AQU27,IF(AND(AQF27>0,AQF27<=$E$19*$D$12+AQT$24),AQU27,0)))","v":0},{"$f":"IF(AQF27=$D$14*$D$12,IF(AQV27+(AQU28*$D$18)/(($D$16*$D$13)-($D$8*$D$13))<0,AQV27,AQV27+(AQU28*$D$18)/(($D$16*$D$13)-($D$8*$D$13))),IF(AQV27=0,EXP(-($D$16)*$D$13)*AQW28+AQV27,EXP(-($D$16)*$D$13)*AQW28+AQV27))","v":40.02994804721866},null,null,null,null,{"$f":"AQF27","v":0},{"$f":"AQG27","v":0},{"$f":"AQH27","v":0},{"$f":"$D$27","v":2.1428571428571428},{"$f":"AQJ27","v":15},{"$f":"AQK27","v":15},{"$f":"EXP(-($D$16)*$D$13)*(ARH28)","v":9.7783807675050358},null,{"$f":"MAX(ARS27-ARH27,0)","v":30.251567279713626},{"$f":"$D$27","v":2.1428571428571428},{"$f":"EXP(-($D$16)*$D$13)*(ARL28)","v":9.7783807675050358},null,{"$f":"IF(ARM27=\"Abandon\",ARB27,)","v":0},null,{"$f":"AQT27","v":0},{"$f":"AQU27","v":1.75},{"$f":"IF(ARB27<=ARP$24,0,IF(AND(ARB27>0,$D$19=1),ARQ27,IF(AND(ARB27>0,ARB27<=$E$19*$D$12+ARP$24),ARQ27,0)))","v":0},{"$f":"IF(ARB27=$D$14*$D$12,IF(ARR27+(ARQ28*$D$18)/(($D$16*$D$13)-($D$8*$D$13))<0,ARR27,ARR27+(ARQ28*$D$18)/(($D$16*$D$13)-($D$8*$D$13))),IF(ARR27=0,EXP(-($D$16)*$D$13)*ARS28+ARR27,EXP(-($D$16)*$D$13)*ARS28+ARR27))","v":40.02994804721866},null,null,null,null,{"$f":"ARB27","v":0},{"$f":"ARC27","v":0},{"$f":"ARD27","v":0},{"$f":"$D$27","v":2.1428571428571428},{"$f":"ARF27","v":15},{"$f":"ARG27","v":15},{"$f":"EXP(-($D$16)*$D$13)*(ASD28)","v":9.7783807675050358},null,{"$f":"MAX(ASO27-ASD27,0)","v":30.251567279713626},{"$f":"$D$27","v":2.1428571428571428},{"$f":"EXP(-($D$16)*$D$13)*(ASH28)","v":9.7783807675050358},null,{"$f":"IF(ASI27=\"Abandon\",ARX27,)","v":0},null,{"$f":"ARP27","v":0},{"$f":"ARQ27","v":1.75},{"$f":"IF(ARX27<=ASL$24,0,IF(AND(ARX27>0,$D$19=1),ASM27,IF(AND(ARX27>0,ARX27<=$E$19*$D$12+ASL$24),ASM27,0)))","v":0},{"$f":"IF(ARX27=$D$14*$D$12,IF(ASN27+(ASM28*$D$18)/(($D$16*$D$13)-($D$8*$D$13))<0,ASN27,ASN27+(ASM28*$D$18)/(($D$16*$D$13)-($D$8*$D$13))),IF(ASN27=0,EXP(-($D$16)*$D$13)*ASO28+ASN27,EXP(-($D$16)*$D$13)*ASO28+ASN27))","v":40.02994804721866},null,null,null,null,{"$f":"ARX27","v":0},{"$f":"ARY27","v":0},{"$f":"ARZ27","v":0},{"$f":"$D$27","v":2.1428571428571428},{"$f":"ASB27","v":15},{"$f":"ASC27","v":15},{"$f":"EXP(-($D$16)*$D$13)*(ASZ28)","v":9.7783807675050358},null,{"$f":"MAX(ATK27-ASZ27,0)","v":30.251567279713626},{"$f":"$D$27","v":2.1428571428571428},{"$f":"EXP(-($D$16)*$D$13)*(ATD28)","v":9.7783807675050358},null,{"$f":"IF(ATE27=\"Abandon\",AST27,)","v":0},null,{"$f":"ASL27","v":0},{"$f":"ASM27","v":1.75},{"$f":"IF(AST27<=ATH$24,0,IF(AND(AST27>0,$D$19=1),ATI27,IF(AND(AST27>0,AST27<=$E$19*$D$12+ATH$24),ATI27,0)))","v":0},{"$f":"IF(AST27=$D$14*$D$12,IF(ATJ27+(ATI28*$D$18)/(($D$16*$D$13)-($D$8*$D$13))<0,ATJ27,ATJ27+(ATI28*$D$18)/(($D$16*$D$13)-($D$8*$D$13))),IF(ATJ27=0,EXP(-($D$16)*$D$13)*ATK28+ATJ27,EXP(-($D$16)*$D$13)*ATK28+ATJ27))","v":40.02994804721866},null,null,null,null,{"$f":"AST27","v":0},{"$f":"ASU27","v":0},{"$f":"ASV27","v":0},{"$f":"$D$27","v":2.1428571428571428},{"$f":"ASX27","v":15},{"$f":"ASY27","v":15},{"$f":"EXP(-($D$16)*$D$13)*(ATV28)","v":9.7783807675050358},null,{"$f":"MAX(AUG27-ATV27,0)","v":30.251567279713626},{"$f":"$D$27","v":2.1428571428571428},{"$f":"EXP(-($D$16)*$D$13)*(ATZ28)","v":9.7783807675050358},null,{"$f":"IF(AUA27=\"Abandon\",ATP27,)","v":0},null,{"$f":"ATH27","v":0},{"$f":"ATI27","v":1.75},{"$f":"IF(ATP27<=AUD$24,0,IF(AND(ATP27>0,$D$19=1),AUE27,IF(AND(ATP27>0,ATP27<=$E$19*$D$12+AUD$24),AUE27,0)))","v":0},{"$f":"IF(ATP27=$D$14*$D$12,IF(AUF27+(AUE28*$D$18)/(($D$16*$D$13)-($D$8*$D$13))<0,AUF27,AUF27+(AUE28*$D$18)/(($D$16*$D$13)-($D$8*$D$13))),IF(AUF27=0,EXP(-($D$16)*$D$13)*AUG28+AUF27,EXP(-($D$16)*$D$13)*AUG28+AUF27))","v":40.02994804721866},null,null,null,null,{"$f":"ATP27","v":0},{"$f":"ATQ27","v":0},{"$f":"ATR27","v":0},{"$f":"$D$27","v":2.1428571428571428},{"$f":"ATT27","v":15},{"$f":"ATU27","v":15},{"$f":"EXP(-($D$16)*$D$13)*(AUR28)","v":9.7783807675050358},null,{"$f":"MAX(AVC27-AUR27,0)","v":30.251567279713626},{"$f":"$D$27","v":2.1428571428571428},{"$f":"EXP(-($D$16)*$D$13)*(AUV28)","v":9.7783807675050358},null,{"$f":"IF(AUW27=\"Abandon\",AUL27,)","v":0},null,{"$f":"AUD27","v":0},{"$f":"AUE27","v":1.75},{"$f":"IF(AUL27<=AUZ$24,0,IF(AND(AUL27>0,$D$19=1),AVA27,IF(AND(AUL27>0,AUL27<=$E$19*$D$12+AUZ$24),AVA27,0)))","v":0},{"$f":"IF(AUL27=$D$14*$D$12,IF(AVB27+(AVA28*$D$18)/(($D$16*$D$13)-($D$8*$D$13))<0,AVB27,AVB27+(AVA28*$D$18)/(($D$16*$D$13)-($D$8*$D$13))),IF(AVB27=0,EXP(-($D$16)*$D$13)*AVC28+AVB27,EXP(-($D$16)*$D$13)*AVC28+AVB27))","v":40.02994804721866},null,null,null,null,{"$f":"AUL27","v":0},{"$f":"AUM27","v":0},{"$f":"AUN27","v":0},{"$f":"$D$27","v":2.1428571428571428},{"$f":"AUP27","v":15},{"$f":"AUQ27","v":15},{"$f":"EXP(-($D$16)*$D$13)*(AVN28)","v":9.7783807675050358},null,{"$f":"MAX(AVY27-AVN27,0)","v":30.251567279713626},{"$f":"$D$27","v":2.1428571428571428},{"$f":"EXP(-($D$16)*$D$13)*(AVR28)","v":9.7783807675050358},null,{"$f":"IF(AVS27=\"Abandon\",AVH27,)","v":0},null,{"$f":"AUZ27","v":0},{"$f":"AVA27","v":1.75},{"$f":"IF(AVH27<=AVV$24,0,IF(AND(AVH27>0,$D$19=1),AVW27,IF(AND(AVH27>0,AVH27<=$E$19*$D$12+AVV$24),AVW27,0)))","v":0},{"$f":"IF(AVH27=$D$14*$D$12,IF(AVX27+(AVW28*$D$18)/(($D$16*$D$13)-($D$8*$D$13))<0,AVX27,AVX27+(AVW28*$D$18)/(($D$16*$D$13)-($D$8*$D$13))),IF(AVX27=0,EXP(-($D$16)*$D$13)*AVY28+AVX27,EXP(-($D$16)*$D$13)*AVY28+AVX27))","v":40.02994804721866},null,null,null,null,{"$f":"AVH27","v":0},{"$f":"AVI27","v":0},{"$f":"AVJ27","v":0},{"$f":"$D$27","v":2.1428571428571428},{"$f":"AVL27","v":15},{"$f":"AVM27","v":15},{"$f":"EXP(-($D$16)*$D$13)*(AWJ28)","v":9.7783807675050358},null,{"$f":"MAX(AWU27-AWJ27,0)","v":30.251567279713626},{"$f":"$D$27","v":2.1428571428571428},{"$f":"EXP(-($D$16)*$D$13)*(AWN28)","v":9.7783807675050358},null,{"$f":"IF(AWO27=\"Abandon\",AWD27,)","v":0},null,{"$f":"AVV27","v":0},{"$f":"AVW27","v":1.75},{"$f":"IF(AWD27<=AWR$24,0,IF(AND(AWD27>0,$D$19=1),AWS27,IF(AND(AWD27>0,AWD27<=$E$19*$D$12+AWR$24),AWS27,0)))","v":0},{"$f":"IF(AWD27=$D$14*$D$12,IF(AWT27+(AWS28*$D$18)/(($D$16*$D$13)-($D$8*$D$13))<0,AWT27,AWT27+(AWS28*$D$18)/(($D$16*$D$13)-($D$8*$D$13))),IF(AWT27=0,EXP(-($D$16)*$D$13)*AWU28+AWT27,EXP(-($D$16)*$D$13)*AWU28+AWT27))","v":40.02994804721866},null,null,null,null,{"$f":"AWD27","v":0},{"$f":"AWE27","v":0},{"$f":"AWF27","v":0},{"$f":"$D$27","v":2.1428571428571428},{"$f":"AWH27","v":15},{"$f":"AWI27","v":15},{"$f":"EXP(-($D$16)*$D$13)*(AXF28)","v":9.7783807675050358},null,{"$f":"MAX(AXQ27-AXF27,0)","v":30.251567279713626},{"$f":"$D$27","v":2.1428571428571428},{"$f":"EXP(-($D$16)*$D$13)*(AXJ28)","v":9.7783807675050358},null,{"$f":"IF(AXK27=\"Abandon\",AWZ27,)","v":0},null,{"$f":"AWR27","v":0},{"$f":"AWS27","v":1.75},{"$f":"IF(AWZ27<=AXN$24,0,IF(AND(AWZ27>0,$D$19=1),AXO27,IF(AND(AWZ27>0,AWZ27<=$E$19*$D$12+AXN$24),AXO27,0)))","v":0},{"$f":"IF(AWZ27=$D$14*$D$12,IF(AXP27+(AXO28*$D$18)/(($D$16*$D$13)-($D$8*$D$13))<0,AXP27,AXP27+(AXO28*$D$18)/(($D$16*$D$13)-($D$8*$D$13))),IF(AXP27=0,EXP(-($D$16)*$D$13)*AXQ28+AXP27,EXP(-($D$16)*$D$13)*AXQ28+AXP27))","v":40.02994804721866},null,null,null,null,{"$f":"AWZ27","v":0},{"$f":"AXA27","v":0},{"$f":"AXB27","v":0},{"$f":"$D$27","v":2.1428571428571428},{"$f":"AXD27","v":15},{"$f":"AXE27","v":15},{"$f":"EXP(-($D$16)*$D$13)*(AYB28)","v":9.7783807675050358},null,{"$f":"MAX(AYM27-AYB27,0)","v":30.251567279713626},{"$f":"$D$27","v":2.1428571428571428},{"$f":"EXP(-($D$16)*$D$13)*(AYF28)","v":9.7783807675050358},null,{"$f":"IF(AYG27=\"Abandon\",AXV27,)","v":0},null,{"$f":"AXN27","v":0},{"$f":"AXO27","v":1.75},{"$f":"IF(AXV27<=AYJ$24,0,IF(AND(AXV27>0,$D$19=1),AYK27,IF(AND(AXV27>0,AXV27<=$E$19*$D$12+AYJ$24),AYK27,0)))","v":0},{"$f":"IF(AXV27=$D$14*$D$12,IF(AYL27+(AYK28*$D$18)/(($D$16*$D$13)-($D$8*$D$13))<0,AYL27,AYL27+(AYK28*$D$18)/(($D$16*$D$13)-($D$8*$D$13))),IF(AYL27=0,EXP(-($D$16)*$D$13)*AYM28+AYL27,EXP(-($D$16)*$D$13)*AYM28+AYL27))","v":40.02994804721866},null,null,null,null,{"$f":"AXV27","v":0},{"$f":"AXW27","v":0},{"$f":"AXX27","v":0},{"$f":"$D$27","v":2.1428571428571428},{"$f":"AXZ27","v":15},{"$f":"AYA27","v":15},{"$f":"EXP(-($D$16)*$D$13)*(AYX28)","v":9.7783807675050358},null,{"$f":"MAX(AZI27-AYX27,0)","v":30.251567279713626},{"$f":"$D$27","v":2.1428571428571428},{"$f":"EXP(-($D$16)*$D$13)*(AZB28)","v":9.7783807675050358},null,{"$f":"IF(AZC27=\"Abandon\",AYR27,)","v":0},null,{"$f":"AYJ27","v":0},{"$f":"AYK27","v":1.75},{"$f":"IF(AYR27<=AZF$24,0,IF(AND(AYR27>0,$D$19=1),AZG27,IF(AND(AYR27>0,AYR27<=$E$19*$D$12+AZF$24),AZG27,0)))","v":0},{"$f":"IF(AYR27=$D$14*$D$12,IF(AZH27+(AZG28*$D$18)/(($D$16*$D$13)-($D$8*$D$13))<0,AZH27,AZH27+(AZG28*$D$18)/(($D$16*$D$13)-($D$8*$D$13))),IF(AZH27=0,EXP(-($D$16)*$D$13)*AZI28+AZH27,EXP(-($D$16)*$D$13)*AZI28+AZH27))","v":40.02994804721866},null,null,null,null,{"$f":"AYR27","v":0},{"$f":"AYS27","v":0},{"$f":"AYT27","v":0},{"$f":"$D$27","v":2.1428571428571428},{"$f":"AYV27","v":15},{"$f":"AYW27","v":15},{"$f":"EXP(-($D$16)*$D$13)*(AZT28)","v":9.7783807675050358},null,{"$f":"MAX(BAE27-AZT27,0)","v":30.251567279713626},{"$f":"$D$27","v":2.1428571428571428},{"$f":"EXP(-($D$16)*$D$13)*(AZX28)","v":9.7783807675050358},null,{"$f":"IF(AZY27=\"Abandon\",AZN27,)","v":0},null,{"$f":"AZF27","v":0},{"$f":"AZG27","v":1.75},{"$f":"IF(AZN27<=BAB$24,0,IF(AND(AZN27>0,$D$19=1),BAC27,IF(AND(AZN27>0,AZN27<=$E$19*$D$12+BAB$24),BAC27,0)))","v":0},{"$f":"IF(AZN27=$D$14*$D$12,IF(BAD27+(BAC28*$D$18)/(($D$16*$D$13)-($D$8*$D$13))<0,BAD27,BAD27+(BAC28*$D$18)/(($D$16*$D$13)-($D$8*$D$13))),IF(BAD27=0,EXP(-($D$16)*$D$13)*BAE28+BAD27,EXP(-($D$16)*$D$13)*BAE28+BAD27))","v":40.02994804721866},null,null,null,null,{"$f":"AZN27","v":0},{"$f":"AZO27","v":0},{"$f":"AZP27","v":0},{"$f":"$D$27","v":2.1428571428571428},{"$f":"AZR27","v":15},{"$f":"AZS27","v":15},{"$f":"EXP(-($D$16)*$D$13)*(BAP28)","v":9.7783807675050358},null,{"$f":"MAX(BBA27-BAP27,0)","v":30.251567279713626},{"$f":"$D$27","v":2.1428571428571428},{"$f":"EXP(-($D$16)*$D$13)*(BAT28)","v":9.7783807675050358},null,{"$f":"IF(BAU27=\"Abandon\",BAJ27,)","v":0},null,{"$f":"BAB27","v":0},{"$f":"BAC27","v":1.75},{"$f":"IF(BAJ27<=BAX$24,0,IF(AND(BAJ27>0,$D$19=1),BAY27,IF(AND(BAJ27>0,BAJ27<=$E$19*$D$12+BAX$24),BAY27,0)))","v":0},{"$f":"IF(BAJ27=$D$14*$D$12,IF(BAZ27+(BAY28*$D$18)/(($D$16*$D$13)-($D$8*$D$13))<0,BAZ27,BAZ27+(BAY28*$D$18)/(($D$16*$D$13)-($D$8*$D$13))),IF(BAZ27=0,EXP(-($D$16)*$D$13)*BBA28+BAZ27,EXP(-($D$16)*$D$13)*BBA28+BAZ27))","v":40.02994804721866},null,null,null,null,{"$f":"BAJ27","v":0},{"$f":"BAK27","v":0},{"$f":"BAL27","v":0},{"$f":"$D$27","v":2.1428571428571428},{"$f":"BAN27","v":15},{"$f":"BAO27","v":15},{"$f":"EXP(-($D$16)*$D$13)*(BBL28)","v":9.7783807675050358},null,{"$f":"MAX(BBW27-BBL27,0)","v":30.251567279713626},{"$f":"$D$27","v":2.1428571428571428},{"$f":"EXP(-($D$16)*$D$13)*(BBP28)","v":9.7783807675050358},null,{"$f":"IF(BBQ27=\"Abandon\",BBF27,)","v":0},null,{"$f":"BAX27","v":0},{"$f":"BAY27","v":1.75},{"$f":"IF(BBF27<=BBT$24,0,IF(AND(BBF27>0,$D$19=1),BBU27,IF(AND(BBF27>0,BBF27<=$E$19*$D$12+BBT$24),BBU27,0)))","v":0},{"$f":"IF(BBF27=$D$14*$D$12,IF(BBV27+(BBU28*$D$18)/(($D$16*$D$13)-($D$8*$D$13))<0,BBV27,BBV27+(BBU28*$D$18)/(($D$16*$D$13)-($D$8*$D$13))),IF(BBV27=0,EXP(-($D$16)*$D$13)*BBW28+BBV27,EXP(-($D$16)*$D$13)*BBW28+BBV27))","v":40.02994804721866},null,null,null,null,{"$f":"BBF27","v":0},{"$f":"BBG27","v":0},{"$f":"BBH27","v":0},{"$f":"$D$27","v":2.1428571428571428},{"$f":"BBJ27","v":15},{"$f":"BBK27","v":15},{"$f":"EXP(-($D$16)*$D$13)*(BCH28)","v":9.7783807675050358},null,{"$f":"MAX(BCS27-BCH27,0)","v":30.251567279713626},{"$f":"$D$27","v":2.1428571428571428},{"$f":"EXP(-($D$16)*$D$13)*(BCL28)","v":9.7783807675050358},null,{"$f":"IF(BCM27=\"Abandon\",BCB27,)","v":0},null,{"$f":"BBT27","v":0},{"$f":"BBU27","v":1.75},{"$f":"IF(BCB27<=BCP$24,0,IF(AND(BCB27>0,$D$19=1),BCQ27,IF(AND(BCB27>0,BCB27<=$E$19*$D$12+BCP$24),BCQ27,0)))","v":0},{"$f":"IF(BCB27=$D$14*$D$12,IF(BCR27+(BCQ28*$D$18)/(($D$16*$D$13)-($D$8*$D$13))<0,BCR27,BCR27+(BCQ28*$D$18)/(($D$16*$D$13)-($D$8*$D$13))),IF(BCR27=0,EXP(-($D$16)*$D$13)*BCS28+BCR27,EXP(-($D$16)*$D$13)*BCS28+BCR27))","v":40.02994804721866},null,null,null,null,{"$f":"BCB27","v":0},{"$f":"BCC27","v":0},{"$f":"BCD27","v":0},{"$f":"$D$27","v":2.1428571428571428},{"$f":"BCF27","v":15},{"$f":"BCG27","v":15},{"$f":"EXP(-($D$16)*$D$13)*(BDD28)","v":9.7783807675050358},null,{"$f":"MAX(BDO27-BDD27,0)","v":30.251567279713626},{"$f":"$D$27","v":2.1428571428571428},{"$f":"EXP(-($D$16)*$D$13)*(BDH28)","v":9.7783807675050358},null,{"$f":"IF(BDI27=\"Abandon\",BCX27,)","v":0},null,{"$f":"BCP27","v":0},{"$f":"BCQ27","v":1.75},{"$f":"IF(BCX27<=BDL$24,0,IF(AND(BCX27>0,$D$19=1),BDM27,IF(AND(BCX27>0,BCX27<=$E$19*$D$12+BDL$24),BDM27,0)))","v":0},{"$f":"IF(BCX27=$D$14*$D$12,IF(BDN27+(BDM28*$D$18)/(($D$16*$D$13)-($D$8*$D$13))<0,BDN27,BDN27+(BDM28*$D$18)/(($D$16*$D$13)-($D$8*$D$13))),IF(BDN27=0,EXP(-($D$16)*$D$13)*BDO28+BDN27,EXP(-($D$16)*$D$13)*BDO28+BDN27))","v":40.02994804721866},null,null,null,null,{"$f":"BCX27","v":0},{"$f":"BCY27","v":0},{"$f":"BCZ27","v":0},{"$f":"$D$27","v":2.1428571428571428},{"$f":"BDB27","v":15},{"$f":"BDC27","v":15},{"$f":"EXP(-($D$16)*$D$13)*(BDZ28)","v":9.7783807675050358},null,{"$f":"MAX(BEK27-BDZ27,0)","v":30.251567279713626},{"$f":"$D$27","v":2.1428571428571428},{"$f":"EXP(-($D$16)*$D$13)*(BED28)","v":9.7783807675050358},null,{"$f":"IF(BEE27=\"Abandon\",BDT27,)","v":0},null,{"$f":"BDL27","v":0},{"$f":"BDM27","v":1.75},{"$f":"IF(BDT27<=BEH$24,0,IF(AND(BDT27>0,$D$19=1),BEI27,IF(AND(BDT27>0,BDT27<=$E$19*$D$12+BEH$24),BEI27,0)))","v":0},{"$f":"IF(BDT27=$D$14*$D$12,IF(BEJ27+(BEI28*$D$18)/(($D$16*$D$13)-($D$8*$D$13))<0,BEJ27,BEJ27+(BEI28*$D$18)/(($D$16*$D$13)-($D$8*$D$13))),IF(BEJ27=0,EXP(-($D$16)*$D$13)*BEK28+BEJ27,EXP(-($D$16)*$D$13)*BEK28+BEJ27))","v":40.02994804721866},null,null,null,null,{"$f":"BDT27","v":0},{"$f":"BDU27","v":0},{"$f":"BDV27","v":0},{"$f":"$D$27","v":2.1428571428571428},{"$f":"BDX27","v":15},{"$f":"BDY27","v":15},{"$f":"EXP(-($D$16)*$D$13)*(BEV28)","v":9.7783807675050358},null,{"$f":"MAX(BFG27-BEV27,0)","v":30.251567279713626},{"$f":"$D$27","v":2.1428571428571428},{"$f":"EXP(-($D$16)*$D$13)*(BEZ28)","v":9.7783807675050358},null,{"$f":"IF(BFA27=\"Abandon\",BEP27,)","v":0},null,{"$f":"BEH27","v":0},{"$f":"BEI27","v":1.75},{"$f":"IF(BEP27<=BFD$24,0,IF(AND(BEP27>0,$D$19=1),BFE27,IF(AND(BEP27>0,BEP27<=$E$19*$D$12+BFD$24),BFE27,0)))","v":0},{"$f":"IF(BEP27=$D$14*$D$12,IF(BFF27+(BFE28*$D$18)/(($D$16*$D$13)-($D$8*$D$13))<0,BFF27,BFF27+(BFE28*$D$18)/(($D$16*$D$13)-($D$8*$D$13))),IF(BFF27=0,EXP(-($D$16)*$D$13)*BFG28+BFF27,EXP(-($D$16)*$D$13)*BFG28+BFF27))","v":40.02994804721866},null,null,null,null,{"$f":"BEP27","v":0},{"$f":"BEQ27","v":0},{"$f":"BER27","v":0},{"$f":"$D$27","v":2.1428571428571428},{"$f":"BET27","v":15},{"$f":"BEU27","v":15},{"$f":"EXP(-($D$16)*$D$13)*(BFR28)","v":9.7783807675050358},null,{"$f":"MAX(BGC27-BFR27,0)","v":30.251567279713626},{"$f":"$D$27","v":2.1428571428571428},{"$f":"EXP(-($D$16)*$D$13)*(BFV28)","v":9.7783807675050358},null,{"$f":"IF(BFW27=\"Abandon\",BFL27,)","v":0},null,{"$f":"BFD27","v":0},{"$f":"BFE27","v":1.75},{"$f":"IF(BFL27<=BFZ$24,0,IF(AND(BFL27>0,$D$19=1),BGA27,IF(AND(BFL27>0,BFL27<=$E$19*$D$12+BFZ$24),BGA27,0)))","v":0},{"$f":"IF(BFL27=$D$14*$D$12,IF(BGB27+(BGA28*$D$18)/(($D$16*$D$13)-($D$8*$D$13))<0,BGB27,BGB27+(BGA28*$D$18)/(($D$16*$D$13)-($D$8*$D$13))),IF(BGB27=0,EXP(-($D$16)*$D$13)*BGC28+BGB27,EXP(-($D$16)*$D$13)*BGC28+BGB27))","v":40.02994804721866},null,null,null,null,{"$f":"BFL27","v":0},{"$f":"BFM27","v":0},{"$f":"BFN27","v":0},{"$f":"$D$27","v":2.1428571428571428},{"$f":"BFP27","v":15},{"$f":"BFQ27","v":15},{"$f":"EXP(-($D$16)*$D$13)*(BGN28)","v":9.7783807675050358},null,{"$f":"MAX(BGY27-BGN27,0)","v":30.251567279713626},{"$f":"$D$27","v":2.1428571428571428},{"$f":"EXP(-($D$16)*$D$13)*(BGR28)","v":9.7783807675050358},null,{"$f":"IF(BGS27=\"Abandon\",BGH27,)","v":0},null,{"$f":"BFZ27","v":0},{"$f":"BGA27","v":1.75},{"$f":"IF(BGH27<=BGV$24,0,IF(AND(BGH27>0,$D$19=1),BGW27,IF(AND(BGH27>0,BGH27<=$E$19*$D$12+BGV$24),BGW27,0)))","v":0},{"$f":"IF(BGH27=$D$14*$D$12,IF(BGX27+(BGW28*$D$18)/(($D$16*$D$13)-($D$8*$D$13))<0,BGX27,BGX27+(BGW28*$D$18)/(($D$16*$D$13)-($D$8*$D$13))),IF(BGX27=0,EXP(-($D$16)*$D$13)*BGY28+BGX27,EXP(-($D$16)*$D$13)*BGY28+BGX27))","v":40.02994804721866},null,null,null,null,{"$f":"BGH27","v":0},{"$f":"BGI27","v":0},{"$f":"BGJ27","v":0},{"$f":"$D$27","v":2.1428571428571428},{"$f":"BGL27","v":15},{"$f":"BGM27","v":15},{"$f":"EXP(-($D$16)*$D$13)*(BHJ28)","v":9.7783807675050358},null,{"$f":"MAX(BHU27-BHJ27,0)","v":30.251567279713626},{"$f":"$D$27","v":2.1428571428571428},{"$f":"EXP(-($D$16)*$D$13)*(BHN28)","v":9.7783807675050358},null,{"$f":"IF(BHO27=\"Abandon\",BHD27,)","v":0},null,{"$f":"BGV27","v":0},{"$f":"BGW27","v":1.75},{"$f":"IF(BHD27<=BHR$24,0,IF(AND(BHD27>0,$D$19=1),BHS27,IF(AND(BHD27>0,BHD27<=$E$19*$D$12+BHR$24),BHS27,0)))","v":0},{"$f":"IF(BHD27=$D$14*$D$12,IF(BHT27+(BHS28*$D$18)/(($D$16*$D$13)-($D$8*$D$13))<0,BHT27,BHT27+(BHS28*$D$18)/(($D$16*$D$13)-($D$8*$D$13))),IF(BHT27=0,EXP(-($D$16)*$D$13)*BHU28+BHT27,EXP(-($D$16)*$D$13)*BHU28+BHT27))","v":40.02994804721866},null,null,null,null,{"$f":"BHD27","v":0},{"$f":"BHE27","v":0},{"$f":"BHF27","v":0},{"$f":"$D$27","v":2.1428571428571428},{"$f":"BHH27","v":15},{"$f":"BHI27","v":15},{"$f":"EXP(-($D$16)*$D$13)*(BIF28)","v":9.7783807675050358},null,{"$f":"MAX(BIQ27-BIF27,0)","v":30.251567279713626},{"$f":"$D$27","v":2.1428571428571428},{"$f":"EXP(-($D$16)*$D$13)*(BIJ28)","v":9.7783807675050358},null,{"$f":"IF(BIK27=\"Abandon\",BHZ27,)","v":0},null,{"$f":"BHR27","v":0},{"$f":"BHS27","v":1.75},{"$f":"IF(BHZ27<=BIN$24,0,IF(AND(BHZ27>0,$D$19=1),BIO27,IF(AND(BHZ27>0,BHZ27<=$E$19*$D$12+BIN$24),BIO27,0)))","v":0},{"$f":"IF(BHZ27=$D$14*$D$12,IF(BIP27+(BIO28*$D$18)/(($D$16*$D$13)-($D$8*$D$13))<0,BIP27,BIP27+(BIO28*$D$18)/(($D$16*$D$13)-($D$8*$D$13))),IF(BIP27=0,EXP(-($D$16)*$D$13)*BIQ28+BIP27,EXP(-($D$16)*$D$13)*BIQ28+BIP27))","v":40.02994804721866},null,null,null,null,{"$f":"BHZ27","v":0},{"$f":"BIA27","v":0},{"$f":"BIB27","v":0},{"$f":"$D$27","v":2.1428571428571428},{"$f":"BID27","v":15},{"$f":"BIE27","v":15},{"$f":"EXP(-($D$16)*$D$13)*(BJB28)","v":9.7783807675050358},null,{"$f":"MAX(BJM27-BJB27,0)","v":30.251567279713626},{"$f":"$D$27","v":2.1428571428571428},{"$f":"EXP(-($D$16)*$D$13)*(BJF28)","v":9.7783807675050358},null,{"$f":"IF(BJG27=\"Abandon\",BIV27,)","v":0},null,{"$f":"BIN27","v":0},{"$f":"BIO27","v":1.75},{"$f":"IF(BIV27<=BJJ$24,0,IF(AND(BIV27>0,$D$19=1),BJK27,IF(AND(BIV27>0,BIV27<=$E$19*$D$12+BJJ$24),BJK27,0)))","v":0},{"$f":"IF(BIV27=$D$14*$D$12,IF(BJL27+(BJK28*$D$18)/(($D$16*$D$13)-($D$8*$D$13))<0,BJL27,BJL27+(BJK28*$D$18)/(($D$16*$D$13)-($D$8*$D$13))),IF(BJL27=0,EXP(-($D$16)*$D$13)*BJM28+BJL27,EXP(-($D$16)*$D$13)*BJM28+BJL27))","v":40.02994804721866},null,null,null,null,{"$f":"BIV27","v":0},{"$f":"BIW27","v":0},{"$f":"BIX27","v":0},{"$f":"$D$27","v":2.1428571428571428},{"$f":"BIZ27","v":15},{"$f":"BJA27","v":15},{"$f":"EXP(-($D$16)*$D$13)*(BJX28)","v":9.7783807675050358},null,{"$f":"MAX(BKI27-BJX27,0)","v":30.251567279713626},{"$f":"$D$27","v":2.1428571428571428},{"$f":"EXP(-($D$16)*$D$13)*(BKB28)","v":9.7783807675050358},null,{"$f":"IF(BKC27=\"Abandon\",BJR27,)","v":0},null,{"$f":"BJJ27","v":0},{"$f":"BJK27","v":1.75},{"$f":"IF(BJR27<=BKF$24,0,IF(AND(BJR27>0,$D$19=1),BKG27,IF(AND(BJR27>0,BJR27<=$E$19*$D$12+BKF$24),BKG27,0)))","v":0},{"$f":"IF(BJR27=$D$14*$D$12,IF(BKH27+(BKG28*$D$18)/(($D$16*$D$13)-($D$8*$D$13))<0,BKH27,BKH27+(BKG28*$D$18)/(($D$16*$D$13)-($D$8*$D$13))),IF(BKH27=0,EXP(-($D$16)*$D$13)*BKI28+BKH27,EXP(-($D$16)*$D$13)*BKI28+BKH27))","v":40.02994804721866},null,null,null,null,{"$f":"BJR27","v":0},{"$f":"BJS27","v":0},{"$f":"BJT27","v":0},{"$f":"$D$27","v":2.1428571428571428},{"$f":"BJV27","v":15},{"$f":"BJW27","v":15},{"$f":"EXP(-($D$16)*$D$13)*(BKT28)","v":9.7783807675050358},null,{"$f":"MAX(BLE27-BKT27,0)","v":30.251567279713626},{"$f":"$D$27","v":2.1428571428571428},{"$f":"EXP(-($D$16)*$D$13)*(BKX28)","v":9.7783807675050358},null,{"$f":"IF(BKY27=\"Abandon\",BKN27,)","v":0},null,{"$f":"BKF27","v":0},{"$f":"BKG27","v":1.75},{"$f":"IF(BKN27<=BLB$24,0,IF(AND(BKN27>0,$D$19=1),BLC27,IF(AND(BKN27>0,BKN27<=$E$19*$D$12+BLB$24),BLC27,0)))","v":0},{"$f":"IF(BKN27=$D$14*$D$12,IF(BLD27+(BLC28*$D$18)/(($D$16*$D$13)-($D$8*$D$13))<0,BLD27,BLD27+(BLC28*$D$18)/(($D$16*$D$13)-($D$8*$D$13))),IF(BLD27=0,EXP(-($D$16)*$D$13)*BLE28+BLD27,EXP(-($D$16)*$D$13)*BLE28+BLD27))","v":40.02994804721866},null,null,null,null,{"$f":"BKN27","v":0},{"$f":"BKO27","v":0},{"$f":"BKP27","v":0},{"$f":"$D$27","v":2.1428571428571428},{"$f":"BKR27","v":15},{"$f":"BKS27","v":15},{"$f":"EXP(-($D$16)*$D$13)*(BLP28)","v":9.7783807675050358},null,{"$f":"MAX(BMA27-BLP27,0)","v":30.251567279713626},{"$f":"$D$27","v":2.1428571428571428},{"$f":"EXP(-($D$16)*$D$13)*(BLT28)","v":9.7783807675050358},null,{"$f":"IF(BLU27=\"Abandon\",BLJ27,)","v":0},null,{"$f":"BLB27","v":0},{"$f":"BLC27","v":1.75},{"$f":"IF(BLJ27<=BLX$24,0,IF(AND(BLJ27>0,$D$19=1),BLY27,IF(AND(BLJ27>0,BLJ27<=$E$19*$D$12+BLX$24),BLY27,0)))","v":0},{"$f":"IF(BLJ27=$D$14*$D$12,IF(BLZ27+(BLY28*$D$18)/(($D$16*$D$13)-($D$8*$D$13))<0,BLZ27,BLZ27+(BLY28*$D$18)/(($D$16*$D$13)-($D$8*$D$13))),IF(BLZ27=0,EXP(-($D$16)*$D$13)*BMA28+BLZ27,EXP(-($D$16)*$D$13)*BMA28+BLZ27))","v":40.02994804721866},null,null,null,null,{"$f":"BLJ27","v":0},{"$f":"BLK27","v":0},{"$f":"BLL27","v":0},{"$f":"$D$27","v":2.1428571428571428},{"$f":"BLN27","v":15},{"$f":"BLO27","v":15},{"$f":"EXP(-($D$16)*$D$13)*(BML28)","v":9.7783807675050358},null,{"$f":"MAX(BMW27-BML27,0)","v":30.251567279713626},{"$f":"$D$27","v":2.1428571428571428},{"$f":"EXP(-($D$16)*$D$13)*(BMP28)","v":9.7783807675050358},null,{"$f":"IF(BMQ27=\"Abandon\",BMF27,)","v":0},null,{"$f":"BLX27","v":0},{"$f":"BLY27","v":1.75},{"$f":"IF(BMF27<=BMT$24,0,IF(AND(BMF27>0,$D$19=1),BMU27,IF(AND(BMF27>0,BMF27<=$E$19*$D$12+BMT$24),BMU27,0)))","v":0},{"$f":"IF(BMF27=$D$14*$D$12,IF(BMV27+(BMU28*$D$18)/(($D$16*$D$13)-($D$8*$D$13))<0,BMV27,BMV27+(BMU28*$D$18)/(($D$16*$D$13)-($D$8*$D$13))),IF(BMV27=0,EXP(-($D$16)*$D$13)*BMW28+BMV27,EXP(-($D$16)*$D$13)*BMW28+BMV27))","v":40.02994804721866},null,null,null,null,{"$f":"BMF27","v":0},{"$f":"BMG27","v":0},{"$f":"BMH27","v":0},{"$f":"$D$27","v":2.1428571428571428},{"$f":"BMJ27","v":15},{"$f":"BMK27","v":15},{"$f":"EXP(-($D$16)*$D$13)*(BNH28)","v":9.7783807675050358},null,{"$f":"MAX(BNS27-BNH27,0)","v":30.251567279713626},{"$f":"$D$27","v":2.1428571428571428},{"$f":"EXP(-($D$16)*$D$13)*(BNL28)","v":9.7783807675050358},null,{"$f":"IF(BNM27=\"Abandon\",BNB27,)","v":0},null,{"$f":"BMT27","v":0},{"$f":"BMU27","v":1.75},{"$f":"IF(BNB27<=BNP$24,0,IF(AND(BNB27>0,$D$19=1),BNQ27,IF(AND(BNB27>0,BNB27<=$E$19*$D$12+BNP$24),BNQ27,0)))","v":0},{"$f":"IF(BNB27=$D$14*$D$12,IF(BNR27+(BNQ28*$D$18)/(($D$16*$D$13)-($D$8*$D$13))<0,BNR27,BNR27+(BNQ28*$D$18)/(($D$16*$D$13)-($D$8*$D$13))),IF(BNR27=0,EXP(-($D$16)*$D$13)*BNS28+BNR27,EXP(-($D$16)*$D$13)*BNS28+BNR27))","v":40.02994804721866},null,null,null,null,{"$f":"BNB27","v":0},{"$f":"BNC27","v":0},{"$f":"BND27","v":0},{"$f":"$D$27","v":2.1428571428571428},{"$f":"BNF27","v":15},{"$f":"BNG27","v":15},{"$f":"EXP(-($D$16)*$D$13)*(BOD28)","v":9.7783807675050358},null,{"$f":"MAX(BOO27-BOD27,0)","v":30.251567279713626},{"$f":"$D$27","v":2.1428571428571428},{"$f":"EXP(-($D$16)*$D$13)*(BOH28)","v":9.7783807675050358},null,{"$f":"IF(BOI27=\"Abandon\",BNX27,)","v":0},null,{"$f":"BNP27","v":0},{"$f":"BNQ27","v":1.75},{"$f":"IF(BNX27<=BOL$24,0,IF(AND(BNX27>0,$D$19=1),BOM27,IF(AND(BNX27>0,BNX27<=$E$19*$D$12+BOL$24),BOM27,0)))","v":0},{"$f":"IF(BNX27=$D$14*$D$12,IF(BON27+(BOM28*$D$18)/(($D$16*$D$13)-($D$8*$D$13))<0,BON27,BON27+(BOM28*$D$18)/(($D$16*$D$13)-($D$8*$D$13))),IF(BON27=0,EXP(-($D$16)*$D$13)*BOO28+BON27,EXP(-($D$16)*$D$13)*BOO28+BON27))","v":40.02994804721866},null,null,null,{"$f":"BNX27","v":0},{"$f":"BNY27","v":0},null,null,null,{"$f":"NPV((D16+D1)*D13,BOV28:BOV107)","v":29.743391867434926},{"$f":"NPV((D16+D10)*D13,BOU28:BOU107)","v":12.455737265553863},{"$f":"BOX27-BOY27","v":17.287654601881066},{"$f":"IRR(BPA28:BPA107)","v":9.6301325965615137E-2}]
[{"$f":"IF(A27<$D$14*$D$12,A27+1,IF(A27=$D$14*$D$12,,))","v":1},{"$f":"B27+$A$28/$D$12","v":0.5},{"$f":"NORMSINV(RAND())","v":0.21569200414497719},{"$f":"D27","v":2.1428571428571428},{"$f":"IF(E27<=0,0,E27-D28+$D$4*(E27-D28)*SQRT($D$13)*NORMINV((RAND()),0,1))","v":11.185696841814067},{"$f":"IF(OR(F27=0,E28<=0,A28=0),0,E28)","v":11.185696841814067},{"$f":"IF(AND(F27>0,F28=0),EXP(-($D$16)*$D$13)*G29+IF(D28-(0-E28)<0,0,D28-(0-E28)),IF(F28=0,0,EXP(-($D$16)*$D$13)*G29+D28))","v":8.6655327299510958},{"$f":"IF(A28>0,IF(AND(F28=0,F27>0),A28,\" \"))","v":" "},24.477308865489867,{"$f":"IF(E28=0,0,IF(A28=0,0,IF(M$26=1000,IF(E28<0,IF(E27>0,IF(D28-(0-E28)<0,0,D28-(0-E28)),0),IF(M$26>=A28,D28,0)),IF(M$26>=A28,D28,0))))","v":2.1428571428571428},{"$f":"IF(M28=A28,0,EXP(-($D$16)*$D$13)*(K29)+J28)","v":8.6655327299510958},{"$f":"IF(L27=\"Abandon\",0,IF(A28>0,IF(AND(G28>0,I$28=0),\"Abandon\",\" \"),\" \"))","v":" "},{"$f":"IF(M27>0,\" \",IF(OR(T28=\"Failure\",L28=\"Abandon\"),A28,))","v":0},{"$f":"IF(F28>0,RANDBETWEEN(0,1000),1000)","v":359},{"$f":"NORMSINV(RAND())","v":1.0529161749572178},{"$f":"IF(F27>0,IF((P27+$D$7*$D$9*O28*SQRT($D$13))<0,0,(P27+$D$7*$D$9*O28*SQRT($D$13))),IF(P27*EXP((($D$8-$D$1)-(1/2)*$D$9^2)*$D$13+$D$9*SQRT($D$13)*O28)<0,0,P27*EXP((($D$8-$D$1)-(1/2)*$D$9^2)*$D$13+$D$9*SQRT($D$13)*O28)))","v":2.0157951277379702},{"$f":"IF(A28<=O$24,0,IF(AND(A28>0,$D$19=1),P28,IF(AND(A28>0,A28<=$E$19*$D$12+O$24),P28,0)))","v":0},{"$f":"IF(A28=$D$14*$D$12,IF(Q28+(P29*$D$18)/(($D$16*$D$13)-($D$8*$D$13))<0,Q28,Q28+(P29*$D$18)/(($D$16*$D$13)-($D$8*$D$13))),IF(Q28=0,EXP(-($D$16+$D$10)*$D$13)*R29+Q28,EXP(-($D$16)*$D$13)*R29+Q28))","v":33.142841595440963},{"$f":"Q28-J28","v":-2.1428571428571428},{"$f":"IF(F28>0,IF(N28<=$D$10*$D$13*1000,\"Failure\",\" \"),\" \")","v":" "},{"$f":"IF(U27>0,\" \",IF(T28=\"Failure\",A28,))","v":0},null,{"$f":"A28","v":1},0.5,{"$f":"C28","v":0.21569200414497719},{"$f":"$D$27","v":2.1428571428571428},11.185696841814067,11.185696841814067,{"$f":"IF(AND(AB27>0,AB28=0),EXP(-($D$16)*$D$13)*AC29+IF(Z28-(0-AA28)<0,0,Z28-(0-AA28)),IF(AB28=0,0,EXP(-($D$16)*$D$13)*AC29+Z28))","v":10.257671485357855},null,{"$f":"MAX(AN28-AC28,0)","v":64.67056883783674},{"$f":"IF(AA28=0,0,IF(W28=0,0,IF(AI$26=1000,IF(AA28<0,IF(AA27>0,IF(Z28-(0-AA28)<0,0,Z28-(0-AA28)),0),IF(AI$26>=W28,Z28,0)),IF(AI$26>=W28,Z28,0))))","v":2.1428571428571428},{"$f":"IF(AI28=W28,0,EXP(-($D$16)*$D$13)*(AG29)+AF28)","v":10.257671485357855},null,{"$f":"IF(AI27>0,\" \",IF(OR(AP28=\"Failure\",AH28=\"Abandon\"),W28,))","v":0},{"$f":"IF(AB28>0,RANDBETWEEN(0,1000),1000)","v":744},{"$f":"O28","v":1.0529161749572178},{"$f":"P28","v":2.0157951277379702},{"$f":"IF(W28<=AK$24,0,IF(AND(W28>0,$D$19=1),AL28,IF(AND(W28>0,W28<=$E$19*$D$12+AK$24),AL28,0)))","v":0},{"$f":"IF(W28=$D$14*$D$12,IF(AM28+(AL29*$D$18)/(($D$16*$D$13)-($D$8*$D$13))<0,AM28,AM28+(AL29*$D$18)/(($D$16*$D$13)-($D$8*$D$13))),IF(AM28=0,EXP(-($D$16)*$D$13)*AN29+AM28,EXP(-($D$16)*$D$13)*AN29+AM28))","v":74.928240323194601},null,null,null,null,null,{"$f":"IF(AT27<$D$14*$D$12,AT27+1,IF(AT27=$D$14*$D$12,,))","v":1},0.5,0.21569200414497719,{"$f":"$D$27","v":2.1428571428571428},11.185696841814067,11.185696841814067,{"$f":"IF(AND(AY27>0,AY28=0),EXP(-($D$16)*$D$13)*AZ29+IF(AW28-(0-AX28)<0,0,AW28-(0-AX28)),IF(AY28=0,0,EXP(-($D$16)*$D$13)*AZ29+AW28))","v":11.1656395366221},null,{"$f":"MAX(BK28-AZ28,0)","v":41.985870644242667},{"$f":"IF(AX28=0,0,IF(AT28=0,0,IF(BF$26=1000,IF(AX28<0,IF(AX27>0,IF(AW28-(0-AX28)<0,0,AW28-(0-AX28)),0),IF(BF$26>=AT28,AW28,0)),IF(BF$26>=AT28,AW28,0))))","v":2.1428571428571428},{"$f":"IF(BF28=AT28,0,EXP(-($D$16)*$D$13)*(BD29)+BC28)","v":11.1656395366221},null,{"$f":"IF(BF27>0,\" \",IF(OR(BM28=\"Failure\",BE28=\"Abandon\"),AT28,))","v":0},{"$f":"IF(AY28>0,RANDBETWEEN(0,1000),1000)","v":762},1.0529161749572178,2.0157951277379702,{"$f":"IF(AT28<=BH$24,0,IF(AND(AT28>0,$D$19=1),BI28,IF(AND(AT28>0,AT28<=$E$19*$D$12+BH$24),BI28,0)))","v":0},{"$f":"IF(AT28=$D$14*$D$12,IF(BJ28+(BI29*$D$18)/(($D$16*$D$13)-($D$8*$D$13))<0,BJ28,BJ28+(BI29*$D$18)/(($D$16*$D$13)-($D$8*$D$13))),IF(BJ28=0,EXP(-($D$16)*$D$13)*BK29+BJ28,EXP(-($D$16)*$D$13)*BK29+BJ28))","v":53.151510180864769},null,null,null,null,{"$f":"IF(BP27<$D$14*$D$12,BP27+1,IF(BP27=$D$14*$D$12,,))","v":1},{"$f":"AU28","v":0.5},0.21569200414497719,{"$f":"$D$27","v":2.1428571428571428},11.185696841814067,11.185696841814067,{"$f":"IF(AND(BU27>0,BU28=0),EXP(-($D$16)*$D$13)*BV29+IF(BS28-(0-BT28)<0,0,BS28-(0-BT28)),IF(BU28=0,0,EXP(-($D$16)*$D$13)*BV29+BS28))","v":10.045564919740002},null,{"$f":"MAX(CG28-BV28,0)","v":15.478289341698325},{"$f":"IF(BT28=0,0,IF(BP28=0,0,IF(CB$26=1000,IF(BT28<0,IF(BT27>0,IF(BS28-(0-BT28)<0,0,BS28-(0-BT28)),0),IF(CB$26>=BP28,BS28,0)),IF(CB$26>=BP28,BS28,0))))","v":2.1428571428571428},{"$f":"IF(CB28=BP28,0,EXP(-($D$16)*$D$13)*(BZ29)+BY28)","v":10.045564919740002},null,{"$f":"IF(CB27>0,\" \",IF(OR(CI28=\"Failure\",CA28=\"Abandon\"),BP28,))","v":0},{"$f":"IF(BU28>0,RANDBETWEEN(0,1000),1000)","v":297},1.0529161749572178,2.0157951277379702,{"$f":"IF(BP28<=CD$24,0,IF(AND(BP28>0,$D$19=1),CE28,IF(AND(BP28>0,BP28<=$E$19*$D$12+CD$24),CE28,0)))","v":0},{"$f":"IF(BP28=$D$14*$D$12,IF(CF28+(CE29*$D$18)/(($D$16*$D$13)-($D$8*$D$13))<0,CF28,CF28+(CE29*$D$18)/(($D$16*$D$13)-($D$8*$D$13))),IF(CF28=0,EXP(-($D$16)*$D$13)*CG29+CF28,EXP(-($D$16)*$D$13)*CG29+CF28))","v":25.523854261438327},null,null,null,null,{"$f":"IF(CL27<$D$14*$D$12,CL27+1,IF(CL27=$D$14*$D$12,,))","v":1},{"$f":"BQ28","v":0.5},0.21569200414497719,{"$f":"$D$27","v":2.1428571428571428},11.185696841814067,11.185696841814067,{"$f":"IF(AND(CQ27>0,CQ28=0),EXP(-($D$16)*$D$13)*CR29+IF(CO28-(0-CP28)<0,0,CO28-(0-CP28)),IF(CQ28=0,0,EXP(-($D$16)*$D$13)*CR29+CO28))","v":10.025921655168183},null,{"$f":"MAX(DC28-CR28,0)","v":26.668438419591872},{"$f":"IF(CP28=0,0,IF(CL28=0,0,IF(CX$26=1000,IF(CP28<0,IF(CP27>0,IF(CO28-(0-CP28)<0,0,CO28-(0-CP28)),0),IF(CX$26>=CL28,CO28,0)),IF(CX$26>=CL28,CO28,0))))","v":2.1428571428571428},{"$f":"IF(CX28=CL28,0,EXP(-($D$16)*$D$13)*(CV29)+CU28)","v":10.025921655168183},null,{"$f":"IF(CX27>0,\" \",IF(OR(DE28=\"Failure\",CW28=\"Abandon\"),CL28,))","v":0},{"$f":"IF(CQ28>0,RANDBETWEEN(0,1000),1000)","v":933},1.0529161749572178,2.0157951277379702,0,{"$f":"IF(CL28=$D$14*$D$12,IF(DB28+(DA29*$D$18)/(($D$16*$D$13)-($D$8*$D$13))<0,DB28,DB28+(DA29*$D$18)/(($D$16*$D$13)-($D$8*$D$13))),IF(DB28=0,EXP(-($D$16)*$D$13)*DC29+DB28,EXP(-($D$16)*$D$13)*DC29+DB28))","v":36.694360074760056},null,null,null,null,{"$f":"IF(DH27<$D$14*$D$12,DH27+1,IF(DH27=$D$14*$D$12,,))","v":1},{"$f":"CM28","v":0.5},0.21569200414497719,{"$f":"$D$27","v":2.1428571428571428},11.185696841814067,11.185696841814067,{"$f":"IF(AND(DM27>0,DM28=0),EXP(-($D$16)*$D$13)*DN29+IF(DK28-(0-DL28)<0,0,DK28-(0-DL28)),IF(DM28=0,0,EXP(-($D$16)*$D$13)*DN29+DK28))","v":10.025921655168183},null,{"$f":"MAX(DY28-DN28,0)","v":29.68446743138766},{"$f":"IF(DL28=0,0,IF(DH28=0,0,IF(DT$26=1000,IF(DL28<0,IF(DL27>0,IF(DK28-(0-DL28)<0,0,DK28-(0-DL28)),0),IF(DT$26>=DH28,DK28,0)),IF(DT$26>=DH28,DK28,0))))","v":2.1428571428571428},{"$f":"IF(DT28=DH28,0,EXP(-($D$16)*$D$13)*(DR29)+DQ28)","v":10.025921655168183},null,{"$f":"IF(DT27>0,\" \",IF(OR(EA28=\"Failure\",DS28=\"Abandon\"),DH28,))","v":0},{"$f":"IF(DM28>0,RANDBETWEEN(0,1000),1000)","v":849},1.0529161749572178,2.0157951277379702,0,{"$f":"IF(DH28=$D$14*$D$12,IF(DX28+(DW29*$D$18)/(($D$16*$D$13)-($D$8*$D$13))<0,DX28,DX28+(DW29*$D$18)/(($D$16*$D$13)-($D$8*$D$13))),IF(DX28=0,EXP(-($D$16)*$D$13)*DY29+DX28,EXP(-($D$16)*$D$13)*DY29+DX28))","v":39.710389086555843},null,null,null,null,{"$f":"IF(ED27<$D$14*$D$12,ED27+1,IF(ED27=$D$14*$D$12,,))","v":1},{"$f":"DI28","v":0.5},{"$f":"DJ28","v":0.21569200414497719},{"$f":"$D$27","v":2.1428571428571428},{"$f":"DL28","v":11.185696841814067},{"$f":"DM28","v":11.185696841814067},{"$f":"IF(AND(EI27>0,EI28=0),EXP(-($D$16)*$D$13)*EJ29+IF(EG28-(0-EH28)<0,0,EG28-(0-EH28)),IF(EI28=0,0,EXP(-($D$16)*$D$13)*EJ29+EG28))","v":10.025921655168183},null,{"$f":"MAX(EU28-EJ28,0)","v":35.983778774236633},{"$f":"IF(EH28=0,0,IF(ED28=0,0,IF(EP$26=1000,IF(EH28<0,IF(EH27>0,IF(EG28-(0-EH28)<0,0,EG28-(0-EH28)),0),IF(EP$26>=ED28,EG28,0)),IF(EP$26>=ED28,EG28,0))))","v":2.1428571428571428},{"$f":"IF(EP28=ED28,0,EXP(-($D$16)*$D$13)*(EN29)+EM28)","v":10.025921655168183},null,{"$f":"IF(EP27>0,\" \",IF(OR(EW28=\"Failure\",EO28=\"Abandon\"),ED28,))","v":0},{"$f":"IF(EI28>0,RANDBETWEEN(0,1000),1000)","v":227},1.0529161749572178,2.0157951277379702,0,{"$f":"IF(ED28=$D$14*$D$12,IF(ET28+(ES29*$D$18)/(($D$16*$D$13)-($D$8*$D$13))<0,ET28,ET28+(ES29*$D$18)/(($D$16*$D$13)-($D$8*$D$13))),IF(ET28=0,EXP(-($D$16)*$D$13)*EU29+ET28,EXP(-($D$16)*$D$13)*EU29+ET28))","v":46.009700429404816},null,null,null,null,{"$f":"IF(EZ27<$D$14*$D$12,EZ27+1,IF(EZ27=$D$14*$D$12,,))","v":1},{"$f":"EE28","v":0.5},{"$f":"EF28","v":0.21569200414497719},{"$f":"$D$27","v":2.1428571428571428},{"$f":"EH28","v":11.185696841814067},{"$f":"EI28","v":11.185696841814067},{"$f":"IF(AND(FE27>0,FE28=0),EXP(-($D$16)*$D$13)*FF29+IF(FC28-(0-FD28)<0,0,FC28-(0-FD28)),IF(FE28=0,0,EXP(-($D$16)*$D$13)*FF29+FC28))","v":10.025921655168183},null,{"$f":"MAX(FQ28-FF28,0)","v":38.818294675633602},{"$f":"IF(FD28=0,0,IF(EZ28=0,0,IF(FL$26=1000,IF(FD28<0,IF(FD27>0,IF(FC28-(0-FD28)<0,0,FC28-(0-FD28)),0),IF(FL$26>=EZ28,FC28,0)),IF(FL$26>=EZ28,FC28,0))))","v":2.1428571428571428},{"$f":"IF(FL28=EZ28,0,EXP(-($D$16)*$D$13)*(FJ29)+FI28)","v":10.025921655168183},null,{"$f":"IF(FL27>0,\" \",IF(OR(FS28=\"Failure\",FK28=\"Abandon\"),EZ28,))","v":0},{"$f":"IF(FE28>0,RANDBETWEEN(0,1000),1000)","v":27},1.0529161749572178,2.0157951277379702,0,{"$f":"IF(EZ28=$D$14*$D$12,IF(FP28+(FO29*$D$18)/(($D$16*$D$13)-($D$8*$D$13))<0,FP28,FP28+(FO29*$D$18)/(($D$16*$D$13)-($D$8*$D$13))),IF(FP28=0,EXP(-($D$16)*$D$13)*FQ29+FP28,EXP(-($D$16)*$D$13)*FQ29+FP28))","v":48.844216330801785},null,null,null,null,{"$f":"IF(FV27<$D$14*$D$12,FV27+1,IF(FV27=$D$14*$D$12,,))","v":1},{"$f":"FA28","v":0.5},0.21569200414497719,{"$f":"$D$27","v":2.1428571428571428},11.185696841814067,11.185696841814067,{"$f":"IF(AND(GA27>0,GA28=0),EXP(-($D$16)*$D$13)*GB29+IF(FY28-(0-FZ28)<0,0,FY28-(0-FZ28)),IF(GA28=0,0,EXP(-($D$16)*$D$13)*GB29+FY28))","v":10.025921655168183},null,{"$f":"MAX(GM28-GB28,0)","v":29.891613284362492},{"$f":"IF(FZ28=0,0,IF(FV28=0,0,IF(GH$26=1000,IF(FZ28<0,IF(FZ27>0,IF(FY28-(0-FZ28)<0,0,FY28-(0-FZ28)),0),IF(GH$26>=FV28,FY28,0)),IF(GH$26>=FV28,FY28,0))))","v":2.1428571428571428},{"$f":"IF(GH28=FV28,0,EXP(-($D$16)*$D$13)*(GF29)+GE28)","v":10.025921655168183},null,{"$f":"IF(GH27>0,\" \",IF(OR(GO28=\"Failure\",GG28=\"Abandon\"),FV28,))","v":0},{"$f":"IF(GA28>0,RANDBETWEEN(0,1000),1000)","v":326},1.0529161749572178,2.0157951277379702,0,{"$f":"IF(FV28=$D$14*$D$12,IF(GL28+(GK29*$D$18)/(($D$16*$D$13)-($D$8*$D$13))<0,GL28,GL28+(GK29*$D$18)/(($D$16*$D$13)-($D$8*$D$13))),IF(GL28=0,EXP(-($D$16)*$D$13)*GM29+GL28,EXP(-($D$16)*$D$13)*GM29+GL28))","v":39.917534939530675},null,null,null,null,{"$f":"IF(GR27<$D$14*$D$12,GR27+1,IF(GR27=$D$14*$D$12,,))","v":1},{"$f":"FW28","v":0.5},0.21569200414497719,{"$f":"$D$27","v":2.1428571428571428},11.185696841814067,11.185696841814067,{"$f":"IF(AND(GW27>0,GW28=0),EXP(-($D$16)*$D$13)*GX29+IF(GU28-(0-GV28)<0,0,GU28-(0-GV28)),IF(GW28=0,0,EXP(-($D$16)*$D$13)*GX29+GU28))","v":10.025921655168183},null,{"$f":"MAX(HI28-GX28,0)","v":32.019151964102534},{"$f":"IF(GV28=0,0,IF(GR28=0,0,IF(HD$26=1000,IF(GV28<0,IF(GV27>0,IF(GU28-(0-GV28)<0,0,GU28-(0-GV28)),0),IF(HD$26>=GR28,GU28,0)),IF(HD$26>=GR28,GU28,0))))","v":2.1428571428571428},{"$f":"IF(HD28=GR28,0,EXP(-($D$16)*$D$13)*(HB29)+HA28)","v":10.025921655168183},null,{"$f":"IF(HD27>0,\" \",IF(OR(HK28=\"Failure\",HC28=\"Abandon\"),GR28,))","v":0},{"$f":"IF(GW28>0,RANDBETWEEN(0,1000),1000)","v":869},1.0529161749572178,2.0157951277379702,0,{"$f":"IF(GR28=$D$14*$D$12,IF(HH28+(HG29*$D$18)/(($D$16*$D$13)-($D$8*$D$13))<0,HH28,HH28+(HG29*$D$18)/(($D$16*$D$13)-($D$8*$D$13))),IF(HH28=0,EXP(-($D$16)*$D$13)*HI29+HH28,EXP(-($D$16)*$D$13)*HI29+HH28))","v":42.045073619270717},null,null,null,null,{"$f":"IF(HN27<$D$14*$D$12,HN27+1,IF(HN27=$D$14*$D$12,,))","v":1},{"$f":"GS28","v":0.5},0.21569200414497719,{"$f":"$D$27","v":2.1428571428571428},11.185696841814067,11.185696841814067,{"$f":"IF(AND(HS27>0,HS28=0),EXP(-($D$16)*$D$13)*HT29+IF(HQ28-(0-HR28)<0,0,HQ28-(0-HR28)),IF(HS28=0,0,EXP(-($D$16)*$D$13)*HT29+HQ28))","v":10.025921655168183},null,{"$f":"MAX(IE28-HT28,0)","v":30.99224452985559},{"$f":"IF(HR28=0,0,IF(HN28=0,0,IF(HZ$26=1000,IF(HR28<0,IF(HR27>0,IF(HQ28-(0-HR28)<0,0,HQ28-(0-HR28)),0),IF(HZ$26>=HN28,HQ28,0)),IF(HZ$26>=HN28,HQ28,0))))","v":2.1428571428571428},{"$f":"IF(HZ28=HN28,0,EXP(-($D$16)*$D$13)*(HX29)+HW28)","v":10.025921655168183},null,{"$f":"IF(HZ27>0,\" \",IF(OR(IG28=\"Failure\",HY28=\"Abandon\"),HN28,))","v":0},{"$f":"IF(HS28>0,RANDBETWEEN(0,1000),1000)","v":570},1.0529161749572178,2.0157951277379702,0,{"$f":"IF(HN28=$D$14*$D$12,IF(ID28+(IC29*$D$18)/(($D$16*$D$13)-($D$8*$D$13))<0,ID28,ID28+(IC29*$D$18)/(($D$16*$D$13)-($D$8*$D$13))),IF(ID28=0,EXP(-($D$16)*$D$13)*IE29+ID28,EXP(-($D$16)*$D$13)*IE29+ID28))","v":41.018166185023773},null,null,null,null,{"$f":"IF(IJ27<$D$14*$D$12,IJ27+1,IF(IJ27=$D$14*$D$12,,))","v":1},{"$f":"HO28","v":0.5},0.21569200414497719,{"$f":"$D$27","v":2.1428571428571428},11.185696841814067,11.185696841814067,{"$f":"IF(AND(IO27>0,IO28=0),EXP(-($D$16)*$D$13)*IP29+IF(IM28-(0-IN28)<0,0,IM28-(0-IN28)),IF(IO28=0,0,EXP(-($D$16)*$D$13)*IP29+IM28))","v":10.025921655168183},null,{"$f":"MAX(JA28-IP28,0)","v":12.284195366516141},{"$f":"IF(IN28=0,0,IF(IJ28=0,0,IF(IV$26=1000,IF(IN28<0,IF(IN27>0,IF(IM28-(0-IN28)<0,0,IM28-(0-IN28)),0),IF(IV$26>=IJ28,IM28,0)),IF(IV$26>=IJ28,IM28,0))))","v":2.1428571428571428},{"$f":"IF(IV28=IJ28,0,EXP(-($D$16)*$D$13)*(IT29)+IS28)","v":10.025921655168183},null,{"$f":"IF(IV27>0,\" \",IF(OR(JC28=\"Failure\",IU28=\"Abandon\"),IJ28,))","v":0},{"$f":"IF(IO28>0,RANDBETWEEN(0,1000),1000)","v":625},1.0529161749572178,2.0157951277379702,0,{"$f":"IF(IJ28=$D$14*$D$12,IF(IZ28+(IY29*$D$18)/(($D$16*$D$13)-($D$8*$D$13))<0,IZ28,IZ28+(IY29*$D$18)/(($D$16*$D$13)-($D$8*$D$13))),IF(IZ28=0,EXP(-($D$16)*$D$13)*JA29+IZ28,EXP(-($D$16)*$D$13)*JA29+IZ28))","v":22.310117021684324},null,null,null,null,{"$f":"IF(JF27<$D$14*$D$12,JF27+1,IF(JF27=$D$14*$D$12,,))","v":1},{"$f":"IK28","v":0.5},0.21569200414497719,{"$f":"$D$27","v":2.1428571428571428},11.185696841814067,11.185696841814067,{"$f":"IF(AND(JK27>0,JK28=0),EXP(-($D$16)*$D$13)*JL29+IF(JI28-(0-JJ28)<0,0,JI28-(0-JJ28)),IF(JK28=0,0,EXP(-($D$16)*$D$13)*JL29+JI28))","v":10.025921655168183},null,{"$f":"MAX(JW28-JL28,0)","v":13.12530461354066},{"$f":"IF(JJ28=0,0,IF(JF28=0,0,IF(JR$26=1000,IF(JJ28<0,IF(JJ27>0,IF(JI28-(0-JJ28)<0,0,JI28-(0-JJ28)),0),IF(JR$26>=JF28,JI28,0)),IF(JR$26>=JF28,JI28,0))))","v":2.1428571428571428},{"$f":"IF(JR28=JF28,0,EXP(-($D$16)*$D$13)*(JP29)+JO28)","v":10.025921655168183},null,{"$f":"IF(JR27>0,\" \",IF(OR(JY28=\"Failure\",JQ28=\"Abandon\"),JF28,))","v":0},{"$f":"IF(JK28>0,RANDBETWEEN(0,1000),1000)","v":282},1.0529161749572178,2.0157951277379702,0,{"$f":"IF(JF28=$D$14*$D$12,IF(JV28+(JU29*$D$18)/(($D$16*$D$13)-($D$8*$D$13))<0,JV28,JV28+(JU29*$D$18)/(($D$16*$D$13)-($D$8*$D$13))),IF(JV28=0,EXP(-($D$16)*$D$13)*JW29+JV28,EXP(-($D$16)*$D$13)*JW29+JV28))","v":23.151226268708843},null,null,null,null,{"$f":"IF(KB27<$D$14*$D$12,KB27+1,IF(KB27=$D$14*$D$12,,))","v":1},{"$f":"JG28","v":0.5},0.21569200414497719,{"$f":"$D$27","v":2.1428571428571428},11.185696841814067,11.185696841814067,{"$f":"IF(AND(KG27>0,KG28=0),EXP(-($D$16)*$D$13)*KH29+IF(KE28-(0-KF28)<0,0,KE28-(0-KF28)),IF(KG28=0,0,EXP(-($D$16)*$D$13)*KH29+KE28))","v":10.025921655168183},null,{"$f":"MAX(KS28-KH28,0)","v":25.320389244115027},{"$f":"IF(KF28=0,0,IF(KB28=0,0,IF(KN$26=1000,IF(KF28<0,IF(KF27>0,IF(KE28-(0-KF28)<0,0,KE28-(0-KF28)),0),IF(KN$26>=KB28,KE28,0)),IF(KN$26>=KB28,KE28,0))))","v":2.1428571428571428},{"$f":"IF(KN28=KB28,0,EXP(-($D$16)*$D$13)*(KL29)+KK28)","v":10.025921655168183},null,{"$f":"IF(KN27>0,\" \",IF(OR(KU28=\"Failure\",KM28=\"Abandon\"),KB28,))","v":0},{"$f":"IF(KG28>0,RANDBETWEEN(0,1000),1000)","v":147},1.0529161749572178,2.0157951277379702,0,{"$f":"IF(KB28=$D$14*$D$12,IF(KR28+(KQ29*$D$18)/(($D$16*$D$13)-($D$8*$D$13))<0,KR28,KR28+(KQ29*$D$18)/(($D$16*$D$13)-($D$8*$D$13))),IF(KR28=0,EXP(-($D$16)*$D$13)*KS29+KR28,EXP(-($D$16)*$D$13)*KS29+KR28))","v":35.34631089928321},null,null,null,null,{"$f":"IF(KX27<$D$14*$D$12,KX27+1,IF(KX27=$D$14*$D$12,,))","v":1},{"$f":"KC28","v":0.5},0.21569200414497719,{"$f":"$D$27","v":2.1428571428571428},11.185696841814067,11.185696841814067,{"$f":"IF(AND(LC27>0,LC28=0),EXP(-($D$16)*$D$13)*LD29+IF(LA28-(0-LB28)<0,0,LA28-(0-LB28)),IF(LC28=0,0,EXP(-($D$16)*$D$13)*LD29+LA28))","v":10.025921655168183},null,{"$f":"MAX(LO28-LD28,0)","v":15.371689404061954},{"$f":"IF(LB28=0,0,IF(KX28=0,0,IF(LJ$26=1000,IF(LB28<0,IF(LB27>0,IF(LA28-(0-LB28)<0,0,LA28-(0-LB28)),0),IF(LJ$26>=KX28,LA28,0)),IF(LJ$26>=KX28,LA28,0))))","v":2.1428571428571428},{"$f":"IF(LJ28=KX28,0,EXP(-($D$16)*$D$13)*(LH29)+LG28)","v":10.025921655168183},null,{"$f":"IF(LJ27>0,\" \",IF(OR(LQ28=\"Failure\",LI28=\"Abandon\"),KX28,))","v":0},{"$f":"IF(LC28>0,RANDBETWEEN(0,1000),1000)","v":560},1.0529161749572178,2.0157951277379702,0,{"$f":"IF(KX28=$D$14*$D$12,IF(LN28+(LM29*$D$18)/(($D$16*$D$13)-($D$8*$D$13))<0,LN28,LN28+(LM29*$D$18)/(($D$16*$D$13)-($D$8*$D$13))),IF(LN28=0,EXP(-($D$16)*$D$13)*LO29+LN28,EXP(-($D$16)*$D$13)*LO29+LN28))","v":25.397611059230137},null,null,null,null,{"$f":"IF(LT27<$D$14*$D$12,LT27+1,IF(LT27=$D$14*$D$12,,))","v":1},{"$f":"KY28","v":0.5},0.21569200414497719,{"$f":"$D$27","v":2.1428571428571428},11.185696841814067,11.185696841814067,{"$f":"IF(AND(LY27>0,LY28=0),EXP(-($D$16)*$D$13)*LZ29+IF(LW28-(0-LX28)<0,0,LW28-(0-LX28)),IF(LY28=0,0,EXP(-($D$16)*$D$13)*LZ29+LW28))","v":10.025921655168183},null,{"$f":"MAX(MK28-LZ28,0)","v":23.562423779028336},{"$f":"IF(LX28=0,0,IF(LT28=0,0,IF(MF$26=1000,IF(LX28<0,IF(LX27>0,IF(LW28-(0-LX28)<0,0,LW28-(0-LX28)),0),IF(MF$26>=LT28,LW28,0)),IF(MF$26>=LT28,LW28,0))))","v":2.1428571428571428},{"$f":"IF(MF28=LT28,0,EXP(-($D$16)*$D$13)*(MD29)+MC28)","v":10.025921655168183},null,{"$f":"IF(MF27>0,\" \",IF(OR(MM28=\"Failure\",ME28=\"Abandon\"),LT28,))","v":0},{"$f":"IF(LY28>0,RANDBETWEEN(0,1000),1000)","v":91},1.0529161749572178,2.0157951277379702,0,{"$f":"IF(LT28=$D$14*$D$12,IF(MJ28+(MI29*$D$18)/(($D$16*$D$13)-($D$8*$D$13))<0,MJ28,MJ28+(MI29*$D$18)/(($D$16*$D$13)-($D$8*$D$13))),IF(MJ28=0,EXP(-($D$16)*$D$13)*MK29+MJ28,EXP(-($D$16)*$D$13)*MK29+MJ28))","v":33.588345434196519},null,null,null,null,{"$f":"IF(MP27<$D$14*$D$12,MP27+1,IF(MP27=$D$14*$D$12,,))","v":1},{"$f":"LU28","v":0.5},0.21569200414497719,{"$f":"$D$27","v":2.1428571428571428},11.185696841814067,11.185696841814067,{"$f":"IF(AND(MU27>0,MU28=0),EXP(-($D$16)*$D$13)*MV29+IF(MS28-(0-MT28)<0,0,MS28-(0-MT28)),IF(MU28=0,0,EXP(-($D$16)*$D$13)*MV29+MS28))","v":10.025921655168183},null,{"$f":"MAX(NG28-MV28,0)","v":19.866177838013268},{"$f":"IF(MT28=0,0,IF(MP28=0,0,IF(NB$26=1000,IF(MT28<0,IF(MT27>0,IF(MS28-(0-MT28)<0,0,MS28-(0-MT28)),0),IF(NB$26>=MP28,MS28,0)),IF(NB$26>=MP28,MS28,0))))","v":2.1428571428571428},{"$f":"IF(NB28=MP28,0,EXP(-($D$16)*$D$13)*(MZ29)+MY28)","v":10.025921655168183},null,{"$f":"IF(NB27>0,\" \",IF(OR(NI28=\"Failure\",NA28=\"Abandon\"),MP28,))","v":0},{"$f":"IF(MU28>0,RANDBETWEEN(0,1000),1000)","v":128},1.0529161749572178,2.0157951277379702,0,{"$f":"IF(MP28=$D$14*$D$12,IF(NF28+(NE29*$D$18)/(($D$16*$D$13)-($D$8*$D$13))<0,NF28,NF28+(NE29*$D$18)/(($D$16*$D$13)-($D$8*$D$13))),IF(NF28=0,EXP(-($D$16)*$D$13)*NG29+NF28,EXP(-($D$16)*$D$13)*NG29+NF28))","v":29.892099493181451},null,null,null,null,{"$f":"IF(NL27<$D$14*$D$12,NL27+1,IF(NL27=$D$14*$D$12,,))","v":1},{"$f":"MQ28","v":0.5},0.21569200414497719,{"$f":"$D$27","v":2.1428571428571428},11.185696841814067,11.185696841814067,{"$f":"IF(AND(NQ27>0,NQ28=0),EXP(-($D$16)*$D$13)*NR29+IF(NO28-(0-NP28)<0,0,NO28-(0-NP28)),IF(NQ28=0,0,EXP(-($D$16)*$D$13)*NR29+NO28))","v":10.025921655168183},null,{"$f":"MAX(OC28-NR28,0)","v":29.475372402227002},{"$f":"IF(NP28=0,0,IF(NL28=0,0,IF(NX$26=1000,IF(NP28<0,IF(NP27>0,IF(NO28-(0-NP28)<0,0,NO28-(0-NP28)),0),IF(NX$26>=NL28,NO28,0)),IF(NX$26>=NL28,NO28,0))))","v":2.1428571428571428},{"$f":"IF(NX28=NL28,0,EXP(-($D$16)*$D$13)*(NV29)+NU28)","v":10.025921655168183},null,{"$f":"IF(NX27>0,\" \",IF(OR(OE28=\"Failure\",NW28=\"Abandon\"),NL28,))","v":0},{"$f":"IF(NQ28>0,RANDBETWEEN(0,1000),1000)","v":776},1.0529161749572178,2.0157951277379702,0,{"$f":"IF(NL28=$D$14*$D$12,IF(OB28+(OA29*$D$18)/(($D$16*$D$13)-($D$8*$D$13))<0,OB28,OB28+(OA29*$D$18)/(($D$16*$D$13)-($D$8*$D$13))),IF(OB28=0,EXP(-($D$16)*$D$13)*OC29+OB28,EXP(-($D$16)*$D$13)*OC29+OB28))","v":39.501294057395185},null,null,null,null,{"$f":"IF(OH27<$D$14*$D$12,OH27+1,IF(OH27=$D$14*$D$12,,))","v":1},{"$f":"NM28","v":0.5},0.21569200414497719,{"$f":"$D$27","v":2.1428571428571428},11.185696841814067,11.185696841814067,{"$f":"IF(AND(OM27>0,OM28=0),EXP(-($D$16)*$D$13)*ON29+IF(OK28-(0-OL28)<0,0,OK28-(0-OL28)),IF(OM28=0,0,EXP(-($D$16)*$D$13)*ON29+OK28))","v":10.025921655168183},null,{"$f":"MAX(OY28-ON28,0)","v":25.418485289468613},{"$f":"IF(OL28=0,0,IF(OH28=0,0,IF(OT$26=1000,IF(OL28<0,IF(OL27>0,IF(OK28-(0-OL28)<0,0,OK28-(0-OL28)),0),IF(OT$26>=OH28,OK28,0)),IF(OT$26>=OH28,OK28,0))))","v":2.1428571428571428},{"$f":"IF(OT28=OH28,0,EXP(-($D$16)*$D$13)*(OR29)+OQ28)","v":10.025921655168183},null,{"$f":"IF(OT27>0,\" \",IF(OR(PA28=\"Failure\",OS28=\"Abandon\"),OH28,))","v":0},{"$f":"IF(OM28>0,RANDBETWEEN(0,1000),1000)","v":769},1.0529161749572178,2.0157951277379702,0,{"$f":"IF(OH28=$D$14*$D$12,IF(OX28+(OW29*$D$18)/(($D$16*$D$13)-($D$8*$D$13))<0,OX28,OX28+(OW29*$D$18)/(($D$16*$D$13)-($D$8*$D$13))),IF(OX28=0,EXP(-($D$16)*$D$13)*OY29+OX28,EXP(-($D$16)*$D$13)*OY29+OX28))","v":35.444406944636796},null,null,null,null,{"$f":"IF(PD27<$D$14*$D$12,PD27+1,IF(PD27=$D$14*$D$12,,))","v":1},{"$f":"OI28","v":0.5},{"$f":"OJ28","v":0.21569200414497719},{"$f":"$D$27","v":2.1428571428571428},11.185696841814067,11.185696841814067,{"$f":"IF(AND(PI27>0,PI28=0),EXP(-($D$16)*$D$13)*PJ29+IF(PG28-(0-PH28)<0,0,PG28-(0-PH28)),IF(PI28=0,0,EXP(-($D$16)*$D$13)*PJ29+PG28))","v":10.025921655168183},null,{"$f":"MAX(PU28-PJ28,0)","v":24.865860696980434},{"$f":"IF(PH28=0,0,IF(PD28=0,0,IF(PP$26=1000,IF(PH28<0,IF(PH27>0,IF(PG28-(0-PH28)<0,0,PG28-(0-PH28)),0),IF(PP$26>=PD28,PG28,0)),IF(PP$26>=PD28,PG28,0))))","v":2.1428571428571428},{"$f":"IF(PP28=PD28,0,EXP(-($D$16)*$D$13)*(PN29)+PM28)","v":10.025921655168183},null,{"$f":"IF(PP27>0,\" \",IF(OR(PW28=\"Failure\",PO28=\"Abandon\"),PD28,))","v":0},{"$f":"IF(PI28>0,RANDBETWEEN(0,1000),1000)","v":732},1.0529161749572178,2.0157951277379702,0,{"$f":"IF(PD28=$D$14*$D$12,IF(PT28+(PS29*$D$18)/(($D$16*$D$13)-($D$8*$D$13))<0,PT28,PT28+(PS29*$D$18)/(($D$16*$D$13)-($D$8*$D$13))),IF(PT28=0,EXP(-($D$16)*$D$13)*PU29+PT28,EXP(-($D$16)*$D$13)*PU29+PT28))","v":34.891782352148617},null,null,null,null,{"$f":"IF(PZ27<$D$14*$D$12,PZ27+1,IF(PZ27=$D$14*$D$12,,))","v":1},{"$f":"PE28","v":0.5},0.21569200414497719,{"$f":"$D$27","v":2.1428571428571428},11.185696841814067,11.185696841814067,{"$f":"IF(AND(QE27>0,QE28=0),EXP(-($D$16)*$D$13)*QF29+IF(QC28-(0-QD28)<0,0,QC28-(0-QD28)),IF(QE28=0,0,EXP(-($D$16)*$D$13)*QF29+QC28))","v":10.025921655168183},null,{"$f":"MAX(QQ28-QF28,0)","v":23.278792728964959},{"$f":"IF(QD28=0,0,IF(PZ28=0,0,IF(QL$26=1000,IF(QD28<0,IF(QD27>0,IF(QC28-(0-QD28)<0,0,QC28-(0-QD28)),0),IF(QL$26>=PZ28,QC28,0)),IF(QL$26>=PZ28,QC28,0))))","v":2.1428571428571428},{"$f":"IF(QL28=PZ28,0,EXP(-($D$16)*$D$13)*(QJ29)+QI28)","v":10.025921655168183},null,{"$f":"IF(QL27>0,\" \",IF(OR(QS28=\"Failure\",QK28=\"Abandon\"),PZ28,))","v":0},{"$f":"IF(QE28>0,RANDBETWEEN(0,1000),1000)","v":81},1.0529161749572178,2.0157951277379702,0,{"$f":"IF(PZ28=$D$14*$D$12,IF(QP28+(QO29*$D$18)/(($D$16*$D$13)-($D$8*$D$13))<0,QP28,QP28+(QO29*$D$18)/(($D$16*$D$13)-($D$8*$D$13))),IF(QP28=0,EXP(-($D$16)*$D$13)*QQ29+QP28,EXP(-($D$16)*$D$13)*QQ29+QP28))","v":33.304714384133142},null,null,null,null,{"$f":"IF(QV27<$D$14*$D$12,QV27+1,IF(QV27=$D$14*$D$12,,))","v":1},0.5,0.21569200414497719,{"$f":"$D$27","v":2.1428571428571428},11.185696841814067,11.185696841814067,{"$f":"IF(AND(RA27>0,RA28=0),EXP(-($D$16)*$D$13)*RB29+IF(QY28-(0-QZ28)<0,0,QY28-(0-QZ28)),IF(RA28=0,0,EXP(-($D$16)*$D$13)*RB29+QY28))","v":10.025921655168183},null,{"$f":"MAX(RM28-RB28,0)","v":25.433888794532621},{"$f":"IF(QZ28=0,0,IF(QV28=0,0,IF(RH$26=1000,IF(QZ28<0,IF(QZ27>0,IF(QY28-(0-QZ28)<0,0,QY28-(0-QZ28)),0),IF(RH$26>=QV28,QY28,0)),IF(RH$26>=QV28,QY28,0))))","v":2.1428571428571428},{"$f":"IF(RH28=QV28,0,EXP(-($D$16)*$D$13)*(RF29)+RE28)","v":10.025921655168183},null,{"$f":"IF(RH27>0,\" \",IF(OR(RO28=\"Failure\",RG28=\"Abandon\"),QV28,))","v":0},{"$f":"IF(RA28>0,RANDBETWEEN(0,1000),1000)","v":124},1.0529161749572178,2.0157951277379702,0,{"$f":"IF(QV28=$D$14*$D$12,IF(RL28+(RK29*$D$18)/(($D$16*$D$13)-($D$8*$D$13))<0,RL28,RL28+(RK29*$D$18)/(($D$16*$D$13)-($D$8*$D$13))),IF(RL28=0,EXP(-($D$16)*$D$13)*RM29+RL28,EXP(-($D$16)*$D$13)*RM29+RL28))","v":35.459810449700804},null,null,null,null,{"$f":"IF(RR27<$D$14*$D$12,RR27+1,IF(RR27=$D$14*$D$12,,))","v":1},0.5,0.21569200414497719,{"$f":"$D$27","v":2.1428571428571428},11.185696841814067,11.185696841814067,{"$f":"IF(AND(RW27>0,RW28=0),EXP(-($D$16)*$D$13)*RX29+IF(RU28-(0-RV28)<0,0,RU28-(0-RV28)),IF(RW28=0,0,EXP(-($D$16)*$D$13)*RX29+RU28))","v":10.025921655168183},null,{"$f":"MAX(SI28-RX28,0)","v":31.123799894427442},{"$f":"IF(RV28=0,0,IF(RR28=0,0,IF(SD$26=1000,IF(RV28<0,IF(RV27>0,IF(RU28-(0-RV28)<0,0,RU28-(0-RV28)),0),IF(SD$26>=RR28,RU28,0)),IF(SD$26>=RR28,RU28,0))))","v":2.1428571428571428},{"$f":"IF(SD28=RR28,0,EXP(-($D$16)*$D$13)*(SB29)+SA28)","v":10.025921655168183},null,{"$f":"IF(SD27>0,\" \",IF(OR(SK28=\"Failure\",SC28=\"Abandon\"),RR28,))","v":0},{"$f":"IF(RW28>0,RANDBETWEEN(0,1000),1000)","v":762},1.0529161749572178,2.0157951277379702,0,{"$f":"IF(RR28=$D$14*$D$12,IF(SH28+(SG29*$D$18)/(($D$16*$D$13)-($D$8*$D$13))<0,SH28,SH28+(SG29*$D$18)/(($D$16*$D$13)-($D$8*$D$13))),IF(SH28=0,EXP(-($D$16)*$D$13)*SI29+SH28,EXP(-($D$16)*$D$13)*SI29+SH28))","v":41.149721549595625},null,null,null,null,{"$f":"IF(SN27<$D$14*$D$12,SN27+1,IF(SN27=$D$14*$D$12,,))","v":1},0.5,0.21569200414497719,{"$f":"$D$27","v":2.1428571428571428},11.185696841814067,11.185696841814067,{"$f":"IF(AND(SS27>0,SS28=0),EXP(-($D$16)*$D$13)*ST29+IF(SQ28-(0-SR28)<0,0,SQ28-(0-SR28)),IF(SS28=0,0,EXP(-($D$16)*$D$13)*ST29+SQ28))","v":10.025921655168183},null,{"$f":"MAX(TE28-ST28,0)","v":32.925752512694231},{"$f":"IF(SR28=0,0,IF(SN28=0,0,IF(SZ$26=1000,IF(SR28<0,IF(SR27>0,IF(SQ28-(0-SR28)<0,0,SQ28-(0-SR28)),0),IF(SZ$26>=SN28,SQ28,0)),IF(SZ$26>=SN28,SQ28,0))))","v":2.1428571428571428},{"$f":"IF(SZ28=SN28,0,EXP(-($D$16)*$D$13)*(SX29)+SW28)","v":10.025921655168183},null,{"$f":"IF(SZ27>0,\" \",IF(OR(TG28=\"Failure\",SY28=\"Abandon\"),SN28,))","v":0},{"$f":"IF(SS28>0,RANDBETWEEN(0,1000),1000)","v":696},1.0529161749572178,2.0157951277379702,0,{"$f":"IF(SN28=$D$14*$D$12,IF(TD28+(TC29*$D$18)/(($D$16*$D$13)-($D$8*$D$13))<0,TD28,TD28+(TC29*$D$18)/(($D$16*$D$13)-($D$8*$D$13))),IF(TD28=0,EXP(-($D$16)*$D$13)*TE29+TD28,EXP(-($D$16)*$D$13)*TE29+TD28))","v":42.951674167862414},null,null,null,null,{"$f":"IF(TJ27<$D$14*$D$12,TJ27+1,IF(TJ27=$D$14*$D$12,,))","v":1},{"$f":"SO28","v":0.5},0.21569200414497719,{"$f":"$D$27","v":2.1428571428571428},11.185696841814067,11.185696841814067,{"$f":"IF(AND(TO27>0,TO28=0),EXP(-($D$16)*$D$13)*TP29+IF(TM28-(0-TN28)<0,0,TM28-(0-TN28)),IF(TO28=0,0,EXP(-($D$16)*$D$13)*TP29+TM28))","v":10.025921655168183},null,{"$f":"MAX(UA28-TP28,0)","v":28.940417932006582},{"$f":"IF(TN28=0,0,IF(TJ28=0,0,IF(TV$26=1000,IF(TN28<0,IF(TN27>0,IF(TM28-(0-TN28)<0,0,TM28-(0-TN28)),0),IF(TV$26>=TJ28,TM28,0)),IF(TV$26>=TJ28,TM28,0))))","v":2.1428571428571428},{"$f":"IF(TV28=TJ28,0,EXP(-($D$16)*$D$13)*(TT29)+TS28)","v":10.025921655168183},null,{"$f":"IF(TV27>0,\" \",IF(OR(UC28=\"Failure\",TU28=\"Abandon\"),TJ28,))","v":0},{"$f":"IF(TO28>0,RANDBETWEEN(0,1000),1000)","v":668},1.0529161749572178,2.0157951277379702,0,{"$f":"IF(TJ28=$D$14*$D$12,IF(TZ28+(TY29*$D$18)/(($D$16*$D$13)-($D$8*$D$13))<0,TZ28,TZ28+(TY29*$D$18)/(($D$16*$D$13)-($D$8*$D$13))),IF(TZ28=0,EXP(-($D$16)*$D$13)*UA29+TZ28,EXP(-($D$16)*$D$13)*UA29+TZ28))","v":38.966339587174765},null,null,null,null,{"$f":"IF(UF27<$D$14*$D$12,UF27+1,IF(UF27=$D$14*$D$12,,))","v":1},{"$f":"TK28","v":0.5},0.21569200414497719,{"$f":"$D$27","v":2.1428571428571428},11.185696841814067,11.185696841814067,{"$f":"IF(AND(UK27>0,UK28=0),EXP(-($D$16)*$D$13)*UL29+IF(UI28-(0-UJ28)<0,0,UI28-(0-UJ28)),IF(UK28=0,0,EXP(-($D$16)*$D$13)*UL29+UI28))","v":10.025921655168183},null,{"$f":"MAX(UW28-UL28,0)","v":32.352878716359243},{"$f":"IF(UJ28=0,0,IF(UF28=0,0,IF(UR$26=1000,IF(UJ28<0,IF(UJ27>0,IF(UI28-(0-UJ28)<0,0,UI28-(0-UJ28)),0),IF(UR$26>=UF28,UI28,0)),IF(UR$26>=UF28,UI28,0))))","v":2.1428571428571428},{"$f":"IF(UR28=UF28,0,EXP(-($D$16)*$D$13)*(UP29)+UO28)","v":10.025921655168183},null,{"$f":"IF(UR27>0,\" \",IF(OR(UY28=\"Failure\",UQ28=\"Abandon\"),UF28,))","v":0},{"$f":"IF(UK28>0,RANDBETWEEN(0,1000),1000)","v":739},1.0529161749572178,2.0157951277379702,0,{"$f":"IF(UF28=$D$14*$D$12,IF(UV28+(UU29*$D$18)/(($D$16*$D$13)-($D$8*$D$13))<0,UV28,UV28+(UU29*$D$18)/(($D$16*$D$13)-($D$8*$D$13))),IF(UV28=0,EXP(-($D$16)*$D$13)*UW29+UV28,EXP(-($D$16)*$D$13)*UW29+UV28))","v":42.378800371527426},null,null,null,null,{"$f":"IF(VB27<$D$14*$D$12,VB27+1,IF(VB27=$D$14*$D$12,,))","v":1},{"$f":"UG28","v":0.5},0.21569200414497719,{"$f":"$D$27","v":2.1428571428571428},11.185696841814067,11.185696841814067,{"$f":"IF(AND(VG27>0,VG28=0),EXP(-($D$16)*$D$13)*VH29+IF(VE28-(0-VF28)<0,0,VE28-(0-VF28)),IF(VG28=0,0,EXP(-($D$16)*$D$13)*VH29+VE28))","v":10.025921655168183},null,{"$f":"MAX(VS28-VH28,0)","v":31.011220061302133},{"$f":"IF(VF28=0,0,IF(VB28=0,0,IF(VN$26=1000,IF(VF28<0,IF(VF27>0,IF(VE28-(0-VF28)<0,0,VE28-(0-VF28)),0),IF(VN$26>=VB28,VE28,0)),IF(VN$26>=VB28,VE28,0))))","v":2.1428571428571428},{"$f":"IF(VN28=VB28,0,EXP(-($D$16)*$D$13)*(VL29)+VK28)","v":10.025921655168183},null,{"$f":"IF(VN27>0,\" \",IF(OR(VU28=\"Failure\",VM28=\"Abandon\"),VB28,))","v":0},{"$f":"IF(VG28>0,RANDBETWEEN(0,1000),1000)","v":691},1.0529161749572178,2.0157951277379702,0,{"$f":"IF(VB28=$D$14*$D$12,IF(VR28+(VQ29*$D$18)/(($D$16*$D$13)-($D$8*$D$13))<0,VR28,VR28+(VQ29*$D$18)/(($D$16*$D$13)-($D$8*$D$13))),IF(VR28=0,EXP(-($D$16)*$D$13)*VS29+VR28,EXP(-($D$16)*$D$13)*VS29+VR28))","v":41.037141716470316},null,null,null,null,{"$f":"IF(VX27<$D$14*$D$12,VX27+1,IF(VX27=$D$14*$D$12,,))","v":1},{"$f":"VC28","v":0.5},{"$f":"VD28","v":0.21569200414497719},{"$f":"$D$27","v":2.1428571428571428},{"$f":"VF28","v":11.185696841814067},{"$f":"VG28","v":11.185696841814067},{"$f":"IF(AND(WC27>0,WC28=0),EXP(-($D$16)*$D$13)*WD29+IF(WA28-(0-WB28)<0,0,WA28-(0-WB28)),IF(WC28=0,0,EXP(-($D$16)*$D$13)*WD29+WA28))","v":10.025921655168183},null,{"$f":"MAX(WO28-WD28,0)","v":31.253421624825179},{"$f":"IF(WB28=0,0,IF(VX28=0,0,IF(WJ$26=1000,IF(WB28<0,IF(WB27>0,IF(WA28-(0-WB28)<0,0,WA28-(0-WB28)),0),IF(WJ$26>=VX28,WA28,0)),IF(WJ$26>=VX28,WA28,0))))","v":2.1428571428571428},{"$f":"IF(WJ28=VX28,0,EXP(-($D$16)*$D$13)*(WH29)+WG28)","v":10.025921655168183},null,{"$f":"IF(WJ27>0,\" \",IF(OR(WQ28=\"Failure\",WI28=\"Abandon\"),VX28,))","v":0},{"$f":"IF(WC28>0,RANDBETWEEN(0,1000),1000)","v":753},1.0529161749572178,2.0157951277379702,0,{"$f":"IF(VX28=$D$14*$D$12,IF(WN28+(WM29*$D$18)/(($D$16*$D$13)-($D$8*$D$13))<0,WN28,WN28+(WM29*$D$18)/(($D$16*$D$13)-($D$8*$D$13))),IF(WN28=0,EXP(-($D$16)*$D$13)*WO29+WN28,EXP(-($D$16)*$D$13)*WO29+WN28))","v":41.279343279993363},null,null,null,null,{"$f":"IF(WT27<$D$14*$D$12,WT27+1,IF(WT27=$D$14*$D$12,,))","v":1},{"$f":"VY28","v":0.5},{"$f":"VZ28","v":0.21569200414497719},{"$f":"$D$27","v":2.1428571428571428},{"$f":"WB28","v":11.185696841814067},{"$f":"WC28","v":11.185696841814067},{"$f":"IF(AND(WY27>0,WY28=0),EXP(-($D$16)*$D$13)*WZ29+IF(WW28-(0-WX28)<0,0,WW28-(0-WX28)),IF(WY28=0,0,EXP(-($D$16)*$D$13)*WZ29+WW28))","v":10.025921655168183},null,{"$f":"MAX(XK28-WZ28,0)","v":34.292590493110737},{"$f":"IF(WX28=0,0,IF(WT28=0,0,IF(XF$26=1000,IF(WX28<0,IF(WX27>0,IF(WW28-(0-WX28)<0,0,WW28-(0-WX28)),0),IF(XF$26>=WT28,WW28,0)),IF(XF$26>=WT28,WW28,0))))","v":2.1428571428571428},{"$f":"IF(XF28=WT28,0,EXP(-($D$16)*$D$13)*(XD29)+XC28)","v":10.025921655168183},null,{"$f":"IF(XF27>0,\" \",IF(OR(XM28=\"Failure\",XE28=\"Abandon\"),WT28,))","v":0},{"$f":"IF(WY28>0,RANDBETWEEN(0,1000),1000)","v":76},1.0529161749572178,2.0157951277379702,0,{"$f":"IF(WT28=$D$14*$D$12,IF(XJ28+(XI29*$D$18)/(($D$16*$D$13)-($D$8*$D$13))<0,XJ28,XJ28+(XI29*$D$18)/(($D$16*$D$13)-($D$8*$D$13))),IF(XJ28=0,EXP(-($D$16)*$D$13)*XK29+XJ28,EXP(-($D$16)*$D$13)*XK29+XJ28))","v":44.31851214827892},null,null,null,null,{"$f":"IF(XP27<$D$14*$D$12,XP27+1,IF(XP27=$D$14*$D$12,,))","v":1},{"$f":"WU28","v":0.5},{"$f":"WV28","v":0.21569200414497719},{"$f":"$D$27","v":2.1428571428571428},{"$f":"WX28","v":11.185696841814067},{"$f":"WY28","v":11.185696841814067},{"$f":"IF(AND(XU27>0,XU28=0),EXP(-($D$16)*$D$13)*XV29+IF(XS28-(0-XT28)<0,0,XS28-(0-XT28)),IF(XU28=0,0,EXP(-($D$16)*$D$13)*XV29+XS28))","v":10.025921655168183},null,{"$f":"MAX(YG28-XV28,0)","v":33.281569200897351},{"$f":"IF(XT28=0,0,IF(XP28=0,0,IF(YB$26=1000,IF(XT28<0,IF(XT27>0,IF(XS28-(0-XT28)<0,0,XS28-(0-XT28)),0),IF(YB$26>=XP28,XS28,0)),IF(YB$26>=XP28,XS28,0))))","v":2.1428571428571428},{"$f":"IF(YB28=XP28,0,EXP(-($D$16)*$D$13)*(XZ29)+XY28)","v":10.025921655168183},null,{"$f":"IF(YB27>0,\" \",IF(OR(YI28=\"Failure\",YA28=\"Abandon\"),XP28,))","v":0},{"$f":"IF(XU28>0,RANDBETWEEN(0,1000),1000)","v":18},1.0529161749572178,2.0157951277379702,0,{"$f":"IF(XP28=$D$14*$D$12,IF(YF28+(YE29*$D$18)/(($D$16*$D$13)-($D$8*$D$13))<0,YF28,YF28+(YE29*$D$18)/(($D$16*$D$13)-($D$8*$D$13))),IF(YF28=0,EXP(-($D$16)*$D$13)*YG29+YF28,EXP(-($D$16)*$D$13)*YG29+YF28))","v":43.307490856065535},null,null,null,null,{"$f":"IF(YL27<$D$14*$D$12,YL27+1,IF(YL27=$D$14*$D$12,,))","v":1},{"$f":"XQ28","v":0.5},{"$f":"XR28","v":0.21569200414497719},{"$f":"$D$27","v":2.1428571428571428},{"$f":"XT28","v":11.185696841814067},{"$f":"XU28","v":11.185696841814067},{"$f":"IF(AND(YQ27>0,YQ28=0),EXP(-($D$16)*$D$13)*YR29+IF(YO28-(0-YP28)<0,0,YO28-(0-YP28)),IF(YQ28=0,0,EXP(-($D$16)*$D$13)*YR29+YO28))","v":10.025921655168183},null,{"$f":"MAX(ZC28-YR28,0)","v":31.352989930516429},{"$f":"IF(YP28=0,0,IF(YL28=0,0,IF(YX$26=1000,IF(YP28<0,IF(YP27>0,IF(YO28-(0-YP28)<0,0,YO28-(0-YP28)),0),IF(YX$26>=YL28,YO28,0)),IF(YX$26>=YL28,YO28,0))))","v":2.1428571428571428},{"$f":"IF(YX28=YL28,0,EXP(-($D$16)*$D$13)*(YV29)+YU28)","v":10.025921655168183},null,{"$f":"IF(YX27>0,\" \",IF(OR(ZE28=\"Failure\",YW28=\"Abandon\"),YL28,))","v":0},{"$f":"IF(YQ28>0,RANDBETWEEN(0,1000),1000)","v":157},1.0529161749572178,2.0157951277379702,0,{"$f":"IF(YL28=$D$14*$D$12,IF(ZB28+(ZA29*$D$18)/(($D$16*$D$13)-($D$8*$D$13))<0,ZB28,ZB28+(ZA29*$D$18)/(($D$16*$D$13)-($D$8*$D$13))),IF(ZB28=0,EXP(-($D$16)*$D$13)*ZC29+ZB28,EXP(-($D$16)*$D$13)*ZC29+ZB28))","v":41.378911585684612},null,null,null,null,{"$f":"IF(ZH27<$D$14*$D$12,ZH27+1,IF(ZH27=$D$14*$D$12,,))","v":1},{"$f":"YM28","v":0.5},{"$f":"YN28","v":0.21569200414497719},{"$f":"$D$27","v":2.1428571428571428},{"$f":"YP28","v":11.185696841814067},{"$f":"YQ28","v":11.185696841814067},{"$f":"IF(AND(ZM27>0,ZM28=0),EXP(-($D$16)*$D$13)*ZN29+IF(ZK28-(0-ZL28)<0,0,ZK28-(0-ZL28)),IF(ZM28=0,0,EXP(-($D$16)*$D$13)*ZN29+ZK28))","v":10.025921655168183},null,{"$f":"MAX(ZY28-ZN28,0)","v":31.165943967307975},{"$f":"IF(ZL28=0,0,IF(ZH28=0,0,IF(ZT$26=1000,IF(ZL28<0,IF(ZL27>0,IF(ZK28-(0-ZL28)<0,0,ZK28-(0-ZL28)),0),IF(ZT$26>=ZH28,ZK28,0)),IF(ZT$26>=ZH28,ZK28,0))))","v":2.1428571428571428},{"$f":"IF(ZT28=ZH28,0,EXP(-($D$16)*$D$13)*(ZR29)+ZQ28)","v":10.025921655168183},null,{"$f":"IF(ZT27>0,\" \",IF(OR(AAA28=\"Failure\",ZS28=\"Abandon\"),ZH28,))","v":0},{"$f":"IF(ZM28>0,RANDBETWEEN(0,1000),1000)","v":785},1.0529161749572178,2.0157951277379702,0,{"$f":"IF(ZH28=$D$14*$D$12,IF(ZX28+(ZW29*$D$18)/(($D$16*$D$13)-($D$8*$D$13))<0,ZX28,ZX28+(ZW29*$D$18)/(($D$16*$D$13)-($D$8*$D$13))),IF(ZX28=0,EXP(-($D$16)*$D$13)*ZY29+ZX28,EXP(-($D$16)*$D$13)*ZY29+ZX28))","v":41.191865622476158},null,null,null,null,{"$f":"IF(AAD27<$D$14*$D$12,AAD27+1,IF(AAD27=$D$14*$D$12,,))","v":1},{"$f":"ZI28","v":0.5},{"$f":"ZJ28","v":0.21569200414497719},{"$f":"$D$27","v":2.1428571428571428},{"$f":"ZL28","v":11.185696841814067},{"$f":"ZM28","v":11.185696841814067},{"$f":"IF(AND(AAI27>0,AAI28=0),EXP(-($D$16)*$D$13)*AAJ29+IF(AAG28-(0-AAH28)<0,0,AAG28-(0-AAH28)),IF(AAI28=0,0,EXP(-($D$16)*$D$13)*AAJ29+AAG28))","v":10.025921655168183},null,{"$f":"MAX(AAU28-AAJ28,0)","v":30.928752299265689},{"$f":"IF(AAH28=0,0,IF(AAD28=0,0,IF(AAP$26=1000,IF(AAH28<0,IF(AAH27>0,IF(AAG28-(0-AAH28)<0,0,AAG28-(0-AAH28)),0),IF(AAP$26>=AAD28,AAG28,0)),IF(AAP$26>=AAD28,AAG28,0))))","v":2.1428571428571428},{"$f":"IF(AAP28=AAD28,0,EXP(-($D$16)*$D$13)*(AAN29)+AAM28)","v":10.025921655168183},null,{"$f":"IF(AAP27>0,\" \",IF(OR(AAW28=\"Failure\",AAO28=\"Abandon\"),AAD28,))","v":0},{"$f":"IF(AAI28>0,RANDBETWEEN(0,1000),1000)","v":533},1.0529161749572178,2.0157951277379702,0,{"$f":"IF(AAD28=$D$14*$D$12,IF(AAT28+(AAS29*$D$18)/(($D$16*$D$13)-($D$8*$D$13))<0,AAT28,AAT28+(AAS29*$D$18)/(($D$16*$D$13)-($D$8*$D$13))),IF(AAT28=0,EXP(-($D$16)*$D$13)*AAU29+AAT28,EXP(-($D$16)*$D$13)*AAU29+AAT28))","v":40.954673954433872},null,null,null,null,{"$f":"IF(AAZ27<$D$14*$D$12,AAZ27+1,IF(AAZ27=$D$14*$D$12,,))","v":1},{"$f":"AAE28","v":0.5},{"$f":"AAF28","v":0.21569200414497719},{"$f":"$D$27","v":2.1428571428571428},{"$f":"AAH28","v":11.185696841814067},{"$f":"AAI28","v":11.185696841814067},{"$f":"IF(AND(ABE27>0,ABE28=0),EXP(-($D$16)*$D$13)*ABF29+IF(ABC28-(0-ABD28)<0,0,ABC28-(0-ABD28)),IF(ABE28=0,0,EXP(-($D$16)*$D$13)*ABF29+ABC28))","v":10.025921655168183},null,{"$f":"MAX(ABQ28-ABF28,0)","v":31.017389351452444},{"$f":"IF(ABD28=0,0,IF(AAZ28=0,0,IF(ABL$26=1000,IF(ABD28<0,IF(ABD27>0,IF(ABC28-(0-ABD28)<0,0,ABC28-(0-ABD28)),0),IF(ABL$26>=AAZ28,ABC28,0)),IF(ABL$26>=AAZ28,ABC28,0))))","v":2.1428571428571428},{"$f":"IF(ABL28=AAZ28,0,EXP(-($D$16)*$D$13)*(ABJ29)+ABI28)","v":10.025921655168183},null,{"$f":"IF(ABL27>0,\" \",IF(OR(ABS28=\"Failure\",ABK28=\"Abandon\"),AAZ28,))","v":0},{"$f":"IF(ABE28>0,RANDBETWEEN(0,1000),1000)","v":200},1.0529161749572178,2.0157951277379702,0,{"$f":"IF(AAZ28=$D$14*$D$12,IF(ABP28+(ABO29*$D$18)/(($D$16*$D$13)-($D$8*$D$13))<0,ABP28,ABP28+(ABO29*$D$18)/(($D$16*$D$13)-($D$8*$D$13))),IF(ABP28=0,EXP(-($D$16)*$D$13)*ABQ29+ABP28,EXP(-($D$16)*$D$13)*ABQ29+ABP28))","v":41.043311006620627},null,null,null,null,{"$f":"IF(ABV27<$D$14*$D$12,ABV27+1,IF(ABV27=$D$14*$D$12,,))","v":1},{"$f":"ABA28","v":0.5},{"$f":"ABB28","v":0.21569200414497719},{"$f":"$D$27","v":2.1428571428571428},{"$f":"ABD28","v":11.185696841814067},{"$f":"ABE28","v":11.185696841814067},{"$f":"IF(AND(ACA27>0,ACA28=0),EXP(-($D$16)*$D$13)*ACB29+IF(ABY28-(0-ABZ28)<0,0,ABY28-(0-ABZ28)),IF(ACA28=0,0,EXP(-($D$16)*$D$13)*ACB29+ABY28))","v":10.025921655168183},null,{"$f":"MAX(ACM28-ACB28,0)","v":31.017389351452444},{"$f":"IF(ABZ28=0,0,IF(ABV28=0,0,IF(ACH$26=1000,IF(ABZ28<0,IF(ABZ27>0,IF(ABY28-(0-ABZ28)<0,0,ABY28-(0-ABZ28)),0),IF(ACH$26>=ABV28,ABY28,0)),IF(ACH$26>=ABV28,ABY28,0))))","v":2.1428571428571428},{"$f":"IF(ACH28=ABV28,0,EXP(-($D$16)*$D$13)*(ACF29)+ACE28)","v":10.025921655168183},null,{"$f":"IF(ACH27>0,\" \",IF(OR(ACO28=\"Failure\",ACG28=\"Abandon\"),ABV28,))","v":0},{"$f":"IF(ACA28>0,RANDBETWEEN(0,1000),1000)","v":250},1.0529161749572178,2.0157951277379702,0,{"$f":"IF(ABV28=$D$14*$D$12,IF(ACL28+(ACK29*$D$18)/(($D$16*$D$13)-($D$8*$D$13))<0,ACL28,ACL28+(ACK29*$D$18)/(($D$16*$D$13)-($D$8*$D$13))),IF(ACL28=0,EXP(-($D$16)*$D$13)*ACM29+ACL28,EXP(-($D$16)*$D$13)*ACM29+ACL28))","v":41.043311006620627},null,null,null,null,{"$f":"IF(ACR27<$D$14*$D$12,ACR27+1,IF(ACR27=$D$14*$D$12,,))","v":1},{"$f":"ABW28","v":0.5},0.21569200414497719,{"$f":"$D$27","v":2.1428571428571428},11.185696841814067,11.185696841814067,{"$f":"IF(AND(ACW27>0,ACW28=0),EXP(-($D$16)*$D$13)*ACX29+IF(ACU28-(0-ACV28)<0,0,ACU28-(0-ACV28)),IF(ACW28=0,0,EXP(-($D$16)*$D$13)*ACX29+ACU28))","v":10.025921655168183},null,{"$f":"MAX(ADI28-ACX28,0)","v":31.017389351452444},{"$f":"IF(ACV28=0,0,IF(ACR28=0,0,IF(ADD$26=1000,IF(ACV28<0,IF(ACV27>0,IF(ACU28-(0-ACV28)<0,0,ACU28-(0-ACV28)),0),IF(ADD$26>=ACR28,ACU28,0)),IF(ADD$26>=ACR28,ACU28,0))))","v":2.1428571428571428},{"$f":"IF(ADD28=ACR28,0,EXP(-($D$16)*$D$13)*(ADB29)+ADA28)","v":10.025921655168183},null,{"$f":"IF(ADD27>0,\" \",IF(OR(ADK28=\"Failure\",ADC28=\"Abandon\"),ACR28,))","v":0},{"$f":"IF(ACW28>0,RANDBETWEEN(0,1000),1000)","v":994},1.0529161749572178,2.0157951277379702,0,{"$f":"IF(ACR28=$D$14*$D$12,IF(ADH28+(ADG29*$D$18)/(($D$16*$D$13)-($D$8*$D$13))<0,ADH28,ADH28+(ADG29*$D$18)/(($D$16*$D$13)-($D$8*$D$13))),IF(ADH28=0,EXP(-($D$16)*$D$13)*ADI29+ADH28,EXP(-($D$16)*$D$13)*ADI29+ADH28))","v":41.043311006620627},null,null,null,null,{"$f":"IF(ADN27<$D$14*$D$12,ADN27+1,IF(ADN27=$D$14*$D$12,,))","v":1},{"$f":"ACS28","v":0.5},0.21569200414497719,{"$f":"$D$27","v":2.1428571428571428},11.185696841814067,11.185696841814067,{"$f":"IF(AND(ADS27>0,ADS28=0),EXP(-($D$16)*$D$13)*ADT29+IF(ADQ28-(0-ADR28)<0,0,ADQ28-(0-ADR28)),IF(ADS28=0,0,EXP(-($D$16)*$D$13)*ADT29+ADQ28))","v":10.025921655168183},null,{"$f":"MAX(AEE28-ADT28,0)","v":31.017389351452444},{"$f":"IF(ADR28=0,0,IF(ADN28=0,0,IF(ADZ$26=1000,IF(ADR28<0,IF(ADR27>0,IF(ADQ28-(0-ADR28)<0,0,ADQ28-(0-ADR28)),0),IF(ADZ$26>=ADN28,ADQ28,0)),IF(ADZ$26>=ADN28,ADQ28,0))))","v":2.1428571428571428},{"$f":"IF(ADZ28=ADN28,0,EXP(-($D$16)*$D$13)*(ADX29)+ADW28)","v":10.025921655168183},null,{"$f":"IF(ADZ27>0,\" \",IF(OR(AEG28=\"Failure\",ADY28=\"Abandon\"),ADN28,))","v":0},{"$f":"IF(ADS28>0,RANDBETWEEN(0,1000),1000)","v":447},1.0529161749572178,2.0157951277379702,0,{"$f":"IF(ADN28=$D$14*$D$12,IF(AED28+(AEC29*$D$18)/(($D$16*$D$13)-($D$8*$D$13))<0,AED28,AED28+(AEC29*$D$18)/(($D$16*$D$13)-($D$8*$D$13))),IF(AED28=0,EXP(-($D$16)*$D$13)*AEE29+AED28,EXP(-($D$16)*$D$13)*AEE29+AED28))","v":41.043311006620627},null,null,null,null,{"$f":"IF(AEJ27<$D$14*$D$12,AEJ27+1,IF(AEJ27=$D$14*$D$12,,))","v":1},{"$f":"ADO28","v":0.5},0.21569200414497719,{"$f":"$D$27","v":2.1428571428571428},11.185696841814067,11.185696841814067,{"$f":"IF(AND(AEO27>0,AEO28=0),EXP(-($D$16)*$D$13)*AEP29+IF(AEM28-(0-AEN28)<0,0,AEM28-(0-AEN28)),IF(AEO28=0,0,EXP(-($D$16)*$D$13)*AEP29+AEM28))","v":10.025921655168183},null,{"$f":"MAX(AFA28-AEP28,0)","v":31.017389351452444},{"$f":"IF(AEN28=0,0,IF(AEJ28=0,0,IF(AEV$26=1000,IF(AEN28<0,IF(AEN27>0,IF(AEM28-(0-AEN28)<0,0,AEM28-(0-AEN28)),0),IF(AEV$26>=AEJ28,AEM28,0)),IF(AEV$26>=AEJ28,AEM28,0))))","v":2.1428571428571428},{"$f":"IF(AEV28=AEJ28,0,EXP(-($D$16)*$D$13)*(AET29)+AES28)","v":10.025921655168183},null,{"$f":"IF(AEV27>0,\" \",IF(OR(AFC28=\"Failure\",AEU28=\"Abandon\"),AEJ28,))","v":0},{"$f":"IF(AEO28>0,RANDBETWEEN(0,1000),1000)","v":344},1.0529161749572178,2.0157951277379702,0,{"$f":"IF(AEJ28=$D$14*$D$12,IF(AEZ28+(AEY29*$D$18)/(($D$16*$D$13)-($D$8*$D$13))<0,AEZ28,AEZ28+(AEY29*$D$18)/(($D$16*$D$13)-($D$8*$D$13))),IF(AEZ28=0,EXP(-($D$16)*$D$13)*AFA29+AEZ28,EXP(-($D$16)*$D$13)*AFA29+AEZ28))","v":41.043311006620627},null,null,null,null,{"$f":"IF(AFF27<$D$14*$D$12,AFF27+1,IF(AFF27=$D$14*$D$12,,))","v":1},{"$f":"AEK28","v":0.5},0.21569200414497719,{"$f":"$D$27","v":2.1428571428571428},11.185696841814067,11.185696841814067,{"$f":"IF(AND(AFK27>0,AFK28=0),EXP(-($D$16)*$D$13)*AFL29+IF(AFI28-(0-AFJ28)<0,0,AFI28-(0-AFJ28)),IF(AFK28=0,0,EXP(-($D$16)*$D$13)*AFL29+AFI28))","v":10.025921655168183},null,{"$f":"MAX(AFW28-AFL28,0)","v":31.017389351452444},{"$f":"IF(AFJ28=0,0,IF(AFF28=0,0,IF(AFR$26=1000,IF(AFJ28<0,IF(AFJ27>0,IF(AFI28-(0-AFJ28)<0,0,AFI28-(0-AFJ28)),0),IF(AFR$26>=AFF28,AFI28,0)),IF(AFR$26>=AFF28,AFI28,0))))","v":2.1428571428571428},{"$f":"IF(AFR28=AFF28,0,EXP(-($D$16)*$D$13)*(AFP29)+AFO28)","v":10.025921655168183},null,{"$f":"IF(AFR27>0,\" \",IF(OR(AFY28=\"Failure\",AFQ28=\"Abandon\"),AFF28,))","v":0},{"$f":"IF(AFK28>0,RANDBETWEEN(0,1000),1000)","v":663},1.0529161749572178,2.0157951277379702,0,{"$f":"IF(AFF28=$D$14*$D$12,IF(AFV28+(AFU29*$D$18)/(($D$16*$D$13)-($D$8*$D$13))<0,AFV28,AFV28+(AFU29*$D$18)/(($D$16*$D$13)-($D$8*$D$13))),IF(AFV28=0,EXP(-($D$16)*$D$13)*AFW29+AFV28,EXP(-($D$16)*$D$13)*AFW29+AFV28))","v":41.043311006620627},null,null,null,null,{"$f":"IF(AGB27<$D$14*$D$12,AGB27+1,IF(AGB27=$D$14*$D$12,,))","v":1},{"$f":"AFG28","v":0.5},0.21569200414497719,{"$f":"$D$27","v":2.1428571428571428},11.185696841814067,11.185696841814067,{"$f":"IF(AND(AGG27>0,AGG28=0),EXP(-($D$16)*$D$13)*AGH29+IF(AGE28-(0-AGF28)<0,0,AGE28-(0-AGF28)),IF(AGG28=0,0,EXP(-($D$16)*$D$13)*AGH29+AGE28))","v":10.025921655168183},null,{"$f":"MAX(AGS28-AGH28,0)","v":31.017389351452444},{"$f":"IF(AGF28=0,0,IF(AGB28=0,0,IF(AGN$26=1000,IF(AGF28<0,IF(AGF27>0,IF(AGE28-(0-AGF28)<0,0,AGE28-(0-AGF28)),0),IF(AGN$26>=AGB28,AGE28,0)),IF(AGN$26>=AGB28,AGE28,0))))","v":2.1428571428571428},{"$f":"IF(AGN28=AGB28,0,EXP(-($D$16)*$D$13)*(AGL29)+AGK28)","v":10.025921655168183},null,{"$f":"IF(AGN27>0,\" \",IF(OR(AGU28=\"Failure\",AGM28=\"Abandon\"),AGB28,))","v":0},{"$f":"IF(AGG28>0,RANDBETWEEN(0,1000),1000)","v":247},1.0529161749572178,2.0157951277379702,0,{"$f":"IF(AGB28=$D$14*$D$12,IF(AGR28+(AGQ29*$D$18)/(($D$16*$D$13)-($D$8*$D$13))<0,AGR28,AGR28+(AGQ29*$D$18)/(($D$16*$D$13)-($D$8*$D$13))),IF(AGR28=0,EXP(-($D$16)*$D$13)*AGS29+AGR28,EXP(-($D$16)*$D$13)*AGS29+AGR28))","v":41.043311006620627},null,null,null,null,{"$f":"IF(AGX27<$D$14*$D$12,AGX27+1,IF(AGX27=$D$14*$D$12,,))","v":1},{"$f":"AGC28","v":0.5},0.21569200414497719,{"$f":"$D$27","v":2.1428571428571428},11.185696841814067,11.185696841814067,{"$f":"IF(AND(AHC27>0,AHC28=0),EXP(-($D$16)*$D$13)*AHD29+IF(AHA28-(0-AHB28)<0,0,AHA28-(0-AHB28)),IF(AHC28=0,0,EXP(-($D$16)*$D$13)*AHD29+AHA28))","v":10.025921655168183},null,{"$f":"MAX(AHO28-AHD28,0)","v":31.017389351452444},{"$f":"IF(AHB28=0,0,IF(AGX28=0,0,IF(AHJ$26=1000,IF(AHB28<0,IF(AHB27>0,IF(AHA28-(0-AHB28)<0,0,AHA28-(0-AHB28)),0),IF(AHJ$26>=AGX28,AHA28,0)),IF(AHJ$26>=AGX28,AHA28,0))))","v":2.1428571428571428},{"$f":"IF(AHJ28=AGX28,0,EXP(-($D$16)*$D$13)*(AHH29)+AHG28)","v":10.025921655168183},null,{"$f":"IF(AHJ27>0,\" \",IF(OR(AHQ28=\"Failure\",AHI28=\"Abandon\"),AGX28,))","v":0},{"$f":"IF(AHC28>0,RANDBETWEEN(0,1000),1000)","v":419},1.0529161749572178,2.0157951277379702,0,{"$f":"IF(AGX28=$D$14*$D$12,IF(AHN28+(AHM29*$D$18)/(($D$16*$D$13)-($D$8*$D$13))<0,AHN28,AHN28+(AHM29*$D$18)/(($D$16*$D$13)-($D$8*$D$13))),IF(AHN28=0,EXP(-($D$16)*$D$13)*AHO29+AHN28,EXP(-($D$16)*$D$13)*AHO29+AHN28))","v":41.043311006620627},null,null,null,null,{"$f":"IF(AHT27<$D$14*$D$12,AHT27+1,IF(AHT27=$D$14*$D$12,,))","v":1},{"$f":"AGY28","v":0.5},0.21569200414497719,{"$f":"$D$27","v":2.1428571428571428},11.185696841814067,11.185696841814067,{"$f":"IF(AND(AHY27>0,AHY28=0),EXP(-($D$16)*$D$13)*AHZ29+IF(AHW28-(0-AHX28)<0,0,AHW28-(0-AHX28)),IF(AHY28=0,0,EXP(-($D$16)*$D$13)*AHZ29+AHW28))","v":10.025921655168183},null,{"$f":"MAX(AIK28-AHZ28,0)","v":31.017389351452444},{"$f":"IF(AHX28=0,0,IF(AHT28=0,0,IF(AIF$26=1000,IF(AHX28<0,IF(AHX27>0,IF(AHW28-(0-AHX28)<0,0,AHW28-(0-AHX28)),0),IF(AIF$26>=AHT28,AHW28,0)),IF(AIF$26>=AHT28,AHW28,0))))","v":2.1428571428571428},{"$f":"IF(AIF28=AHT28,0,EXP(-($D$16)*$D$13)*(AID29)+AIC28)","v":10.025921655168183},null,{"$f":"IF(AIF27>0,\" \",IF(OR(AIM28=\"Failure\",AIE28=\"Abandon\"),AHT28,))","v":0},{"$f":"IF(AHY28>0,RANDBETWEEN(0,1000),1000)","v":532},1.0529161749572178,2.0157951277379702,0,{"$f":"IF(AHT28=$D$14*$D$12,IF(AIJ28+(AII29*$D$18)/(($D$16*$D$13)-($D$8*$D$13))<0,AIJ28,AIJ28+(AII29*$D$18)/(($D$16*$D$13)-($D$8*$D$13))),IF(AIJ28=0,EXP(-($D$16)*$D$13)*AIK29+AIJ28,EXP(-($D$16)*$D$13)*AIK29+AIJ28))","v":41.043311006620627},null,null,null,null,{"$f":"IF(AIP27<$D$14*$D$12,AIP27+1,IF(AIP27=$D$14*$D$12,,))","v":1},{"$f":"AHU28","v":0.5},0.21569200414497719,{"$f":"$D$27","v":2.1428571428571428},11.185696841814067,11.185696841814067,{"$f":"IF(AND(AIU27>0,AIU28=0),EXP(-($D$16)*$D$13)*AIV29+IF(AIS28-(0-AIT28)<0,0,AIS28-(0-AIT28)),IF(AIU28=0,0,EXP(-($D$16)*$D$13)*AIV29+AIS28))","v":10.025921655168183},null,{"$f":"MAX(AJG28-AIV28,0)","v":31.017389351452444},{"$f":"IF(AIT28=0,0,IF(AIP28=0,0,IF(AJB$26=1000,IF(AIT28<0,IF(AIT27>0,IF(AIS28-(0-AIT28)<0,0,AIS28-(0-AIT28)),0),IF(AJB$26>=AIP28,AIS28,0)),IF(AJB$26>=AIP28,AIS28,0))))","v":2.1428571428571428},{"$f":"IF(AJB28=AIP28,0,EXP(-($D$16)*$D$13)*(AIZ29)+AIY28)","v":10.025921655168183},null,{"$f":"IF(AJB27>0,\" \",IF(OR(AJI28=\"Failure\",AJA28=\"Abandon\"),AIP28,))","v":0},{"$f":"IF(AIU28>0,RANDBETWEEN(0,1000),1000)","v":572},1.0529161749572178,2.0157951277379702,0,{"$f":"IF(AIP28=$D$14*$D$12,IF(AJF28+(AJE29*$D$18)/(($D$16*$D$13)-($D$8*$D$13))<0,AJF28,AJF28+(AJE29*$D$18)/(($D$16*$D$13)-($D$8*$D$13))),IF(AJF28=0,EXP(-($D$16)*$D$13)*AJG29+AJF28,EXP(-($D$16)*$D$13)*AJG29+AJF28))","v":41.043311006620627},null,null,null,null,{"$f":"IF(AJL27<$D$14*$D$12,AJL27+1,IF(AJL27=$D$14*$D$12,,))","v":1},{"$f":"AIQ28","v":0.5},0.21569200414497719,{"$f":"$D$27","v":2.1428571428571428},11.185696841814067,11.185696841814067,{"$f":"IF(AND(AJQ27>0,AJQ28=0),EXP(-($D$16)*$D$13)*AJR29+IF(AJO28-(0-AJP28)<0,0,AJO28-(0-AJP28)),IF(AJQ28=0,0,EXP(-($D$16)*$D$13)*AJR29+AJO28))","v":10.025921655168183},null,{"$f":"MAX(AKC28-AJR28,0)","v":31.017389351452444},{"$f":"IF(AJP28=0,0,IF(AJL28=0,0,IF(AJX$26=1000,IF(AJP28<0,IF(AJP27>0,IF(AJO28-(0-AJP28)<0,0,AJO28-(0-AJP28)),0),IF(AJX$26>=AJL28,AJO28,0)),IF(AJX$26>=AJL28,AJO28,0))))","v":2.1428571428571428},{"$f":"IF(AJX28=AJL28,0,EXP(-($D$16)*$D$13)*(AJV29)+AJU28)","v":10.025921655168183},null,{"$f":"IF(AJX27>0,\" \",IF(OR(AKE28=\"Failure\",AJW28=\"Abandon\"),AJL28,))","v":0},{"$f":"IF(AJQ28>0,RANDBETWEEN(0,1000),1000)","v":250},1.0529161749572178,2.0157951277379702,0,{"$f":"IF(AJL28=$D$14*$D$12,IF(AKB28+(AKA29*$D$18)/(($D$16*$D$13)-($D$8*$D$13))<0,AKB28,AKB28+(AKA29*$D$18)/(($D$16*$D$13)-($D$8*$D$13))),IF(AKB28=0,EXP(-($D$16)*$D$13)*AKC29+AKB28,EXP(-($D$16)*$D$13)*AKC29+AKB28))","v":41.043311006620627},null,null,null,null,{"$f":"IF(AKH27<$D$14*$D$12,AKH27+1,IF(AKH27=$D$14*$D$12,,))","v":1},{"$f":"AJM28","v":0.5},0.21569200414497719,{"$f":"$D$27","v":2.1428571428571428},11.185696841814067,11.185696841814067,{"$f":"IF(AND(AKM27>0,AKM28=0),EXP(-($D$16)*$D$13)*AKN29+IF(AKK28-(0-AKL28)<0,0,AKK28-(0-AKL28)),IF(AKM28=0,0,EXP(-($D$16)*$D$13)*AKN29+AKK28))","v":10.025921655168183},null,{"$f":"MAX(AKY28-AKN28,0)","v":31.017389351452444},{"$f":"IF(AKL28=0,0,IF(AKH28=0,0,IF(AKT$26=1000,IF(AKL28<0,IF(AKL27>0,IF(AKK28-(0-AKL28)<0,0,AKK28-(0-AKL28)),0),IF(AKT$26>=AKH28,AKK28,0)),IF(AKT$26>=AKH28,AKK28,0))))","v":2.1428571428571428},{"$f":"IF(AKT28=AKH28,0,EXP(-($D$16)*$D$13)*(AKR29)+AKQ28)","v":10.025921655168183},null,{"$f":"IF(AKT27>0,\" \",IF(OR(ALA28=\"Failure\",AKS28=\"Abandon\"),AKH28,))","v":0},{"$f":"IF(AKM28>0,RANDBETWEEN(0,1000),1000)","v":590},1.0529161749572178,2.0157951277379702,0,{"$f":"IF(AKH28=$D$14*$D$12,IF(AKX28+(AKW29*$D$18)/(($D$16*$D$13)-($D$8*$D$13))<0,AKX28,AKX28+(AKW29*$D$18)/(($D$16*$D$13)-($D$8*$D$13))),IF(AKX28=0,EXP(-($D$16)*$D$13)*AKY29+AKX28,EXP(-($D$16)*$D$13)*AKY29+AKX28))","v":41.043311006620627},null,null,null,null,{"$f":"IF(ALD27<$D$14*$D$12,ALD27+1,IF(ALD27=$D$14*$D$12,,))","v":1},{"$f":"AKI28","v":0.5},0.21569200414497719,{"$f":"$D$27","v":2.1428571428571428},11.185696841814067,11.185696841814067,{"$f":"IF(AND(ALI27>0,ALI28=0),EXP(-($D$16)*$D$13)*ALJ29+IF(ALG28-(0-ALH28)<0,0,ALG28-(0-ALH28)),IF(ALI28=0,0,EXP(-($D$16)*$D$13)*ALJ29+ALG28))","v":10.025921655168183},null,{"$f":"MAX(ALU28-ALJ28,0)","v":31.017389351452444},{"$f":"IF(ALH28=0,0,IF(ALD28=0,0,IF(ALP$26=1000,IF(ALH28<0,IF(ALH27>0,IF(ALG28-(0-ALH28)<0,0,ALG28-(0-ALH28)),0),IF(ALP$26>=ALD28,ALG28,0)),IF(ALP$26>=ALD28,ALG28,0))))","v":2.1428571428571428},{"$f":"IF(ALP28=ALD28,0,EXP(-($D$16)*$D$13)*(ALN29)+ALM28)","v":10.025921655168183},null,{"$f":"IF(ALP27>0,\" \",IF(OR(ALW28=\"Failure\",ALO28=\"Abandon\"),ALD28,))","v":0},{"$f":"IF(ALI28>0,RANDBETWEEN(0,1000),1000)","v":413},1.0529161749572178,2.0157951277379702,0,{"$f":"IF(ALD28=$D$14*$D$12,IF(ALT28+(ALS29*$D$18)/(($D$16*$D$13)-($D$8*$D$13))<0,ALT28,ALT28+(ALS29*$D$18)/(($D$16*$D$13)-($D$8*$D$13))),IF(ALT28=0,EXP(-($D$16)*$D$13)*ALU29+ALT28,EXP(-($D$16)*$D$13)*ALU29+ALT28))","v":41.043311006620627},null,null,null,null,{"$f":"IF(ALZ27<$D$14*$D$12,ALZ27+1,IF(ALZ27=$D$14*$D$12,,))","v":1},{"$f":"ALE28","v":0.5},0.21569200414497719,{"$f":"$D$27","v":2.1428571428571428},11.185696841814067,11.185696841814067,{"$f":"IF(AND(AME27>0,AME28=0),EXP(-($D$16)*$D$13)*AMF29+IF(AMC28-(0-AMD28)<0,0,AMC28-(0-AMD28)),IF(AME28=0,0,EXP(-($D$16)*$D$13)*AMF29+AMC28))","v":10.025921655168183},null,{"$f":"MAX(AMQ28-AMF28,0)","v":31.017389351452444},{"$f":"IF(AMD28=0,0,IF(ALZ28=0,0,IF(AML$26=1000,IF(AMD28<0,IF(AMD27>0,IF(AMC28-(0-AMD28)<0,0,AMC28-(0-AMD28)),0),IF(AML$26>=ALZ28,AMC28,0)),IF(AML$26>=ALZ28,AMC28,0))))","v":2.1428571428571428},{"$f":"IF(AML28=ALZ28,0,EXP(-($D$16)*$D$13)*(AMJ29)+AMI28)","v":10.025921655168183},null,{"$f":"IF(AML27>0,\" \",IF(OR(AMS28=\"Failure\",AMK28=\"Abandon\"),ALZ28,))","v":0},{"$f":"IF(AME28>0,RANDBETWEEN(0,1000),1000)","v":33},1.0529161749572178,2.0157951277379702,0,{"$f":"IF(ALZ28=$D$14*$D$12,IF(AMP28+(AMO29*$D$18)/(($D$16*$D$13)-($D$8*$D$13))<0,AMP28,AMP28+(AMO29*$D$18)/(($D$16*$D$13)-($D$8*$D$13))),IF(AMP28=0,EXP(-($D$16)*$D$13)*AMQ29+AMP28,EXP(-($D$16)*$D$13)*AMQ29+AMP28))","v":41.043311006620627},null,null,null,null,{"$f":"IF(AMV27<$D$14*$D$12,AMV27+1,IF(AMV27=$D$14*$D$12,,))","v":1},{"$f":"AMA28","v":0.5},0.21569200414497719,{"$f":"$D$27","v":2.1428571428571428},11.185696841814067,11.185696841814067,{"$f":"IF(AND(ANA27>0,ANA28=0),EXP(-($D$16)*$D$13)*ANB29+IF(AMY28-(0-AMZ28)<0,0,AMY28-(0-AMZ28)),IF(ANA28=0,0,EXP(-($D$16)*$D$13)*ANB29+AMY28))","v":10.025921655168183},null,{"$f":"MAX(ANM28-ANB28,0)","v":31.017389351452444},{"$f":"IF(AMZ28=0,0,IF(AMV28=0,0,IF(ANH$26=1000,IF(AMZ28<0,IF(AMZ27>0,IF(AMY28-(0-AMZ28)<0,0,AMY28-(0-AMZ28)),0),IF(ANH$26>=AMV28,AMY28,0)),IF(ANH$26>=AMV28,AMY28,0))))","v":2.1428571428571428},{"$f":"IF(ANH28=AMV28,0,EXP(-($D$16)*$D$13)*(ANF29)+ANE28)","v":10.025921655168183},null,{"$f":"IF(ANH27>0,\" \",IF(OR(ANO28=\"Failure\",ANG28=\"Abandon\"),AMV28,))","v":0},{"$f":"IF(ANA28>0,RANDBETWEEN(0,1000),1000)","v":314},1.0529161749572178,2.0157951277379702,0,{"$f":"IF(AMV28=$D$14*$D$12,IF(ANL28+(ANK29*$D$18)/(($D$16*$D$13)-($D$8*$D$13))<0,ANL28,ANL28+(ANK29*$D$18)/(($D$16*$D$13)-($D$8*$D$13))),IF(ANL28=0,EXP(-($D$16)*$D$13)*ANM29+ANL28,EXP(-($D$16)*$D$13)*ANM29+ANL28))","v":41.043311006620627},null,null,null,null,{"$f":"IF(ANR27<$D$14*$D$12,ANR27+1,IF(ANR27=$D$14*$D$12,,))","v":1},{"$f":"AMW28","v":0.5},0.21569200414497719,{"$f":"$D$27","v":2.1428571428571428},11.185696841814067,11.185696841814067,{"$f":"IF(AND(ANW27>0,ANW28=0),EXP(-($D$16)*$D$13)*ANX29+IF(ANU28-(0-ANV28)<0,0,ANU28-(0-ANV28)),IF(ANW28=0,0,EXP(-($D$16)*$D$13)*ANX29+ANU28))","v":10.025921655168183},null,{"$f":"MAX(AOI28-ANX28,0)","v":31.017389351452444},{"$f":"IF(ANV28=0,0,IF(ANR28=0,0,IF(AOD$26=1000,IF(ANV28<0,IF(ANV27>0,IF(ANU28-(0-ANV28)<0,0,ANU28-(0-ANV28)),0),IF(AOD$26>=ANR28,ANU28,0)),IF(AOD$26>=ANR28,ANU28,0))))","v":2.1428571428571428},{"$f":"IF(AOD28=ANR28,0,EXP(-($D$16)*$D$13)*(AOB29)+AOA28)","v":10.025921655168183},null,{"$f":"IF(AOD27>0,\" \",IF(OR(AOK28=\"Failure\",AOC28=\"Abandon\"),ANR28,))","v":0},{"$f":"IF(ANW28>0,RANDBETWEEN(0,1000),1000)","v":367},1.0529161749572178,2.0157951277379702,0,{"$f":"IF(ANR28=$D$14*$D$12,IF(AOH28+(AOG29*$D$18)/(($D$16*$D$13)-($D$8*$D$13))<0,AOH28,AOH28+(AOG29*$D$18)/(($D$16*$D$13)-($D$8*$D$13))),IF(AOH28=0,EXP(-($D$16)*$D$13)*AOI29+AOH28,EXP(-($D$16)*$D$13)*AOI29+AOH28))","v":41.043311006620627},null,null,null,null,{"$f":"IF(AON27<$D$14*$D$12,AON27+1,IF(AON27=$D$14*$D$12,,))","v":1},{"$f":"ANS28","v":0.5},0.21569200414497719,{"$f":"$D$27","v":2.1428571428571428},11.185696841814067,11.185696841814067,{"$f":"IF(AND(AOS27>0,AOS28=0),EXP(-($D$16)*$D$13)*AOT29+IF(AOQ28-(0-AOR28)<0,0,AOQ28-(0-AOR28)),IF(AOS28=0,0,EXP(-($D$16)*$D$13)*AOT29+AOQ28))","v":10.025921655168183},null,{"$f":"MAX(APE28-AOT28,0)","v":31.017389351452444},{"$f":"IF(AOR28=0,0,IF(AON28=0,0,IF(AOZ$26=1000,IF(AOR28<0,IF(AOR27>0,IF(AOQ28-(0-AOR28)<0,0,AOQ28-(0-AOR28)),0),IF(AOZ$26>=AON28,AOQ28,0)),IF(AOZ$26>=AON28,AOQ28,0))))","v":2.1428571428571428},{"$f":"IF(AOZ28=AON28,0,EXP(-($D$16)*$D$13)*(AOX29)+AOW28)","v":10.025921655168183},null,{"$f":"IF(AOZ27>0,\" \",IF(OR(APG28=\"Failure\",APA27=\"Abandon\"),AON28,))","v":0},{"$f":"IF(AOS28>0,RANDBETWEEN(0,1000),1000)","v":601},1.0529161749572178,2.0157951277379702,0,{"$f":"IF(AON28=$D$14*$D$12,IF(APD28+(APC29*$D$18)/(($D$16*$D$13)-($D$8*$D$13))<0,APD28,APD28+(APC29*$D$18)/(($D$16*$D$13)-($D$8*$D$13))),IF(APD28=0,EXP(-($D$16)*$D$13)*APE29+APD28,EXP(-($D$16)*$D$13)*APE29+APD28))","v":41.043311006620627},null,null,null,null,{"$f":"IF(APJ27<$D$14*$D$12,APJ27+1,IF(APJ27=$D$14*$D$12,,))","v":1},{"$f":"AOO28","v":0.5},0.21569200414497719,{"$f":"$D$27","v":2.1428571428571428},11.185696841814067,11.185696841814067,{"$f":"IF(AND(APO27>0,APO28=0),EXP(-($D$16)*$D$13)*APP29+IF(APM28-(0-APN28)<0,0,APM28-(0-APN28)),IF(APO28=0,0,EXP(-($D$16)*$D$13)*APP29+APM28))","v":10.025921655168183},null,{"$f":"MAX(AQA28-APP28,0)","v":31.017389351452444},{"$f":"IF(APN28=0,0,IF(APJ28=0,0,IF(APV$26=1000,IF(APN28<0,IF(APN27>0,IF(APM28-(0-APN28)<0,0,APM28-(0-APN28)),0),IF(APV$26>=APJ28,APM28,0)),IF(APV$26>=APJ28,APM28,0))))","v":2.1428571428571428},{"$f":"IF(APV28=APJ28,0,EXP(-($D$16)*$D$13)*(APT29)+APS28)","v":10.025921655168183},null,{"$f":"IF(APV27>0,\" \",IF(OR(AQC28=\"Failure\",APU28=\"Abandon\"),APJ28,))","v":0},{"$f":"IF(APO28>0,RANDBETWEEN(0,1000),1000)","v":754},1.0529161749572178,2.0157951277379702,0,{"$f":"IF(APJ28=$D$14*$D$12,IF(APZ28+(APY29*$D$18)/(($D$16*$D$13)-($D$8*$D$13))<0,APZ28,APZ28+(APY29*$D$18)/(($D$16*$D$13)-($D$8*$D$13))),IF(APZ28=0,EXP(-($D$16)*$D$13)*AQA29+APZ28,EXP(-($D$16)*$D$13)*AQA29+APZ28))","v":41.043311006620627},null,null,null,null,{"$f":"IF(AQF27<$D$14*$D$12,AQF27+1,IF(AQF27=$D$14*$D$12,,))","v":1},{"$f":"APK28","v":0.5},0.21569200414497719,{"$f":"$D$27","v":2.1428571428571428},11.185696841814067,11.185696841814067,{"$f":"IF(AND(AQK27>0,AQK28=0),EXP(-($D$16)*$D$13)*AQL29+IF(AQI28-(0-AQJ28)<0,0,AQI28-(0-AQJ28)),IF(AQK28=0,0,EXP(-($D$16)*$D$13)*AQL29+AQI28))","v":10.025921655168183},null,{"$f":"MAX(AQW28-AQL28,0)","v":31.017389351452444},{"$f":"IF(AQJ28=0,0,IF(AQF28=0,0,IF(AQR$26=1000,IF(AQJ28<0,IF(AQJ27>0,IF(AQI28-(0-AQJ28)<0,0,AQI28-(0-AQJ28)),0),IF(AQR$26>=AQF28,AQI28,0)),IF(AQR$26>=AQF28,AQI28,0))))","v":2.1428571428571428},{"$f":"IF(AQR28=AQF28,0,EXP(-($D$16)*$D$13)*(AQP29)+AQO28)","v":10.025921655168183},null,{"$f":"IF(AQR27>0,\" \",IF(OR(AQY28=\"Failure\",AQQ28=\"Abandon\"),AQF28,))","v":0},{"$f":"IF(AQK28>0,RANDBETWEEN(0,1000),1000)","v":168},1.0529161749572178,2.0157951277379702,0,{"$f":"IF(AQF28=$D$14*$D$12,IF(AQV28+(AQU29*$D$18)/(($D$16*$D$13)-($D$8*$D$13))<0,AQV28,AQV28+(AQU29*$D$18)/(($D$16*$D$13)-($D$8*$D$13))),IF(AQV28=0,EXP(-($D$16)*$D$13)*AQW29+AQV28,EXP(-($D$16)*$D$13)*AQW29+AQV28))","v":41.043311006620627},null,null,null,null,{"$f":"IF(ARB27<$D$14*$D$12,ARB27+1,IF(ARB27=$D$14*$D$12,,))","v":1},{"$f":"AQG28","v":0.5},0.21569200414497719,{"$f":"$D$27","v":2.1428571428571428},11.185696841814067,11.185696841814067,{"$f":"IF(AND(ARG27>0,ARG28=0),EXP(-($D$16)*$D$13)*ARH29+IF(ARE28-(0-ARF28)<0,0,ARE28-(0-ARF28)),IF(ARG28=0,0,EXP(-($D$16)*$D$13)*ARH29+ARE28))","v":10.025921655168183},null,{"$f":"MAX(ARS28-ARH28,0)","v":31.017389351452444},{"$f":"IF(ARF28=0,0,IF(ARB28=0,0,IF(ARN$26=1000,IF(ARF28<0,IF(ARF27>0,IF(ARE28-(0-ARF28)<0,0,ARE28-(0-ARF28)),0),IF(ARN$26>=ARB28,ARE28,0)),IF(ARN$26>=ARB28,ARE28,0))))","v":2.1428571428571428},{"$f":"IF(ARN28=ARB28,0,EXP(-($D$16)*$D$13)*(ARL29)+ARK28)","v":10.025921655168183},null,{"$f":"IF(ARN27>0,\" \",IF(OR(ARU28=\"Failure\",ARM28=\"Abandon\"),ARB28,))","v":0},{"$f":"IF(ARG28>0,RANDBETWEEN(0,1000),1000)","v":517},1.0529161749572178,2.0157951277379702,0,{"$f":"IF(ARB28=$D$14*$D$12,IF(ARR28+(ARQ29*$D$18)/(($D$16*$D$13)-($D$8*$D$13))<0,ARR28,ARR28+(ARQ29*$D$18)/(($D$16*$D$13)-($D$8*$D$13))),IF(ARR28=0,EXP(-($D$16)*$D$13)*ARS29+ARR28,EXP(-($D$16)*$D$13)*ARS29+ARR28))","v":41.043311006620627},null,null,null,null,{"$f":"IF(ARX27<$D$14*$D$12,ARX27+1,IF(ARX27=$D$14*$D$12,,))","v":1},{"$f":"ARC28","v":0.5},0.21569200414497719,{"$f":"$D$27","v":2.1428571428571428},11.185696841814067,11.185696841814067,{"$f":"IF(AND(ASC27>0,ASC28=0),EXP(-($D$16)*$D$13)*ASD29+IF(ASA28-(0-ASB28)<0,0,ASA28-(0-ASB28)),IF(ASC28=0,0,EXP(-($D$16)*$D$13)*ASD29+ASA28))","v":10.025921655168183},null,{"$f":"MAX(ASO28-ASD28,0)","v":31.017389351452444},{"$f":"IF(ASB28=0,0,IF(ARX28=0,0,IF(ASJ$26=1000,IF(ASB28<0,IF(ASB27>0,IF(ASA28-(0-ASB28)<0,0,ASA28-(0-ASB28)),0),IF(ASJ$26>=ARX28,ASA28,0)),IF(ASJ$26>=ARX28,ASA28,0))))","v":2.1428571428571428},{"$f":"IF(ASJ28=ARX28,0,EXP(-($D$16)*$D$13)*(ASH29)+ASG28)","v":10.025921655168183},null,{"$f":"IF(ASJ27>0,\" \",IF(OR(ASQ28=\"Failure\",ASI28=\"Abandon\"),ARX28,))","v":0},{"$f":"IF(ASC28>0,RANDBETWEEN(0,1000),1000)","v":573},1.0529161749572178,2.0157951277379702,0,{"$f":"IF(ARX28=$D$14*$D$12,IF(ASN28+(ASM29*$D$18)/(($D$16*$D$13)-($D$8*$D$13))<0,ASN28,ASN28+(ASM29*$D$18)/(($D$16*$D$13)-($D$8*$D$13))),IF(ASN28=0,EXP(-($D$16)*$D$13)*ASO29+ASN28,EXP(-($D$16)*$D$13)*ASO29+ASN28))","v":41.043311006620627},null,null,null,null,{"$f":"IF(AST27<$D$14*$D$12,AST27+1,IF(AST27=$D$14*$D$12,,))","v":1},{"$f":"ARY28","v":0.5},0.21569200414497719,{"$f":"$D$27","v":2.1428571428571428},11.185696841814067,11.185696841814067,{"$f":"IF(AND(ASY27>0,ASY28=0),EXP(-($D$16)*$D$13)*ASZ29+IF(ASW28-(0-ASX28)<0,0,ASW28-(0-ASX28)),IF(ASY28=0,0,EXP(-($D$16)*$D$13)*ASZ29+ASW28))","v":10.025921655168183},null,{"$f":"MAX(ATK28-ASZ28,0)","v":31.017389351452444},{"$f":"IF(ASX28=0,0,IF(AST28=0,0,IF(ATF$26=1000,IF(ASX28<0,IF(ASX27>0,IF(ASW28-(0-ASX28)<0,0,ASW28-(0-ASX28)),0),IF(ATF$26>=AST28,ASW28,0)),IF(ATF$26>=AST28,ASW28,0))))","v":2.1428571428571428},{"$f":"IF(ATF28=AST28,0,EXP(-($D$16)*$D$13)*(ATD29)+ATC28)","v":10.025921655168183},null,{"$f":"IF(ATF27>0,\" \",IF(OR(ATM28=\"Failure\",ATE28=\"Abandon\"),AST28,))","v":0},{"$f":"IF(ASY28>0,RANDBETWEEN(0,1000),1000)","v":280},1.0529161749572178,2.0157951277379702,0,{"$f":"IF(AST28=$D$14*$D$12,IF(ATJ28+(ATI29*$D$18)/(($D$16*$D$13)-($D$8*$D$13))<0,ATJ28,ATJ28+(ATI29*$D$18)/(($D$16*$D$13)-($D$8*$D$13))),IF(ATJ28=0,EXP(-($D$16)*$D$13)*ATK29+ATJ28,EXP(-($D$16)*$D$13)*ATK29+ATJ28))","v":41.043311006620627},null,null,null,null,{"$f":"IF(ATP27<$D$14*$D$12,ATP27+1,IF(ATP27=$D$14*$D$12,,))","v":1},{"$f":"ASU28","v":0.5},0.21569200414497719,{"$f":"$D$27","v":2.1428571428571428},11.185696841814067,11.185696841814067,{"$f":"IF(AND(ATU27>0,ATU28=0),EXP(-($D$16)*$D$13)*ATV29+IF(ATS28-(0-ATT28)<0,0,ATS28-(0-ATT28)),IF(ATU28=0,0,EXP(-($D$16)*$D$13)*ATV29+ATS28))","v":10.025921655168183},null,{"$f":"MAX(AUG28-ATV28,0)","v":31.017389351452444},{"$f":"IF(ATT28=0,0,IF(ATP28=0,0,IF(AUB$26=1000,IF(ATT28<0,IF(ATT27>0,IF(ATS28-(0-ATT28)<0,0,ATS28-(0-ATT28)),0),IF(AUB$26>=ATP28,ATS28,0)),IF(AUB$26>=ATP28,ATS28,0))))","v":2.1428571428571428},{"$f":"IF(AUB28=ATP28,0,EXP(-($D$16)*$D$13)*(ATZ29)+ATY28)","v":10.025921655168183},null,{"$f":"IF(AUB27>0,\" \",IF(OR(AUI28=\"Failure\",AUA28=\"Abandon\"),ATP28,))","v":0},{"$f":"IF(ATU28>0,RANDBETWEEN(0,1000),1000)","v":455},1.0529161749572178,2.0157951277379702,0,{"$f":"IF(ATP28=$D$14*$D$12,IF(AUF28+(AUE29*$D$18)/(($D$16*$D$13)-($D$8*$D$13))<0,AUF28,AUF28+(AUE29*$D$18)/(($D$16*$D$13)-($D$8*$D$13))),IF(AUF28=0,EXP(-($D$16)*$D$13)*AUG29+AUF28,EXP(-($D$16)*$D$13)*AUG29+AUF28))","v":41.043311006620627},null,null,null,null,{"$f":"IF(AUL27<$D$14*$D$12,AUL27+1,IF(AUL27=$D$14*$D$12,,))","v":1},{"$f":"ATQ28","v":0.5},0.21569200414497719,{"$f":"$D$27","v":2.1428571428571428},11.185696841814067,11.185696841814067,{"$f":"IF(AND(AUQ27>0,AUQ28=0),EXP(-($D$16)*$D$13)*AUR29+IF(AUO28-(0-AUP28)<0,0,AUO28-(0-AUP28)),IF(AUQ28=0,0,EXP(-($D$16)*$D$13)*AUR29+AUO28))","v":10.025921655168183},null,{"$f":"MAX(AVC28-AUR28,0)","v":31.017389351452444},{"$f":"IF(AUP28=0,0,IF(AUL28=0,0,IF(AUX$26=1000,IF(AUP28<0,IF(AUP27>0,IF(AUO28-(0-AUP28)<0,0,AUO28-(0-AUP28)),0),IF(AUX$26>=AUL28,AUO28,0)),IF(AUX$26>=AUL28,AUO28,0))))","v":2.1428571428571428},{"$f":"IF(AUX28=AUL28,0,EXP(-($D$16)*$D$13)*(AUV29)+AUU28)","v":10.025921655168183},null,{"$f":"IF(AUX27>0,\" \",IF(OR(AVE28=\"Failure\",AUW28=\"Abandon\"),AUL28,))","v":0},{"$f":"IF(AUQ28>0,RANDBETWEEN(0,1000),1000)","v":583},1.0529161749572178,2.0157951277379702,0,{"$f":"IF(AUL28=$D$14*$D$12,IF(AVB28+(AVA29*$D$18)/(($D$16*$D$13)-($D$8*$D$13))<0,AVB28,AVB28+(AVA29*$D$18)/(($D$16*$D$13)-($D$8*$D$13))),IF(AVB28=0,EXP(-($D$16)*$D$13)*AVC29+AVB28,EXP(-($D$16)*$D$13)*AVC29+AVB28))","v":41.043311006620627},null,null,null,null,{"$f":"IF(AVH27<$D$14*$D$12,AVH27+1,IF(AVH27=$D$14*$D$12,,))","v":1},{"$f":"AUM28","v":0.5},0.21569200414497719,{"$f":"$D$27","v":2.1428571428571428},11.185696841814067,11.185696841814067,{"$f":"IF(AND(AVM27>0,AVM28=0),EXP(-($D$16)*$D$13)*AVN29+IF(AVK28-(0-AVL28)<0,0,AVK28-(0-AVL28)),IF(AVM28=0,0,EXP(-($D$16)*$D$13)*AVN29+AVK28))","v":10.025921655168183},null,{"$f":"MAX(AVY28-AVN28,0)","v":31.017389351452444},{"$f":"IF(AVL28=0,0,IF(AVH28=0,0,IF(AVT$26=1000,IF(AVL28<0,IF(AVL27>0,IF(AVK28-(0-AVL28)<0,0,AVK28-(0-AVL28)),0),IF(AVT$26>=AVH28,AVK28,0)),IF(AVT$26>=AVH28,AVK28,0))))","v":2.1428571428571428},{"$f":"IF(AVT28=AVH28,0,EXP(-($D$16)*$D$13)*(AVR29)+AVQ28)","v":10.025921655168183},null,{"$f":"IF(AVT27>0,\" \",IF(OR(AWA28=\"Failure\",AVS28=\"Abandon\"),AVH28,))","v":0},{"$f":"IF(AVM28>0,RANDBETWEEN(0,1000),1000)","v":516},1.0529161749572178,2.0157951277379702,0,{"$f":"IF(AVH28=$D$14*$D$12,IF(AVX28+(AVW29*$D$18)/(($D$16*$D$13)-($D$8*$D$13))<0,AVX28,AVX28+(AVW29*$D$18)/(($D$16*$D$13)-($D$8*$D$13))),IF(AVX28=0,EXP(-($D$16)*$D$13)*AVY29+AVX28,EXP(-($D$16)*$D$13)*AVY29+AVX28))","v":41.043311006620627},null,null,null,null,{"$f":"IF(AWD27<$D$14*$D$12,AWD27+1,IF(AWD27=$D$14*$D$12,,))","v":1},{"$f":"AVI28","v":0.5},0.21569200414497719,{"$f":"$D$27","v":2.1428571428571428},11.185696841814067,11.185696841814067,{"$f":"IF(AND(AWI27>0,AWI28=0),EXP(-($D$16)*$D$13)*AWJ29+IF(AWG28-(0-AWH28)<0,0,AWG28-(0-AWH28)),IF(AWI28=0,0,EXP(-($D$16)*$D$13)*AWJ29+AWG28))","v":10.025921655168183},null,{"$f":"MAX(AWU28-AWJ28,0)","v":31.017389351452444},{"$f":"IF(AWH28=0,0,IF(AWD28=0,0,IF(AWP$26=1000,IF(AWH28<0,IF(AWH27>0,IF(AWG28-(0-AWH28)<0,0,AWG28-(0-AWH28)),0),IF(AWP$26>=AWD28,AWG28,0)),IF(AWP$26>=AWD28,AWG28,0))))","v":2.1428571428571428},{"$f":"IF(AWP28=AWD28,0,EXP(-($D$16)*$D$13)*(AWN29)+AWM28)","v":10.025921655168183},null,{"$f":"IF(AWP27>0,\" \",IF(OR(AWW28=\"Failure\",AWO28=\"Abandon\"),AWD28,))","v":0},{"$f":"IF(AWI28>0,RANDBETWEEN(0,1000),1000)","v":806},1.0529161749572178,2.0157951277379702,0,{"$f":"IF(AWD28=$D$14*$D$12,IF(AWT28+(AWS29*$D$18)/(($D$16*$D$13)-($D$8*$D$13))<0,AWT28,AWT28+(AWS29*$D$18)/(($D$16*$D$13)-($D$8*$D$13))),IF(AWT28=0,EXP(-($D$16)*$D$13)*AWU29+AWT28,EXP(-($D$16)*$D$13)*AWU29+AWT28))","v":41.043311006620627},null,null,null,null,{"$f":"IF(AWZ27<$D$14*$D$12,AWZ27+1,IF(AWZ27=$D$14*$D$12,,))","v":1},{"$f":"AWE28","v":0.5},0.21569200414497719,{"$f":"$D$27","v":2.1428571428571428},11.185696841814067,11.185696841814067,{"$f":"IF(AND(AXE27>0,AXE28=0),EXP(-($D$16)*$D$13)*AXF29+IF(AXC28-(0-AXD28)<0,0,AXC28-(0-AXD28)),IF(AXE28=0,0,EXP(-($D$16)*$D$13)*AXF29+AXC28))","v":10.025921655168183},null,{"$f":"MAX(AXQ28-AXF28,0)","v":31.017389351452444},{"$f":"IF(AXD28=0,0,IF(AWZ28=0,0,IF(AXL$26=1000,IF(AXD28<0,IF(AXD27>0,IF(AXC28-(0-AXD28)<0,0,AXC28-(0-AXD28)),0),IF(AXL$26>=AWZ28,AXC28,0)),IF(AXL$26>=AWZ28,AXC28,0))))","v":2.1428571428571428},{"$f":"IF(AXL28=AWZ28,0,EXP(-($D$16)*$D$13)*(AXJ29)+AXI28)","v":10.025921655168183},null,{"$f":"IF(AXL27>0,\" \",IF(OR(AXS28=\"Failure\",AXK28=\"Abandon\"),AWZ28,))","v":0},{"$f":"IF(AXE28>0,RANDBETWEEN(0,1000),1000)","v":411},1.0529161749572178,2.0157951277379702,0,{"$f":"IF(AWZ28=$D$14*$D$12,IF(AXP28+(AXO29*$D$18)/(($D$16*$D$13)-($D$8*$D$13))<0,AXP28,AXP28+(AXO29*$D$18)/(($D$16*$D$13)-($D$8*$D$13))),IF(AXP28=0,EXP(-($D$16)*$D$13)*AXQ29+AXP28,EXP(-($D$16)*$D$13)*AXQ29+AXP28))","v":41.043311006620627},null,null,null,null,{"$f":"IF(AXV27<$D$14*$D$12,AXV27+1,IF(AXV27=$D$14*$D$12,,))","v":1},{"$f":"AXA28","v":0.5},0.21569200414497719,{"$f":"$D$27","v":2.1428571428571428},11.185696841814067,11.185696841814067,{"$f":"IF(AND(AYA27>0,AYA28=0),EXP(-($D$16)*$D$13)*AYB29+IF(AXY28-(0-AXZ28)<0,0,AXY28-(0-AXZ28)),IF(AYA28=0,0,EXP(-($D$16)*$D$13)*AYB29+AXY28))","v":10.025921655168183},null,{"$f":"MAX(AYM28-AYB28,0)","v":31.017389351452444},{"$f":"IF(AXZ28=0,0,IF(AXV28=0,0,IF(AYH$26=1000,IF(AXZ28<0,IF(AXZ27>0,IF(AXY28-(0-AXZ28)<0,0,AXY28-(0-AXZ28)),0),IF(AYH$26>=AXV28,AXY28,0)),IF(AYH$26>=AXV28,AXY28,0))))","v":2.1428571428571428},{"$f":"IF(AYH28=AXV28,0,EXP(-($D$16)*$D$13)*(AYF29)+AYE28)","v":10.025921655168183},null,{"$f":"IF(AYH27>0,\" \",IF(OR(AYO28=\"Failure\",AYG28=\"Abandon\"),AXV28,))","v":0},{"$f":"IF(AYA28>0,RANDBETWEEN(0,1000),1000)","v":775},1.0529161749572178,2.0157951277379702,0,{"$f":"IF(AXV28=$D$14*$D$12,IF(AYL28+(AYK29*$D$18)/(($D$16*$D$13)-($D$8*$D$13))<0,AYL28,AYL28+(AYK29*$D$18)/(($D$16*$D$13)-($D$8*$D$13))),IF(AYL28=0,EXP(-($D$16)*$D$13)*AYM29+AYL28,EXP(-($D$16)*$D$13)*AYM29+AYL28))","v":41.043311006620627},null,null,null,null,{"$f":"IF(AYR27<$D$14*$D$12,AYR27+1,IF(AYR27=$D$14*$D$12,,))","v":1},{"$f":"AXW28","v":0.5},0.21569200414497719,{"$f":"$D$27","v":2.1428571428571428},11.185696841814067,11.185696841814067,{"$f":"IF(AND(AYW27>0,AYW28=0),EXP(-($D$16)*$D$13)*AYX29+IF(AYU28-(0-AYV28)<0,0,AYU28-(0-AYV28)),IF(AYW28=0,0,EXP(-($D$16)*$D$13)*AYX29+AYU28))","v":10.025921655168183},null,{"$f":"MAX(AZI28-AYX28,0)","v":31.017389351452444},{"$f":"IF(AYV28=0,0,IF(AYR28=0,0,IF(AZD$26=1000,IF(AYV28<0,IF(AYV27>0,IF(AYU28-(0-AYV28)<0,0,AYU28-(0-AYV28)),0),IF(AZD$26>=AYR28,AYU28,0)),IF(AZD$26>=AYR28,AYU28,0))))","v":2.1428571428571428},{"$f":"IF(AZD28=AYR28,0,EXP(-($D$16)*$D$13)*(AZB29)+AZA28)","v":10.025921655168183},null,{"$f":"IF(AZD27>0,\" \",IF(OR(AZK28=\"Failure\",AZC28=\"Abandon\"),AYR28,))","v":0},{"$f":"IF(AYW28>0,RANDBETWEEN(0,1000),1000)","v":777},1.0529161749572178,2.0157951277379702,0,{"$f":"IF(AYR28=$D$14*$D$12,IF(AZH28+(AZG29*$D$18)/(($D$16*$D$13)-($D$8*$D$13))<0,AZH28,AZH28+(AZG29*$D$18)/(($D$16*$D$13)-($D$8*$D$13))),IF(AZH28=0,EXP(-($D$16)*$D$13)*AZI29+AZH28,EXP(-($D$16)*$D$13)*AZI29+AZH28))","v":41.043311006620627},null,null,null,null,{"$f":"IF(AZN27<$D$14*$D$12,AZN27+1,IF(AZN27=$D$14*$D$12,,))","v":1},{"$f":"AYS28","v":0.5},0.21569200414497719,{"$f":"$D$27","v":2.1428571428571428},11.185696841814067,11.185696841814067,{"$f":"IF(AND(AZS27>0,AZS28=0),EXP(-($D$16)*$D$13)*AZT29+IF(AZQ28-(0-AZR28)<0,0,AZQ28-(0-AZR28)),IF(AZS28=0,0,EXP(-($D$16)*$D$13)*AZT29+AZQ28))","v":10.025921655168183},null,{"$f":"MAX(BAE28-AZT28,0)","v":31.017389351452444},{"$f":"IF(AZR28=0,0,IF(AZN28=0,0,IF(AZZ$26=1000,IF(AZR28<0,IF(AZR27>0,IF(AZQ28-(0-AZR28)<0,0,AZQ28-(0-AZR28)),0),IF(AZZ$26>=AZN28,AZQ28,0)),IF(AZZ$26>=AZN28,AZQ28,0))))","v":2.1428571428571428},{"$f":"IF(AZZ28=AZN28,0,EXP(-($D$16)*$D$13)*(AZX29)+AZW28)","v":10.025921655168183},null,{"$f":"IF(AZZ27>0,\" \",IF(OR(BAG28=\"Failure\",AZY28=\"Abandon\"),AZN28,))","v":0},{"$f":"IF(AZS28>0,RANDBETWEEN(0,1000),1000)","v":631},1.0529161749572178,2.0157951277379702,0,{"$f":"IF(AZN28=$D$14*$D$12,IF(BAD28+(BAC29*$D$18)/(($D$16*$D$13)-($D$8*$D$13))<0,BAD28,BAD28+(BAC29*$D$18)/(($D$16*$D$13)-($D$8*$D$13))),IF(BAD28=0,EXP(-($D$16)*$D$13)*BAE29+BAD28,EXP(-($D$16)*$D$13)*BAE29+BAD28))","v":41.043311006620627},null,null,null,null,{"$f":"IF(BAJ27<$D$14*$D$12,BAJ27+1,IF(BAJ27=$D$14*$D$12,,))","v":1},{"$f":"AZO28","v":0.5},0.21569200414497719,{"$f":"$D$27","v":2.1428571428571428},11.185696841814067,11.185696841814067,{"$f":"IF(AND(BAO27>0,BAO28=0),EXP(-($D$16)*$D$13)*BAP29+IF(BAM28-(0-BAN28)<0,0,BAM28-(0-BAN28)),IF(BAO28=0,0,EXP(-($D$16)*$D$13)*BAP29+BAM28))","v":10.025921655168183},null,{"$f":"MAX(BBA28-BAP28,0)","v":31.017389351452444},{"$f":"IF(BAN28=0,0,IF(BAJ28=0,0,IF(BAV$26=1000,IF(BAN28<0,IF(BAN27>0,IF(BAM28-(0-BAN28)<0,0,BAM28-(0-BAN28)),0),IF(BAV$26>=BAJ28,BAM28,0)),IF(BAV$26>=BAJ28,BAM28,0))))","v":2.1428571428571428},{"$f":"IF(BAV28=BAJ28,0,EXP(-($D$16)*$D$13)*(BAT29)+BAS28)","v":10.025921655168183},null,{"$f":"IF(BAV27>0,\" \",IF(OR(BBC28=\"Failure\",BAU28=\"Abandon\"),BAJ28,))","v":0},{"$f":"IF(BAO28>0,RANDBETWEEN(0,1000),1000)","v":164},1.0529161749572178,2.0157951277379702,0,{"$f":"IF(BAJ28=$D$14*$D$12,IF(BAZ28+(BAY29*$D$18)/(($D$16*$D$13)-($D$8*$D$13))<0,BAZ28,BAZ28+(BAY29*$D$18)/(($D$16*$D$13)-($D$8*$D$13))),IF(BAZ28=0,EXP(-($D$16)*$D$13)*BBA29+BAZ28,EXP(-($D$16)*$D$13)*BBA29+BAZ28))","v":41.043311006620627},null,null,null,null,{"$f":"IF(BBF27<$D$14*$D$12,BBF27+1,IF(BBF27=$D$14*$D$12,,))","v":1},{"$f":"BAK28","v":0.5},0.21569200414497719,{"$f":"$D$27","v":2.1428571428571428},11.185696841814067,11.185696841814067,{"$f":"IF(AND(BBK27>0,BBK28=0),EXP(-($D$16)*$D$13)*BBL29+IF(BBI28-(0-BBJ28)<0,0,BBI28-(0-BBJ28)),IF(BBK28=0,0,EXP(-($D$16)*$D$13)*BBL29+BBI28))","v":10.025921655168183},null,{"$f":"MAX(BBW28-BBL28,0)","v":31.017389351452444},{"$f":"IF(BBJ28=0,0,IF(BBF28=0,0,IF(BBR$26=1000,IF(BBJ28<0,IF(BBJ27>0,IF(BBI28-(0-BBJ28)<0,0,BBI28-(0-BBJ28)),0),IF(BBR$26>=BBF28,BBI28,0)),IF(BBR$26>=BBF28,BBI28,0))))","v":2.1428571428571428},{"$f":"IF(BBR28=BBF28,0,EXP(-($D$16)*$D$13)*(BBP29)+BBO28)","v":10.025921655168183},null,{"$f":"IF(BBR27>0,\" \",IF(OR(BBY28=\"Failure\",BBQ28=\"Abandon\"),BBF28,))","v":0},{"$f":"IF(BBK28>0,RANDBETWEEN(0,1000),1000)","v":333},1.0529161749572178,2.0157951277379702,0,{"$f":"IF(BBF28=$D$14*$D$12,IF(BBV28+(BBU29*$D$18)/(($D$16*$D$13)-($D$8*$D$13))<0,BBV28,BBV28+(BBU29*$D$18)/(($D$16*$D$13)-($D$8*$D$13))),IF(BBV28=0,EXP(-($D$16)*$D$13)*BBW29+BBV28,EXP(-($D$16)*$D$13)*BBW29+BBV28))","v":41.043311006620627},null,null,null,null,{"$f":"IF(BCB27<$D$14*$D$12,BCB27+1,IF(BCB27=$D$14*$D$12,,))","v":1},{"$f":"BBG28","v":0.5},0.21569200414497719,{"$f":"$D$27","v":2.1428571428571428},11.185696841814067,11.185696841814067,{"$f":"IF(AND(BCG27>0,BCG28=0),EXP(-($D$16)*$D$13)*BCH29+IF(BCE28-(0-BCF28)<0,0,BCE28-(0-BCF28)),IF(BCG28=0,0,EXP(-($D$16)*$D$13)*BCH29+BCE28))","v":10.025921655168183},null,{"$f":"MAX(BCS28-BCH28,0)","v":31.017389351452444},{"$f":"IF(BCF28=0,0,IF(BCB28=0,0,IF(BCN$26=1000,IF(BCF28<0,IF(BCF27>0,IF(BCE28-(0-BCF28)<0,0,BCE28-(0-BCF28)),0),IF(BCN$26>=BCB28,BCE28,0)),IF(BCN$26>=BCB28,BCE28,0))))","v":2.1428571428571428},{"$f":"IF(BCN28=BCB28,0,EXP(-($D$16)*$D$13)*(BCL29)+BCK28)","v":10.025921655168183},null,{"$f":"IF(BCN27>0,\" \",IF(OR(BCU28=\"Failure\",BCM28=\"Abandon\"),BCB28,))","v":0},{"$f":"IF(BCG28>0,RANDBETWEEN(0,1000),1000)","v":972},1.0529161749572178,2.0157951277379702,0,{"$f":"IF(BCB28=$D$14*$D$12,IF(BCR28+(BCQ29*$D$18)/(($D$16*$D$13)-($D$8*$D$13))<0,BCR28,BCR28+(BCQ29*$D$18)/(($D$16*$D$13)-($D$8*$D$13))),IF(BCR28=0,EXP(-($D$16)*$D$13)*BCS29+BCR28,EXP(-($D$16)*$D$13)*BCS29+BCR28))","v":41.043311006620627},null,null,null,null,{"$f":"IF(BCX27<$D$14*$D$12,BCX27+1,IF(BCX27=$D$14*$D$12,,))","v":1},{"$f":"BCC28","v":0.5},0.21569200414497719,{"$f":"$D$27","v":2.1428571428571428},11.185696841814067,11.185696841814067,{"$f":"IF(AND(BDC27>0,BDC28=0),EXP(-($D$16)*$D$13)*BDD29+IF(BDA28-(0-BDB28)<0,0,BDA28-(0-BDB28)),IF(BDC28=0,0,EXP(-($D$16)*$D$13)*BDD29+BDA28))","v":10.025921655168183},null,{"$f":"MAX(BDO28-BDD28,0)","v":31.017389351452444},{"$f":"IF(BDB28=0,0,IF(BCX28=0,0,IF(BDJ$26=1000,IF(BDB28<0,IF(BDB27>0,IF(BDA28-(0-BDB28)<0,0,BDA28-(0-BDB28)),0),IF(BDJ$26>=BCX28,BDA28,0)),IF(BDJ$26>=BCX28,BDA28,0))))","v":2.1428571428571428},{"$f":"IF(BDJ28=BCX28,0,EXP(-($D$16)*$D$13)*(BDH29)+BDG28)","v":10.025921655168183},null,{"$f":"IF(BDJ27>0,\" \",IF(OR(BDQ28=\"Failure\",BDI28=\"Abandon\"),BCX28,))","v":0},{"$f":"IF(BDC28>0,RANDBETWEEN(0,1000),1000)","v":724},1.0529161749572178,2.0157951277379702,0,{"$f":"IF(BCX28=$D$14*$D$12,IF(BDN28+(BDM29*$D$18)/(($D$16*$D$13)-($D$8*$D$13))<0,BDN28,BDN28+(BDM29*$D$18)/(($D$16*$D$13)-($D$8*$D$13))),IF(BDN28=0,EXP(-($D$16)*$D$13)*BDO29+BDN28,EXP(-($D$16)*$D$13)*BDO29+BDN28))","v":41.043311006620627},null,null,null,null,{"$f":"IF(BDT27<$D$14*$D$12,BDT27+1,IF(BDT27=$D$14*$D$12,,))","v":1},{"$f":"BCY28","v":0.5},0.21569200414497719,{"$f":"$D$27","v":2.1428571428571428},11.185696841814067,11.185696841814067,{"$f":"IF(AND(BDY27>0,BDY28=0),EXP(-($D$16)*$D$13)*BDZ29+IF(BDW28-(0-BDX28)<0,0,BDW28-(0-BDX28)),IF(BDY28=0,0,EXP(-($D$16)*$D$13)*BDZ29+BDW28))","v":10.025921655168183},null,{"$f":"MAX(BEK28-BDZ28,0)","v":31.017389351452444},{"$f":"IF(BDX28=0,0,IF(BDT28=0,0,IF(BEF$26=1000,IF(BDX28<0,IF(BDX27>0,IF(BDW28-(0-BDX28)<0,0,BDW28-(0-BDX28)),0),IF(BEF$26>=BDT28,BDW28,0)),IF(BEF$26>=BDT28,BDW28,0))))","v":2.1428571428571428},{"$f":"IF(BEF28=BDT28,0,EXP(-($D$16)*$D$13)*(BED29)+BEC28)","v":10.025921655168183},null,{"$f":"IF(BEF27>0,\" \",IF(OR(BEM28=\"Failure\",BEE28=\"Abandon\"),BDT28,))","v":0},{"$f":"IF(BDY28>0,RANDBETWEEN(0,1000),1000)","v":759},1.0529161749572178,2.0157951277379702,0,{"$f":"IF(BDT28=$D$14*$D$12,IF(BEJ28+(BEI29*$D$18)/(($D$16*$D$13)-($D$8*$D$13))<0,BEJ28,BEJ28+(BEI29*$D$18)/(($D$16*$D$13)-($D$8*$D$13))),IF(BEJ28=0,EXP(-($D$16)*$D$13)*BEK29+BEJ28,EXP(-($D$16)*$D$13)*BEK29+BEJ28))","v":41.043311006620627},null,null,null,null,{"$f":"IF(BEP27<$D$14*$D$12,BEP27+1,IF(BEP27=$D$14*$D$12,,))","v":1},{"$f":"BDU28","v":0.5},0.21569200414497719,{"$f":"$D$27","v":2.1428571428571428},11.185696841814067,11.185696841814067,{"$f":"IF(AND(BEU27>0,BEU28=0),EXP(-($D$16)*$D$13)*BEV29+IF(BES28-(0-BET28)<0,0,BES28-(0-BET28)),IF(BEU28=0,0,EXP(-($D$16)*$D$13)*BEV29+BES28))","v":10.025921655168183},null,{"$f":"MAX(BFG28-BEV28,0)","v":31.017389351452444},{"$f":"IF(BET28=0,0,IF(BEP28=0,0,IF(BFB$26=1000,IF(BET28<0,IF(BET27>0,IF(BES28-(0-BET28)<0,0,BES28-(0-BET28)),0),IF(BFB$26>=BEP28,BES28,0)),IF(BFB$26>=BEP28,BES28,0))))","v":2.1428571428571428},{"$f":"IF(BFB28=BEP28,0,EXP(-($D$16)*$D$13)*(BEZ29)+BEY28)","v":10.025921655168183},null,{"$f":"IF(BFB27>0,\" \",IF(OR(BFI28=\"Failure\",BFA28=\"Abandon\"),BEP28,))","v":0},{"$f":"IF(BEU28>0,RANDBETWEEN(0,1000),1000)","v":508},1.0529161749572178,2.0157951277379702,0,{"$f":"IF(BEP28=$D$14*$D$12,IF(BFF28+(BFE29*$D$18)/(($D$16*$D$13)-($D$8*$D$13))<0,BFF28,BFF28+(BFE29*$D$18)/(($D$16*$D$13)-($D$8*$D$13))),IF(BFF28=0,EXP(-($D$16)*$D$13)*BFG29+BFF28,EXP(-($D$16)*$D$13)*BFG29+BFF28))","v":41.043311006620627},null,null,null,null,{"$f":"IF(BFL27<$D$14*$D$12,BFL27+1,IF(BFL27=$D$14*$D$12,,))","v":1},{"$f":"BEQ28","v":0.5},0.21569200414497719,{"$f":"$D$27","v":2.1428571428571428},11.185696841814067,11.185696841814067,{"$f":"IF(AND(BFQ27>0,BFQ28=0),EXP(-($D$16)*$D$13)*BFR29+IF(BFO28-(0-BFP28)<0,0,BFO28-(0-BFP28)),IF(BFQ28=0,0,EXP(-($D$16)*$D$13)*BFR29+BFO28))","v":10.025921655168183},null,{"$f":"MAX(BGC28-BFR28,0)","v":31.017389351452444},{"$f":"IF(BFP28=0,0,IF(BFL28=0,0,IF(BFX$26=1000,IF(BFP28<0,IF(BFP27>0,IF(BFO28-(0-BFP28)<0,0,BFO28-(0-BFP28)),0),IF(BFX$26>=BFL28,BFO28,0)),IF(BFX$26>=BFL28,BFO28,0))))","v":2.1428571428571428},{"$f":"IF(BFX28=BFL28,0,EXP(-($D$16)*$D$13)*(BFV29)+BFU28)","v":10.025921655168183},null,{"$f":"IF(BFX27>0,\" \",IF(OR(BGE28=\"Failure\",BFW28=\"Abandon\"),BFL28,))","v":0},{"$f":"IF(BFQ28>0,RANDBETWEEN(0,1000),1000)","v":792},1.0529161749572178,2.0157951277379702,0,{"$f":"IF(BFL28=$D$14*$D$12,IF(BGB28+(BGA29*$D$18)/(($D$16*$D$13)-($D$8*$D$13))<0,BGB28,BGB28+(BGA29*$D$18)/(($D$16*$D$13)-($D$8*$D$13))),IF(BGB28=0,EXP(-($D$16)*$D$13)*BGC29+BGB28,EXP(-($D$16)*$D$13)*BGC29+BGB28))","v":41.043311006620627},null,null,null,null,{"$f":"IF(BGH27<$D$14*$D$12,BGH27+1,IF(BGH27=$D$14*$D$12,,))","v":1},{"$f":"BFM28","v":0.5},0.21569200414497719,{"$f":"$D$27","v":2.1428571428571428},11.185696841814067,11.185696841814067,{"$f":"IF(AND(BGM27>0,BGM28=0),EXP(-($D$16)*$D$13)*BGN29+IF(BGK28-(0-BGL28)<0,0,BGK28-(0-BGL28)),IF(BGM28=0,0,EXP(-($D$16)*$D$13)*BGN29+BGK28))","v":10.025921655168183},null,{"$f":"MAX(BGY28-BGN28,0)","v":31.017389351452444},{"$f":"IF(BGL28=0,0,IF(BGH28=0,0,IF(BGT$26=1000,IF(BGL28<0,IF(BGL27>0,IF(BGK28-(0-BGL28)<0,0,BGK28-(0-BGL28)),0),IF(BGT$26>=BGH28,BGK28,0)),IF(BGT$26>=BGH28,BGK28,0))))","v":2.1428571428571428},{"$f":"IF(BGT28=BGH28,0,EXP(-($D$16)*$D$13)*(BGR29)+BGQ28)","v":10.025921655168183},null,{"$f":"IF(BGT27>0,\" \",IF(OR(BHA28=\"Failure\",BGS28=\"Abandon\"),BGH28,))","v":0},{"$f":"IF(BGM28>0,RANDBETWEEN(0,1000),1000)","v":892},1.0529161749572178,2.0157951277379702,0,{"$f":"IF(BGH28=$D$14*$D$12,IF(BGX28+(BGW29*$D$18)/(($D$16*$D$13)-($D$8*$D$13))<0,BGX28,BGX28+(BGW29*$D$18)/(($D$16*$D$13)-($D$8*$D$13))),IF(BGX28=0,EXP(-($D$16)*$D$13)*BGY29+BGX28,EXP(-($D$16)*$D$13)*BGY29+BGX28))","v":41.043311006620627},null,null,null,null,{"$f":"IF(BHD27<$D$14*$D$12,BHD27+1,IF(BHD27=$D$14*$D$12,,))","v":1},{"$f":"BGI28","v":0.5},0.21569200414497719,{"$f":"$D$27","v":2.1428571428571428},11.185696841814067,11.185696841814067,{"$f":"IF(AND(BHI27>0,BHI28=0),EXP(-($D$16)*$D$13)*BHJ29+IF(BHG28-(0-BHH28)<0,0,BHG28-(0-BHH28)),IF(BHI28=0,0,EXP(-($D$16)*$D$13)*BHJ29+BHG28))","v":10.025921655168183},null,{"$f":"MAX(BHU28-BHJ28,0)","v":31.017389351452444},{"$f":"IF(BHH28=0,0,IF(BHD28=0,0,IF(BHP$26=1000,IF(BHH28<0,IF(BHH27>0,IF(BHG28-(0-BHH28)<0,0,BHG28-(0-BHH28)),0),IF(BHP$26>=BHD28,BHG28,0)),IF(BHP$26>=BHD28,BHG28,0))))","v":2.1428571428571428},{"$f":"IF(BHP28=BHD28,0,EXP(-($D$16)*$D$13)*(BHN29)+BHM28)","v":10.025921655168183},null,{"$f":"IF(BHP27>0,\" \",IF(OR(BHW28=\"Failure\",BHO28=\"Abandon\"),BHD28,))","v":0},{"$f":"IF(BHI28>0,RANDBETWEEN(0,1000),1000)","v":244},1.0529161749572178,2.0157951277379702,0,{"$f":"IF(BHD28=$D$14*$D$12,IF(BHT28+(BHS29*$D$18)/(($D$16*$D$13)-($D$8*$D$13))<0,BHT28,BHT28+(BHS29*$D$18)/(($D$16*$D$13)-($D$8*$D$13))),IF(BHT28=0,EXP(-($D$16)*$D$13)*BHU29+BHT28,EXP(-($D$16)*$D$13)*BHU29+BHT28))","v":41.043311006620627},null,null,null,null,{"$f":"IF(BHZ27<$D$14*$D$12,BHZ27+1,IF(BHZ27=$D$14*$D$12,,))","v":1},{"$f":"BHE28","v":0.5},0.21569200414497719,{"$f":"$D$27","v":2.1428571428571428},11.185696841814067,11.185696841814067,{"$f":"IF(AND(BIE27>0,BIE28=0),EXP(-($D$16)*$D$13)*BIF29+IF(BIC28-(0-BID28)<0,0,BIC28-(0-BID28)),IF(BIE28=0,0,EXP(-($D$16)*$D$13)*BIF29+BIC28))","v":10.025921655168183},null,{"$f":"MAX(BIQ28-BIF28,0)","v":31.017389351452444},{"$f":"IF(BID28=0,0,IF(BHZ28=0,0,IF(BIL$26=1000,IF(BID28<0,IF(BID27>0,IF(BIC28-(0-BID28)<0,0,BIC28-(0-BID28)),0),IF(BIL$26>=BHZ28,BIC28,0)),IF(BIL$26>=BHZ28,BIC28,0))))","v":2.1428571428571428},{"$f":"IF(BIL28=BHZ28,0,EXP(-($D$16)*$D$13)*(BIJ29)+BII28)","v":10.025921655168183},null,{"$f":"IF(BIL27>0,\" \",IF(OR(BIS28=\"Failure\",BIK28=\"Abandon\"),BHZ28,))","v":0},{"$f":"IF(BIE28>0,RANDBETWEEN(0,1000),1000)","v":253},1.0529161749572178,2.0157951277379702,0,{"$f":"IF(BHZ28=$D$14*$D$12,IF(BIP28+(BIO29*$D$18)/(($D$16*$D$13)-($D$8*$D$13))<0,BIP28,BIP28+(BIO29*$D$18)/(($D$16*$D$13)-($D$8*$D$13))),IF(BIP28=0,EXP(-($D$16)*$D$13)*BIQ29+BIP28,EXP(-($D$16)*$D$13)*BIQ29+BIP28))","v":41.043311006620627},null,null,null,null,{"$f":"IF(BIV27<$D$14*$D$12,BIV27+1,IF(BIV27=$D$14*$D$12,,))","v":1},{"$f":"BIA28","v":0.5},0.21569200414497719,{"$f":"$D$27","v":2.1428571428571428},11.185696841814067,11.185696841814067,{"$f":"IF(AND(BJA27>0,BJA28=0),EXP(-($D$16)*$D$13)*BJB29+IF(BIY28-(0-BIZ28)<0,0,BIY28-(0-BIZ28)),IF(BJA28=0,0,EXP(-($D$16)*$D$13)*BJB29+BIY28))","v":10.025921655168183},null,{"$f":"MAX(BJM28-BJB28,0)","v":31.017389351452444},{"$f":"IF(BIZ28=0,0,IF(BIV28=0,0,IF(BJH$26=1000,IF(BIZ28<0,IF(BIZ27>0,IF(BIY28-(0-BIZ28)<0,0,BIY28-(0-BIZ28)),0),IF(BJH$26>=BIV28,BIY28,0)),IF(BJH$26>=BIV28,BIY28,0))))","v":2.1428571428571428},{"$f":"IF(BJH28=BIV28,0,EXP(-($D$16)*$D$13)*(BJF29)+BJE28)","v":10.025921655168183},null,{"$f":"IF(BJH27>0,\" \",IF(OR(BJO28=\"Failure\",BJG28=\"Abandon\"),BIV28,))","v":0},{"$f":"IF(BJA28>0,RANDBETWEEN(0,1000),1000)","v":54},1.0529161749572178,2.0157951277379702,0,{"$f":"IF(BIV28=$D$14*$D$12,IF(BJL28+(BJK29*$D$18)/(($D$16*$D$13)-($D$8*$D$13))<0,BJL28,BJL28+(BJK29*$D$18)/(($D$16*$D$13)-($D$8*$D$13))),IF(BJL28=0,EXP(-($D$16)*$D$13)*BJM29+BJL28,EXP(-($D$16)*$D$13)*BJM29+BJL28))","v":41.043311006620627},null,null,null,null,{"$f":"IF(BJR27<$D$14*$D$12,BJR27+1,IF(BJR27=$D$14*$D$12,,))","v":1},{"$f":"BIW28","v":0.5},0.21569200414497719,{"$f":"$D$27","v":2.1428571428571428},11.185696841814067,11.185696841814067,{"$f":"IF(AND(BJW27>0,BJW28=0),EXP(-($D$16)*$D$13)*BJX29+IF(BJU28-(0-BJV28)<0,0,BJU28-(0-BJV28)),IF(BJW28=0,0,EXP(-($D$16)*$D$13)*BJX29+BJU28))","v":10.025921655168183},null,{"$f":"MAX(BKI28-BJX28,0)","v":31.017389351452444},{"$f":"IF(BJV28=0,0,IF(BJR28=0,0,IF(BKD$26=1000,IF(BJV28<0,IF(BJV27>0,IF(BJU28-(0-BJV28)<0,0,BJU28-(0-BJV28)),0),IF(BKD$26>=BJR28,BJU28,0)),IF(BKD$26>=BJR28,BJU28,0))))","v":2.1428571428571428},{"$f":"IF(BKD28=BJR28,0,EXP(-($D$16)*$D$13)*(BKB29)+BKA28)","v":10.025921655168183},null,{"$f":"IF(BKD27>0,\" \",IF(OR(BKK28=\"Failure\",BKC28=\"Abandon\"),BJR28,))","v":0},{"$f":"IF(BJW28>0,RANDBETWEEN(0,1000),1000)","v":842},1.0529161749572178,2.0157951277379702,0,{"$f":"IF(BJR28=$D$14*$D$12,IF(BKH28+(BKG29*$D$18)/(($D$16*$D$13)-($D$8*$D$13))<0,BKH28,BKH28+(BKG29*$D$18)/(($D$16*$D$13)-($D$8*$D$13))),IF(BKH28=0,EXP(-($D$16)*$D$13)*BKI29+BKH28,EXP(-($D$16)*$D$13)*BKI29+BKH28))","v":41.043311006620627},null,null,null,null,{"$f":"IF(BKN27<$D$14*$D$12,BKN27+1,IF(BKN27=$D$14*$D$12,,))","v":1},{"$f":"BJS28","v":0.5},0.21569200414497719,{"$f":"$D$27","v":2.1428571428571428},11.185696841814067,11.185696841814067,{"$f":"IF(AND(BKS27>0,BKS28=0),EXP(-($D$16)*$D$13)*BKT29+IF(BKQ28-(0-BKR28)<0,0,BKQ28-(0-BKR28)),IF(BKS28=0,0,EXP(-($D$16)*$D$13)*BKT29+BKQ28))","v":10.025921655168183},null,{"$f":"MAX(BLE28-BKT28,0)","v":31.017389351452444},{"$f":"IF(BKR28=0,0,IF(BKN28=0,0,IF(BKZ$26=1000,IF(BKR28<0,IF(BKR27>0,IF(BKQ28-(0-BKR28)<0,0,BKQ28-(0-BKR28)),0),IF(BKZ$26>=BKN28,BKQ28,0)),IF(BKZ$26>=BKN28,BKQ28,0))))","v":2.1428571428571428},{"$f":"IF(BKZ28=BKN28,0,EXP(-($D$16)*$D$13)*(BKX29)+BKW28)","v":10.025921655168183},null,{"$f":"IF(BKZ27>0,\" \",IF(OR(BLG28=\"Failure\",BKY28=\"Abandon\"),BKN28,))","v":0},{"$f":"IF(BKS28>0,RANDBETWEEN(0,1000),1000)","v":890},1.0529161749572178,2.0157951277379702,0,{"$f":"IF(BKN28=$D$14*$D$12,IF(BLD28+(BLC29*$D$18)/(($D$16*$D$13)-($D$8*$D$13))<0,BLD28,BLD28+(BLC29*$D$18)/(($D$16*$D$13)-($D$8*$D$13))),IF(BLD28=0,EXP(-($D$16)*$D$13)*BLE29+BLD28,EXP(-($D$16)*$D$13)*BLE29+BLD28))","v":41.043311006620627},null,null,null,null,{"$f":"IF(BLJ27<$D$14*$D$12,BLJ27+1,IF(BLJ27=$D$14*$D$12,,))","v":1},{"$f":"BKO28","v":0.5},0.21569200414497719,{"$f":"$D$27","v":2.1428571428571428},11.185696841814067,11.185696841814067,{"$f":"IF(AND(BLO27>0,BLO28=0),EXP(-($D$16)*$D$13)*BLP29+IF(BLM28-(0-BLN28)<0,0,BLM28-(0-BLN28)),IF(BLO28=0,0,EXP(-($D$16)*$D$13)*BLP29+BLM28))","v":10.025921655168183},null,{"$f":"MAX(BMA28-BLP28,0)","v":31.017389351452444},{"$f":"IF(BLN28=0,0,IF(BLJ28=0,0,IF(BLV$26=1000,IF(BLN28<0,IF(BLN27>0,IF(BLM28-(0-BLN28)<0,0,BLM28-(0-BLN28)),0),IF(BLV$26>=BLJ28,BLM28,0)),IF(BLV$26>=BLJ28,BLM28,0))))","v":2.1428571428571428},{"$f":"IF(BLV28=BLJ28,0,EXP(-($D$16)*$D$13)*(BLT29)+BLS28)","v":10.025921655168183},null,{"$f":"IF(BLV27>0,\" \",IF(OR(BMC28=\"Failure\",BLU28=\"Abandon\"),BLJ28,))","v":0},{"$f":"IF(BLO28>0,RANDBETWEEN(0,1000),1000)","v":812},1.0529161749572178,2.0157951277379702,0,{"$f":"IF(BLJ28=$D$14*$D$12,IF(BLZ28+(BLY29*$D$18)/(($D$16*$D$13)-($D$8*$D$13))<0,BLZ28,BLZ28+(BLY29*$D$18)/(($D$16*$D$13)-($D$8*$D$13))),IF(BLZ28=0,EXP(-($D$16)*$D$13)*BMA29+BLZ28,EXP(-($D$16)*$D$13)*BMA29+BLZ28))","v":41.043311006620627},null,null,null,null,{"$f":"IF(BMF27<$D$14*$D$12,BMF27+1,IF(BMF27=$D$14*$D$12,,))","v":1},{"$f":"BLK28","v":0.5},0.21569200414497719,{"$f":"$D$27","v":2.1428571428571428},11.185696841814067,11.185696841814067,{"$f":"IF(AND(BMK27>0,BMK28=0),EXP(-($D$16)*$D$13)*BML29+IF(BMI28-(0-BMJ28)<0,0,BMI28-(0-BMJ28)),IF(BMK28=0,0,EXP(-($D$16)*$D$13)*BML29+BMI28))","v":10.025921655168183},null,{"$f":"MAX(BMW28-BML28,0)","v":31.017389351452444},{"$f":"IF(BMJ28=0,0,IF(BMF28=0,0,IF(BMR$26=1000,IF(BMJ28<0,IF(BMJ27>0,IF(BMI28-(0-BMJ28)<0,0,BMI28-(0-BMJ28)),0),IF(BMR$26>=BMF28,BMI28,0)),IF(BMR$26>=BMF28,BMI28,0))))","v":2.1428571428571428},{"$f":"IF(BMR28=BMF28,0,EXP(-($D$16)*$D$13)*(BMP29)+BMO28)","v":10.025921655168183},null,{"$f":"IF(BMR27>0,\" \",IF(OR(BMY28=\"Failure\",BMQ28=\"Abandon\"),BMF28,))","v":0},{"$f":"IF(BMK28>0,RANDBETWEEN(0,1000),1000)","v":615},1.0529161749572178,2.0157951277379702,0,{"$f":"IF(BMF28=$D$14*$D$12,IF(BMV28+(BMU29*$D$18)/(($D$16*$D$13)-($D$8*$D$13))<0,BMV28,BMV28+(BMU29*$D$18)/(($D$16*$D$13)-($D$8*$D$13))),IF(BMV28=0,EXP(-($D$16)*$D$13)*BMW29+BMV28,EXP(-($D$16)*$D$13)*BMW29+BMV28))","v":41.043311006620627},null,null,null,null,{"$f":"IF(BNB27<$D$14*$D$12,BNB27+1,IF(BNB27=$D$14*$D$12,,))","v":1},{"$f":"BMG28","v":0.5},0.21569200414497719,{"$f":"$D$27","v":2.1428571428571428},11.185696841814067,11.185696841814067,{"$f":"IF(AND(BNG27>0,BNG28=0),EXP(-($D$16)*$D$13)*BNH29+IF(BNE28-(0-BNF28)<0,0,BNE28-(0-BNF28)),IF(BNG28=0,0,EXP(-($D$16)*$D$13)*BNH29+BNE28))","v":10.025921655168183},null,{"$f":"MAX(BNS28-BNH28,0)","v":31.017389351452444},{"$f":"IF(BNF28=0,0,IF(BNB28=0,0,IF(BNN$26=1000,IF(BNF28<0,IF(BNF27>0,IF(BNE28-(0-BNF28)<0,0,BNE28-(0-BNF28)),0),IF(BNN$26>=BNB28,BNE28,0)),IF(BNN$26>=BNB28,BNE28,0))))","v":2.1428571428571428},{"$f":"IF(BNN28=BNB28,0,EXP(-($D$16)*$D$13)*(BNL29)+BNK28)","v":10.025921655168183},null,{"$f":"IF(BNN27>0,\" \",IF(OR(BNU28=\"Failure\",BNM28=\"Abandon\"),BNB28,))","v":0},{"$f":"IF(BNG28>0,RANDBETWEEN(0,1000),1000)","v":33},1.0529161749572178,2.0157951277379702,0,{"$f":"IF(BNB28=$D$14*$D$12,IF(BNR28+(BNQ29*$D$18)/(($D$16*$D$13)-($D$8*$D$13))<0,BNR28,BNR28+(BNQ29*$D$18)/(($D$16*$D$13)-($D$8*$D$13))),IF(BNR28=0,EXP(-($D$16)*$D$13)*BNS29+BNR28,EXP(-($D$16)*$D$13)*BNS29+BNR28))","v":41.043311006620627},null,null,null,null,{"$f":"IF(BNX27<$D$14*$D$12,BNX27+1,IF(BNX27=$D$14*$D$12,,))","v":1},{"$f":"BNC28","v":0.5},0.21569200414497719,{"$f":"$D$27","v":2.1428571428571428},11.185696841814067,11.185696841814067,{"$f":"IF(AND(BOC27>0,BOC28=0),EXP(-($D$16)*$D$13)*BOD29+IF(BOA28-(0-BOB28)<0,0,BOA28-(0-BOB28)),IF(BOC28=0,0,EXP(-($D$16)*$D$13)*BOD29+BOA28))","v":10.025921655168183},null,{"$f":"MAX(BOO28-BOD28,0)","v":31.017389351452444},{"$f":"IF(BOB28=0,0,IF(BNX28=0,0,IF(BOJ$26=1000,IF(BOB28<0,IF(BOB27>0,IF(BOA28-(0-BOB28)<0,0,BOA28-(0-BOB28)),0),IF(BOJ$26>=BNX28,BOA28,0)),IF(BOJ$26>=BNX28,BOA28,0))))","v":2.1428571428571428},{"$f":"IF(BOJ28=BNX28,0,EXP(-($D$16)*$D$13)*(BOH29)+BOG28)","v":10.025921655168183},null,{"$f":"IF(BOJ27>0,\" \",IF(OR(BOQ28=\"Failure\",BOI28=\"Abandon\"),BNX28,))","v":0},{"$f":"IF(BOC28>0,RANDBETWEEN(0,1000),1000)","v":792},1.0529161749572178,2.0157951277379702,0,{"$f":"IF(BNX28=$D$14*$D$12,IF(BON28+(BOM29*$D$18)/(($D$16*$D$13)-($D$8*$D$13))<0,BON28,BON28+(BOM29*$D$18)/(($D$16*$D$13)-($D$8*$D$13))),IF(BON28=0,EXP(-($D$16)*$D$13)*BOO29+BON28,EXP(-($D$16)*$D$13)*BOO29+BON28))","v":41.043311006620627},null,null,null,{"$f":"BNX28","v":1},{"$f":"BNY28","v":0.5},{"$f":"IF(BOT28<=$D$15,$D$5,0)","v":2.1428571428571428},{"$f":"IF($D$19=2,IF(BOS28<=$E$19*$D$12+$BOV$24,IF(BOS28=$D$14/$D$13,IF(BOV27*(1+($D$8-$D$1)*$D$13)+$D$18*((BOV27*(1+($D$8-$D$1*$D$13)))/(($D$16-$D$8)*$D$13))<=0,BOV27*(1+($D$8-$D$1)*$D$13),BOV27*(1+($D$8-$D$1)*$D$13)+$D$18*((BOV27*(1+($D$8-$D$1*$D$13)))/(($D$16-$D$8)*$D$13))),IF(BOS28=0,0,IF(AND(BOU28>0,BOU29=0),(BOV27*(1+($D$8-$D$1)*$D$13)),IF(AND(BOV27=0,BOU28=0),$D$7,BOV27*(1+($D$8-$D$1)*$D$13))))),0),IF(BOS28=$D$14/$D$13,IF(BOV27*(1+($D$8-$D$1)*$D$13)+$D$18*((BOV27*(1+($D$8-$D$1*$D$13)))/(($D$16-$D$8)*$D$13))<=0,BOV27*(1+($D$8-$D$1)*$D$13),BOV27*(1+($D$8-$D$1)*$D$13)+$D$18*((BOV27*(1+($D$8-$D$1*$D$13)))/(($D$16-$D$8)*$D$13))),IF(BOS28=0,0,IF(AND(BOU28>0,BOU29=0),0,IF(AND(BOV27=0,BOU28=0),$D$7,BOV27*(1+($D$8-$D$1)*$D$13))))))","v":0},{"$f":"IF(BOU28=0,BOV28+BOW29*EXP(-($D$16+$D$10+$D$1)*$D$13)-BOU28,BOV28+BOW29*EXP(-($D$16)*$D$13)-BOU28)","v":11.275426896799406},null,null,{"$f":"-BOU28","v":-2.1428571428571428},{"$f":"BOZ28+BOV28","v":-2.1428571428571428},0,{"$f":"I28","v":24.477308865489867},null,{"$f":"G28","v":8.6655327299510958},{"$f":"R28","v":33.142841595440963}]
[{"$f":"IF(A28=0,0,IF(A28<$D$14*$D$12,A28+1,IF(A28=$D$14*$D$12,0,IF(A28=0,0,))))","v":2},{"$f":"B28+$A$28/$D$12","v":1},{"$f":"NORMSINV(RAND())","v":1.2883842820180937},{"$f":"D28","v":2.1428571428571428},{"$f":"IF(E28<=0,0,E28-D29+$D$4*(E28-D29)*SQRT($D$13)*NORMINV((RAND()),0,1))","v":4.0731018180592846},{"$f":"IF(OR(F28=0,E29<=0,A29=0),0,E29)","v":4.0731018180592846},{"$f":"IF(AND(F28>0,F29=0),EXP(-($D$16)*$D$13)*G30+IF(D29-(0-E29)<0,0,D29-(0-E29)),IF(F29=0,0,EXP(-($D$16)*$D$13)*G30+D29))","v":6.6877979057229862},null,28.110788085118067,2.1428571428571428,{"$f":"IF(M29=A29,0,EXP(-($D$16)*$D$13)*(K30)+J29)","v":6.6877979057229862},null,{"$f":"IF(M28>0,\" \",IF(OR(T29=\"Failure\",L29=\"Abandon\"),A29,))","v":0},{"$f":"IF(F29>0,RANDBETWEEN(0,1000),1000)","v":275},{"$f":"NORMSINV(RAND())","v":-1.3109231709251259},{"$f":"IF(F28>0,IF((P28+$D$7*$D$9*O29*SQRT($D$13))<0,0,(P28+$D$7*$D$9*O29*SQRT($D$13))),IF(P28*EXP((($D$8-$D$1)-(1/2)*$D$9^2)*$D$13+$D$9*SQRT($D$13)*O29)<0,0,P28*EXP((($D$8-$D$1)-(1/2)*$D$9^2)*$D$13+$D$9*SQRT($D$13)*O29)))","v":1.6848694567700353},0,{"$f":"IF(A29=$D$14*$D$12,IF(Q29+(P30*$D$18)/(($D$16*$D$13)-($D$8*$D$13))<0,Q29,Q29+(P30*$D$18)/(($D$16*$D$13)-($D$8*$D$13))),IF(Q29=0,EXP(-($D$16+$D$10)*$D$13)*R30+Q29,EXP(-($D$16)*$D$13)*R30+Q29))","v":34.798585990841055},{"$f":"Q29-J29","v":-2.1428571428571428},null,null,null,{"$f":"IF(W28=0,0,IF(W28<$D$14*$D$12,W28+1,IF(W28=$D$14*$D$12,0,IF(W28=0,0,))))","v":2},{"$f":"X28+$A$28/$D$12","v":1},{"$f":"NORMSINV(RAND())","v":-0.69320516793494924},2.1428571428571428,{"$f":"IF(AA28<=0,0,AA28-Z29+$D$4*(AA28-Z29)*SQRT($D$13)*NORMINV((RAND()),0,1))","v":6.2031071082576137},{"$f":"IF(OR(AB28=0,AA29<0,W29=0),0,AA29)","v":6.2031071082576137},{"$f":"IF(AND(AB28>0,AB29=0),EXP(-($D$16)*$D$13)*AC30+IF(Z29-(0-AA29)<0,0,Z29-(0-AA29)),IF(AB29=0,0,EXP(-($D$16)*$D$13)*AC30+Z29))","v":8.3202418456144827},{"$f":"IF(W29>0,IF(AND(AB29=0,AB28>0),W29,\" \"))","v":" "},{"$f":"MAX(AN29-AC29,0)","v":68.50481591204516},2.1428571428571428,{"$f":"IF(AI29=W29,0,EXP(-($D$16)*$D$13)*(AG30)+AF29)","v":8.3202418456144827},{"$f":"IF(AH28=\"Abandon\",0,IF(W29>0,IF(AND(AC29>0,AE$29=0),\"Abandon\",\" \"),\" \"))","v":" "},{"$f":"IF(AI28>0,\" \",IF(OR(AP29=\"Failure\",AH29=\"Abandon\"),W29,))","v":0},{"$f":"IF(AB29>0,RANDBETWEEN(0,1000),1000)","v":869},{"$f":"NORMSINV(RAND())","v":-0.66799564007471612},{"$f":"IF(AB28>0,IF((AL28+$D$7*$D$9*AK29*SQRT($D$13))<0,0,(AL28+$D$7*$D$9*AK29*SQRT($D$13))),IF(AL28*EXP((($D$8-$D$1)-(1/2)*$D$9^2)*$D$13+$D$9*SQRT($D$13)*AK29)<0,0,AL28*EXP((($D$8-$D$1)-(1/2)*$D$9^2)*$D$13+$D$9*SQRT($D$13)*AK29)))","v":1.8471682315947131},0,76.82505775765965,null,{"$f":"IF(AB29>0,IF(AJ29<=$D$10*$D$13*1000,\"Failure\",\" \"),\" \")","v":" "},{"$f":"IF(AQ28>0,\" \",IF(AP29=\"Failure\",W29,))","v":0},null,null,{"$f":"IF(AT28=0,0,IF(AT28<$D$14*$D$12,AT28+1,IF(AT28=$D$14*$D$12,0,IF(AT28=0,0,))))","v":2},1,-0.69320516793494924,{"$f":"$D$27","v":2.1428571428571428},6.2031071082576137,6.2031071082576137,{"$f":"IF(AND(AY28>0,AY29=0),EXP(-($D$16)*$D$13)*AZ30+IF(AW29-(0-AX29)<0,0,AW29-(0-AX29)),IF(AY29=0,0,EXP(-($D$16)*$D$13)*AZ30+AW29))","v":9.2511952175288137},null,{"$f":"MAX(BK29-AZ29,0)","v":45.245851849619953},2.1428571428571428,{"$f":"IF(BF29=AT29,0,EXP(-($D$16)*$D$13)*(BD30)+BC29)","v":9.2511952175288137},null,{"$f":"IF(BF28>0,\" \",IF(OR(BM29=\"Failure\",BE29=\"Abandon\"),AT29,))","v":0},{"$f":"IF(AY29>0,RANDBETWEEN(0,1000),1000)","v":984},-0.66799564007471612,1.8471682315947131,0,54.49704706714877,null,null,null,null,{"$f":"IF(BP28=0,0,IF(BP28<$D$14*$D$12,BP28+1,IF(BP28=$D$14*$D$12,0,IF(BP28=0,0,))))","v":2},1,-0.69320516793494924,{"$f":"$D$27","v":2.1428571428571428},6.2031071082576137,6.2031071082576137,{"$f":"IF(AND(BU28>0,BU29=0),EXP(-($D$16)*$D$13)*BV30+IF(BS29-(0-BT29)<0,0,BS29-(0-BT29)),IF(BU29=0,0,EXP(-($D$16)*$D$13)*BV30+BS29))","v":8.1027657767239898},null,{"$f":"MAX(CG29-BV29,0)","v":18.067227931590608},2.1428571428571428,{"$f":"IF(CB29=BP29,0,EXP(-($D$16)*$D$13)*(BZ30)+BY29)","v":8.1027657767239898},null,{"$f":"IF(CB28>0,\" \",IF(OR(CI29=\"Failure\",CA29=\"Abandon\"),BP29,))","v":0},{"$f":"IF(BU29>0,RANDBETWEEN(0,1000),1000)","v":949},-0.66799564007471612,1.8471682315947131,0,26.169993708314596,null,null,null,null,{"$f":"IF(CL28=0,0,IF(CL28<$D$14*$D$12,CL28+1,IF(CL28=$D$14*$D$12,0,IF(CL28=0,0,))))","v":2},1,-0.69320516793494924,2.1428571428571428,6.2031071082576137,6.2031071082576137,{"$f":"IF(AND(CQ28>0,CQ29=0),EXP(-($D$16)*$D$13)*CR30+IF(CO29-(0-CP29)<0,0,CO29-(0-CP29)),IF(CQ29=0,0,EXP(-($D$16)*$D$13)*CR30+CO29))","v":8.0826252405420433},null,{"$f":"MAX(DC29-CR29,0)","v":29.540656982077358},2.1428571428571428,{"$f":"IF(CX29=CL29,0,EXP(-($D$16)*$D$13)*(CV30)+CU29)","v":8.0826252405420433},null,{"$f":"IF(CX28>0,\" \",IF(OR(DE29=\"Failure\",CW29=\"Abandon\"),CL29,))","v":0},{"$f":"IF(CQ29>0,RANDBETWEEN(0,1000),1000)","v":150},-0.66799564007471612,1.8471682315947131,0,37.623282222619402,null,null,null,null,{"$f":"IF(DH28=0,0,IF(DH28<$D$14*$D$12,DH28+1,IF(DH28=$D$14*$D$12,0,IF(DH28=0,0,))))","v":2},1,-0.69320516793494924,2.1428571428571428,6.2031071082576137,6.2031071082576137,{"$f":"IF(AND(DM28>0,DM29=0),EXP(-($D$16)*$D$13)*DN30+IF(DK29-(0-DL29)<0,0,DK29-(0-DL29)),IF(DM29=0,0,EXP(-($D$16)*$D$13)*DN30+DK29))","v":8.0826252405420433},null,{"$f":"MAX(DY29-DN29,0)","v":32.633037131811925},2.1428571428571428,{"$f":"IF(DT29=DH29,0,EXP(-($D$16)*$D$13)*(DR30)+DQ29)","v":8.0826252405420433},null,{"$f":"IF(DT28>0,\" \",IF(OR(EA29=\"Failure\",DS29=\"Abandon\"),DH29,))","v":0},{"$f":"IF(DM29>0,RANDBETWEEN(0,1000),1000)","v":178},-0.66799564007471612,1.8471682315947131,0,40.715662372353968,null,null,null,null,{"$f":"IF(ED28=0,0,IF(ED28<$D$14*$D$12,ED28+1,IF(ED28=$D$14*$D$12,0,IF(ED28=0,0,))))","v":2},1,-0.69320516793494924,2.1428571428571428,6.2031071082576137,6.2031071082576137,{"$f":"IF(AND(EI28>0,EI29=0),EXP(-($D$16)*$D$13)*EJ30+IF(EG29-(0-EH29)<0,0,EG29-(0-EH29)),IF(EI29=0,0,EXP(-($D$16)*$D$13)*EJ30+EG29))","v":8.0826252405420433},null,{"$f":"MAX(EU29-EJ29,0)","v":39.091816300526027},2.1428571428571428,{"$f":"IF(EP29=ED29,0,EXP(-($D$16)*$D$13)*(EN30)+EM29)","v":8.0826252405420433},null,{"$f":"IF(EP28>0,\" \",IF(OR(EW29=\"Failure\",EO29=\"Abandon\"),ED29,))","v":0},{"$f":"IF(EI29>0,RANDBETWEEN(0,1000),1000)","v":630},-0.66799564007471612,1.8471682315947131,0,47.17444154106807,null,null,null,null,{"$f":"IF(EZ28=0,0,IF(EZ28<$D$14*$D$12,EZ28+1,IF(EZ28=$D$14*$D$12,0,IF(EZ28=0,0,))))","v":2},1,-0.69320516793494924,2.1428571428571428,6.2031071082576137,6.2031071082576137,{"$f":"IF(AND(FE28>0,FE29=0),EXP(-($D$16)*$D$13)*FF30+IF(FC29-(0-FD29)<0,0,FC29-(0-FD29)),IF(FE29=0,0,EXP(-($D$16)*$D$13)*FF30+FC29))","v":8.0826252405420433},null,{"$f":"MAX(FQ29-FF29,0)","v":41.998088313595268},2.1428571428571428,{"$f":"IF(FL29=EZ29,0,EXP(-($D$16)*$D$13)*(FJ30)+FI29)","v":8.0826252405420433},null,{"$f":"IF(FL28>0,\" \",IF(OR(FS29=\"Failure\",FK29=\"Abandon\"),EZ29,))","v":0},{"$f":"IF(FE29>0,RANDBETWEEN(0,1000),1000)","v":179},-0.66799564007471612,1.8471682315947131,0,50.080713554137311,null,null,null,null,{"$f":"IF(FV28=0,0,IF(FV28<$D$14*$D$12,FV28+1,IF(FV28=$D$14*$D$12,0,IF(FV28=0,0,))))","v":2},1,-0.69320516793494924,2.1428571428571428,6.2031071082576137,6.2031071082576137,{"$f":"IF(AND(GA28>0,GA29=0),EXP(-($D$16)*$D$13)*GB30+IF(FY29-(0-FZ29)<0,0,FY29-(0-FZ29)),IF(GA29=0,0,EXP(-($D$16)*$D$13)*GB30+FY29))","v":8.0826252405420433},null,{"$f":"MAX(GM29-GB29,0)","v":32.845426907020951},2.1428571428571428,{"$f":"IF(GH29=FV29,0,EXP(-($D$16)*$D$13)*(GF30)+GE29)","v":8.0826252405420433},null,{"$f":"IF(GH28>0,\" \",IF(OR(GO29=\"Failure\",GG29=\"Abandon\"),FV29,))","v":0},{"$f":"IF(GA29>0,RANDBETWEEN(0,1000),1000)","v":550},-0.66799564007471612,1.8471682315947131,0,40.928052147562994,null,null,null,null,{"$f":"IF(GR28=0,0,IF(GR28<$D$14*$D$12,GR28+1,IF(GR28=$D$14*$D$12,0,IF(GR28=0,0,))))","v":2},1,-0.69320516793494924,2.1428571428571428,6.2031071082576137,6.2031071082576137,{"$f":"IF(AND(GW28>0,GW29=0),EXP(-($D$16)*$D$13)*GX30+IF(GU29-(0-GV29)<0,0,GU29-(0-GV29)),IF(GW29=0,0,EXP(-($D$16)*$D$13)*GX30+GU29))","v":8.0826252405420433},null,{"$f":"MAX(HI29-GX29,0)","v":35.026824484858999},2.1428571428571428,{"$f":"IF(HD29=GR29,0,EXP(-($D$16)*$D$13)*(HB30)+HA29)","v":8.0826252405420433},null,{"$f":"IF(HD28>0,\" \",IF(OR(HK29=\"Failure\",HC29=\"Abandon\"),GR29,))","v":0},{"$f":"IF(GW29>0,RANDBETWEEN(0,1000),1000)","v":177},-0.66799564007471612,1.8471682315947131,0,43.109449725401042,null,null,null,null,{"$f":"IF(HN28=0,0,IF(HN28<$D$14*$D$12,HN28+1,IF(HN28=$D$14*$D$12,0,IF(HN28=0,0,))))","v":2},1,-0.69320516793494924,2.1428571428571428,6.2031071082576137,6.2031071082576137,{"$f":"IF(AND(HS28>0,HS29=0),EXP(-($D$16)*$D$13)*HT30+IF(HQ29-(0-HR29)<0,0,HQ29-(0-HR29)),IF(HS29=0,0,EXP(-($D$16)*$D$13)*HT30+HQ29))","v":8.0826252405420433},null,{"$f":"MAX(IE29-HT29,0)","v":33.973920765146659},2.1428571428571428,{"$f":"IF(HZ29=HN29,0,EXP(-($D$16)*$D$13)*(HX30)+HW29)","v":8.0826252405420433},null,{"$f":"IF(HZ28>0,\" \",IF(OR(IG29=\"Failure\",HY29=\"Abandon\"),HN29,))","v":0},{"$f":"IF(HS29>0,RANDBETWEEN(0,1000),1000)","v":785},-0.66799564007471612,1.8471682315947131,0,42.056546005688702,null,null,null,null,{"$f":"IF(IJ28=0,0,IF(IJ28<$D$14*$D$12,IJ28+1,IF(IJ28=$D$14*$D$12,0,IF(IJ28=0,0,))))","v":2},1,-0.69320516793494924,2.1428571428571428,6.2031071082576137,6.2031071082576137,{"$f":"IF(AND(IO28>0,IO29=0),EXP(-($D$16)*$D$13)*IP30+IF(IM29-(0-IN29)<0,0,IM29-(0-IN29)),IF(IO29=0,0,EXP(-($D$16)*$D$13)*IP30+IM29))","v":8.0826252405420433},null,{"$f":"MAX(JA29-IP29,0)","v":14.792275082460332},2.1428571428571428,{"$f":"IF(IV29=IJ29,0,EXP(-($D$16)*$D$13)*(IT30)+IS29)","v":8.0826252405420433},null,{"$f":"IF(IV28>0,\" \",IF(OR(JC29=\"Failure\",IU29=\"Abandon\"),IJ29,))","v":0},{"$f":"IF(IO29>0,RANDBETWEEN(0,1000),1000)","v":889},-0.66799564007471612,1.8471682315947131,0,22.874900323002375,null,null,null,null,{"$f":"IF(JF28=0,0,IF(JF28<$D$14*$D$12,JF28+1,IF(JF28=$D$14*$D$12,0,IF(JF28=0,0,))))","v":2},1,-0.69320516793494924,2.1428571428571428,6.2031071082576137,6.2031071082576137,{"$f":"IF(AND(JK28>0,JK29=0),EXP(-($D$16)*$D$13)*JL30+IF(JI29-(0-JJ29)<0,0,JI29-(0-JJ29)),IF(JK29=0,0,EXP(-($D$16)*$D$13)*JL30+JI29))","v":8.0826252405420433},null,{"$f":"MAX(JW29-JL29,0)","v":15.654677111447487},2.1428571428571428,{"$f":"IF(JR29=JF29,0,EXP(-($D$16)*$D$13)*(JP30)+JO29)","v":8.0826252405420433},null,{"$f":"IF(JR28>0,\" \",IF(OR(JY29=\"Failure\",JQ29=\"Abandon\"),JF29,))","v":0},{"$f":"IF(JK29>0,RANDBETWEEN(0,1000),1000)","v":984},-0.66799564007471612,1.8471682315947131,0,23.737302351989531,null,null,null,null,{"$f":"IF(KB28=0,0,IF(KB28<$D$14*$D$12,KB28+1,IF(KB28=$D$14*$D$12,0,IF(KB28=0,0,))))","v":2},1,-0.69320516793494924,2.1428571428571428,6.2031071082576137,6.2031071082576137,{"$f":"IF(AND(KG28>0,KG29=0),EXP(-($D$16)*$D$13)*KH30+IF(KE29-(0-KF29)<0,0,KE29-(0-KF29)),IF(KG29=0,0,EXP(-($D$16)*$D$13)*KH30+KE29))","v":8.0826252405420433},null,{"$f":"MAX(KS29-KH29,0)","v":28.158481779250458},2.1428571428571428,{"$f":"IF(KN29=KB29,0,EXP(-($D$16)*$D$13)*(KL30)+KK29)","v":8.0826252405420433},null,{"$f":"IF(KN28>0,\" \",IF(OR(KU29=\"Failure\",KM29=\"Abandon\"),KB29,))","v":0},{"$f":"IF(KG29>0,RANDBETWEEN(0,1000),1000)","v":517},-0.66799564007471612,1.8471682315947131,0,36.241107019792501,null,null,null,null,{"$f":"IF(KX28=0,0,IF(KX28<$D$14*$D$12,KX28+1,IF(KX28=$D$14*$D$12,0,IF(KX28=0,0,))))","v":2},1,-0.69320516793494924,2.1428571428571428,6.2031071082576137,6.2031071082576137,{"$f":"IF(AND(LC28>0,LC29=0),EXP(-($D$16)*$D$13)*LD30+IF(LA29-(0-LB29)<0,0,LA29-(0-LB29)),IF(LC29=0,0,EXP(-($D$16)*$D$13)*LD30+LA29))","v":8.0826252405420433},null,{"$f":"MAX(LO29-LD29,0)","v":17.957929403685071},2.1428571428571428,{"$f":"IF(LJ29=KX29,0,EXP(-($D$16)*$D$13)*(LH30)+LG29)","v":8.0826252405420433},null,{"$f":"IF(LJ28>0,\" \",IF(OR(LQ29=\"Failure\",LI29=\"Abandon\"),KX29,))","v":0},{"$f":"IF(LC29>0,RANDBETWEEN(0,1000),1000)","v":208},-0.66799564007471612,1.8471682315947131,0,26.040554644227115,null,null,null,null,{"$f":"IF(LT28=0,0,IF(LT28<$D$14*$D$12,LT28+1,IF(LT28=$D$14*$D$12,0,IF(LT28=0,0,))))","v":2},1,-0.69320516793494924,2.1428571428571428,6.2031071082576137,6.2031071082576137,{"$f":"IF(AND(LY28>0,LY29=0),EXP(-($D$16)*$D$13)*LZ30+IF(LW29-(0-LX29)<0,0,LW29-(0-LX29)),IF(LY29=0,0,EXP(-($D$16)*$D$13)*LZ30+LW29))","v":8.0826252405420433},null,{"$f":"MAX(MK29-LZ29,0)","v":26.356013206537312},2.1428571428571428,{"$f":"IF(MF29=LT29,0,EXP(-($D$16)*$D$13)*(MD30)+MC29)","v":8.0826252405420433},null,{"$f":"IF(MF28>0,\" \",IF(OR(MM29=\"Failure\",ME29=\"Abandon\"),LT29,))","v":0},{"$f":"IF(LY29>0,RANDBETWEEN(0,1000),1000)","v":585},-0.66799564007471612,1.8471682315947131,0,34.438638447079356,null,null,null,null,{"$f":"IF(MP28=0,0,IF(MP28<$D$14*$D$12,MP28+1,IF(MP28=$D$14*$D$12,0,IF(MP28=0,0,))))","v":2},1,-0.69320516793494924,2.1428571428571428,6.2031071082576137,6.2031071082576137,{"$f":"IF(AND(MU28>0,MU29=0),EXP(-($D$16)*$D$13)*MV30+IF(MS29-(0-MT29)<0,0,MS29-(0-MT29)),IF(MU29=0,0,EXP(-($D$16)*$D$13)*MV30+MS29))","v":8.0826252405420433},null,{"$f":"MAX(NG29-MV29,0)","v":22.566196354037515},2.1428571428571428,{"$f":"IF(NB29=MP29,0,EXP(-($D$16)*$D$13)*(MZ30)+MY29)","v":8.0826252405420433},null,{"$f":"IF(NB28>0,\" \",IF(OR(NI29=\"Failure\",NA29=\"Abandon\"),MP29,))","v":0},{"$f":"IF(MU29>0,RANDBETWEEN(0,1000),1000)","v":560},-0.66799564007471612,1.8471682315947131,0,30.648821594579559,null,null,null,null,{"$f":"IF(NL28=0,0,IF(NL28<$D$14*$D$12,NL28+1,IF(NL28=$D$14*$D$12,0,IF(NL28=0,0,))))","v":2},1,-0.69320516793494924,2.1428571428571428,6.2031071082576137,6.2031071082576137,{"$f":"IF(AND(NQ28>0,NQ29=0),EXP(-($D$16)*$D$13)*NR30+IF(NO29-(0-NP29)<0,0,NO29-(0-NP29)),IF(NQ29=0,0,EXP(-($D$16)*$D$13)*NR30+NO29))","v":8.0826252405420433},null,{"$f":"MAX(OC29-NR29,0)","v":32.418648836787007},2.1428571428571428,{"$f":"IF(NX29=NL29,0,EXP(-($D$16)*$D$13)*(NV30)+NU29)","v":8.0826252405420433},null,{"$f":"IF(NX28>0,\" \",IF(OR(OE29=\"Failure\",NW29=\"Abandon\"),NL29,))","v":0},{"$f":"IF(NQ29>0,RANDBETWEEN(0,1000),1000)","v":514},-0.66799564007471612,1.8471682315947131,0,40.50127407732905,null,null,null,null,{"$f":"IF(OH28=0,0,IF(OH28<$D$14*$D$12,OH28+1,IF(OH28=$D$14*$D$12,0,IF(OH28=0,0,))))","v":2},1,-0.69320516793494924,2.1428571428571428,6.2031071082576137,6.2031071082576137,{"$f":"IF(AND(OM28>0,OM29=0),EXP(-($D$16)*$D$13)*ON30+IF(OK29-(0-OL29)<0,0,OK29-(0-OL29)),IF(OM29=0,0,EXP(-($D$16)*$D$13)*ON30+OK29))","v":8.0826252405420433},null,{"$f":"MAX(OY29-ON29,0)","v":28.259061137815138},2.1428571428571428,{"$f":"IF(OT29=OH29,0,EXP(-($D$16)*$D$13)*(OR30)+OQ29)","v":8.0826252405420433},null,{"$f":"IF(OT28>0,\" \",IF(OR(PA29=\"Failure\",OS29=\"Abandon\"),OH29,))","v":0},{"$f":"IF(OM29>0,RANDBETWEEN(0,1000),1000)","v":434},-0.66799564007471612,1.8471682315947131,0,36.341686378357181,null,null,null,null,{"$f":"IF(PD28=0,0,IF(PD28<$D$14*$D$12,PD28+1,IF(PD28=$D$14*$D$12,0,IF(PD28=0,0,))))","v":2},1,-0.69320516793494924,2.1428571428571428,6.2031071082576137,6.2031071082576137,{"$f":"IF(AND(PI28>0,PI29=0),EXP(-($D$16)*$D$13)*PJ30+IF(PG29-(0-PH29)<0,0,PG29-(0-PH29)),IF(PI29=0,0,EXP(-($D$16)*$D$13)*PJ30+PG29))","v":8.0826252405420433},null,{"$f":"MAX(PU29-PJ29,0)","v":27.692446787163355},2.1428571428571428,{"$f":"IF(PP29=PD29,0,EXP(-($D$16)*$D$13)*(PN30)+PM29)","v":8.0826252405420433},null,{"$f":"IF(PP28>0,\" \",IF(OR(PW29=\"Failure\",PO29=\"Abandon\"),PD29,))","v":0},{"$f":"IF(PI29>0,RANDBETWEEN(0,1000),1000)","v":522},-0.66799564007471612,1.8471682315947131,0,35.775072027705399,null,null,null,null,{"$f":"IF(PZ28=0,0,IF(PZ28<$D$14*$D$12,PZ28+1,IF(PZ28=$D$14*$D$12,0,IF(PZ28=0,0,))))","v":2},1,-0.69320516793494924,2.1428571428571428,6.2031071082576137,6.2031071082576137,{"$f":"IF(AND(QE28>0,QE29=0),EXP(-($D$16)*$D$13)*QF30+IF(QC29-(0-QD29)<0,0,QC29-(0-QD29)),IF(QE29=0,0,EXP(-($D$16)*$D$13)*QF30+QC29))","v":8.0826252405420433},null,{"$f":"MAX(QQ29-QF29,0)","v":26.065202002257109},2.1428571428571428,{"$f":"IF(QL29=PZ29,0,EXP(-($D$16)*$D$13)*(QJ30)+QI29)","v":8.0826252405420433},null,{"$f":"IF(QL28>0,\" \",IF(OR(QS29=\"Failure\",QK29=\"Abandon\"),PZ29,))","v":0},{"$f":"IF(QE29>0,RANDBETWEEN(0,1000),1000)","v":655},-0.66799564007471612,1.8471682315947131,0,34.147827242799153,null,null,null,null,{"$f":"IF(QV28=0,0,IF(QV28<$D$14*$D$12,QV28+1,IF(QV28=$D$14*$D$12,0,IF(QV28=0,0,))))","v":2},1,-0.69320516793494924,2.1428571428571428,6.2031071082576137,6.2031071082576137,{"$f":"IF(AND(RA28>0,RA29=0),EXP(-($D$16)*$D$13)*RB30+IF(QY29-(0-QZ29)<0,0,QY29-(0-QZ29)),IF(RA29=0,0,EXP(-($D$16)*$D$13)*RB30+QY29))","v":8.0826252405420433},null,{"$f":"MAX(RM29-RB29,0)","v":28.27485458446634},2.1428571428571428,{"$f":"IF(RH29=QV29,0,EXP(-($D$16)*$D$13)*(RF30)+RE29)","v":8.0826252405420433},null,{"$f":"IF(RH28>0,\" \",IF(OR(RO29=\"Failure\",RG29=\"Abandon\"),QV29,))","v":0},{"$f":"IF(RA29>0,RANDBETWEEN(0,1000),1000)","v":961},-0.66799564007471612,1.8471682315947131,0,36.357479825008383,null,null,null,null,{"$f":"IF(RR28=0,0,IF(RR28<$D$14*$D$12,RR28+1,IF(RR28=$D$14*$D$12,0,IF(RR28=0,0,))))","v":2},1,-0.69320516793494924,2.1428571428571428,6.2031071082576137,6.2031071082576137,{"$f":"IF(AND(RW28>0,RW29=0),EXP(-($D$16)*$D$13)*RX30+IF(RU29-(0-RV29)<0,0,RU29-(0-RV29)),IF(RW29=0,0,EXP(-($D$16)*$D$13)*RX30+RU29))","v":8.0826252405420433},null,{"$f":"MAX(SI29-RX29,0)","v":34.108806469628284},2.1428571428571428,{"$f":"IF(SD29=RR29,0,EXP(-($D$16)*$D$13)*(SB30)+SA29)","v":8.0826252405420433},null,{"$f":"IF(SD28>0,\" \",IF(OR(SK29=\"Failure\",SC29=\"Abandon\"),RR29,))","v":0},{"$f":"IF(RW29>0,RANDBETWEEN(0,1000),1000)","v":870},-0.66799564007471612,1.8471682315947131,0,42.191431710170328,null,null,null,null,{"$f":"IF(SN28=0,0,IF(SN28<$D$14*$D$12,SN28+1,IF(SN28=$D$14*$D$12,0,IF(SN28=0,0,))))","v":2},1,-0.69320516793494924,2.1428571428571428,6.2031071082576137,6.2031071082576137,{"$f":"IF(AND(SS28>0,SS29=0),EXP(-($D$16)*$D$13)*ST30+IF(SQ29-(0-SR29)<0,0,SQ29-(0-SR29)),IF(SS29=0,0,EXP(-($D$16)*$D$13)*ST30+SQ29))","v":8.0826252405420433},null,{"$f":"MAX(TE29-ST29,0)","v":35.95637573560581},2.1428571428571428,{"$f":"IF(SZ29=SN29,0,EXP(-($D$16)*$D$13)*(SX30)+SW29)","v":8.0826252405420433},null,{"$f":"IF(SZ28>0,\" \",IF(OR(TG29=\"Failure\",SY29=\"Abandon\"),SN29,))","v":0},{"$f":"IF(SS29>0,RANDBETWEEN(0,1000),1000)","v":364},-0.66799564007471612,1.8471682315947131,0,44.039000976147854,null,null,null,null,{"$f":"IF(TJ28=0,0,IF(TJ28<$D$14*$D$12,TJ28+1,IF(TJ28=$D$14*$D$12,0,IF(TJ28=0,0,))))","v":2},1,-0.69320516793494924,2.1428571428571428,6.2031071082576137,6.2031071082576137,{"$f":"IF(AND(TO28>0,TO29=0),EXP(-($D$16)*$D$13)*TP30+IF(TM29-(0-TN29)<0,0,TM29-(0-TN29)),IF(TO29=0,0,EXP(-($D$16)*$D$13)*TP30+TM29))","v":8.0826252405420433},null,{"$f":"MAX(UA29-TP29,0)","v":31.870151929677874},2.1428571428571428,{"$f":"IF(TV29=TJ29,0,EXP(-($D$16)*$D$13)*(TT30)+TS29)","v":8.0826252405420433},null,{"$f":"IF(TV28>0,\" \",IF(OR(UC29=\"Failure\",TU29=\"Abandon\"),TJ29,))","v":0},{"$f":"IF(TO29>0,RANDBETWEEN(0,1000),1000)","v":326},-0.66799564007471612,1.8471682315947131,0,39.952777170219917,null,null,null,null,{"$f":"IF(UF28=0,0,IF(UF28<$D$14*$D$12,UF28+1,IF(UF28=$D$14*$D$12,0,IF(UF28=0,0,))))","v":2},1,-0.69320516793494924,2.1428571428571428,6.2031071082576137,6.2031071082576137,{"$f":"IF(AND(UK28>0,UK29=0),EXP(-($D$16)*$D$13)*UL30+IF(UI29-(0-UJ29)<0,0,UI29-(0-UJ29)),IF(UK29=0,0,EXP(-($D$16)*$D$13)*UL30+UI29))","v":8.0826252405420433},null,{"$f":"MAX(UW29-UL29,0)","v":35.36899957007131},2.1428571428571428,{"$f":"IF(UR29=UF29,0,EXP(-($D$16)*$D$13)*(UP30)+UO29)","v":8.0826252405420433},null,{"$f":"IF(UR28>0,\" \",IF(OR(UY29=\"Failure\",UQ29=\"Abandon\"),UF29,))","v":0},{"$f":"IF(UK29>0,RANDBETWEEN(0,1000),1000)","v":517},-0.66799564007471612,1.8471682315947131,0,43.451624810613353,null,null,null,null,{"$f":"IF(VB28=0,0,IF(VB28<$D$14*$D$12,VB28+1,IF(VB28=$D$14*$D$12,0,IF(VB28=0,0,))))","v":2},1,-0.69320516793494924,2.1428571428571428,6.2031071082576137,6.2031071082576137,{"$f":"IF(AND(VG28>0,VG29=0),EXP(-($D$16)*$D$13)*VH30+IF(VE29-(0-VF29)<0,0,VE29-(0-VF29)),IF(VG29=0,0,EXP(-($D$16)*$D$13)*VH30+VE29))","v":8.0826252405420433},null,{"$f":"MAX(VS29-VH29,0)","v":33.993376664458786},2.1428571428571428,{"$f":"IF(VN29=VB29,0,EXP(-($D$16)*$D$13)*(VL30)+VK29)","v":8.0826252405420433},null,{"$f":"IF(VN28>0,\" \",IF(OR(VU29=\"Failure\",VM29=\"Abandon\"),VB29,))","v":0},{"$f":"IF(VG29>0,RANDBETWEEN(0,1000),1000)","v":97},-0.66799564007471612,1.8471682315947131,0,42.07600190500083,null,null,null,null,{"$f":"IF(VX28=0,0,IF(VX28<$D$14*$D$12,VX28+1,IF(VX28=$D$14*$D$12,0,IF(VX28=0,0,))))","v":2},1,-0.69320516793494924,2.1428571428571428,6.2031071082576137,6.2031071082576137,{"$f":"IF(AND(WC28>0,WC29=0),EXP(-($D$16)*$D$13)*WD30+IF(WA29-(0-WB29)<0,0,WA29-(0-WB29)),IF(WC29=0,0,EXP(-($D$16)*$D$13)*WD30+WA29))","v":8.0826252405420433},null,{"$f":"MAX(WO29-WD29,0)","v":34.241709589753626},2.1428571428571428,{"$f":"IF(WJ29=VX29,0,EXP(-($D$16)*$D$13)*(WH30)+WG29)","v":8.0826252405420433},null,{"$f":"IF(WJ28>0,\" \",IF(OR(WQ29=\"Failure\",WI29=\"Abandon\"),VX29,))","v":0},{"$f":"IF(WC29>0,RANDBETWEEN(0,1000),1000)","v":328},-0.66799564007471612,1.8471682315947131,0,42.324334830295669,null,null,null,null,{"$f":"IF(WT28=0,0,IF(WT28<$D$14*$D$12,WT28+1,IF(WT28=$D$14*$D$12,0,IF(WT28=0,0,))))","v":2},1,-0.69320516793494924,2.1428571428571428,6.2031071082576137,6.2031071082576137,{"$f":"IF(AND(WY28>0,WY29=0),EXP(-($D$16)*$D$13)*WZ30+IF(WW29-(0-WX29)<0,0,WW29-(0-WX29)),IF(WY29=0,0,EXP(-($D$16)*$D$13)*WZ30+WW29))","v":8.0826252405420433},null,{"$f":"MAX(XK29-WZ29,0)","v":37.357815384233923},2.1428571428571428,{"$f":"IF(XF29=WT29,0,EXP(-($D$16)*$D$13)*(XD30)+XC29)","v":8.0826252405420433},null,{"$f":"IF(XF28>0,\" \",IF(OR(XM29=\"Failure\",XE29=\"Abandon\"),WT29,))","v":0},{"$f":"IF(WY29>0,RANDBETWEEN(0,1000),1000)","v":524},-0.66799564007471612,1.8471682315947131,0,45.440440624775967,null,null,null,null,{"$f":"IF(XP28=0,0,IF(XP28<$D$14*$D$12,XP28+1,IF(XP28=$D$14*$D$12,0,IF(XP28=0,0,))))","v":2},1,-0.69320516793494924,2.1428571428571428,6.2031071082576137,6.2031071082576137,{"$f":"IF(AND(XU28>0,XU29=0),EXP(-($D$16)*$D$13)*XV30+IF(XS29-(0-XT29)<0,0,XS29-(0-XT29)),IF(XU29=0,0,EXP(-($D$16)*$D$13)*XV30+XS29))","v":8.0826252405420433},null,{"$f":"MAX(YG29-XV29,0)","v":36.32119996615539},2.1428571428571428,{"$f":"IF(YB29=XP29,0,EXP(-($D$16)*$D$13)*(XZ30)+XY29)","v":8.0826252405420433},null,{"$f":"IF(YB28>0,\" \",IF(OR(YI29=\"Failure\",YA29=\"Abandon\"),XP29,))","v":0},{"$f":"IF(XU29>0,RANDBETWEEN(0,1000),1000)","v":361},-0.66799564007471612,1.8471682315947131,0,44.403825206697434,null,null,null,null,{"$f":"IF(YL28=0,0,IF(YL28<$D$14*$D$12,YL28+1,IF(YL28=$D$14*$D$12,0,IF(YL28=0,0,))))","v":2},1,-0.69320516793494924,2.1428571428571428,6.2031071082576137,6.2031071082576137,{"$f":"IF(AND(YQ28>0,YQ29=0),EXP(-($D$16)*$D$13)*YR30+IF(YO29-(0-YP29)<0,0,YO29-(0-YP29)),IF(YQ29=0,0,EXP(-($D$16)*$D$13)*YR30+YO29))","v":8.0826252405420433},null,{"$f":"MAX(ZC29-YR29,0)","v":34.34379847910386},2.1428571428571428,{"$f":"IF(YX29=YL29,0,EXP(-($D$16)*$D$13)*(YV30)+YU29)","v":8.0826252405420433},null,{"$f":"IF(YX28>0,\" \",IF(OR(ZE29=\"Failure\",YW29=\"Abandon\"),YL29,))","v":0},{"$f":"IF(YQ29>0,RANDBETWEEN(0,1000),1000)","v":302},-0.66799564007471612,1.8471682315947131,0,42.426423719645904,null,null,null,null,{"$f":"IF(ZH28=0,0,IF(ZH28<$D$14*$D$12,ZH28+1,IF(ZH28=$D$14*$D$12,0,IF(ZH28=0,0,))))","v":2},1,-0.69320516793494924,2.1428571428571428,6.2031071082576137,6.2031071082576137,{"$f":"IF(AND(ZM28>0,ZM29=0),EXP(-($D$16)*$D$13)*ZN30+IF(ZK29-(0-ZL29)<0,0,ZK29-(0-ZL29)),IF(ZM29=0,0,EXP(-($D$16)*$D$13)*ZN30+ZK29))","v":8.0826252405420433},null,{"$f":"MAX(ZY29-ZN29,0)","v":34.152017424793179},2.1428571428571428,{"$f":"IF(ZT29=ZH29,0,EXP(-($D$16)*$D$13)*(ZR30)+ZQ29)","v":8.0826252405420433},null,{"$f":"IF(ZT28>0,\" \",IF(OR(AAA29=\"Failure\",ZS29=\"Abandon\"),ZH29,))","v":0},{"$f":"IF(ZM29>0,RANDBETWEEN(0,1000),1000)","v":529},-0.66799564007471612,1.8471682315947131,0,42.234642665335222,null,null,null,null,{"$f":"IF(AAD28=0,0,IF(AAD28<$D$14*$D$12,AAD28+1,IF(AAD28=$D$14*$D$12,0,IF(AAD28=0,0,))))","v":2},1,-0.69320516793494924,2.1428571428571428,6.2031071082576137,6.2031071082576137,{"$f":"IF(AND(AAI28>0,AAI29=0),EXP(-($D$16)*$D$13)*AAJ30+IF(AAG29-(0-AAH29)<0,0,AAG29-(0-AAH29)),IF(AAI29=0,0,EXP(-($D$16)*$D$13)*AAJ30+AAG29))","v":8.0826252405420433},null,{"$f":"MAX(AAU29-AAJ29,0)","v":33.90882122108701},2.1428571428571428,{"$f":"IF(AAP29=AAD29,0,EXP(-($D$16)*$D$13)*(AAN30)+AAM29)","v":8.0826252405420433},null,{"$f":"IF(AAP28>0,\" \",IF(OR(AAW29=\"Failure\",AAO29=\"Abandon\"),AAD29,))","v":0},{"$f":"IF(AAI29>0,RANDBETWEEN(0,1000),1000)","v":376},-0.66799564007471612,1.8471682315947131,0,41.991446461629053,null,null,null,null,{"$f":"IF(AAZ28=0,0,IF(AAZ28<$D$14*$D$12,AAZ28+1,IF(AAZ28=$D$14*$D$12,0,IF(AAZ28=0,0,))))","v":2},1,-0.69320516793494924,2.1428571428571428,6.2031071082576137,6.2031071082576137,{"$f":"IF(AND(ABE28>0,ABE29=0),EXP(-($D$16)*$D$13)*ABF30+IF(ABC29-(0-ABD29)<0,0,ABC29-(0-ABD29)),IF(ABE29=0,0,EXP(-($D$16)*$D$13)*ABF30+ABC29))","v":8.0826252405420433},null,{"$f":"MAX(ABQ29-ABF29,0)","v":33.999702130932803},2.1428571428571428,{"$f":"IF(ABL29=AAZ29,0,EXP(-($D$16)*$D$13)*(ABJ30)+ABI29)","v":8.0826252405420433},null,{"$f":"IF(ABL28>0,\" \",IF(OR(ABS29=\"Failure\",ABK29=\"Abandon\"),AAZ29,))","v":0},{"$f":"IF(ABE29>0,RANDBETWEEN(0,1000),1000)","v":774},-0.66799564007471612,1.8471682315947131,0,42.082327371474847,null,null,null,null,{"$f":"IF(ABV28=0,0,IF(ABV28<$D$14*$D$12,ABV28+1,IF(ABV28=$D$14*$D$12,0,IF(ABV28=0,0,))))","v":2},1,-0.69320516793494924,2.1428571428571428,6.2031071082576137,6.2031071082576137,{"$f":"IF(AND(ACA28>0,ACA29=0),EXP(-($D$16)*$D$13)*ACB30+IF(ABY29-(0-ABZ29)<0,0,ABY29-(0-ABZ29)),IF(ACA29=0,0,EXP(-($D$16)*$D$13)*ACB30+ABY29))","v":8.0826252405420433},null,{"$f":"MAX(ACM29-ACB29,0)","v":33.999702130932803},2.1428571428571428,{"$f":"IF(ACH29=ABV29,0,EXP(-($D$16)*$D$13)*(ACF30)+ACE29)","v":8.0826252405420433},null,{"$f":"IF(ACH28>0,\" \",IF(OR(ACO29=\"Failure\",ACG29=\"Abandon\"),ABV29,))","v":0},{"$f":"IF(ACA29>0,RANDBETWEEN(0,1000),1000)","v":570},-0.66799564007471612,1.8471682315947131,0,42.082327371474847,null,null,null,null,{"$f":"IF(ACR28=0,0,IF(ACR28<$D$14*$D$12,ACR28+1,IF(ACR28=$D$14*$D$12,0,IF(ACR28=0,0,))))","v":2},1,-0.69320516793494924,2.1428571428571428,6.2031071082576137,6.2031071082576137,{"$f":"IF(AND(ACW28>0,ACW29=0),EXP(-($D$16)*$D$13)*ACX30+IF(ACU29-(0-ACV29)<0,0,ACU29-(0-ACV29)),IF(ACW29=0,0,EXP(-($D$16)*$D$13)*ACX30+ACU29))","v":8.0826252405420433},null,{"$f":"MAX(ADI29-ACX29,0)","v":33.999702130932803},2.1428571428571428,{"$f":"IF(ADD29=ACR29,0,EXP(-($D$16)*$D$13)*(ADB30)+ADA29)","v":8.0826252405420433},null,{"$f":"IF(ADD28>0,\" \",IF(OR(ADK29=\"Failure\",ADC29=\"Abandon\"),ACR29,))","v":0},{"$f":"IF(ACW29>0,RANDBETWEEN(0,1000),1000)","v":453},-0.66799564007471612,1.8471682315947131,0,42.082327371474847,null,null,null,null,{"$f":"IF(ADN28=0,0,IF(ADN28<$D$14*$D$12,ADN28+1,IF(ADN28=$D$14*$D$12,0,IF(ADN28=0,0,))))","v":2},1,-0.69320516793494924,2.1428571428571428,6.2031071082576137,6.2031071082576137,{"$f":"IF(AND(ADS28>0,ADS29=0),EXP(-($D$16)*$D$13)*ADT30+IF(ADQ29-(0-ADR29)<0,0,ADQ29-(0-ADR29)),IF(ADS29=0,0,EXP(-($D$16)*$D$13)*ADT30+ADQ29))","v":8.0826252405420433},null,{"$f":"MAX(AEE29-ADT29,0)","v":33.999702130932803},2.1428571428571428,{"$f":"IF(ADZ29=ADN29,0,EXP(-($D$16)*$D$13)*(ADX30)+ADW29)","v":8.0826252405420433},null,{"$f":"IF(ADZ28>0,\" \",IF(OR(AEG29=\"Failure\",ADY29=\"Abandon\"),ADN29,))","v":0},{"$f":"IF(ADS29>0,RANDBETWEEN(0,1000),1000)","v":161},-0.66799564007471612,1.8471682315947131,0,42.082327371474847,null,null,null,null,{"$f":"IF(AEJ28=0,0,IF(AEJ28<$D$14*$D$12,AEJ28+1,IF(AEJ28=$D$14*$D$12,0,IF(AEJ28=0,0,))))","v":2},1,-0.69320516793494924,2.1428571428571428,6.2031071082576137,6.2031071082576137,{"$f":"IF(AND(AEO28>0,AEO29=0),EXP(-($D$16)*$D$13)*AEP30+IF(AEM29-(0-AEN29)<0,0,AEM29-(0-AEN29)),IF(AEO29=0,0,EXP(-($D$16)*$D$13)*AEP30+AEM29))","v":8.0826252405420433},null,{"$f":"MAX(AFA29-AEP29,0)","v":33.999702130932803},2.1428571428571428,{"$f":"IF(AEV29=AEJ29,0,EXP(-($D$16)*$D$13)*(AET30)+AES29)","v":8.0826252405420433},null,{"$f":"IF(AEV28>0,\" \",IF(OR(AFC29=\"Failure\",AEU29=\"Abandon\"),AEJ29,))","v":0},{"$f":"IF(AEO29>0,RANDBETWEEN(0,1000),1000)","v":915},-0.66799564007471612,1.8471682315947131,0,42.082327371474847,null,null,null,null,{"$f":"IF(AFF28=0,0,IF(AFF28<$D$14*$D$12,AFF28+1,IF(AFF28=$D$14*$D$12,0,IF(AFF28=0,0,))))","v":2},1,-0.69320516793494924,2.1428571428571428,6.2031071082576137,6.2031071082576137,{"$f":"IF(AND(AFK28>0,AFK29=0),EXP(-($D$16)*$D$13)*AFL30+IF(AFI29-(0-AFJ29)<0,0,AFI29-(0-AFJ29)),IF(AFK29=0,0,EXP(-($D$16)*$D$13)*AFL30+AFI29))","v":8.0826252405420433},null,{"$f":"MAX(AFW29-AFL29,0)","v":33.999702130932803},2.1428571428571428,{"$f":"IF(AFR29=AFF29,0,EXP(-($D$16)*$D$13)*(AFP30)+AFO29)","v":8.0826252405420433},null,{"$f":"IF(AFR28>0,\" \",IF(OR(AFY29=\"Failure\",AFQ29=\"Abandon\"),AFF29,))","v":0},{"$f":"IF(AFK29>0,RANDBETWEEN(0,1000),1000)","v":65},-0.66799564007471612,1.8471682315947131,0,42.082327371474847,null,null,null,null,{"$f":"IF(AGB28=0,0,IF(AGB28<$D$14*$D$12,AGB28+1,IF(AGB28=$D$14*$D$12,0,IF(AGB28=0,0,))))","v":2},1,-0.69320516793494924,2.1428571428571428,6.2031071082576137,6.2031071082576137,{"$f":"IF(AND(AGG28>0,AGG29=0),EXP(-($D$16)*$D$13)*AGH30+IF(AGE29-(0-AGF29)<0,0,AGE29-(0-AGF29)),IF(AGG29=0,0,EXP(-($D$16)*$D$13)*AGH30+AGE29))","v":8.0826252405420433},null,{"$f":"MAX(AGS29-AGH29,0)","v":33.999702130932803},2.1428571428571428,{"$f":"IF(AGN29=AGB29,0,EXP(-($D$16)*$D$13)*(AGL30)+AGK29)","v":8.0826252405420433},null,{"$f":"IF(AGN28>0,\" \",IF(OR(AGU29=\"Failure\",AGM29=\"Abandon\"),AGB29,))","v":0},{"$f":"IF(AGG29>0,RANDBETWEEN(0,1000),1000)","v":605},-0.66799564007471612,1.8471682315947131,0,42.082327371474847,null,null,null,null,{"$f":"IF(AGX28=0,0,IF(AGX28<$D$14*$D$12,AGX28+1,IF(AGX28=$D$14*$D$12,0,IF(AGX28=0,0,))))","v":2},1,-0.69320516793494924,2.1428571428571428,6.2031071082576137,6.2031071082576137,{"$f":"IF(AND(AHC28>0,AHC29=0),EXP(-($D$16)*$D$13)*AHD30+IF(AHA29-(0-AHB29)<0,0,AHA29-(0-AHB29)),IF(AHC29=0,0,EXP(-($D$16)*$D$13)*AHD30+AHA29))","v":8.0826252405420433},null,{"$f":"MAX(AHO29-AHD29,0)","v":33.999702130932803},2.1428571428571428,{"$f":"IF(AHJ29=AGX29,0,EXP(-($D$16)*$D$13)*(AHH30)+AHG29)","v":8.0826252405420433},null,{"$f":"IF(AHJ28>0,\" \",IF(OR(AHQ29=\"Failure\",AHI29=\"Abandon\"),AGX29,))","v":0},{"$f":"IF(AHC29>0,RANDBETWEEN(0,1000),1000)","v":489},-0.66799564007471612,1.8471682315947131,0,42.082327371474847,null,null,null,null,{"$f":"IF(AHT28=0,0,IF(AHT28<$D$14*$D$12,AHT28+1,IF(AHT28=$D$14*$D$12,0,IF(AHT28=0,0,))))","v":2},1,-0.69320516793494924,2.1428571428571428,6.2031071082576137,6.2031071082576137,{"$f":"IF(AND(AHY28>0,AHY29=0),EXP(-($D$16)*$D$13)*AHZ30+IF(AHW29-(0-AHX29)<0,0,AHW29-(0-AHX29)),IF(AHY29=0,0,EXP(-($D$16)*$D$13)*AHZ30+AHW29))","v":8.0826252405420433},null,{"$f":"MAX(AIK29-AHZ29,0)","v":33.999702130932803},2.1428571428571428,{"$f":"IF(AIF29=AHT29,0,EXP(-($D$16)*$D$13)*(AID30)+AIC29)","v":8.0826252405420433},null,{"$f":"IF(AIF28>0,\" \",IF(OR(AIM29=\"Failure\",AIE29=\"Abandon\"),AHT29,))","v":0},{"$f":"IF(AHY29>0,RANDBETWEEN(0,1000),1000)","v":619},-0.66799564007471612,1.8471682315947131,0,42.082327371474847,null,null,null,null,{"$f":"IF(AIP28=0,0,IF(AIP28<$D$14*$D$12,AIP28+1,IF(AIP28=$D$14*$D$12,0,IF(AIP28=0,0,))))","v":2},1,-0.69320516793494924,2.1428571428571428,6.2031071082576137,6.2031071082576137,{"$f":"IF(AND(AIU28>0,AIU29=0),EXP(-($D$16)*$D$13)*AIV30+IF(AIS29-(0-AIT29)<0,0,AIS29-(0-AIT29)),IF(AIU29=0,0,EXP(-($D$16)*$D$13)*AIV30+AIS29))","v":8.0826252405420433},null,{"$f":"MAX(AJG29-AIV29,0)","v":33.999702130932803},2.1428571428571428,{"$f":"IF(AJB29=AIP29,0,EXP(-($D$16)*$D$13)*(AIZ30)+AIY29)","v":8.0826252405420433},null,{"$f":"IF(AJB28>0,\" \",IF(OR(AJI29=\"Failure\",AJA29=\"Abandon\"),AIP29,))","v":0},{"$f":"IF(AIU29>0,RANDBETWEEN(0,1000),1000)","v":559},-0.66799564007471612,1.8471682315947131,0,42.082327371474847,null,null,null,null,{"$f":"IF(AJL28=0,0,IF(AJL28<$D$14*$D$12,AJL28+1,IF(AJL28=$D$14*$D$12,0,IF(AJL28=0,0,))))","v":2},1,-0.69320516793494924,2.1428571428571428,6.2031071082576137,6.2031071082576137,{"$f":"IF(AND(AJQ28>0,AJQ29=0),EXP(-($D$16)*$D$13)*AJR30+IF(AJO29-(0-AJP29)<0,0,AJO29-(0-AJP29)),IF(AJQ29=0,0,EXP(-($D$16)*$D$13)*AJR30+AJO29))","v":8.0826252405420433},null,{"$f":"MAX(AKC29-AJR29,0)","v":33.999702130932803},2.1428571428571428,{"$f":"IF(AJX29=AJL29,0,EXP(-($D$16)*$D$13)*(AJV30)+AJU29)","v":8.0826252405420433},null,{"$f":"IF(AJX28>0,\" \",IF(OR(AKE29=\"Failure\",AJW29=\"Abandon\"),AJL29,))","v":0},{"$f":"IF(AJQ29>0,RANDBETWEEN(0,1000),1000)","v":459},-0.66799564007471612,1.8471682315947131,0,42.082327371474847,null,null,null,null,{"$f":"IF(AKH28=0,0,IF(AKH28<$D$14*$D$12,AKH28+1,IF(AKH28=$D$14*$D$12,0,IF(AKH28=0,0,))))","v":2},1,-0.69320516793494924,2.1428571428571428,6.2031071082576137,6.2031071082576137,{"$f":"IF(AND(AKM28>0,AKM29=0),EXP(-($D$16)*$D$13)*AKN30+IF(AKK29-(0-AKL29)<0,0,AKK29-(0-AKL29)),IF(AKM29=0,0,EXP(-($D$16)*$D$13)*AKN30+AKK29))","v":8.0826252405420433},null,{"$f":"MAX(AKY29-AKN29,0)","v":33.999702130932803},2.1428571428571428,{"$f":"IF(AKT29=AKH29,0,EXP(-($D$16)*$D$13)*(AKR30)+AKQ29)","v":8.0826252405420433},null,{"$f":"IF(AKT28>0,\" \",IF(OR(ALA29=\"Failure\",AKS29=\"Abandon\"),AKH29,))","v":0},{"$f":"IF(AKM29>0,RANDBETWEEN(0,1000),1000)","v":42},-0.66799564007471612,1.8471682315947131,0,42.082327371474847,null,null,null,null,{"$f":"IF(ALD28=0,0,IF(ALD28<$D$14*$D$12,ALD28+1,IF(ALD28=$D$14*$D$12,0,IF(ALD28=0,0,))))","v":2},1,-0.69320516793494924,2.1428571428571428,6.2031071082576137,6.2031071082576137,{"$f":"IF(AND(ALI28>0,ALI29=0),EXP(-($D$16)*$D$13)*ALJ30+IF(ALG29-(0-ALH29)<0,0,ALG29-(0-ALH29)),IF(ALI29=0,0,EXP(-($D$16)*$D$13)*ALJ30+ALG29))","v":8.0826252405420433},null,{"$f":"MAX(ALU29-ALJ29,0)","v":33.999702130932803},2.1428571428571428,{"$f":"IF(ALP29=ALD29,0,EXP(-($D$16)*$D$13)*(ALN30)+ALM29)","v":8.0826252405420433},null,{"$f":"IF(ALP28>0,\" \",IF(OR(ALW29=\"Failure\",ALO29=\"Abandon\"),ALD29,))","v":0},{"$f":"IF(ALI29>0,RANDBETWEEN(0,1000),1000)","v":348},-0.66799564007471612,1.8471682315947131,0,42.082327371474847,null,null,null,null,{"$f":"IF(ALZ28=0,0,IF(ALZ28<$D$14*$D$12,ALZ28+1,IF(ALZ28=$D$14*$D$12,0,IF(ALZ28=0,0,))))","v":2},1,-0.69320516793494924,2.1428571428571428,6.2031071082576137,6.2031071082576137,{"$f":"IF(AND(AME28>0,AME29=0),EXP(-($D$16)*$D$13)*AMF30+IF(AMC29-(0-AMD29)<0,0,AMC29-(0-AMD29)),IF(AME29=0,0,EXP(-($D$16)*$D$13)*AMF30+AMC29))","v":8.0826252405420433},null,{"$f":"MAX(AMQ29-AMF29,0)","v":33.999702130932803},2.1428571428571428,{"$f":"IF(AML29=ALZ29,0,EXP(-($D$16)*$D$13)*(AMJ30)+AMI29)","v":8.0826252405420433},null,{"$f":"IF(AML28>0,\" \",IF(OR(AMS29=\"Failure\",AMK29=\"Abandon\"),ALZ29,))","v":0},{"$f":"IF(AME29>0,RANDBETWEEN(0,1000),1000)","v":796},-0.66799564007471612,1.8471682315947131,0,42.082327371474847,null,null,null,null,{"$f":"IF(AMV28=0,0,IF(AMV28<$D$14*$D$12,AMV28+1,IF(AMV28=$D$14*$D$12,0,IF(AMV28=0,0,))))","v":2},1,-0.69320516793494924,2.1428571428571428,6.2031071082576137,6.2031071082576137,{"$f":"IF(AND(ANA28>0,ANA29=0),EXP(-($D$16)*$D$13)*ANB30+IF(AMY29-(0-AMZ29)<0,0,AMY29-(0-AMZ29)),IF(ANA29=0,0,EXP(-($D$16)*$D$13)*ANB30+AMY29))","v":8.0826252405420433},null,{"$f":"MAX(ANM29-ANB29,0)","v":33.999702130932803},2.1428571428571428,{"$f":"IF(ANH29=AMV29,0,EXP(-($D$16)*$D$13)*(ANF30)+ANE29)","v":8.0826252405420433},null,{"$f":"IF(ANH28>0,\" \",IF(OR(ANO29=\"Failure\",ANG29=\"Abandon\"),AMV29,))","v":0},{"$f":"IF(ANA29>0,RANDBETWEEN(0,1000),1000)","v":628},-0.66799564007471612,1.8471682315947131,0,42.082327371474847,null,null,null,null,{"$f":"IF(ANR28=0,0,IF(ANR28<$D$14*$D$12,ANR28+1,IF(ANR28=$D$14*$D$12,0,IF(ANR28=0,0,))))","v":2},1,-0.69320516793494924,2.1428571428571428,6.2031071082576137,6.2031071082576137,{"$f":"IF(AND(ANW28>0,ANW29=0),EXP(-($D$16)*$D$13)*ANX30+IF(ANU29-(0-ANV29)<0,0,ANU29-(0-ANV29)),IF(ANW29=0,0,EXP(-($D$16)*$D$13)*ANX30+ANU29))","v":8.0826252405420433},null,{"$f":"MAX(AOI29-ANX29,0)","v":33.999702130932803},2.1428571428571428,{"$f":"IF(AOD29=ANR29,0,EXP(-($D$16)*$D$13)*(AOB30)+AOA29)","v":8.0826252405420433},null,{"$f":"IF(AOD28>0,\" \",IF(OR(AOK29=\"Failure\",AOC29=\"Abandon\"),ANR29,))","v":0},{"$f":"IF(ANW29>0,RANDBETWEEN(0,1000),1000)","v":460},-0.66799564007471612,1.8471682315947131,0,42.082327371474847,null,null,null,null,{"$f":"IF(AON28=0,0,IF(AON28<$D$14*$D$12,AON28+1,IF(AON28=$D$14*$D$12,0,IF(AON28=0,0,))))","v":2},1,-0.69320516793494924,2.1428571428571428,6.2031071082576137,6.2031071082576137,{"$f":"IF(AND(AOS28>0,AOS29=0),EXP(-($D$16)*$D$13)*AOT30+IF(AOQ29-(0-AOR29)<0,0,AOQ29-(0-AOR29)),IF(AOS29=0,0,EXP(-($D$16)*$D$13)*AOT30+AOQ29))","v":8.0826252405420433},null,{"$f":"MAX(APE29-AOT29,0)","v":33.999702130932803},2.1428571428571428,{"$f":"IF(AOZ29=AON29,0,EXP(-($D$16)*$D$13)*(AOX30)+AOW29)","v":8.0826252405420433},null,0,{"$f":"IF(AOS29>0,RANDBETWEEN(0,1000),1000)","v":83},-0.66799564007471612,1.8471682315947131,0,42.082327371474847,null,null,null,null,{"$f":"IF(APJ28=0,0,IF(APJ28<$D$14*$D$12,APJ28+1,IF(APJ28=$D$14*$D$12,0,IF(APJ28=0,0,))))","v":2},1,-0.69320516793494924,2.1428571428571428,6.2031071082576137,6.2031071082576137,{"$f":"IF(AND(APO28>0,APO29=0),EXP(-($D$16)*$D$13)*APP30+IF(APM29-(0-APN29)<0,0,APM29-(0-APN29)),IF(APO29=0,0,EXP(-($D$16)*$D$13)*APP30+APM29))","v":8.0826252405420433},null,{"$f":"MAX(AQA29-APP29,0)","v":33.999702130932803},2.1428571428571428,{"$f":"IF(APV29=APJ29,0,EXP(-($D$16)*$D$13)*(APT30)+APS29)","v":8.0826252405420433},null,{"$f":"IF(APV28>0,\" \",IF(OR(AQC29=\"Failure\",APU29=\"Abandon\"),APJ29,))","v":0},{"$f":"IF(APO29>0,RANDBETWEEN(0,1000),1000)","v":865},-0.66799564007471612,1.8471682315947131,0,42.082327371474847,null,null,null,null,{"$f":"IF(AQF28=0,0,IF(AQF28<$D$14*$D$12,AQF28+1,IF(AQF28=$D$14*$D$12,0,IF(AQF28=0,0,))))","v":2},1,-0.69320516793494924,2.1428571428571428,6.2031071082576137,6.2031071082576137,{"$f":"IF(AND(AQK28>0,AQK29=0),EXP(-($D$16)*$D$13)*AQL30+IF(AQI29-(0-AQJ29)<0,0,AQI29-(0-AQJ29)),IF(AQK29=0,0,EXP(-($D$16)*$D$13)*AQL30+AQI29))","v":8.0826252405420433},null,{"$f":"MAX(AQW29-AQL29,0)","v":33.999702130932803},2.1428571428571428,{"$f":"IF(AQR29=AQF29,0,EXP(-($D$16)*$D$13)*(AQP30)+AQO29)","v":8.0826252405420433},null,{"$f":"IF(AQR28>0,\" \",IF(OR(AQY29=\"Failure\",AQQ29=\"Abandon\"),AQF29,))","v":0},{"$f":"IF(AQK29>0,RANDBETWEEN(0,1000),1000)","v":245},-0.66799564007471612,1.8471682315947131,0,42.082327371474847,null,null,null,null,{"$f":"IF(ARB28=0,0,IF(ARB28<$D$14*$D$12,ARB28+1,IF(ARB28=$D$14*$D$12,0,IF(ARB28=0,0,))))","v":2},1,-0.69320516793494924,2.1428571428571428,6.2031071082576137,6.2031071082576137,{"$f":"IF(AND(ARG28>0,ARG29=0),EXP(-($D$16)*$D$13)*ARH30+IF(ARE29-(0-ARF29)<0,0,ARE29-(0-ARF29)),IF(ARG29=0,0,EXP(-($D$16)*$D$13)*ARH30+ARE29))","v":8.0826252405420433},null,{"$f":"MAX(ARS29-ARH29,0)","v":33.999702130932803},2.1428571428571428,{"$f":"IF(ARN29=ARB29,0,EXP(-($D$16)*$D$13)*(ARL30)+ARK29)","v":8.0826252405420433},null,{"$f":"IF(ARN28>0,\" \",IF(OR(ARU29=\"Failure\",ARM29=\"Abandon\"),ARB29,))","v":0},{"$f":"IF(ARG29>0,RANDBETWEEN(0,1000),1000)","v":259},-0.66799564007471612,1.8471682315947131,0,42.082327371474847,null,null,null,null,{"$f":"IF(ARX28=0,0,IF(ARX28<$D$14*$D$12,ARX28+1,IF(ARX28=$D$14*$D$12,0,IF(ARX28=0,0,))))","v":2},1,-0.69320516793494924,2.1428571428571428,6.2031071082576137,6.2031071082576137,{"$f":"IF(AND(ASC28>0,ASC29=0),EXP(-($D$16)*$D$13)*ASD30+IF(ASA29-(0-ASB29)<0,0,ASA29-(0-ASB29)),IF(ASC29=0,0,EXP(-($D$16)*$D$13)*ASD30+ASA29))","v":8.0826252405420433},null,{"$f":"MAX(ASO29-ASD29,0)","v":33.999702130932803},2.1428571428571428,{"$f":"IF(ASJ29=ARX29,0,EXP(-($D$16)*$D$13)*(ASH30)+ASG29)","v":8.0826252405420433},null,{"$f":"IF(ASJ28>0,\" \",IF(OR(ASQ29=\"Failure\",ASI29=\"Abandon\"),ARX29,))","v":0},{"$f":"IF(ASC29>0,RANDBETWEEN(0,1000),1000)","v":742},-0.66799564007471612,1.8471682315947131,0,42.082327371474847,null,null,null,null,{"$f":"IF(AST28=0,0,IF(AST28<$D$14*$D$12,AST28+1,IF(AST28=$D$14*$D$12,0,IF(AST28=0,0,))))","v":2},1,-0.69320516793494924,2.1428571428571428,6.2031071082576137,6.2031071082576137,{"$f":"IF(AND(ASY28>0,ASY29=0),EXP(-($D$16)*$D$13)*ASZ30+IF(ASW29-(0-ASX29)<0,0,ASW29-(0-ASX29)),IF(ASY29=0,0,EXP(-($D$16)*$D$13)*ASZ30+ASW29))","v":8.0826252405420433},null,{"$f":"MAX(ATK29-ASZ29,0)","v":33.999702130932803},2.1428571428571428,{"$f":"IF(ATF29=AST29,0,EXP(-($D$16)*$D$13)*(ATD30)+ATC29)","v":8.0826252405420433},null,{"$f":"IF(ATF28>0,\" \",IF(OR(ATM29=\"Failure\",ATE29=\"Abandon\"),AST29,))","v":0},{"$f":"IF(ASY29>0,RANDBETWEEN(0,1000),1000)","v":565},-0.66799564007471612,1.8471682315947131,0,42.082327371474847,null,null,null,null,{"$f":"IF(ATP28=0,0,IF(ATP28<$D$14*$D$12,ATP28+1,IF(ATP28=$D$14*$D$12,0,IF(ATP28=0,0,))))","v":2},1,-0.69320516793494924,2.1428571428571428,6.2031071082576137,6.2031071082576137,{"$f":"IF(AND(ATU28>0,ATU29=0),EXP(-($D$16)*$D$13)*ATV30+IF(ATS29-(0-ATT29)<0,0,ATS29-(0-ATT29)),IF(ATU29=0,0,EXP(-($D$16)*$D$13)*ATV30+ATS29))","v":8.0826252405420433},null,{"$f":"MAX(AUG29-ATV29,0)","v":33.999702130932803},2.1428571428571428,{"$f":"IF(AUB29=ATP29,0,EXP(-($D$16)*$D$13)*(ATZ30)+ATY29)","v":8.0826252405420433},null,{"$f":"IF(AUB28>0,\" \",IF(OR(AUI29=\"Failure\",AUA29=\"Abandon\"),ATP29,))","v":0},{"$f":"IF(ATU29>0,RANDBETWEEN(0,1000),1000)","v":542},-0.66799564007471612,1.8471682315947131,0,42.082327371474847,null,null,null,null,{"$f":"IF(AUL28=0,0,IF(AUL28<$D$14*$D$12,AUL28+1,IF(AUL28=$D$14*$D$12,0,IF(AUL28=0,0,))))","v":2},1,-0.69320516793494924,2.1428571428571428,6.2031071082576137,6.2031071082576137,{"$f":"IF(AND(AUQ28>0,AUQ29=0),EXP(-($D$16)*$D$13)*AUR30+IF(AUO29-(0-AUP29)<0,0,AUO29-(0-AUP29)),IF(AUQ29=0,0,EXP(-($D$16)*$D$13)*AUR30+AUO29))","v":8.0826252405420433},null,{"$f":"MAX(AVC29-AUR29,0)","v":33.999702130932803},2.1428571428571428,{"$f":"IF(AUX29=AUL29,0,EXP(-($D$16)*$D$13)*(AUV30)+AUU29)","v":8.0826252405420433},null,{"$f":"IF(AUX28>0,\" \",IF(OR(AVE29=\"Failure\",AUW29=\"Abandon\"),AUL29,))","v":0},{"$f":"IF(AUQ29>0,RANDBETWEEN(0,1000),1000)","v":810},-0.66799564007471612,1.8471682315947131,0,42.082327371474847,null,null,null,null,{"$f":"IF(AVH28=0,0,IF(AVH28<$D$14*$D$12,AVH28+1,IF(AVH28=$D$14*$D$12,0,IF(AVH28=0,0,))))","v":2},1,-0.69320516793494924,2.1428571428571428,6.2031071082576137,6.2031071082576137,{"$f":"IF(AND(AVM28>0,AVM29=0),EXP(-($D$16)*$D$13)*AVN30+IF(AVK29-(0-AVL29)<0,0,AVK29-(0-AVL29)),IF(AVM29=0,0,EXP(-($D$16)*$D$13)*AVN30+AVK29))","v":8.0826252405420433},null,{"$f":"MAX(AVY29-AVN29,0)","v":33.999702130932803},2.1428571428571428,{"$f":"IF(AVT29=AVH29,0,EXP(-($D$16)*$D$13)*(AVR30)+AVQ29)","v":8.0826252405420433},null,{"$f":"IF(AVT28>0,\" \",IF(OR(AWA29=\"Failure\",AVS29=\"Abandon\"),AVH29,))","v":0},{"$f":"IF(AVM29>0,RANDBETWEEN(0,1000),1000)","v":593},-0.66799564007471612,1.8471682315947131,0,42.082327371474847,null,null,null,null,{"$f":"IF(AWD28=0,0,IF(AWD28<$D$14*$D$12,AWD28+1,IF(AWD28=$D$14*$D$12,0,IF(AWD28=0,0,))))","v":2},1,-0.69320516793494924,2.1428571428571428,6.2031071082576137,6.2031071082576137,{"$f":"IF(AND(AWI28>0,AWI29=0),EXP(-($D$16)*$D$13)*AWJ30+IF(AWG29-(0-AWH29)<0,0,AWG29-(0-AWH29)),IF(AWI29=0,0,EXP(-($D$16)*$D$13)*AWJ30+AWG29))","v":8.0826252405420433},null,{"$f":"MAX(AWU29-AWJ29,0)","v":33.999702130932803},2.1428571428571428,{"$f":"IF(AWP29=AWD29,0,EXP(-($D$16)*$D$13)*(AWN30)+AWM29)","v":8.0826252405420433},null,{"$f":"IF(AWP28>0,\" \",IF(OR(AWW29=\"Failure\",AWO29=\"Abandon\"),AWD29,))","v":0},{"$f":"IF(AWI29>0,RANDBETWEEN(0,1000),1000)","v":557},-0.66799564007471612,1.8471682315947131,0,42.082327371474847,null,null,null,null,{"$f":"IF(AWZ28=0,0,IF(AWZ28<$D$14*$D$12,AWZ28+1,IF(AWZ28=$D$14*$D$12,0,IF(AWZ28=0,0,))))","v":2},1,-0.69320516793494924,2.1428571428571428,6.2031071082576137,6.2031071082576137,{"$f":"IF(AND(AXE28>0,AXE29=0),EXP(-($D$16)*$D$13)*AXF30+IF(AXC29-(0-AXD29)<0,0,AXC29-(0-AXD29)),IF(AXE29=0,0,EXP(-($D$16)*$D$13)*AXF30+AXC29))","v":8.0826252405420433},null,{"$f":"MAX(AXQ29-AXF29,0)","v":33.999702130932803},2.1428571428571428,{"$f":"IF(AXL29=AWZ29,0,EXP(-($D$16)*$D$13)*(AXJ30)+AXI29)","v":8.0826252405420433},null,{"$f":"IF(AXL28>0,\" \",IF(OR(AXS29=\"Failure\",AXK29=\"Abandon\"),AWZ29,))","v":0},{"$f":"IF(AXE29>0,RANDBETWEEN(0,1000),1000)","v":107},-0.66799564007471612,1.8471682315947131,0,42.082327371474847,null,null,null,null,{"$f":"IF(AXV28=0,0,IF(AXV28<$D$14*$D$12,AXV28+1,IF(AXV28=$D$14*$D$12,0,IF(AXV28=0,0,))))","v":2},1,-0.69320516793494924,2.1428571428571428,6.2031071082576137,6.2031071082576137,{"$f":"IF(AND(AYA28>0,AYA29=0),EXP(-($D$16)*$D$13)*AYB30+IF(AXY29-(0-AXZ29)<0,0,AXY29-(0-AXZ29)),IF(AYA29=0,0,EXP(-($D$16)*$D$13)*AYB30+AXY29))","v":8.0826252405420433},null,{"$f":"MAX(AYM29-AYB29,0)","v":33.999702130932803},2.1428571428571428,{"$f":"IF(AYH29=AXV29,0,EXP(-($D$16)*$D$13)*(AYF30)+AYE29)","v":8.0826252405420433},null,{"$f":"IF(AYH28>0,\" \",IF(OR(AYO29=\"Failure\",AYG29=\"Abandon\"),AXV29,))","v":0},{"$f":"IF(AYA29>0,RANDBETWEEN(0,1000),1000)","v":726},-0.66799564007471612,1.8471682315947131,0,42.082327371474847,null,null,null,null,{"$f":"IF(AYR28=0,0,IF(AYR28<$D$14*$D$12,AYR28+1,IF(AYR28=$D$14*$D$12,0,IF(AYR28=0,0,))))","v":2},1,-0.69320516793494924,2.1428571428571428,6.2031071082576137,6.2031071082576137,{"$f":"IF(AND(AYW28>0,AYW29=0),EXP(-($D$16)*$D$13)*AYX30+IF(AYU29-(0-AYV29)<0,0,AYU29-(0-AYV29)),IF(AYW29=0,0,EXP(-($D$16)*$D$13)*AYX30+AYU29))","v":8.0826252405420433},null,{"$f":"MAX(AZI29-AYX29,0)","v":33.999702130932803},2.1428571428571428,{"$f":"IF(AZD29=AYR29,0,EXP(-($D$16)*$D$13)*(AZB30)+AZA29)","v":8.0826252405420433},null,{"$f":"IF(AZD28>0,\" \",IF(OR(AZK29=\"Failure\",AZC29=\"Abandon\"),AYR29,))","v":0},{"$f":"IF(AYW29>0,RANDBETWEEN(0,1000),1000)","v":561},-0.66799564007471612,1.8471682315947131,0,42.082327371474847,null,null,null,null,{"$f":"IF(AZN28=0,0,IF(AZN28<$D$14*$D$12,AZN28+1,IF(AZN28=$D$14*$D$12,0,IF(AZN28=0,0,))))","v":2},1,-0.69320516793494924,2.1428571428571428,6.2031071082576137,6.2031071082576137,{"$f":"IF(AND(AZS28>0,AZS29=0),EXP(-($D$16)*$D$13)*AZT30+IF(AZQ29-(0-AZR29)<0,0,AZQ29-(0-AZR29)),IF(AZS29=0,0,EXP(-($D$16)*$D$13)*AZT30+AZQ29))","v":8.0826252405420433},null,{"$f":"MAX(BAE29-AZT29,0)","v":33.999702130932803},2.1428571428571428,{"$f":"IF(AZZ29=AZN29,0,EXP(-($D$16)*$D$13)*(AZX30)+AZW29)","v":8.0826252405420433},null,{"$f":"IF(AZZ28>0,\" \",IF(OR(BAG29=\"Failure\",AZY29=\"Abandon\"),AZN29,))","v":0},{"$f":"IF(AZS29>0,RANDBETWEEN(0,1000),1000)","v":342},-0.66799564007471612,1.8471682315947131,0,42.082327371474847,null,null,null,null,{"$f":"IF(BAJ28=0,0,IF(BAJ28<$D$14*$D$12,BAJ28+1,IF(BAJ28=$D$14*$D$12,0,IF(BAJ28=0,0,))))","v":2},1,-0.69320516793494924,2.1428571428571428,6.2031071082576137,6.2031071082576137,{"$f":"IF(AND(BAO28>0,BAO29=0),EXP(-($D$16)*$D$13)*BAP30+IF(BAM29-(0-BAN29)<0,0,BAM29-(0-BAN29)),IF(BAO29=0,0,EXP(-($D$16)*$D$13)*BAP30+BAM29))","v":8.0826252405420433},null,{"$f":"MAX(BBA29-BAP29,0)","v":33.999702130932803},2.1428571428571428,{"$f":"IF(BAV29=BAJ29,0,EXP(-($D$16)*$D$13)*(BAT30)+BAS29)","v":8.0826252405420433},null,{"$f":"IF(BAV28>0,\" \",IF(OR(BBC29=\"Failure\",BAU29=\"Abandon\"),BAJ29,))","v":0},{"$f":"IF(BAO29>0,RANDBETWEEN(0,1000),1000)","v":336},-0.66799564007471612,1.8471682315947131,0,42.082327371474847,null,null,null,null,{"$f":"IF(BBF28=0,0,IF(BBF28<$D$14*$D$12,BBF28+1,IF(BBF28=$D$14*$D$12,0,IF(BBF28=0,0,))))","v":2},1,-0.69320516793494924,2.1428571428571428,6.2031071082576137,6.2031071082576137,{"$f":"IF(AND(BBK28>0,BBK29=0),EXP(-($D$16)*$D$13)*BBL30+IF(BBI29-(0-BBJ29)<0,0,BBI29-(0-BBJ29)),IF(BBK29=0,0,EXP(-($D$16)*$D$13)*BBL30+BBI29))","v":8.0826252405420433},null,{"$f":"MAX(BBW29-BBL29,0)","v":33.999702130932803},2.1428571428571428,{"$f":"IF(BBR29=BBF29,0,EXP(-($D$16)*$D$13)*(BBP30)+BBO29)","v":8.0826252405420433},null,{"$f":"IF(BBR28>0,\" \",IF(OR(BBY29=\"Failure\",BBQ29=\"Abandon\"),BBF29,))","v":0},{"$f":"IF(BBK29>0,RANDBETWEEN(0,1000),1000)","v":951},-0.66799564007471612,1.8471682315947131,0,42.082327371474847,null,null,null,null,{"$f":"IF(BCB28=0,0,IF(BCB28<$D$14*$D$12,BCB28+1,IF(BCB28=$D$14*$D$12,0,IF(BCB28=0,0,))))","v":2},1,-0.69320516793494924,2.1428571428571428,6.2031071082576137,6.2031071082576137,{"$f":"IF(AND(BCG28>0,BCG29=0),EXP(-($D$16)*$D$13)*BCH30+IF(BCE29-(0-BCF29)<0,0,BCE29-(0-BCF29)),IF(BCG29=0,0,EXP(-($D$16)*$D$13)*BCH30+BCE29))","v":8.0826252405420433},null,{"$f":"MAX(BCS29-BCH29,0)","v":33.999702130932803},2.1428571428571428,{"$f":"IF(BCN29=BCB29,0,EXP(-($D$16)*$D$13)*(BCL30)+BCK29)","v":8.0826252405420433},null,{"$f":"IF(BCN28>0,\" \",IF(OR(BCU29=\"Failure\",BCM29=\"Abandon\"),BCB29,))","v":0},{"$f":"IF(BCG29>0,RANDBETWEEN(0,1000),1000)","v":858},-0.66799564007471612,1.8471682315947131,0,42.082327371474847,null,null,null,null,{"$f":"IF(BCX28=0,0,IF(BCX28<$D$14*$D$12,BCX28+1,IF(BCX28=$D$14*$D$12,0,IF(BCX28=0,0,))))","v":2},1,-0.69320516793494924,2.1428571428571428,6.2031071082576137,6.2031071082576137,{"$f":"IF(AND(BDC28>0,BDC29=0),EXP(-($D$16)*$D$13)*BDD30+IF(BDA29-(0-BDB29)<0,0,BDA29-(0-BDB29)),IF(BDC29=0,0,EXP(-($D$16)*$D$13)*BDD30+BDA29))","v":8.0826252405420433},null,{"$f":"MAX(BDO29-BDD29,0)","v":33.999702130932803},2.1428571428571428,{"$f":"IF(BDJ29=BCX29,0,EXP(-($D$16)*$D$13)*(BDH30)+BDG29)","v":8.0826252405420433},null,{"$f":"IF(BDJ28>0,\" \",IF(OR(BDQ29=\"Failure\",BDI29=\"Abandon\"),BCX29,))","v":0},{"$f":"IF(BDC29>0,RANDBETWEEN(0,1000),1000)","v":383},-0.66799564007471612,1.8471682315947131,0,42.082327371474847,null,null,null,null,{"$f":"IF(BDT28=0,0,IF(BDT28<$D$14*$D$12,BDT28+1,IF(BDT28=$D$14*$D$12,0,IF(BDT28=0,0,))))","v":2},1,-0.69320516793494924,2.1428571428571428,6.2031071082576137,6.2031071082576137,{"$f":"IF(AND(BDY28>0,BDY29=0),EXP(-($D$16)*$D$13)*BDZ30+IF(BDW29-(0-BDX29)<0,0,BDW29-(0-BDX29)),IF(BDY29=0,0,EXP(-($D$16)*$D$13)*BDZ30+BDW29))","v":8.0826252405420433},null,{"$f":"MAX(BEK29-BDZ29,0)","v":33.999702130932803},2.1428571428571428,{"$f":"IF(BEF29=BDT29,0,EXP(-($D$16)*$D$13)*(BED30)+BEC29)","v":8.0826252405420433},null,{"$f":"IF(BEF28>0,\" \",IF(OR(BEM29=\"Failure\",BEE29=\"Abandon\"),BDT29,))","v":0},{"$f":"IF(BDY29>0,RANDBETWEEN(0,1000),1000)","v":780},-0.66799564007471612,1.8471682315947131,0,42.082327371474847,null,null,null,null,{"$f":"IF(BEP28=0,0,IF(BEP28<$D$14*$D$12,BEP28+1,IF(BEP28=$D$14*$D$12,0,IF(BEP28=0,0,))))","v":2},1,-0.69320516793494924,2.1428571428571428,6.2031071082576137,6.2031071082576137,{"$f":"IF(AND(BEU28>0,BEU29=0),EXP(-($D$16)*$D$13)*BEV30+IF(BES29-(0-BET29)<0,0,BES29-(0-BET29)),IF(BEU29=0,0,EXP(-($D$16)*$D$13)*BEV30+BES29))","v":8.0826252405420433},null,{"$f":"MAX(BFG29-BEV29,0)","v":33.999702130932803},2.1428571428571428,{"$f":"IF(BFB29=BEP29,0,EXP(-($D$16)*$D$13)*(BEZ30)+BEY29)","v":8.0826252405420433},null,{"$f":"IF(BFB28>0,\" \",IF(OR(BFI29=\"Failure\",BFA29=\"Abandon\"),BEP29,))","v":0},{"$f":"IF(BEU29>0,RANDBETWEEN(0,1000),1000)","v":461},-0.66799564007471612,1.8471682315947131,0,42.082327371474847,null,null,null,null,{"$f":"IF(BFL28=0,0,IF(BFL28<$D$14*$D$12,BFL28+1,IF(BFL28=$D$14*$D$12,0,IF(BFL28=0,0,))))","v":2},1,-0.69320516793494924,2.1428571428571428,6.2031071082576137,6.2031071082576137,{"$f":"IF(AND(BFQ28>0,BFQ29=0),EXP(-($D$16)*$D$13)*BFR30+IF(BFO29-(0-BFP29)<0,0,BFO29-(0-BFP29)),IF(BFQ29=0,0,EXP(-($D$16)*$D$13)*BFR30+BFO29))","v":8.0826252405420433},null,{"$f":"MAX(BGC29-BFR29,0)","v":33.999702130932803},2.1428571428571428,{"$f":"IF(BFX29=BFL29,0,EXP(-($D$16)*$D$13)*(BFV30)+BFU29)","v":8.0826252405420433},null,{"$f":"IF(BFX28>0,\" \",IF(OR(BGE29=\"Failure\",BFW29=\"Abandon\"),BFL29,))","v":0},{"$f":"IF(BFQ29>0,RANDBETWEEN(0,1000),1000)","v":641},-0.66799564007471612,1.8471682315947131,0,42.082327371474847,null,null,null,null,{"$f":"IF(BGH28=0,0,IF(BGH28<$D$14*$D$12,BGH28+1,IF(BGH28=$D$14*$D$12,0,IF(BGH28=0,0,))))","v":2},1,-0.69320516793494924,2.1428571428571428,6.2031071082576137,6.2031071082576137,{"$f":"IF(AND(BGM28>0,BGM29=0),EXP(-($D$16)*$D$13)*BGN30+IF(BGK29-(0-BGL29)<0,0,BGK29-(0-BGL29)),IF(BGM29=0,0,EXP(-($D$16)*$D$13)*BGN30+BGK29))","v":8.0826252405420433},null,{"$f":"MAX(BGY29-BGN29,0)","v":33.999702130932803},2.1428571428571428,{"$f":"IF(BGT29=BGH29,0,EXP(-($D$16)*$D$13)*(BGR30)+BGQ29)","v":8.0826252405420433},null,{"$f":"IF(BGT28>0,\" \",IF(OR(BHA29=\"Failure\",BGS29=\"Abandon\"),BGH29,))","v":0},{"$f":"IF(BGM29>0,RANDBETWEEN(0,1000),1000)","v":868},-0.66799564007471612,1.8471682315947131,0,42.082327371474847,null,null,null,null,{"$f":"IF(BHD28=0,0,IF(BHD28<$D$14*$D$12,BHD28+1,IF(BHD28=$D$14*$D$12,0,IF(BHD28=0,0,))))","v":2},1,-0.69320516793494924,2.1428571428571428,6.2031071082576137,6.2031071082576137,{"$f":"IF(AND(BHI28>0,BHI29=0),EXP(-($D$16)*$D$13)*BHJ30+IF(BHG29-(0-BHH29)<0,0,BHG29-(0-BHH29)),IF(BHI29=0,0,EXP(-($D$16)*$D$13)*BHJ30+BHG29))","v":8.0826252405420433},null,{"$f":"MAX(BHU29-BHJ29,0)","v":33.999702130932803},2.1428571428571428,{"$f":"IF(BHP29=BHD29,0,EXP(-($D$16)*$D$13)*(BHN30)+BHM29)","v":8.0826252405420433},null,{"$f":"IF(BHP28>0,\" \",IF(OR(BHW29=\"Failure\",BHO29=\"Abandon\"),BHD29,))","v":0},{"$f":"IF(BHI29>0,RANDBETWEEN(0,1000),1000)","v":149},-0.66799564007471612,1.8471682315947131,0,42.082327371474847,null,null,null,null,{"$f":"IF(BHZ28=0,0,IF(BHZ28<$D$14*$D$12,BHZ28+1,IF(BHZ28=$D$14*$D$12,0,IF(BHZ28=0,0,))))","v":2},1,-0.69320516793494924,2.1428571428571428,6.2031071082576137,6.2031071082576137,{"$f":"IF(AND(BIE28>0,BIE29=0),EXP(-($D$16)*$D$13)*BIF30+IF(BIC29-(0-BID29)<0,0,BIC29-(0-BID29)),IF(BIE29=0,0,EXP(-($D$16)*$D$13)*BIF30+BIC29))","v":8.0826252405420433},null,{"$f":"MAX(BIQ29-BIF29,0)","v":33.999702130932803},2.1428571428571428,{"$f":"IF(BIL29=BHZ29,0,EXP(-($D$16)*$D$13)*(BIJ30)+BII29)","v":8.0826252405420433},null,{"$f":"IF(BIL28>0,\" \",IF(OR(BIS29=\"Failure\",BIK29=\"Abandon\"),BHZ29,))","v":0},{"$f":"IF(BIE29>0,RANDBETWEEN(0,1000),1000)","v":218},-0.66799564007471612,1.8471682315947131,0,42.082327371474847,null,null,null,null,{"$f":"IF(BIV28=0,0,IF(BIV28<$D$14*$D$12,BIV28+1,IF(BIV28=$D$14*$D$12,0,IF(BIV28=0,0,))))","v":2},1,-0.69320516793494924,2.1428571428571428,6.2031071082576137,6.2031071082576137,{"$f":"IF(AND(BJA28>0,BJA29=0),EXP(-($D$16)*$D$13)*BJB30+IF(BIY29-(0-BIZ29)<0,0,BIY29-(0-BIZ29)),IF(BJA29=0,0,EXP(-($D$16)*$D$13)*BJB30+BIY29))","v":8.0826252405420433},null,{"$f":"MAX(BJM29-BJB29,0)","v":33.999702130932803},2.1428571428571428,{"$f":"IF(BJH29=BIV29,0,EXP(-($D$16)*$D$13)*(BJF30)+BJE29)","v":8.0826252405420433},null,{"$f":"IF(BJH28>0,\" \",IF(OR(BJO29=\"Failure\",BJG29=\"Abandon\"),BIV29,))","v":0},{"$f":"IF(BJA29>0,RANDBETWEEN(0,1000),1000)","v":763},-0.66799564007471612,1.8471682315947131,0,42.082327371474847,null,null,null,null,{"$f":"IF(BJR28=0,0,IF(BJR28<$D$14*$D$12,BJR28+1,IF(BJR28=$D$14*$D$12,0,IF(BJR28=0,0,))))","v":2},1,-0.69320516793494924,2.1428571428571428,6.2031071082576137,6.2031071082576137,{"$f":"IF(AND(BJW28>0,BJW29=0),EXP(-($D$16)*$D$13)*BJX30+IF(BJU29-(0-BJV29)<0,0,BJU29-(0-BJV29)),IF(BJW29=0,0,EXP(-($D$16)*$D$13)*BJX30+BJU29))","v":8.0826252405420433},null,{"$f":"MAX(BKI29-BJX29,0)","v":33.999702130932803},2.1428571428571428,{"$f":"IF(BKD29=BJR29,0,EXP(-($D$16)*$D$13)*(BKB30)+BKA29)","v":8.0826252405420433},null,{"$f":"IF(BKD28>0,\" \",IF(OR(BKK29=\"Failure\",BKC29=\"Abandon\"),BJR29,))","v":0},{"$f":"IF(BJW29>0,RANDBETWEEN(0,1000),1000)","v":375},-0.66799564007471612,1.8471682315947131,0,42.082327371474847,null,null,null,null,{"$f":"IF(BKN28=0,0,IF(BKN28<$D$14*$D$12,BKN28+1,IF(BKN28=$D$14*$D$12,0,IF(BKN28=0,0,))))","v":2},1,-0.69320516793494924,2.1428571428571428,6.2031071082576137,6.2031071082576137,{"$f":"IF(AND(BKS28>0,BKS29=0),EXP(-($D$16)*$D$13)*BKT30+IF(BKQ29-(0-BKR29)<0,0,BKQ29-(0-BKR29)),IF(BKS29=0,0,EXP(-($D$16)*$D$13)*BKT30+BKQ29))","v":8.0826252405420433},null,{"$f":"MAX(BLE29-BKT29,0)","v":33.999702130932803},2.1428571428571428,{"$f":"IF(BKZ29=BKN29,0,EXP(-($D$16)*$D$13)*(BKX30)+BKW29)","v":8.0826252405420433},null,{"$f":"IF(BKZ28>0,\" \",IF(OR(BLG29=\"Failure\",BKY29=\"Abandon\"),BKN29,))","v":0},{"$f":"IF(BKS29>0,RANDBETWEEN(0,1000),1000)","v":580},-0.66799564007471612,1.8471682315947131,0,42.082327371474847,null,null,null,null,{"$f":"IF(BLJ28=0,0,IF(BLJ28<$D$14*$D$12,BLJ28+1,IF(BLJ28=$D$14*$D$12,0,IF(BLJ28=0,0,))))","v":2},1,-0.69320516793494924,2.1428571428571428,6.2031071082576137,6.2031071082576137,{"$f":"IF(AND(BLO28>0,BLO29=0),EXP(-($D$16)*$D$13)*BLP30+IF(BLM29-(0-BLN29)<0,0,BLM29-(0-BLN29)),IF(BLO29=0,0,EXP(-($D$16)*$D$13)*BLP30+BLM29))","v":8.0826252405420433},null,{"$f":"MAX(BMA29-BLP29,0)","v":33.999702130932803},2.1428571428571428,{"$f":"IF(BLV29=BLJ29,0,EXP(-($D$16)*$D$13)*(BLT30)+BLS29)","v":8.0826252405420433},null,{"$f":"IF(BLV28>0,\" \",IF(OR(BMC29=\"Failure\",BLU29=\"Abandon\"),BLJ29,))","v":0},{"$f":"IF(BLO29>0,RANDBETWEEN(0,1000),1000)","v":534},-0.66799564007471612,1.8471682315947131,0,42.082327371474847,null,null,null,null,{"$f":"IF(BMF28=0,0,IF(BMF28<$D$14*$D$12,BMF28+1,IF(BMF28=$D$14*$D$12,0,IF(BMF28=0,0,))))","v":2},1,-0.69320516793494924,2.1428571428571428,6.2031071082576137,6.2031071082576137,{"$f":"IF(AND(BMK28>0,BMK29=0),EXP(-($D$16)*$D$13)*BML30+IF(BMI29-(0-BMJ29)<0,0,BMI29-(0-BMJ29)),IF(BMK29=0,0,EXP(-($D$16)*$D$13)*BML30+BMI29))","v":8.0826252405420433},null,{"$f":"MAX(BMW29-BML29,0)","v":33.999702130932803},2.1428571428571428,{"$f":"IF(BMR29=BMF29,0,EXP(-($D$16)*$D$13)*(BMP30)+BMO29)","v":8.0826252405420433},null,{"$f":"IF(BMR28>0,\" \",IF(OR(BMY29=\"Failure\",BMQ29=\"Abandon\"),BMF29,))","v":0},{"$f":"IF(BMK29>0,RANDBETWEEN(0,1000),1000)","v":220},-0.66799564007471612,1.8471682315947131,0,42.082327371474847,null,null,null,null,{"$f":"IF(BNB28=0,0,IF(BNB28<$D$14*$D$12,BNB28+1,IF(BNB28=$D$14*$D$12,0,IF(BNB28=0,0,))))","v":2},1,-0.69320516793494924,2.1428571428571428,6.2031071082576137,6.2031071082576137,{"$f":"IF(AND(BNG28>0,BNG29=0),EXP(-($D$16)*$D$13)*BNH30+IF(BNE29-(0-BNF29)<0,0,BNE29-(0-BNF29)),IF(BNG29=0,0,EXP(-($D$16)*$D$13)*BNH30+BNE29))","v":8.0826252405420433},null,{"$f":"MAX(BNS29-BNH29,0)","v":33.999702130932803},2.1428571428571428,{"$f":"IF(BNN29=BNB29,0,EXP(-($D$16)*$D$13)*(BNL30)+BNK29)","v":8.0826252405420433},null,{"$f":"IF(BNN28>0,\" \",IF(OR(BNU29=\"Failure\",BNM29=\"Abandon\"),BNB29,))","v":0},{"$f":"IF(BNG29>0,RANDBETWEEN(0,1000),1000)","v":535},-0.66799564007471612,1.8471682315947131,0,42.082327371474847,null,null,null,null,{"$f":"IF(BNX28=0,0,IF(BNX28<$D$14*$D$12,BNX28+1,IF(BNX28=$D$14*$D$12,0,IF(BNX28=0,0,))))","v":2},1,-0.69320516793494924,2.1428571428571428,6.2031071082576137,6.2031071082576137,{"$f":"IF(AND(BOC28>0,BOC29=0),EXP(-($D$16)*$D$13)*BOD30+IF(BOA29-(0-BOB29)<0,0,BOA29-(0-BOB29)),IF(BOC29=0,0,EXP(-($D$16)*$D$13)*BOD30+BOA29))","v":8.0826252405420433},null,{"$f":"MAX(BOO29-BOD29,0)","v":33.999702130932803},2.1428571428571428,{"$f":"IF(BOJ29=BNX29,0,EXP(-($D$16)*$D$13)*(BOH30)+BOG29)","v":8.0826252405420433},null,{"$f":"IF(BOJ28>0,\" \",IF(OR(BOQ29=\"Failure\",BOI29=\"Abandon\"),BNX29,))","v":0},{"$f":"IF(BOC29>0,RANDBETWEEN(0,1000),1000)","v":938},-0.66799564007471612,1.8471682315947131,0,42.082327371474847,null,null,null,2,1,{"$f":"IF(BOT29<=$D$15,$D$5,0)","v":2.1428571428571428},0,{"$f":"IF(BOU29=0,BOV29+BOW30*EXP(-($D$16+$D$10+$D$1)*$D$13)-BOU29,BOV29+BOW30*EXP(-($D$16)*$D$13)-BOU29)","v":13.757969517351475},null,null,{"$f":"-BOU29","v":-2.1428571428571428},{"$f":"BOZ29+BOV29","v":-2.1428571428571428},1,{"$f":"AE29","v":68.50481591204516},null,{"$f":"AC29","v":8.3202418456144827},{"$f":"AN29","v":76.82505775765965}]
[{"$f":"IF(A29=0,0,IF(A29<$D$14*$D$12,A29+1,IF(A29=$D$14*$D$12,0,IF(A29=0,0,))))","v":3},1.5,0.61751189579181509,2.1428571428571428,2.751683350312998,2.751683350312998,4.6599964860541814,null,31.877051294680854,2.1428571428571428,4.6599964860541814,null,{"$f":"IF(M29>0,\" \",IF(OR(T30=\"Failure\",L30=\"Abandon\"),A30,))","v":0},{"$f":"IF(F30>0,RANDBETWEEN(0,1000),1000)","v":634},-2.7630103160881749E-2,{"$f":"IF(F29>0,IF((P29+$D$7*$D$9*O30*SQRT($D$13))<0,0,(P29+$D$7*$D$9*O30*SQRT($D$13))),IF(P29*EXP((($D$8-$D$1)-(1/2)*$D$9^2)*$D$13+$D$9*SQRT($D$13)*O30)<0,0,P29*EXP((($D$8-$D$1)-(1/2)*$D$9^2)*$D$13+$D$9*SQRT($D$13)*O30)))","v":1.6778945930783855},0,36.537047780735037,-2.1428571428571428,null,null,null,{"$f":"IF(W29=0,0,IF(W29<$D$14*$D$12,W29+1,IF(W29=$D$14*$D$12,0,IF(W29=0,0,))))","v":3},1.5,2.0617570534268177,2.1428571428571428,5.2476032232630478,5.2476032232630478,6.3337659410334055,null,{"$f":"MAX(AN30-AC30,0)","v":72.436127413057605},2.1428571428571428,6.3337659410334055,null,0,{"$f":"IF(AB30>0,RANDBETWEEN(0,1000),1000)","v":652},0.19331472223382093,1.8959680434998312,0,78.76989335409101,null,null,null,null,null,{"$f":"IF(AT29=0,0,IF(AT29<$D$14*$D$12,AT29+1,IF(AT29=$D$14*$D$12,0,IF(AT29=0,0,))))","v":3},{"$f":"AU29+$A$28/$D$12","v":1.5},{"$f":"NORMSINV(RAND())","v":1.4701303376430397},2.1428571428571428,{"$f":"IF(AX29<=0,0,AX29-AW30+$D$4*(AX29-AW30)*SQRT($D$13)*NORMINV((RAND()),0,1))","v":4.650939967701877},{"$f":"IF(OR(AY29=0,AX30<0,AT30=0),0,AX30)","v":4.650939967701877},7.288286509760372,{"$f":"IF(AT30>0,IF(AND(AY30=0,AY29>0),AT30,\" \"))","v":" "},{"$f":"MAX(BK30-AZ30,0)","v":48.588359872118744},2.1428571428571428,7.288286509760372,{"$f":"IF(BE29=\"Abandon\",0,IF(AT30>0,IF(AND(AZ30>0,BB$30=0),\"Abandon\",\" \"),\" \"))","v":" "},0,{"$f":"IF(AY30>0,RANDBETWEEN(0,1000),1000)","v":603},{"$f":"NORMSINV(RAND())","v":1.4734960166094933},{"$f":"IF(AY29>0,IF((BI29+$D$7*$D$9*BH30*SQRT($D$13))<0,0,(BI29+$D$7*$D$9*BH30*SQRT($D$13))),IF(BI29*EXP((($D$8-$D$1)-(1/2)*$D$9^2)*$D$13+$D$9*SQRT($D$13)*BH30)<0,0,BI29*EXP((($D$8-$D$1)-(1/2)*$D$9^2)*$D$13+$D$9*SQRT($D$13)*BH30)))","v":2.2191333236610631},0,55.876646381879112,null,{"$f":"IF(AY30>0,IF(BG30<=$D$10*$D$13*1000,\"Failure\",\" \"),\" \")","v":" "},{"$f":"IF(BN29>0,\" \",IF(BM30=\"Failure\",AT30,))","v":0},null,{"$f":"IF(BP29=0,0,IF(BP29<$D$14*$D$12,BP29+1,IF(BP29=$D$14*$D$12,0,IF(BP29=0,0,))))","v":3},1.5,1.4701303376430397,2.1428571428571428,4.650939967701877,4.650939967701877,6.1107844392477704,null,{"$f":"MAX(CG30-BV30,0)","v":20.721705813916358},2.1428571428571428,6.1107844392477704,null,0,{"$f":"IF(BU30>0,RANDBETWEEN(0,1000),1000)","v":775},1.4734960166094933,2.2191333236610631,0,26.832490253164128,null,null,null,null,{"$f":"IF(CL29=0,0,IF(CL29<$D$14*$D$12,CL29+1,IF(CL29=$D$14*$D$12,0,IF(CL29=0,0,))))","v":3},1.5,1.4701303376430397,2.1428571428571428,4.650939967701877,4.650939967701877,6.0901340429649515,null,{"$f":"MAX(DC30-CR30,0)","v":32.485586103644664},2.1428571428571428,6.0901340429649515,null,0,{"$f":"IF(CQ30>0,RANDBETWEEN(0,1000),1000)","v":84},1.4734960166094933,2.2191333236610631,0,38.575720146609612,null,null,null,null,{"$f":"IF(DH29=0,0,IF(DH29<$D$14*$D$12,DH29+1,IF(DH29=$D$14*$D$12,0,IF(DH29=0,0,))))","v":3},1.5,1.4701303376430397,2.1428571428571428,4.650939967701877,4.650939967701877,6.0901340429649515,null,{"$f":"MAX(DY30-DN30,0)","v":35.656250229577111},2.1428571428571428,6.0901340429649515,null,0,{"$f":"IF(DM30>0,RANDBETWEEN(0,1000),1000)","v":113},1.4734960166094933,2.2191333236610631,0,41.746384272542066,null,null,null,null,{"$f":"IF(ED29=0,0,IF(ED29<$D$14*$D$12,ED29+1,IF(ED29=$D$14*$D$12,0,IF(ED29=0,0,))))","v":3},1.5,1.4701303376430397,2.1428571428571428,4.650939967701877,4.650939967701877,6.0901340429649515,null,{"$f":"MAX(EU30-EJ30,0)","v":42.278534171387875},2.1428571428571428,6.0901340429649515,null,0,{"$f":"IF(EI30>0,RANDBETWEEN(0,1000),1000)","v":82},1.4734960166094933,2.2191333236610631,0,48.36866821435283,null,null,null,null,{"$f":"IF(EZ29=0,0,IF(EZ29<$D$14*$D$12,EZ29+1,IF(EZ29=$D$14*$D$12,0,IF(EZ29=0,0,))))","v":3},1.5,1.4701303376430397,2.1428571428571428,4.650939967701877,4.650939967701877,6.0901340429649515,null,{"$f":"MAX(FQ30-FF30,0)","v":45.258378810744745},2.1428571428571428,6.0901340429649515,null,0,{"$f":"IF(FE30>0,RANDBETWEEN(0,1000),1000)","v":178},1.4734960166094933,2.2191333236610631,0,51.3485128537097,null,null,null,null,{"$f":"IF(FV29=0,0,IF(FV29<$D$14*$D$12,FV29+1,IF(FV29=$D$14*$D$12,0,IF(FV29=0,0,))))","v":3},1.5,1.4701303376430397,2.1428571428571428,4.650939967701877,4.650939967701877,6.0901340429649515,null,{"$f":"MAX(GM30-GB30,0)","v":35.874016677543707},2.1428571428571428,6.0901340429649515,null,0,{"$f":"IF(GA30>0,RANDBETWEEN(0,1000),1000)","v":194},1.4734960166094933,2.2191333236610631,0,41.964150720508663,null,null,null,null,{"$f":"IF(GR29=0,0,IF(GR29<$D$14*$D$12,GR29+1,IF(GR29=$D$14*$D$12,0,IF(GR29=0,0,))))","v":3},1.5,1.4701303376430397,2.1428571428571428,4.650939967701877,4.650939967701877,6.0901340429649515,null,{"$f":"MAX(HI30-GX30,0)","v":38.110636597976423},2.1428571428571428,6.0901340429649515,null,0,{"$f":"IF(GW30>0,RANDBETWEEN(0,1000),1000)","v":984},1.4734960166094933,2.2191333236610631,0,44.200770640941379,null,null,null,null,{"$f":"IF(HN29=0,0,IF(HN29<$D$14*$D$12,HN29+1,IF(HN29=$D$14*$D$12,0,IF(HN29=0,0,))))","v":3},1.5,1.4701303376430397,2.1428571428571428,4.650939967701877,4.650939967701877,6.0901340429649515,null,{"$f":"MAX(IE30-HT30,0)","v":37.031078493698942},2.1428571428571428,6.0901340429649515,null,0,{"$f":"IF(HS30>0,RANDBETWEEN(0,1000),1000)","v":727},1.4734960166094933,2.2191333236610631,0,43.121212536663897,null,null,null,null,{"$f":"IF(IJ29=0,0,IF(IJ29<$D$14*$D$12,IJ29+1,IF(IJ29=$D$14*$D$12,0,IF(IJ29=0,0,))))","v":3},1.5,1.4701303376430397,2.1428571428571428,4.650939967701877,4.650939967701877,6.0901340429649515,null,{"$f":"MAX(JA30-IP30,0)","v":17.363847138698528},2.1428571428571428,6.0901340429649515,null,0,{"$f":"IF(IO30>0,RANDBETWEEN(0,1000),1000)","v":11},1.4734960166094933,2.2191333236610631,0,23.45398118166348,null,null,null,null,{"$f":"IF(JF29=0,0,IF(JF29<$D$14*$D$12,JF29+1,IF(JF29=$D$14*$D$12,0,IF(JF29=0,0,))))","v":3},1.5,1.4701303376430397,2.1428571428571428,4.650939967701877,4.650939967701877,6.0901340429649515,null,{"$f":"MAX(JW30-JL30,0)","v":18.248080978990004},2.1428571428571428,6.0901340429649515,null,0,{"$f":"IF(JK30>0,RANDBETWEEN(0,1000),1000)","v":884},1.4734960166094933,2.2191333236610631,0,24.338215021954955,null,null,null,null,{"$f":"IF(KB29=0,0,IF(KB29<$D$14*$D$12,KB29+1,IF(KB29=$D$14*$D$12,0,IF(KB29=0,0,))))","v":3},1.5,1.4701303376430397,2.1428571428571428,4.650939967701877,4.650939967701877,6.0901340429649515,null,{"$f":"MAX(KS30-KH30,0)","v":31.068420968972323},2.1428571428571428,6.0901340429649515,null,0,{"$f":"IF(KG30>0,RANDBETWEEN(0,1000),1000)","v":912},1.4734960166094933,2.2191333236610631,0,37.158555011937274,null,null,null,null,{"$f":"IF(KX29=0,0,IF(KX29<$D$14*$D$12,KX29+1,IF(KX29=$D$14*$D$12,0,IF(KX29=0,0,))))","v":3},1.5,1.4701303376430397,2.1428571428571428,4.650939967701877,4.650939967701877,6.0901340429649515,null,{"$f":"MAX(LO30-LD30,0)","v":20.60964038060375},2.1428571428571428,6.0901340429649515,null,0,{"$f":"IF(LC30>0,RANDBETWEEN(0,1000),1000)","v":754},1.4734960166094933,2.2191333236610631,0,26.699774423568702,null,null,null,null,{"$f":"IF(LT29=0,0,IF(LT29<$D$14*$D$12,LT29+1,IF(LT29=$D$14*$D$12,0,IF(LT29=0,0,))))","v":3},1.5,1.4701303376430397,2.1428571428571428,4.650939967701877,4.650939967701877,6.0901340429649515,null,{"$f":"MAX(MK30-LZ30,0)","v":29.220322687099451},2.1428571428571428,6.0901340429649515,null,0,{"$f":"IF(LY30>0,RANDBETWEEN(0,1000),1000)","v":792},1.4734960166094933,2.2191333236610631,0,35.310456730064402,null,null,null,null,{"$f":"IF(MP29=0,0,IF(MP29<$D$14*$D$12,MP29+1,IF(MP29=$D$14*$D$12,0,IF(MP29=0,0,))))","v":3},1.5,1.4701303376430397,2.1428571428571428,4.650939967701877,4.650939967701877,6.0901340429649515,null,{"$f":"MAX(NG30-MV30,0)","v":25.334566164213108},2.1428571428571428,6.0901340429649515,null,0,{"$f":"IF(MU30>0,RANDBETWEEN(0,1000),1000)","v":45},1.4734960166094933,2.2191333236610631,0,31.424700207178059,null,null,null,null,{"$f":"IF(NL29=0,0,IF(NL29<$D$14*$D$12,NL29+1,IF(NL29=$D$14*$D$12,0,IF(NL29=0,0,))))","v":3},1.5,1.4701303376430397,2.1428571428571428,4.650939967701877,4.650939967701877,6.0901340429649515,null,{"$f":"MAX(OC30-NR30,0)","v":35.436434669024607},2.1428571428571428,6.0901340429649515,null,0,{"$f":"IF(NQ30>0,RANDBETWEEN(0,1000),1000)","v":265},1.4734960166094933,2.2191333236610631,0,41.526568711989562,null,null,null,null,{"$f":"IF(OH29=0,0,IF(OH29<$D$14*$D$12,OH29+1,IF(OH29=$D$14*$D$12,0,IF(OH29=0,0,))))","v":3},1.5,1.4701303376430397,2.1428571428571428,4.650939967701877,4.650939967701877,6.0901340429649515,null,{"$f":"MAX(OY30-ON30,0)","v":31.171546506121334},2.1428571428571428,6.0901340429649515,null,0,{"$f":"IF(OM30>0,RANDBETWEEN(0,1000),1000)","v":705},1.4734960166094933,2.2191333236610631,0,37.261680549086286,null,null,null,null,{"$f":"IF(PD29=0,0,IF(PD29<$D$14*$D$12,PD29+1,IF(PD29=$D$14*$D$12,0,IF(PD29=0,0,))))","v":3},1.5,1.4701303376430397,2.1428571428571428,4.650939967701877,4.650939967701877,6.0901340429649515,null,{"$f":"MAX(PU30-PJ30,0)","v":30.590588244891936},2.1428571428571428,6.0901340429649515,null,0,{"$f":"IF(PI30>0,RANDBETWEEN(0,1000),1000)","v":743},1.4734960166094933,2.2191333236610631,0,36.680722287856888,null,null,null,null,{"$f":"IF(PZ29=0,0,IF(PZ29<$D$14*$D$12,PZ29+1,IF(PZ29=$D$14*$D$12,0,IF(PZ29=0,0,))))","v":3},1.5,1.4701303376430397,2.1428571428571428,4.650939967701877,4.650939967701877,6.0901340429649515,null,{"$f":"MAX(QQ30-QF30,0)","v":28.92214956213304},2.1428571428571428,6.0901340429649515,null,0,{"$f":"IF(QE30>0,RANDBETWEEN(0,1000),1000)","v":963},1.4734960166094933,2.2191333236610631,0,35.012283605097991,null,null,null,null,{"$f":"IF(QV29=0,0,IF(QV29<$D$14*$D$12,QV29+1,IF(QV29=$D$14*$D$12,0,IF(QV29=0,0,))))","v":3},1.5,1.4701303376430397,2.1428571428571428,4.650939967701877,4.650939967701877,6.0901340429649515,null,{"$f":"MAX(RM30-RB30,0)","v":31.187739765778009},2.1428571428571428,6.0901340429649515,null,0,{"$f":"IF(RA30>0,RANDBETWEEN(0,1000),1000)","v":214},1.4734960166094933,2.2191333236610631,0,37.27787380874296,null,null,null,null,{"$f":"IF(RR29=0,0,IF(RR29<$D$14*$D$12,RR29+1,IF(RR29=$D$14*$D$12,0,IF(RR29=0,0,))))","v":3},1.5,1.4701303376430397,2.1428571428571428,4.650939967701877,4.650939967701877,6.0901340429649515,null,{"$f":"MAX(SI30-RX30,0)","v":37.169378846046556},2.1428571428571428,6.0901340429649515,null,0,{"$f":"IF(RW30>0,RANDBETWEEN(0,1000),1000)","v":741},1.4734960166094933,2.2191333236610631,0,43.259512889011503,null,null,null,null,{"$f":"IF(SN29=0,0,IF(SN29<$D$14*$D$12,SN29+1,IF(SN29=$D$14*$D$12,0,IF(SN29=0,0,))))","v":3},1.5,1.4701303376430397,2.1428571428571428,4.650939967701877,4.650939967701877,6.0901340429649515,null,{"$f":"MAX(TE30-ST30,0)","v":39.063719550669532},2.1428571428571428,6.0901340429649515,null,0,{"$f":"IF(SS30>0,RANDBETWEEN(0,1000),1000)","v":83},1.4734960166094933,2.2191333236610631,0,45.15385359363448,null,null,null,null,{"$f":"IF(TJ29=0,0,IF(TJ29<$D$14*$D$12,TJ29+1,IF(TJ29=$D$14*$D$12,0,IF(TJ29=0,0,))))","v":3},1.5,1.4701303376430397,2.1428571428571428,4.650939967701877,4.650939967701877,6.0901340429649515,null,{"$f":"MAX(UA30-TP30,0)","v":34.874052496604733},2.1428571428571428,6.0901340429649515,null,0,{"$f":"IF(TO30>0,RANDBETWEEN(0,1000),1000)","v":385},1.4734960166094933,2.2191333236610631,0,40.964186539569688,null,null,null,null,{"$f":"IF(UF29=0,0,IF(UF29<$D$14*$D$12,UF29+1,IF(UF29=$D$14*$D$12,0,IF(UF29=0,0,))))","v":3},1.5,1.4701303376430397,2.1428571428571428,4.650939967701877,4.650939967701877,6.0901340429649515,null,{"$f":"MAX(UW30-UL30,0)","v":38.461473886711346},2.1428571428571428,6.0901340429649515,null,0,{"$f":"IF(UK30>0,RANDBETWEEN(0,1000),1000)","v":71},1.4734960166094933,2.2191333236610631,0,44.551607929676294,null,null,null,null,{"$f":"IF(VB29=0,0,IF(VB29<$D$14*$D$12,VB29+1,IF(VB29=$D$14*$D$12,0,IF(VB29=0,0,))))","v":3},1.5,1.4701303376430397,2.1428571428571428,4.650939967701877,4.650939967701877,6.0901340429649515,null,{"$f":"MAX(VS30-VH30,0)","v":37.051026921447075},2.1428571428571428,6.0901340429649515,null,0,{"$f":"IF(VG30>0,RANDBETWEEN(0,1000),1000)","v":739},1.4734960166094933,2.2191333236610631,0,43.141160964412023,null,null,null,null,{"$f":"IF(VX29=0,0,IF(VX29<$D$14*$D$12,VX29+1,IF(VX29=$D$14*$D$12,0,IF(VX29=0,0,))))","v":3},1.5,1.4701303376430397,2.1428571428571428,4.650939967701877,4.650939967701877,6.0901340429649515,null,{"$f":"MAX(WO30-WD30,0)","v":37.305646424675942},2.1428571428571428,6.0901340429649515,null,0,{"$f":"IF(WC30>0,RANDBETWEEN(0,1000),1000)","v":860},1.4734960166094933,2.2191333236610631,0,43.39578046764089,null,null,null,null,{"$f":"IF(WT29=0,0,IF(WT29<$D$14*$D$12,WT29+1,IF(WT29=$D$14*$D$12,0,IF(WT29=0,0,))))","v":3},1.5,1.4701303376430397,2.1428571428571428,4.650939967701877,4.650939967701877,6.0901340429649515,null,{"$f":"MAX(XK30-WZ30,0)","v":40.500636812910372},2.1428571428571428,6.0901340429649515,null,0,{"$f":"IF(WY30>0,RANDBETWEEN(0,1000),1000)","v":538},1.4734960166094933,2.2191333236610631,0,46.590770855875327,null,null,null,null,{"$f":"IF(XP29=0,0,IF(XP29<$D$14*$D$12,XP29+1,IF(XP29=$D$14*$D$12,0,IF(XP29=0,0,))))","v":3},1.5,1.4701303376430397,2.1428571428571428,4.650939967701877,4.650939967701877,6.0901340429649515,null,{"$f":"MAX(YG30-XV30,0)","v":39.4377793505857},2.1428571428571428,6.0901340429649515,null,0,{"$f":"IF(XU30>0,RANDBETWEEN(0,1000),1000)","v":239},1.4734960166094933,2.2191333236610631,0,45.527913393550655,null,null,null,null,{"$f":"IF(YL29=0,0,IF(YL29<$D$14*$D$12,YL29+1,IF(YL29=$D$14*$D$12,0,IF(YL29=0,0,))))","v":3},1.5,1.4701303376430397,2.1428571428571428,4.650939967701877,4.650939967701877,6.0901340429649515,null,{"$f":"MAX(ZC30-YR30,0)","v":37.41031970656428},2.1428571428571428,6.0901340429649515,null,0,{"$f":"IF(YQ30>0,RANDBETWEEN(0,1000),1000)","v":227},1.4734960166094933,2.2191333236610631,0,43.500453749529228,null,null,null,null,{"$f":"IF(ZH29=0,0,IF(ZH29<$D$14*$D$12,ZH29+1,IF(ZH29=$D$14*$D$12,0,IF(ZH29=0,0,))))","v":3},1.5,1.4701303376430397,2.1428571428571428,4.650939967701877,4.650939967701877,6.0901340429649515,null,{"$f":"MAX(ZY30-ZN30,0)","v":37.213683691749424},2.1428571428571428,6.0901340429649515,null,0,{"$f":"IF(ZM30>0,RANDBETWEEN(0,1000),1000)","v":331},1.4734960166094933,2.2191333236610631,0,43.303817734714372,null,null,null,null,{"$f":"IF(AAD29=0,0,IF(AAD29<$D$14*$D$12,AAD29+1,IF(AAD29=$D$14*$D$12,0,IF(AAD29=0,0,))))","v":3},1.5,1.4701303376430397,2.1428571428571428,4.650939967701877,4.650939967701877,6.0901340429649515,null,{"$f":"MAX(AAU30-AAJ30,0)","v":36.964330946835346},2.1428571428571428,6.0901340429649515,null,0,{"$f":"IF(AAI30>0,RANDBETWEEN(0,1000),1000)","v":163},1.4734960166094933,2.2191333236610631,0,43.054464989800294,null,null,null,null,{"$f":"IF(AAZ29=0,0,IF(AAZ29<$D$14*$D$12,AAZ29+1,IF(AAZ29=$D$14*$D$12,0,IF(AAZ29=0,0,))))","v":3},1.5,1.4701303376430397,2.1428571428571428,4.650939967701877,4.650939967701877,6.0901340429649515,null,{"$f":"MAX(ABQ30-ABF30,0)","v":37.057512517867252},2.1428571428571428,6.0901340429649515,null,0,{"$f":"IF(ABE30>0,RANDBETWEEN(0,1000),1000)","v":814},1.4734960166094933,2.2191333236610631,0,43.147646560832207,null,null,null,null,{"$f":"IF(ABV29=0,0,IF(ABV29<$D$14*$D$12,ABV29+1,IF(ABV29=$D$14*$D$12,0,IF(ABV29=0,0,))))","v":3},1.5,1.4701303376430397,2.1428571428571428,4.650939967701877,4.650939967701877,6.0901340429649515,null,{"$f":"MAX(ACM30-ACB30,0)","v":37.057512517867252},2.1428571428571428,6.0901340429649515,null,0,{"$f":"IF(ACA30>0,RANDBETWEEN(0,1000),1000)","v":337},1.4734960166094933,2.2191333236610631,0,43.147646560832207,null,null,null,null,{"$f":"IF(ACR29=0,0,IF(ACR29<$D$14*$D$12,ACR29+1,IF(ACR29=$D$14*$D$12,0,IF(ACR29=0,0,))))","v":3},1.5,1.4701303376430397,2.1428571428571428,4.650939967701877,4.650939967701877,6.0901340429649515,null,{"$f":"MAX(ADI30-ACX30,0)","v":37.057512517867252},2.1428571428571428,6.0901340429649515,null,0,{"$f":"IF(ACW30>0,RANDBETWEEN(0,1000),1000)","v":455},1.4734960166094933,2.2191333236610631,0,43.147646560832207,null,null,null,null,{"$f":"IF(ADN29=0,0,IF(ADN29<$D$14*$D$12,ADN29+1,IF(ADN29=$D$14*$D$12,0,IF(ADN29=0,0,))))","v":3},1.5,1.4701303376430397,2.1428571428571428,4.650939967701877,4.650939967701877,6.0901340429649515,null,{"$f":"MAX(AEE30-ADT30,0)","v":37.057512517867252},2.1428571428571428,6.0901340429649515,null,0,{"$f":"IF(ADS30>0,RANDBETWEEN(0,1000),1000)","v":460},1.4734960166094933,2.2191333236610631,0,43.147646560832207,null,null,null,null,{"$f":"IF(AEJ29=0,0,IF(AEJ29<$D$14*$D$12,AEJ29+1,IF(AEJ29=$D$14*$D$12,0,IF(AEJ29=0,0,))))","v":3},1.5,1.4701303376430397,2.1428571428571428,4.650939967701877,4.650939967701877,6.0901340429649515,null,{"$f":"MAX(AFA30-AEP30,0)","v":37.057512517867252},2.1428571428571428,6.0901340429649515,null,0,{"$f":"IF(AEO30>0,RANDBETWEEN(0,1000),1000)","v":516},1.4734960166094933,2.2191333236610631,0,43.147646560832207,null,null,null,null,{"$f":"IF(AFF29=0,0,IF(AFF29<$D$14*$D$12,AFF29+1,IF(AFF29=$D$14*$D$12,0,IF(AFF29=0,0,))))","v":3},1.5,1.4701303376430397,2.1428571428571428,4.650939967701877,4.650939967701877,6.0901340429649515,null,{"$f":"MAX(AFW30-AFL30,0)","v":37.057512517867252},2.1428571428571428,6.0901340429649515,null,0,{"$f":"IF(AFK30>0,RANDBETWEEN(0,1000),1000)","v":98},1.4734960166094933,2.2191333236610631,0,43.147646560832207,null,null,null,null,{"$f":"IF(AGB29=0,0,IF(AGB29<$D$14*$D$12,AGB29+1,IF(AGB29=$D$14*$D$12,0,IF(AGB29=0,0,))))","v":3},1.5,1.4701303376430397,2.1428571428571428,4.650939967701877,4.650939967701877,6.0901340429649515,null,{"$f":"MAX(AGS30-AGH30,0)","v":37.057512517867252},2.1428571428571428,6.0901340429649515,null,0,{"$f":"IF(AGG30>0,RANDBETWEEN(0,1000),1000)","v":9},1.4734960166094933,2.2191333236610631,0,43.147646560832207,null,null,null,null,{"$f":"IF(AGX29=0,0,IF(AGX29<$D$14*$D$12,AGX29+1,IF(AGX29=$D$14*$D$12,0,IF(AGX29=0,0,))))","v":3},1.5,1.4701303376430397,2.1428571428571428,4.650939967701877,4.650939967701877,6.0901340429649515,null,{"$f":"MAX(AHO30-AHD30,0)","v":37.057512517867252},2.1428571428571428,6.0901340429649515,null,0,{"$f":"IF(AHC30>0,RANDBETWEEN(0,1000),1000)","v":533},1.4734960166094933,2.2191333236610631,0,43.147646560832207,null,null,null,null,{"$f":"IF(AHT29=0,0,IF(AHT29<$D$14*$D$12,AHT29+1,IF(AHT29=$D$14*$D$12,0,IF(AHT29=0,0,))))","v":3},1.5,1.4701303376430397,2.1428571428571428,4.650939967701877,4.650939967701877,6.0901340429649515,null,{"$f":"MAX(AIK30-AHZ30,0)","v":37.057512517867252},2.1428571428571428,6.0901340429649515,null,0,{"$f":"IF(AHY30>0,RANDBETWEEN(0,1000),1000)","v":463},1.4734960166094933,2.2191333236610631,0,43.147646560832207,null,null,null,null,{"$f":"IF(AIP29=0,0,IF(AIP29<$D$14*$D$12,AIP29+1,IF(AIP29=$D$14*$D$12,0,IF(AIP29=0,0,))))","v":3},1.5,1.4701303376430397,2.1428571428571428,4.650939967701877,4.650939967701877,6.0901340429649515,null,{"$f":"MAX(AJG30-AIV30,0)","v":37.057512517867252},2.1428571428571428,6.0901340429649515,null,0,{"$f":"IF(AIU30>0,RANDBETWEEN(0,1000),1000)","v":161},1.4734960166094933,2.2191333236610631,0,43.147646560832207,null,null,null,null,{"$f":"IF(AJL29=0,0,IF(AJL29<$D$14*$D$12,AJL29+1,IF(AJL29=$D$14*$D$12,0,IF(AJL29=0,0,))))","v":3},1.5,1.4701303376430397,2.1428571428571428,4.650939967701877,4.650939967701877,6.0901340429649515,null,{"$f":"MAX(AKC30-AJR30,0)","v":37.057512517867252},2.1428571428571428,6.0901340429649515,null,0,{"$f":"IF(AJQ30>0,RANDBETWEEN(0,1000),1000)","v":439},1.4734960166094933,2.2191333236610631,0,43.147646560832207,null,null,null,null,{"$f":"IF(AKH29=0,0,IF(AKH29<$D$14*$D$12,AKH29+1,IF(AKH29=$D$14*$D$12,0,IF(AKH29=0,0,))))","v":3},1.5,1.4701303376430397,2.1428571428571428,4.650939967701877,4.650939967701877,6.0901340429649515,null,{"$f":"MAX(AKY30-AKN30,0)","v":37.057512517867252},2.1428571428571428,6.0901340429649515,null,0,749,1.4734960166094933,2.2191333236610631,0,43.147646560832207,null,null,null,null,{"$f":"IF(ALD29=0,0,IF(ALD29<$D$14*$D$12,ALD29+1,IF(ALD29=$D$14*$D$12,0,IF(ALD29=0,0,))))","v":3},1.5,1.4701303376430397,2.1428571428571428,4.650939967701877,4.650939967701877,6.0901340429649515,null,{"$f":"MAX(ALU30-ALJ30,0)","v":37.057512517867252},2.1428571428571428,6.0901340429649515,null,0,560,1.4734960166094933,2.2191333236610631,0,43.147646560832207,null,null,null,null,{"$f":"IF(ALZ29=0,0,IF(ALZ29<$D$14*$D$12,ALZ29+1,IF(ALZ29=$D$14*$D$12,0,IF(ALZ29=0,0,))))","v":3},1.5,1.4701303376430397,2.1428571428571428,4.650939967701877,4.650939967701877,6.0901340429649515,null,{"$f":"MAX(AMQ30-AMF30,0)","v":37.057512517867252},2.1428571428571428,6.0901340429649515,null,0,683,1.4734960166094933,2.2191333236610631,0,43.147646560832207,null,null,null,null,{"$f":"IF(AMV29=0,0,IF(AMV29<$D$14*$D$12,AMV29+1,IF(AMV29=$D$14*$D$12,0,IF(AMV29=0,0,))))","v":3},1.5,1.4701303376430397,2.1428571428571428,4.650939967701877,4.650939967701877,6.0901340429649515,null,{"$f":"MAX(ANM30-ANB30,0)","v":37.057512517867252},2.1428571428571428,6.0901340429649515,null,0,741,1.4734960166094933,2.2191333236610631,0,43.147646560832207,null,null,null,null,{"$f":"IF(ANR29=0,0,IF(ANR29<$D$14*$D$12,ANR29+1,IF(ANR29=$D$14*$D$12,0,IF(ANR29=0,0,))))","v":3},1.5,1.4701303376430397,2.1428571428571428,4.650939967701877,4.650939967701877,6.0901340429649515,null,{"$f":"MAX(AOI30-ANX30,0)","v":37.057512517867252},2.1428571428571428,6.0901340429649515,null,0,465,1.4734960166094933,2.2191333236610631,0,43.147646560832207,null,null,null,null,{"$f":"IF(AON29=0,0,IF(AON29<$D$14*$D$12,AON29+1,IF(AON29=$D$14*$D$12,0,IF(AON29=0,0,))))","v":3},1.5,1.4701303376430397,2.1428571428571428,4.650939967701877,4.650939967701877,6.0901340429649515,null,{"$f":"MAX(APE30-AOT30,0)","v":37.057512517867252},2.1428571428571428,6.0901340429649515,null,0,99,1.4734960166094933,2.2191333236610631,0,43.147646560832207,null,null,null,null,{"$f":"IF(APJ29=0,0,IF(APJ29<$D$14*$D$12,APJ29+1,IF(APJ29=$D$14*$D$12,0,IF(APJ29=0,0,))))","v":3},1.5,1.4701303376430397,2.1428571428571428,4.650939967701877,4.650939967701877,6.0901340429649515,null,{"$f":"MAX(AQA30-APP30,0)","v":37.057512517867252},2.1428571428571428,6.0901340429649515,null,0,744,1.4734960166094933,2.2191333236610631,0,43.147646560832207,null,null,null,null,{"$f":"IF(AQF29=0,0,IF(AQF29<$D$14*$D$12,AQF29+1,IF(AQF29=$D$14*$D$12,0,IF(AQF29=0,0,))))","v":3},1.5,1.4701303376430397,2.1428571428571428,4.650939967701877,4.650939967701877,6.0901340429649515,null,{"$f":"MAX(AQW30-AQL30,0)","v":37.057512517867252},2.1428571428571428,6.0901340429649515,null,0,{"$f":"IF(AQK30>0,RANDBETWEEN(0,1000),1000)","v":745},1.4734960166094933,2.2191333236610631,0,43.147646560832207,null,null,null,null,{"$f":"IF(ARB29=0,0,IF(ARB29<$D$14*$D$12,ARB29+1,IF(ARB29=$D$14*$D$12,0,IF(ARB29=0,0,))))","v":3},1.5,1.4701303376430397,2.1428571428571428,4.650939967701877,4.650939967701877,6.0901340429649515,null,{"$f":"MAX(ARS30-ARH30,0)","v":37.057512517867252},2.1428571428571428,6.0901340429649515,null,0,{"$f":"IF(ARG30>0,RANDBETWEEN(0,1000),1000)","v":253},1.4734960166094933,2.2191333236610631,0,43.147646560832207,null,null,null,null,{"$f":"IF(ARX29=0,0,IF(ARX29<$D$14*$D$12,ARX29+1,IF(ARX29=$D$14*$D$12,0,IF(ARX29=0,0,))))","v":3},1.5,1.4701303376430397,2.1428571428571428,4.650939967701877,4.650939967701877,6.0901340429649515,null,{"$f":"MAX(ASO30-ASD30,0)","v":37.057512517867252},2.1428571428571428,6.0901340429649515,null,0,{"$f":"IF(ASC30>0,RANDBETWEEN(0,1000),1000)","v":814},1.4734960166094933,2.2191333236610631,0,43.147646560832207,null,null,null,null,{"$f":"IF(AST29=0,0,IF(AST29<$D$14*$D$12,AST29+1,IF(AST29=$D$14*$D$12,0,IF(AST29=0,0,))))","v":3},1.5,1.4701303376430397,2.1428571428571428,4.650939967701877,4.650939967701877,6.0901340429649515,null,{"$f":"MAX(ATK30-ASZ30,0)","v":37.057512517867252},2.1428571428571428,6.0901340429649515,null,0,{"$f":"IF(ASY30>0,RANDBETWEEN(0,1000),1000)","v":894},1.4734960166094933,2.2191333236610631,0,43.147646560832207,null,null,null,null,{"$f":"IF(ATP29=0,0,IF(ATP29<$D$14*$D$12,ATP29+1,IF(ATP29=$D$14*$D$12,0,IF(ATP29=0,0,))))","v":3},1.5,1.4701303376430397,2.1428571428571428,4.650939967701877,4.650939967701877,6.0901340429649515,null,{"$f":"MAX(AUG30-ATV30,0)","v":37.057512517867252},2.1428571428571428,6.0901340429649515,null,0,{"$f":"IF(ATU30>0,RANDBETWEEN(0,1000),1000)","v":314},1.4734960166094933,2.2191333236610631,0,43.147646560832207,null,null,null,null,{"$f":"IF(AUL29=0,0,IF(AUL29<$D$14*$D$12,AUL29+1,IF(AUL29=$D$14*$D$12,0,IF(AUL29=0,0,))))","v":3},1.5,1.4701303376430397,2.1428571428571428,4.650939967701877,4.650939967701877,6.0901340429649515,null,{"$f":"MAX(AVC30-AUR30,0)","v":37.057512517867252},2.1428571428571428,6.0901340429649515,null,0,{"$f":"IF(AUQ30>0,RANDBETWEEN(0,1000),1000)","v":232},1.4734960166094933,2.2191333236610631,0,43.147646560832207,null,null,null,null,{"$f":"IF(AVH29=0,0,IF(AVH29<$D$14*$D$12,AVH29+1,IF(AVH29=$D$14*$D$12,0,IF(AVH29=0,0,))))","v":3},1.5,1.4701303376430397,2.1428571428571428,4.650939967701877,4.650939967701877,6.0901340429649515,null,{"$f":"MAX(AVY30-AVN30,0)","v":37.057512517867252},2.1428571428571428,6.0901340429649515,null,0,{"$f":"IF(AVM30>0,RANDBETWEEN(0,1000),1000)","v":618},1.4734960166094933,2.2191333236610631,0,43.147646560832207,null,null,null,null,{"$f":"IF(AWD29=0,0,IF(AWD29<$D$14*$D$12,AWD29+1,IF(AWD29=$D$14*$D$12,0,IF(AWD29=0,0,))))","v":3},1.5,1.4701303376430397,2.1428571428571428,4.650939967701877,4.650939967701877,6.0901340429649515,null,{"$f":"MAX(AWU30-AWJ30,0)","v":37.057512517867252},2.1428571428571428,6.0901340429649515,null,0,{"$f":"IF(AWI30>0,RANDBETWEEN(0,1000),1000)","v":855},1.4734960166094933,2.2191333236610631,0,43.147646560832207,null,null,null,null,{"$f":"IF(AWZ29=0,0,IF(AWZ29<$D$14*$D$12,AWZ29+1,IF(AWZ29=$D$14*$D$12,0,IF(AWZ29=0,0,))))","v":3},1.5,1.4701303376430397,2.1428571428571428,4.650939967701877,4.650939967701877,6.0901340429649515,null,{"$f":"MAX(AXQ30-AXF30,0)","v":37.057512517867252},2.1428571428571428,6.0901340429649515,null,0,{"$f":"IF(AXE30>0,RANDBETWEEN(0,1000),1000)","v":800},1.4734960166094933,2.2191333236610631,0,43.147646560832207,null,null,null,null,{"$f":"IF(AXV29=0,0,IF(AXV29<$D$14*$D$12,AXV29+1,IF(AXV29=$D$14*$D$12,0,IF(AXV29=0,0,))))","v":3},1.5,1.4701303376430397,2.1428571428571428,4.650939967701877,4.650939967701877,6.0901340429649515,null,{"$f":"MAX(AYM30-AYB30,0)","v":37.057512517867252},2.1428571428571428,6.0901340429649515,null,0,{"$f":"IF(AYA30>0,RANDBETWEEN(0,1000),1000)","v":367},1.4734960166094933,2.2191333236610631,0,43.147646560832207,null,null,null,null,{"$f":"IF(AYR29=0,0,IF(AYR29<$D$14*$D$12,AYR29+1,IF(AYR29=$D$14*$D$12,0,IF(AYR29=0,0,))))","v":3},1.5,1.4701303376430397,2.1428571428571428,4.650939967701877,4.650939967701877,6.0901340429649515,null,{"$f":"MAX(AZI30-AYX30,0)","v":37.057512517867252},2.1428571428571428,6.0901340429649515,null,0,{"$f":"IF(AYW30>0,RANDBETWEEN(0,1000),1000)","v":299},1.4734960166094933,2.2191333236610631,0,43.147646560832207,null,null,null,null,{"$f":"IF(AZN29=0,0,IF(AZN29<$D$14*$D$12,AZN29+1,IF(AZN29=$D$14*$D$12,0,IF(AZN29=0,0,))))","v":3},1.5,1.4701303376430397,2.1428571428571428,4.650939967701877,4.650939967701877,6.0901340429649515,null,{"$f":"MAX(BAE30-AZT30,0)","v":37.057512517867252},2.1428571428571428,6.0901340429649515,null,0,{"$f":"IF(AZS30>0,RANDBETWEEN(0,1000),1000)","v":271},1.4734960166094933,2.2191333236610631,0,43.147646560832207,null,null,null,null,{"$f":"IF(BAJ29=0,0,IF(BAJ29<$D$14*$D$12,BAJ29+1,IF(BAJ29=$D$14*$D$12,0,IF(BAJ29=0,0,))))","v":3},1.5,1.4701303376430397,2.1428571428571428,4.650939967701877,4.650939967701877,6.0901340429649515,null,{"$f":"MAX(BBA30-BAP30,0)","v":37.057512517867252},2.1428571428571428,6.0901340429649515,null,0,{"$f":"IF(BAO30>0,RANDBETWEEN(0,1000),1000)","v":198},1.4734960166094933,2.2191333236610631,0,43.147646560832207,null,null,null,null,{"$f":"IF(BBF29=0,0,IF(BBF29<$D$14*$D$12,BBF29+1,IF(BBF29=$D$14*$D$12,0,IF(BBF29=0,0,))))","v":3},1.5,1.4701303376430397,2.1428571428571428,4.650939967701877,4.650939967701877,6.0901340429649515,null,{"$f":"MAX(BBW30-BBL30,0)","v":37.057512517867252},2.1428571428571428,6.0901340429649515,null,0,{"$f":"IF(BBK30>0,RANDBETWEEN(0,1000),1000)","v":442},1.4734960166094933,2.2191333236610631,0,43.147646560832207,null,null,null,null,{"$f":"IF(BCB29=0,0,IF(BCB29<$D$14*$D$12,BCB29+1,IF(BCB29=$D$14*$D$12,0,IF(BCB29=0,0,))))","v":3},1.5,1.4701303376430397,2.1428571428571428,4.650939967701877,4.650939967701877,6.0901340429649515,null,{"$f":"MAX(BCS30-BCH30,0)","v":37.057512517867252},2.1428571428571428,6.0901340429649515,null,0,{"$f":"IF(BCG30>0,RANDBETWEEN(0,1000),1000)","v":26},1.4734960166094933,2.2191333236610631,0,43.147646560832207,null,null,null,null,{"$f":"IF(BCX29=0,0,IF(BCX29<$D$14*$D$12,BCX29+1,IF(BCX29=$D$14*$D$12,0,IF(BCX29=0,0,))))","v":3},1.5,1.4701303376430397,2.1428571428571428,4.650939967701877,4.650939967701877,6.0901340429649515,null,{"$f":"MAX(BDO30-BDD30,0)","v":37.057512517867252},2.1428571428571428,6.0901340429649515,null,0,{"$f":"IF(BDC30>0,RANDBETWEEN(0,1000),1000)","v":907},1.4734960166094933,2.2191333236610631,0,43.147646560832207,null,null,null,null,{"$f":"IF(BDT29=0,0,IF(BDT29<$D$14*$D$12,BDT29+1,IF(BDT29=$D$14*$D$12,0,IF(BDT29=0,0,))))","v":3},1.5,1.4701303376430397,2.1428571428571428,4.650939967701877,4.650939967701877,6.0901340429649515,null,{"$f":"MAX(BEK30-BDZ30,0)","v":37.057512517867252},2.1428571428571428,6.0901340429649515,null,0,{"$f":"IF(BDY30>0,RANDBETWEEN(0,1000),1000)","v":529},1.4734960166094933,2.2191333236610631,0,43.147646560832207,null,null,null,null,{"$f":"IF(BEP29=0,0,IF(BEP29<$D$14*$D$12,BEP29+1,IF(BEP29=$D$14*$D$12,0,IF(BEP29=0,0,))))","v":3},1.5,1.4701303376430397,2.1428571428571428,4.650939967701877,4.650939967701877,6.0901340429649515,null,{"$f":"MAX(BFG30-BEV30,0)","v":37.057512517867252},2.1428571428571428,6.0901340429649515,null,0,{"$f":"IF(BEU30>0,RANDBETWEEN(0,1000),1000)","v":706},1.4734960166094933,2.2191333236610631,0,43.147646560832207,null,null,null,null,{"$f":"IF(BFL29=0,0,IF(BFL29<$D$14*$D$12,BFL29+1,IF(BFL29=$D$14*$D$12,0,IF(BFL29=0,0,))))","v":3},1.5,1.4701303376430397,2.1428571428571428,4.650939967701877,4.650939967701877,6.0901340429649515,null,{"$f":"MAX(BGC30-BFR30,0)","v":37.057512517867252},2.1428571428571428,6.0901340429649515,null,0,{"$f":"IF(BFQ30>0,RANDBETWEEN(0,1000),1000)","v":209},1.4734960166094933,2.2191333236610631,0,43.147646560832207,null,null,null,null,{"$f":"IF(BGH29=0,0,IF(BGH29<$D$14*$D$12,BGH29+1,IF(BGH29=$D$14*$D$12,0,IF(BGH29=0,0,))))","v":3},1.5,1.4701303376430397,2.1428571428571428,4.650939967701877,4.650939967701877,6.0901340429649515,null,{"$f":"MAX(BGY30-BGN30,0)","v":37.057512517867252},2.1428571428571428,6.0901340429649515,null,0,{"$f":"IF(BGM30>0,RANDBETWEEN(0,1000),1000)","v":639},1.4734960166094933,2.2191333236610631,0,43.147646560832207,null,null,null,null,{"$f":"IF(BHD29=0,0,IF(BHD29<$D$14*$D$12,BHD29+1,IF(BHD29=$D$14*$D$12,0,IF(BHD29=0,0,))))","v":3},1.5,1.4701303376430397,2.1428571428571428,4.650939967701877,4.650939967701877,6.0901340429649515,null,{"$f":"MAX(BHU30-BHJ30,0)","v":37.057512517867252},2.1428571428571428,6.0901340429649515,null,0,{"$f":"IF(BHI30>0,RANDBETWEEN(0,1000),1000)","v":226},1.4734960166094933,2.2191333236610631,0,43.147646560832207,null,null,null,null,{"$f":"IF(BHZ29=0,0,IF(BHZ29<$D$14*$D$12,BHZ29+1,IF(BHZ29=$D$14*$D$12,0,IF(BHZ29=0,0,))))","v":3},1.5,1.4701303376430397,2.1428571428571428,4.650939967701877,4.650939967701877,6.0901340429649515,null,{"$f":"MAX(BIQ30-BIF30,0)","v":37.057512517867252},2.1428571428571428,6.0901340429649515,null,0,{"$f":"IF(BIE30>0,RANDBETWEEN(0,1000),1000)","v":410},1.4734960166094933,2.2191333236610631,0,43.147646560832207,null,null,null,null,{"$f":"IF(BIV29=0,0,IF(BIV29<$D$14*$D$12,BIV29+1,IF(BIV29=$D$14*$D$12,0,IF(BIV29=0,0,))))","v":3},1.5,1.4701303376430397,2.1428571428571428,4.650939967701877,4.650939967701877,6.0901340429649515,null,{"$f":"MAX(BJM30-BJB30,0)","v":37.057512517867252},2.1428571428571428,6.0901340429649515,null,0,{"$f":"IF(BJA30>0,RANDBETWEEN(0,1000),1000)","v":645},1.4734960166094933,2.2191333236610631,0,43.147646560832207,null,null,null,null,{"$f":"IF(BJR29=0,0,IF(BJR29<$D$14*$D$12,BJR29+1,IF(BJR29=$D$14*$D$12,0,IF(BJR29=0,0,))))","v":3},1.5,1.4701303376430397,2.1428571428571428,4.650939967701877,4.650939967701877,6.0901340429649515,null,{"$f":"MAX(BKI30-BJX30,0)","v":37.057512517867252},2.1428571428571428,6.0901340429649515,null,0,{"$f":"IF(BJW30>0,RANDBETWEEN(0,1000),1000)","v":217},1.4734960166094933,2.2191333236610631,0,43.147646560832207,null,null,null,null,{"$f":"IF(BKN29=0,0,IF(BKN29<$D$14*$D$12,BKN29+1,IF(BKN29=$D$14*$D$12,0,IF(BKN29=0,0,))))","v":3},1.5,1.4701303376430397,2.1428571428571428,4.650939967701877,4.650939967701877,6.0901340429649515,null,{"$f":"MAX(BLE30-BKT30,0)","v":37.057512517867252},2.1428571428571428,6.0901340429649515,null,0,{"$f":"IF(BKS30>0,RANDBETWEEN(0,1000),1000)","v":322},1.4734960166094933,2.2191333236610631,0,43.147646560832207,null,null,null,null,{"$f":"IF(BLJ29=0,0,IF(BLJ29<$D$14*$D$12,BLJ29+1,IF(BLJ29=$D$14*$D$12,0,IF(BLJ29=0,0,))))","v":3},1.5,1.4701303376430397,2.1428571428571428,4.650939967701877,4.650939967701877,6.0901340429649515,null,{"$f":"MAX(BMA30-BLP30,0)","v":37.057512517867252},2.1428571428571428,6.0901340429649515,null,0,{"$f":"IF(BLO30>0,RANDBETWEEN(0,1000),1000)","v":13},1.4734960166094933,2.2191333236610631,0,43.147646560832207,null,null,null,null,{"$f":"IF(BMF29=0,0,IF(BMF29<$D$14*$D$12,BMF29+1,IF(BMF29=$D$14*$D$12,0,IF(BMF29=0,0,))))","v":3},1.5,1.4701303376430397,2.1428571428571428,4.650939967701877,4.650939967701877,6.0901340429649515,null,{"$f":"MAX(BMW30-BML30,0)","v":37.057512517867252},2.1428571428571428,6.0901340429649515,null,0,{"$f":"IF(BMK30>0,RANDBETWEEN(0,1000),1000)","v":42},1.4734960166094933,2.2191333236610631,0,43.147646560832207,null,null,null,null,{"$f":"IF(BNB29=0,0,IF(BNB29<$D$14*$D$12,BNB29+1,IF(BNB29=$D$14*$D$12,0,IF(BNB29=0,0,))))","v":3},1.5,1.4701303376430397,2.1428571428571428,4.650939967701877,4.650939967701877,6.0901340429649515,null,{"$f":"MAX(BNS30-BNH30,0)","v":37.057512517867252},2.1428571428571428,6.0901340429649515,null,0,{"$f":"IF(BNG30>0,RANDBETWEEN(0,1000),1000)","v":783},1.4734960166094933,2.2191333236610631,0,43.147646560832207,null,null,null,null,{"$f":"IF(BNX29=0,0,IF(BNX29<$D$14*$D$12,BNX29+1,IF(BNX29=$D$14*$D$12,0,IF(BNX29=0,0,))))","v":3},1.5,1.4701303376430397,2.1428571428571428,4.650939967701877,4.650939967701877,6.0901340429649515,null,{"$f":"MAX(BOO30-BOD30,0)","v":37.057512517867252},2.1428571428571428,6.0901340429649515,null,0,{"$f":"IF(BOC30>0,RANDBETWEEN(0,1000),1000)","v":607},1.4734960166094933,2.2191333236610631,0,43.147646560832207,null,null,null,3,1.5,2.1428571428571428,0,16.30335800354985,null,null,-2.1428571428571428,-2.1428571428571428,2,{"$f":"BB30","v":48.588359872118744},null,{"$f":"AZ30","v":7.288286509760372},{"$f":"BK30","v":55.876646381879112}]
[4,2,-0.60130494384318467,2.1428571428571428,0.61136324699538358,0.61136324699538358,2.5808610290468534,null,{"$f":"MAX(R31-G31,0)","v":35.781498317481599},2.1428571428571428,2.5808610290468534,null,0,877,-0.18859558519398062,1.6302860665406598,0,38.36235934652845,-2.1428571428571428,null,null,null,4,2,-0.26449329743947286,2.1428571428571428,2.929727188850006,2.929727188850006,4.2970021595089838,null,{"$f":"MAX(AN31-AC31,0)","v":76.466960538537265},2.1428571428571428,4.2970021595089838,null,0,578,-0.49310257654156253,1.7714906487773954,0,80.763962698046242,null,null,null,null,null,4,2,2.214628682718712,2.1428571428571428,2.8350423827987421,2.8350423827987421,5.2756865314763202,null,{"$f":"MAX(BK31-AZ31,0)","v":52.015483888060956},2.1428571428571428,5.2756865314763202,null,0,944,1.1523937633797752,2.5100402874128673,0,57.291170419537274,null,null,null,null,4,{"$f":"BQ30+$A$28/$D$12","v":2},{"$f":"NORMSINV(RAND())","v":-1.870649461648189},2.1428571428571428,{"$f":"IF(BT30<=0,0,BT30-BS31+$D$4*(BT30-BS31)*SQRT($D$13)*NORMINV((RAND()),0,1))","v":1.9879337040879634},{"$f":"IF(OR(BU30=0,BT31<0,BP31=0),0,BT31)","v":1.9879337040879634},4.0683758541309274,{"$f":"IF(BP31>0,IF(AND(BU31=0,BU30>0),BP31,\" \"))","v":" "},{"$f":"MAX(CG31-BV31,0)","v":23.443382123762614},2.1428571428571428,4.0683758541309274,{"$f":"IF(CA30=\"Abandon\",0,IF(BP31>0,IF(AND(BV31>0,BX31=0),\"Abandon\",\" \"),\" \"))","v":" "},0,793,{"$f":"NORMINV((RAND()),0,1)","v":-0.76645780244872885},{"$f":"IF(BU30>0,IF((CE30+$D$7*$D$9*CD31*SQRT($D$13))<0,0,(CE30+$D$7*$D$9*CD31*SQRT($D$13))),IF(CE30*EXP((($D$8-$D$1)-(1/2)*$D$9^2)*$D$13+$D$9*SQRT($D$13)*CD31)<0,0,CE30*EXP((($D$8-$D$1)-(1/2)*$D$9^2)*$D$13+$D$9*SQRT($D$13)*CD31)))","v":2.0256509227321366},0,27.511757977893541,null,{"$f":"IF(BU31>0,IF(CC31<=$D$10*$D$13*1000,\"Failure\",\" \"),\" \")","v":" "},{"$f":"IF(CJ30>0,\" \",IF(CI31=\"Failure\",BP31,))","v":0},null,4,2,-1.870649461648189,2.1428571428571428,1.9879337040879634,1.9879337040879634,4.0472026905773326,null,{"$f":"MAX(DC31-CR31,0)","v":35.505066460860348},2.1428571428571428,4.0472026905773326,null,0,908,-0.76645780244872885,2.0256509227321366,0,39.552269151437677,null,null,null,null,4,2,-1.870649461648189,2.1428571428571428,1.9879337040879634,1.9879337040879634,4.0472026905773326,null,{"$f":"MAX(DY31-DN31,0)","v":38.755996331283256},2.1428571428571428,4.0472026905773326,null,0,961,-0.76645780244872885,2.0256509227321366,0,42.803199021860593,null,null,null,null,4,2,-1.870649461648189,2.1428571428571428,1.9879337040879634,1.9879337040879634,4.0472026905773326,null,{"$f":"MAX(EU31-EJ31,0)","v":45.545924189227946},2.1428571428571428,4.0472026905773326,null,0,349,-0.76645780244872885,2.0256509227321366,0,49.593126879805283,null,null,null,null,4,2,-1.870649461648189,2.1428571428571428,1.9879337040879634,1.9879337040879634,4.0472026905773326,null,{"$f":"MAX(FQ31-FF31,0)","v":48.601203954774221},2.1428571428571428,4.0472026905773326,null,0,839,-0.76645780244872885,2.0256509227321366,0,52.64840664535155,null,null,null,null,4,2,-1.870649461648189,2.1428571428571428,1.9879337040879634,1.9879337040879634,4.0472026905773326,null,{"$f":"MAX(GM31-GB31,0)","v":38.979275563126308},2.1428571428571428,4.0472026905773326,null,0,299,-0.76645780244872885,2.0256509227321366,0,43.026478253703637,null,null,null,null,4,2,-1.870649461648189,2.1428571428571428,1.9879337040879634,1.9879337040879634,4.0472026905773326,null,{"$f":"MAX(HI31-GX31,0)","v":41.272515786412114},2.1428571428571428,4.0472026905773326,null,0,183,-0.76645780244872885,2.0256509227321366,0,45.319718476989451,null,null,null,null,4,2,-1.870649461648189,2.1428571428571428,1.9879337040879634,1.9879337040879634,4.0472026905773326,null,{"$f":"MAX(IE31-HT31,0)","v":40.165628538611728},2.1428571428571428,4.0472026905773326,null,0,37,-0.76645780244872885,2.0256509227321366,0,44.212831229189057,null,null,null,null,4,2,-1.870649461648189,2.1428571428571428,1.9879337040879634,1.9879337040879634,4.0472026905773326,null,{"$f":"MAX(JA31-IP31,0)","v":20.000518851477644},2.1428571428571428,4.0472026905773326,null,0,160,-0.76645780244872885,2.0256509227321366,0,24.047721542054976,null,null,null,null,4,2,-1.870649461648189,2.1428571428571428,1.9879337040879634,1.9879337040879634,4.0472026905773326,null,{"$f":"MAX(JW31-JL31,0)","v":20.907137178007879},2.1428571428571428,4.0472026905773326,null,0,540,-0.76645780244872885,2.0256509227321366,0,24.954339868585212,null,null,null,null,4,2,-1.870649461648189,2.1428571428571428,1.9879337040879634,1.9879337040879634,4.0472026905773326,null,{"$f":"MAX(KS31-KH31,0)","v":34.052025620000748},2.1428571428571428,4.0472026905773326,null,0,629,-0.76645780244872885,2.0256509227321366,0,38.099228310578084,null,null,null,null,4,2,-1.870649461648189,2.1428571428571428,1.9879337040879634,1.9879337040879634,4.0472026905773326,null,{"$f":"MAX(LO31-LD31,0)","v":23.328479740499073},2.1428571428571428,4.0472026905773326,null,0,87,-0.76645780244872885,2.0256509227321366,0,27.375682431076406,null,null,null,null,4,2,-1.870649461648189,2.1428571428571428,1.9879337040879634,1.9879337040879634,4.0472026905773326,null,{"$f":"MAX(MK31-LZ31,0)","v":32.15714250738128},2.1428571428571428,4.0472026905773326,null,0,106,-0.76645780244872885,2.0256509227321366,0,36.204345197958617,null,null,null,null,4,2,-1.870649461648189,2.1428571428571428,1.9879337040879634,1.9879337040879634,4.0472026905773326,null,{"$f":"MAX(NG31-MV31,0)","v":28.173017589789485},2.1428571428571428,4.0472026905773326,null,0,711,-0.76645780244872885,2.0256509227321366,0,32.220220280366817,null,null,null,null,4,2,-1.870649461648189,2.1428571428571428,1.9879337040879634,1.9879337040879634,4.0472026905773326,null,{"$f":"MAX(OC31-NR31,0)","v":38.530616113322225},2.1428571428571428,4.0472026905773326,null,0,182,-0.76645780244872885,2.0256509227321366,0,42.577818803899554,null,null,null,null,4,2,-1.870649461648189,2.1428571428571428,1.9879337040879634,1.9879337040879634,4.0472026905773326,null,{"$f":"MAX(OY31-ON31,0)","v":34.157761792551838},2.1428571428571428,4.0472026905773326,null,0,595,-0.76645780244872885,2.0256509227321366,0,38.204964483129174,null,null,null,null,4,2,-1.870649461648189,2.1428571428571428,1.9879337040879634,1.9879337040879634,4.0472026905773326,null,{"$f":"MAX(PU31-PJ31,0)","v":33.562096502919758},2.1428571428571428,4.0472026905773326,null,0,352,-0.76645780244872885,2.0256509227321366,0,37.609299193497087,null,null,null,null,4,2,-1.870649461648189,2.1428571428571428,1.9879337040879634,1.9879337040879634,4.0472026905773326,null,{"$f":"MAX(QQ31-QF31,0)","v":31.851421093819202},2.1428571428571428,4.0472026905773326,null,0,300,-0.76645780244872885,2.0256509227321366,0,35.898623784396534,null,null,null,null,4,2,-1.870649461648189,2.1428571428571428,1.9879337040879634,1.9879337040879634,4.0472026905773326,null,{"$f":"MAX(RM31-RB31,0)","v":34.174364986528403},2.1428571428571428,4.0472026905773326,null,0,459,-0.76645780244872885,2.0256509227321366,0,38.221567677105739,null,null,null,null,4,2,-1.870649461648189,2.1428571428571428,1.9879337040879634,1.9879337040879634,4.0472026905773326,null,{"$f":"MAX(SI31-RX31,0)","v":40.307429981047576},2.1428571428571428,4.0472026905773326,null,0,295,-0.76645780244872885,2.0256509227321366,0,44.354632671624913,null,null,null,null,4,2,-1.870649461648189,2.1428571428571428,1.9879337040879634,1.9879337040879634,4.0472026905773326,null,{"$f":"MAX(TE31-ST31,0)","v":42.24972614892242},2.1428571428571428,4.0472026905773326,null,0,850,-0.76645780244872885,2.0256509227321366,0,46.296928839499756,null,null,null,null,4,2,-1.870649461648189,2.1428571428571428,1.9879337040879634,1.9879337040879634,4.0472026905773326,null,{"$f":"MAX(UA31-TP31,0)","v":37.953997168426753},2.1428571428571428,4.0472026905773326,null,0,994,-0.76645780244872885,2.0256509227321366,0,42.001199859004082,null,null,null,null,4,2,-1.870649461648189,2.1428571428571428,1.9879337040879634,1.9879337040879634,4.0472026905773326,null,{"$f":"MAX(UW31-UL31,0)","v":41.632234563395812},2.1428571428571428,4.0472026905773326,null,0,359,-0.76645780244872885,2.0256509227321366,0,45.679437253973148,null,null,null,null,4,2,-1.870649461648189,2.1428571428571428,1.9879337040879634,1.9879337040879634,4.0472026905773326,null,{"$f":"MAX(VS31-VH31,0)","v":40.186081963212573},2.1428571428571428,4.0472026905773326,null,0,807,-0.76645780244872885,2.0256509227321366,0,44.233284653789902,null,null,null,null,4,2,-1.870649461648189,2.1428571428571428,1.9879337040879634,1.9879337040879634,4.0472026905773326,null,{"$f":"MAX(WO31-WD31,0)","v":40.447147189853538},2.1428571428571428,4.0472026905773326,null,0,641,-0.76645780244872885,2.0256509227321366,0,44.494349880430875,null,null,null,null,4,2,-1.870649461648189,2.1428571428571428,1.9879337040879634,1.9879337040879634,4.0472026905773326,null,{"$f":"MAX(XK31-WZ31,0)","v":43.723019144840521},2.1428571428571428,4.0472026905773326,null,0,964,-0.76645780244872885,2.0256509227321366,0,47.770221835417857,null,null,null,null,4,2,-1.870649461648189,2.1428571428571428,1.9879337040879634,1.9879337040879634,4.0472026905773326,null,{"$f":"MAX(YG31-XV31,0)","v":42.63325531775682},2.1428571428571428,4.0472026905773326,null,0,545,-0.76645780244872885,2.0256509227321366,0,46.680458008334149,null,null,null,null,4,2,-1.870649461648189,2.1428571428571428,1.9879337040879634,1.9879337040879634,4.0472026905773326,null,{"$f":"MAX(ZC31-YR31,0)","v":40.554470288488574},2.1428571428571428,4.0472026905773326,null,0,326,-0.76645780244872885,2.0256509227321366,0,44.601672979065903,null,null,null,null,4,2,-1.870649461648189,2.1428571428571428,1.9879337040879634,1.9879337040879634,4.0472026905773326,null,{"$f":"MAX(ZY31-ZN31,0)","v":40.352856409259232},2.1428571428571428,4.0472026905773326,null,0,632,-0.76645780244872885,2.0256509227321366,0,44.400059099836568,null,null,null,null,4,2,-1.870649461648189,2.1428571428571428,1.9879337040879634,1.9879337040879634,4.0472026905773326,null,{"$f":"MAX(AAU31-AAJ31,0)","v":40.097191269554557},2.1428571428571428,4.0472026905773326,null,0,862,-0.76645780244872885,2.0256509227321366,0,44.144393960131893,null,null,null,null,4,2,-1.870649461648189,2.1428571428571428,1.9879337040879634,1.9879337040879634,4.0472026905773326,null,{"$f":"MAX(ABQ31-ABF31,0)","v":40.192731743287808},2.1428571428571428,4.0472026905773326,null,0,505,-0.76645780244872885,2.0256509227321366,0,44.239934433865137,null,null,null,null,4,2,-1.870649461648189,2.1428571428571428,1.9879337040879634,1.9879337040879634,4.0472026905773326,null,{"$f":"MAX(ACM31-ACB31,0)","v":40.192731743287808},2.1428571428571428,4.0472026905773326,null,0,338,-0.76645780244872885,2.0256509227321366,0,44.239934433865137,null,null,null,null,4,2,-1.870649461648189,2.1428571428571428,1.9879337040879634,1.9879337040879634,4.0472026905773326,null,{"$f":"MAX(ADI31-ACX31,0)","v":40.192731743287808},2.1428571428571428,4.0472026905773326,null,0,154,-0.76645780244872885,2.0256509227321366,0,44.239934433865137,null,null,null,null,4,2,-1.870649461648189,2.1428571428571428,1.9879337040879634,1.9879337040879634,4.0472026905773326,null,{"$f":"MAX(AEE31-ADT31,0)","v":40.192731743287808},2.1428571428571428,4.0472026905773326,null,0,587,-0.76645780244872885,2.0256509227321366,0,44.239934433865137,null,null,null,null,4,2,-1.870649461648189,2.1428571428571428,1.9879337040879634,1.9879337040879634,4.0472026905773326,null,{"$f":"MAX(AFA31-AEP31,0)","v":40.192731743287808},2.1428571428571428,4.0472026905773326,null,0,429,-0.76645780244872885,2.0256509227321366,0,44.239934433865137,null,null,null,null,4,2,-1.870649461648189,2.1428571428571428,1.9879337040879634,1.9879337040879634,4.0472026905773326,null,{"$f":"MAX(AFW31-AFL31,0)","v":40.192731743287808},2.1428571428571428,4.0472026905773326,null,0,483,-0.76645780244872885,2.0256509227321366,0,44.239934433865137,null,null,null,null,4,2,-1.870649461648189,2.1428571428571428,1.9879337040879634,1.9879337040879634,4.0472026905773326,null,{"$f":"MAX(AGS31-AGH31,0)","v":40.192731743287808},2.1428571428571428,4.0472026905773326,null,0,790,-0.76645780244872885,2.0256509227321366,0,44.239934433865137,null,null,null,null,4,2,-1.870649461648189,2.1428571428571428,1.9879337040879634,1.9879337040879634,4.0472026905773326,null,{"$f":"MAX(AHO31-AHD31,0)","v":40.192731743287808},2.1428571428571428,4.0472026905773326,null,0,377,-0.76645780244872885,2.0256509227321366,0,44.239934433865137,null,null,null,null,4,2,-1.870649461648189,2.1428571428571428,1.9879337040879634,1.9879337040879634,4.0472026905773326,null,{"$f":"MAX(AIK31-AHZ31,0)","v":40.192731743287808},2.1428571428571428,4.0472026905773326,null,0,687,-0.76645780244872885,2.0256509227321366,0,44.239934433865137,null,null,null,null,4,2,-1.870649461648189,2.1428571428571428,1.9879337040879634,1.9879337040879634,4.0472026905773326,null,{"$f":"MAX(AJG31-AIV31,0)","v":40.192731743287808},2.1428571428571428,4.0472026905773326,null,0,236,-0.76645780244872885,2.0256509227321366,0,44.239934433865137,null,null,null,null,4,2,-1.870649461648189,2.1428571428571428,1.9879337040879634,1.9879337040879634,4.0472026905773326,null,{"$f":"MAX(AKC31-AJR31,0)","v":40.192731743287808},2.1428571428571428,4.0472026905773326,null,0,359,-0.76645780244872885,2.0256509227321366,0,44.239934433865137,null,null,null,null,4,2,-1.870649461648189,2.1428571428571428,1.9879337040879634,1.9879337040879634,4.0472026905773326,null,{"$f":"MAX(AKY31-AKN31,0)","v":40.192731743287808},2.1428571428571428,4.0472026905773326,null,0,512,-0.76645780244872885,2.0256509227321366,0,44.239934433865137,null,null,null,null,4,2,-1.870649461648189,2.1428571428571428,1.9879337040879634,1.9879337040879634,4.0472026905773326,null,{"$f":"MAX(ALU31-ALJ31,0)","v":40.192731743287808},2.1428571428571428,4.0472026905773326,null,0,646,-0.76645780244872885,2.0256509227321366,0,44.239934433865137,null,null,null,null,4,2,-1.870649461648189,2.1428571428571428,1.9879337040879634,1.9879337040879634,4.0472026905773326,null,{"$f":"MAX(AMQ31-AMF31,0)","v":40.192731743287808},2.1428571428571428,4.0472026905773326,null,0,57,-0.76645780244872885,2.0256509227321366,0,44.239934433865137,null,null,null,null,4,2,-1.870649461648189,2.1428571428571428,1.9879337040879634,1.9879337040879634,4.0472026905773326,null,{"$f":"MAX(ANM31-ANB31,0)","v":40.192731743287808},2.1428571428571428,4.0472026905773326,null,0,509,-0.76645780244872885,2.0256509227321366,0,44.239934433865137,null,null,null,null,4,2,-1.870649461648189,2.1428571428571428,1.9879337040879634,1.9879337040879634,4.0472026905773326,null,{"$f":"MAX(AOI31-ANX31,0)","v":40.192731743287808},2.1428571428571428,4.0472026905773326,null,0,857,-0.76645780244872885,2.0256509227321366,0,44.239934433865137,null,null,null,null,4,2,-1.870649461648189,2.1428571428571428,1.9879337040879634,1.9879337040879634,4.0472026905773326,null,{"$f":"MAX(APE31-AOT31,0)","v":40.192731743287808},2.1428571428571428,4.0472026905773326,null,0,298,-0.76645780244872885,2.0256509227321366,0,44.239934433865137,null,null,null,null,4,2,-1.870649461648189,2.1428571428571428,1.9879337040879634,1.9879337040879634,4.0472026905773326,null,{"$f":"MAX(AQA31-APP31,0)","v":40.192731743287808},2.1428571428571428,4.0472026905773326,null,0,231,-0.76645780244872885,2.0256509227321366,0,44.239934433865137,null,null,null,null,4,2,-1.870649461648189,2.1428571428571428,1.9879337040879634,1.9879337040879634,4.0472026905773326,null,{"$f":"MAX(AQW31-AQL31,0)","v":40.192731743287808},2.1428571428571428,4.0472026905773326,null,0,474,-0.76645780244872885,2.0256509227321366,0,44.239934433865137,null,null,null,null,4,2,-1.870649461648189,2.1428571428571428,1.9879337040879634,1.9879337040879634,4.0472026905773326,null,{"$f":"MAX(ARS31-ARH31,0)","v":40.192731743287808},2.1428571428571428,4.0472026905773326,null,0,309,-0.76645780244872885,2.0256509227321366,0,44.239934433865137,null,null,null,null,4,2,-1.870649461648189,2.1428571428571428,1.9879337040879634,1.9879337040879634,4.0472026905773326,null,{"$f":"MAX(ASO31-ASD31,0)","v":40.192731743287808},2.1428571428571428,4.0472026905773326,null,0,734,-0.76645780244872885,2.0256509227321366,0,44.239934433865137,null,null,null,null,4,2,-1.870649461648189,2.1428571428571428,1.9879337040879634,1.9879337040879634,4.0472026905773326,null,{"$f":"MAX(ATK31-ASZ31,0)","v":40.192731743287808},2.1428571428571428,4.0472026905773326,null,0,810,-0.76645780244872885,2.0256509227321366,0,44.239934433865137,null,null,null,null,4,2,-1.870649461648189,2.1428571428571428,1.9879337040879634,1.9879337040879634,4.0472026905773326,null,{"$f":"MAX(AUG31-ATV31,0)","v":40.192731743287808},2.1428571428571428,4.0472026905773326,null,0,806,-0.76645780244872885,2.0256509227321366,0,44.239934433865137,null,null,null,null,4,2,-1.870649461648189,2.1428571428571428,1.9879337040879634,1.9879337040879634,4.0472026905773326,null,{"$f":"MAX(AVC31-AUR31,0)","v":40.192731743287808},2.1428571428571428,4.0472026905773326,null,0,535,-0.76645780244872885,2.0256509227321366,0,44.239934433865137,null,null,null,null,4,2,-1.870649461648189,2.1428571428571428,1.9879337040879634,1.9879337040879634,4.0472026905773326,null,{"$f":"MAX(AVY31-AVN31,0)","v":40.192731743287808},2.1428571428571428,4.0472026905773326,null,0,721,-0.76645780244872885,2.0256509227321366,0,44.239934433865137,null,null,null,null,4,2,-1.870649461648189,2.1428571428571428,1.9879337040879634,1.9879337040879634,4.0472026905773326,null,{"$f":"MAX(AWU31-AWJ31,0)","v":40.192731743287808},2.1428571428571428,4.0472026905773326,null,0,553,-0.76645780244872885,2.0256509227321366,0,44.239934433865137,null,null,null,null,4,2,-1.870649461648189,2.1428571428571428,1.9879337040879634,1.9879337040879634,4.0472026905773326,null,{"$f":"MAX(AXQ31-AXF31,0)","v":40.192731743287808},2.1428571428571428,4.0472026905773326,null,0,962,-0.76645780244872885,2.0256509227321366,0,44.239934433865137,null,null,null,null,4,2,-1.870649461648189,2.1428571428571428,1.9879337040879634,1.9879337040879634,4.0472026905773326,null,{"$f":"MAX(AYM31-AYB31,0)","v":40.192731743287808},2.1428571428571428,4.0472026905773326,null,0,995,-0.76645780244872885,2.0256509227321366,0,44.239934433865137,null,null,null,null,4,2,-1.870649461648189,2.1428571428571428,1.9879337040879634,1.9879337040879634,4.0472026905773326,null,{"$f":"MAX(AZI31-AYX31,0)","v":40.192731743287808},2.1428571428571428,4.0472026905773326,null,0,469,-0.76645780244872885,2.0256509227321366,0,44.239934433865137,null,null,null,null,4,2,-1.870649461648189,2.1428571428571428,1.9879337040879634,1.9879337040879634,4.0472026905773326,null,{"$f":"MAX(BAE31-AZT31,0)","v":40.192731743287808},2.1428571428571428,4.0472026905773326,null,0,334,-0.76645780244872885,2.0256509227321366,0,44.239934433865137,null,null,null,null,4,2,-1.870649461648189,2.1428571428571428,1.9879337040879634,1.9879337040879634,4.0472026905773326,null,{"$f":"MAX(BBA31-BAP31,0)","v":40.192731743287808},2.1428571428571428,4.0472026905773326,null,0,558,-0.76645780244872885,2.0256509227321366,0,44.239934433865137,null,null,null,null,4,2,-1.870649461648189,2.1428571428571428,1.9879337040879634,1.9879337040879634,4.0472026905773326,null,{"$f":"MAX(BBW31-BBL31,0)","v":40.192731743287808},2.1428571428571428,4.0472026905773326,null,0,440,-0.76645780244872885,2.0256509227321366,0,44.239934433865137,null,null,null,null,4,2,-1.870649461648189,2.1428571428571428,1.9879337040879634,1.9879337040879634,4.0472026905773326,null,{"$f":"MAX(BCS31-BCH31,0)","v":40.192731743287808},2.1428571428571428,4.0472026905773326,null,0,674,-0.76645780244872885,2.0256509227321366,0,44.239934433865137,null,null,null,null,4,2,-1.870649461648189,2.1428571428571428,1.9879337040879634,1.9879337040879634,4.0472026905773326,null,{"$f":"MAX(BDO31-BDD31,0)","v":40.192731743287808},2.1428571428571428,4.0472026905773326,null,0,693,-0.76645780244872885,2.0256509227321366,0,44.239934433865137,null,null,null,null,4,2,-1.870649461648189,2.1428571428571428,1.9879337040879634,1.9879337040879634,4.0472026905773326,null,{"$f":"MAX(BEK31-BDZ31,0)","v":40.192731743287808},2.1428571428571428,4.0472026905773326,null,0,664,-0.76645780244872885,2.0256509227321366,0,44.239934433865137,null,null,null,null,4,2,-1.870649461648189,2.1428571428571428,1.9879337040879634,1.9879337040879634,4.0472026905773326,null,{"$f":"MAX(BFG31-BEV31,0)","v":40.192731743287808},2.1428571428571428,4.0472026905773326,null,0,413,-0.76645780244872885,2.0256509227321366,0,44.239934433865137,null,null,null,null,4,2,-1.870649461648189,2.1428571428571428,1.9879337040879634,1.9879337040879634,4.0472026905773326,null,{"$f":"MAX(BGC31-BFR31,0)","v":40.192731743287808},2.1428571428571428,4.0472026905773326,null,0,534,-0.76645780244872885,2.0256509227321366,0,44.239934433865137,null,null,null,null,4,2,-1.870649461648189,2.1428571428571428,1.9879337040879634,1.9879337040879634,4.0472026905773326,null,{"$f":"MAX(BGY31-BGN31,0)","v":40.192731743287808},2.1428571428571428,4.0472026905773326,null,0,885,-0.76645780244872885,2.0256509227321366,0,44.239934433865137,null,null,null,null,4,2,-1.870649461648189,2.1428571428571428,1.9879337040879634,1.9879337040879634,4.0472026905773326,null,{"$f":"MAX(BHU31-BHJ31,0)","v":40.192731743287808},2.1428571428571428,4.0472026905773326,null,0,62,-0.76645780244872885,2.0256509227321366,0,44.239934433865137,null,null,null,null,4,2,-1.870649461648189,2.1428571428571428,1.9879337040879634,1.9879337040879634,4.0472026905773326,null,{"$f":"MAX(BIQ31-BIF31,0)","v":40.192731743287808},2.1428571428571428,4.0472026905773326,null,0,320,-0.76645780244872885,2.0256509227321366,0,44.239934433865137,null,null,null,null,4,2,-1.870649461648189,2.1428571428571428,1.9879337040879634,1.9879337040879634,4.0472026905773326,null,{"$f":"MAX(BJM31-BJB31,0)","v":40.192731743287808},2.1428571428571428,4.0472026905773326,null,0,548,-0.76645780244872885,2.0256509227321366,0,44.239934433865137,null,null,null,null,4,2,-1.870649461648189,2.1428571428571428,1.9879337040879634,1.9879337040879634,4.0472026905773326,null,{"$f":"MAX(BKI31-BJX31,0)","v":40.192731743287808},2.1428571428571428,4.0472026905773326,null,0,38,-0.76645780244872885,2.0256509227321366,0,44.239934433865137,null,null,null,null,4,2,-1.870649461648189,2.1428571428571428,1.9879337040879634,1.9879337040879634,4.0472026905773326,null,{"$f":"MAX(BLE31-BKT31,0)","v":40.192731743287808},2.1428571428571428,4.0472026905773326,null,0,461,-0.76645780244872885,2.0256509227321366,0,44.239934433865137,null,null,null,null,4,2,-1.870649461648189,2.1428571428571428,1.9879337040879634,1.9879337040879634,4.0472026905773326,null,{"$f":"MAX(BMA31-BLP31,0)","v":40.192731743287808},2.1428571428571428,4.0472026905773326,null,0,193,-0.76645780244872885,2.0256509227321366,0,44.239934433865137,null,null,null,null,4,2,-1.870649461648189,2.1428571428571428,1.9879337040879634,1.9879337040879634,4.0472026905773326,null,{"$f":"MAX(BMW31-BML31,0)","v":40.192731743287808},2.1428571428571428,4.0472026905773326,null,0,345,-0.76645780244872885,2.0256509227321366,0,44.239934433865137,null,null,null,null,4,2,-1.870649461648189,2.1428571428571428,1.9879337040879634,1.9879337040879634,4.0472026905773326,null,{"$f":"MAX(BNS31-BNH31,0)","v":40.192731743287808},2.1428571428571428,4.0472026905773326,null,0,634,-0.76645780244872885,2.0256509227321366,0,44.239934433865137,null,null,null,null,4,2,-1.870649461648189,2.1428571428571428,1.9879337040879634,1.9879337040879634,4.0472026905773326,null,{"$f":"MAX(BOO31-BOD31,0)","v":40.192731743287808},2.1428571428571428,4.0472026905773326,null,0,619,-0.76645780244872885,2.0256509227321366,0,44.239934433865137,null,null,null,4,2,2.1428571428571428,0,18.913183306057832,null,null,-2.1428571428571428,-2.1428571428571428,3,{"$f":"BX31","v":23.443382123762614},null,{"$f":"BV31","v":4.0683758541309274},{"$f":"CG31","v":27.511757977893541}]
[5,2.5,-0.251041673703643,2.1428571428571428,-1.6937651354983712,0,0.44909200735877164,null,{"$f":"MAX(R32-G32,0)","v":39.829767507069469},0.44909200735877164,0.44909200735877164,null,0,1000,0.79036831579793709,1.829804368618309,0,40.278859514428241,-0.44909200735877164,null,null,null,5,2.5,-0.57115245086843558,2.1428571428571428,0.66420316453211692,0.66420316453211692,2.2086774573754804,null,80.599834690402275,2.1428571428571428,2.2086774573754804,null,0,905,1.2848047892261405,2.0958230706670995,0,82.808512147777762,null,null,null,null,null,5,2.5,-0.28051146556453788,2.1428571428571428,1.0919655823653862,1.0919655823653862,3.2121373421745449,null,{"$f":"MAX(BK32-AZ32,0)","v":55.529365961518913},2.1428571428571428,3.2121373421745449,null,0,862,2.3800497321868459,3.1108531893658919,0,58.741503303693456,null,null,null,null,5,2.5,-0.85047707659370753,2.1428571428571428,-0.16859369333541938,0,1.9742634495217235,null,{"$f":"MAX(CG32-BV32,0)","v":26.233957997421108},{"$f":"IF(BT32=0,0,IF(BP32=0,0,IF(CB$26=1000,IF(BT32<0,IF(BT31>0,IF(BS32-(0-BT32)<0,0,BS32-(0-BT32)),0),IF(CB$26>=BP32,BS32,0)),IF(CB$26>=BP32,BS32,0))))","v":1.9742634495217235},1.9742634495217235,null,0,1000,{"$f":"NORMSINV(RAND())","v":-0.90835612033742297},1.7963481189771631,0,28.208221446942833,null,null,null,null,5,{"$f":"CM31+$A$28/$D$12","v":2.5},{"$f":"NORMSINV(RAND())","v":-0.84503877291226726},2.1428571428571428,{"$f":"IF(CP31<=0,0,CP31-CO32+$D$4*(CP31-CO32)*SQRT($D$13)*NORMINV((RAND()),0,1))","v":-0.19030285807625683},{"$f":"IF(OR(CQ31=0,CP32<0,CL32=0),0,CP32)","v":0},1.9525542847808859,{"$f":"IF(CL32>0,IF(AND(CQ32=0,CQ31>0),CL32,\" \"))","v":5},{"$f":"MAX(DC32-CR32,0)","v":38.600985327240089},{"$f":"IF(CP32=0,0,IF(CL32=0,0,IF(CX$26=1000,IF(CP32<0,IF(CP31>0,IF(CO32-(0-CP32)<0,0,CO32-(0-CP32)),0),IF(CX$26>=CL32,CO32,0)),IF(CX$26>=CL32,CO32,0))))","v":1.9525542847808859},1.9525542847808859,{"$f":"IF(CW31=\"Abandon\",0,IF(CL32>0,IF(AND(CR32>0,CT32=0),\"Abandon\",\" \"),\" \"))","v":" "},0,1000,{"$f":"NORMSINV(RAND())","v":0.91437719262858652},{"$f":"IF(CQ31>0,IF((DA31+$D$7*$D$9*CZ32*SQRT($D$13))<0,0,(DA31+$D$7*$D$9*CZ32*SQRT($D$13))),IF(DA31*EXP((($D$8-$D$1)-(1/2)*$D$9^2)*$D$13+$D$9*SQRT($D$13)*CZ32)<0,0,DA31*EXP((($D$8-$D$1)-(1/2)*$D$9^2)*$D$13+$D$9*SQRT($D$13)*CZ32)))","v":2.2564736686409237},0,40.553539612020977,null,{"$f":"IF(CQ32>0,IF(CY32<=$D$10*$D$13*1000,\"Failure\",\" \"),\" \")","v":" "},{"$f":"IF(DF31>0,\" \",IF(DE32=\"Failure\",CL32,))","v":0},null,5,2.5,-0.84503877291226726,2.1428571428571428,-0.19030285807625683,0,1.9525542847808859,null,{"$f":"MAX(DY32-DN32,0)","v":41.934212879149221},{"$f":"IF(DL32=0,0,IF(DH32=0,0,IF(DT$26=1000,IF(DL32<0,IF(DL31>0,IF(DK32-(0-DL32)<0,0,DK32-(0-DL32)),0),IF(DT$26>=DH32,DK32,0)),IF(DT$26>=DH32,DK32,0))))","v":1.9525542847808859},1.9525542847808859,null,0,1000,0.91437719262858652,2.2564736686409237,0,43.886767163930109,null,null,null,null,5,2.5,-0.84503877291226726,2.1428571428571428,-0.19030285807625683,0,1.9525542847808859,null,{"$f":"MAX(EU32-EJ32,0)","v":48.896028579169958},{"$f":"IF(EH32=0,0,IF(ED32=0,0,IF(EP$26=1000,IF(EH32<0,IF(EH31>0,IF(EG32-(0-EH32)<0,0,EG32-(0-EH32)),0),IF(EP$26>=ED32,EG32,0)),IF(EP$26>=ED32,EG32,0))))","v":1.9525542847808859},1.9525542847808859,null,0,1000,0.91437719262858652,2.2564736686409237,0,50.848582863950845,null,null,null,null,5,2.5,-0.84503877291226726,2.1428571428571428,-0.19030285807625683,0,1.9525542847808859,null,{"$f":"MAX(FQ32-FF32,0)","v":52.02865312021688},{"$f":"IF(FD32=0,0,IF(EZ32=0,0,IF(FL$26=1000,IF(FD32<0,IF(FD31>0,IF(FC32-(0-FD32)<0,0,FC32-(0-FD32)),0),IF(FL$26>=EZ32,FC32,0)),IF(FL$26>=EZ32,FC32,0))))","v":1.9525542847808859},1.9525542847808859,null,0,1000,0.91437719262858652,2.2564736686409237,0,53.981207404997768,null,null,null,null,5,2.5,-0.84503877291226726,2.1428571428571428,-0.19030285807625683,0,1.9525542847808859,null,{"$f":"MAX(GM32-GB32,0)","v":42.163144451656976},{"$f":"IF(FZ32=0,0,IF(FV32=0,0,IF(GH$26=1000,IF(FZ32<0,IF(FZ31>0,IF(FY32-(0-FZ32)<0,0,FY32-(0-FZ32)),0),IF(GH$26>=FV32,FY32,0)),IF(GH$26>=FV32,FY32,0))))","v":1.9525542847808859},1.9525542847808859,null,0,1000,0.91437719262858652,2.2564736686409237,0,44.115698736437864,null,null,null,null,5,2.5,-0.84503877291226726,2.1428571428571428,-0.19030285807625683,0,1.9525542847808859,null,{"$f":"MAX(HI32-GX32,0)","v":44.514438327586738},{"$f":"IF(GV32=0,0,IF(GR32=0,0,IF(HD$26=1000,IF(GV32<0,IF(GV31>0,IF(GU32-(0-GV32)<0,0,GU32-(0-GV32)),0),IF(HD$26>=GR32,GU32,0)),IF(HD$26>=GR32,GU32,0))))","v":1.9525542847808859},1.9525542847808859,null,0,1000,0.91437719262858652,2.2564736686409237,0,46.466992612367626,null,null,null,null,5,2.5,-0.84503877291226726,2.1428571428571428,-0.19030285807625683,0,1.9525542847808859,null,{"$f":"MAX(IE32-HT32,0)","v":43.379530095701327},{"$f":"IF(HR32=0,0,IF(HN32=0,0,IF(HZ$26=1000,IF(HR32<0,IF(HR31>0,IF(HQ32-(0-HR32)<0,0,HQ32-(0-HR32)),0),IF(HZ$26>=HN32,HQ32,0)),IF(HZ$26>=HN32,HQ32,0))))","v":1.9525542847808859},1.9525542847808859,null,0,1000,0.91437719262858652,2.2564736686409237,0,45.332084380482215,null,null,null,null,5,2.5,-0.84503877291226726,2.1428571428571428,-0.19030285807625683,0,1.9525542847808859,null,{"$f":"MAX(JA32-IP32,0)","v":22.703938226449118},{"$f":"IF(IN32=0,0,IF(IJ32=0,0,IF(IV$26=1000,IF(IN32<0,IF(IN31>0,IF(IM32-(0-IN32)<0,0,IM32-(0-IN32)),0),IF(IV$26>=IJ32,IM32,0)),IF(IV$26>=IJ32,IM32,0))))","v":1.9525542847808859},1.9525542847808859,null,0,1000,0.91437719262858652,2.2564736686409237,0,24.656492511230002,null,null,null,null,5,2.5,-0.84503877291226726,2.1428571428571428,-0.19030285807625683,0,1.9525542847808859,null,{"$f":"MAX(JW32-JL32,0)","v":23.633507705185124},{"$f":"IF(JJ32=0,0,IF(JF32=0,0,IF(JR$26=1000,IF(JJ32<0,IF(JJ31>0,IF(JI32-(0-JJ32)<0,0,JI32-(0-JJ32)),0),IF(JR$26>=JF32,JI32,0)),IF(JR$26>=JF32,JI32,0))))","v":1.9525542847808859},1.9525542847808859,null,0,1000,0.91437719262858652,2.2564736686409237,0,25.586061989966009,null,null,null,null,5,2.5,-0.84503877291226726,2.1428571428571428,-0.19030285807625683,0,1.9525542847808859,null,{"$f":"MAX(KS32-KH32,0)","v":37.111160582367212},{"$f":"IF(KF32=0,0,IF(KB32=0,0,IF(KN$26=1000,IF(KF32<0,IF(KF31>0,IF(KE32-(0-KF32)<0,0,KE32-(0-KF32)),0),IF(KN$26>=KB32,KE32,0)),IF(KN$26>=KB32,KE32,0))))","v":1.9525542847808859},1.9525542847808859,null,0,1000,0.91437719262858652,2.2564736686409237,0,39.0637148671481,null,null,null,null,5,2.5,-0.84503877291226726,2.1428571428571428,-0.19030285807625683,0,1.9525542847808859,null,{"$f":"MAX(LO32-LD32,0)","v":26.116146846476713},{"$f":"IF(LB32=0,0,IF(KX32=0,0,IF(LJ$26=1000,IF(LB32<0,IF(LB31>0,IF(LA32-(0-LB32)<0,0,LA32-(0-LB32)),0),IF(LJ$26>=KX32,LA32,0)),IF(LJ$26>=KX32,LA32,0))))","v":1.9525542847808859},1.9525542847808859,null,0,1000,0.91437719262858652,2.2564736686409237,0,28.068701131257598,null,null,null,null,5,2.5,-0.84503877291226726,2.1428571428571428,-0.19030285807625683,0,1.9525542847808859,null,{"$f":"MAX(MK32-LZ32,0)","v":35.168308275372077},{"$f":"IF(LX32=0,0,IF(LT32=0,0,IF(MF$26=1000,IF(LX32<0,IF(LX31>0,IF(LW32-(0-LX32)<0,0,LW32-(0-LX32)),0),IF(MF$26>=LT32,LW32,0)),IF(MF$26>=LT32,LW32,0))))","v":1.9525542847808859},1.9525542847808859,null,0,1000,0.91437719262858652,2.2564736686409237,0,37.120862560152965,null,null,null,null,5,2.5,-0.84503877291226726,2.1428571428571428,-0.19030285807625683,0,1.9525542847808859,null,{"$f":"MAX(NG32-MV32,0)","v":31.083324755307064},{"$f":"IF(MT32=0,0,IF(MP32=0,0,IF(NB$26=1000,IF(MT32<0,IF(MT31>0,IF(MS32-(0-MT32)<0,0,MS32-(0-MT32)),0),IF(NB$26>=MP32,MS32,0)),IF(NB$26>=MP32,MS32,0))))","v":1.9525542847808859},1.9525542847808859,null,0,1000,0.91437719262858652,2.2564736686409237,0,33.035879040087949,null,null,null,null,5,2.5,-0.84503877291226726,2.1428571428571428,-0.19030285807625683,0,1.9525542847808859,null,{"$f":"MAX(OC32-NR32,0)","v":41.703127133806682},{"$f":"IF(NP32=0,0,IF(NL32=0,0,IF(NX$26=1000,IF(NP32<0,IF(NP31>0,IF(NO32-(0-NP32)<0,0,NO32-(0-NP32)),0),IF(NX$26>=NL32,NO32,0)),IF(NX$26>=NL32,NO32,0))))","v":1.9525542847808859},1.9525542847808859,null,0,1000,0.91437719262858652,2.2564736686409237,0,43.655681418587569,null,null,null,null,5,2.5,-0.84503877291226726,2.1428571428571428,-0.19030285807625683,0,1.9525542847808859,null,{"$f":"MAX(OY32-ON32,0)","v":37.219573478870224},{"$f":"IF(OL32=0,0,IF(OH32=0,0,IF(OT$26=1000,IF(OL32<0,IF(OL31>0,IF(OK32-(0-OL32)<0,0,OK32-(0-OL32)),0),IF(OT$26>=OH32,OK32,0)),IF(OT$26>=OH32,OK32,0))))","v":1.9525542847808859},1.9525542847808859,null,0,1000,0.91437719262858652,2.2564736686409237,0,39.172127763651112,null,null,null,null,5,2.5,-0.84503877291226726,2.1428571428571428,-0.19030285807625683,0,1.9525542847808859,null,{"$f":"MAX(PU32-PJ32,0)","v":36.608828850638886},{"$f":"IF(PH32=0,0,IF(PD32=0,0,IF(PP$26=1000,IF(PH32<0,IF(PH31>0,IF(PG32-(0-PH32)<0,0,PG32-(0-PH32)),0),IF(PP$26>=PD32,PG32,0)),IF(PP$26>=PD32,PG32,0))))","v":1.9525542847808859},1.9525542847808859,null,0,1000,0.91437719262858652,2.2564736686409237,0,38.561383135419774,null,null,null,null,5,2.5,-0.84503877291226726,2.1428571428571428,-0.19030285807625683,0,1.9525542847808859,null,{"$f":"MAX(QQ32-QF32,0)","v":34.854847487378777},{"$f":"IF(QD32=0,0,IF(PZ32=0,0,IF(QL$26=1000,IF(QD32<0,IF(QD31>0,IF(QC32-(0-QD32)<0,0,QC32-(0-QD32)),0),IF(QL$26>=PZ32,QC32,0)),IF(QL$26>=PZ32,QC32,0))))","v":1.9525542847808859},1.9525542847808859,null,0,1000,0.91437719262858652,2.2564736686409237,0,36.807401772159665,null,null,null,null,5,2.5,-0.84503877291226726,2.1428571428571428,-0.19030285807625683,0,1.9525542847808859,null,{"$f":"MAX(RM32-RB32,0)","v":37.236596984703397},{"$f":"IF(QZ32=0,0,IF(QV32=0,0,IF(RH$26=1000,IF(QZ32<0,IF(QZ31>0,IF(QY32-(0-QZ32)<0,0,QY32-(0-QZ32)),0),IF(RH$26>=QV32,QY32,0)),IF(RH$26>=QV32,QY32,0))))","v":1.9525542847808859},1.9525542847808859,null,0,1000,0.91437719262858652,2.2564736686409237,0,39.189151269484285,null,null,null,null,5,2.5,-0.84503877291226726,2.1428571428571428,-0.19030285807625683,0,1.9525542847808859,null,{"$f":"MAX(SI32-RX32,0)","v":43.524921258742978},{"$f":"IF(RV32=0,0,IF(RR32=0,0,IF(SD$26=1000,IF(RV32<0,IF(RV31>0,IF(RU32-(0-RV32)<0,0,RU32-(0-RV32)),0),IF(SD$26>=RR32,RU32,0)),IF(SD$26>=RR32,RU32,0))))","v":1.9525542847808859},1.9525542847808859,null,0,1000,0.91437719262858652,2.2564736686409237,0,45.477475543523866,null,null,null,null,5,2.5,-0.84503877291226726,2.1428571428571428,-0.19030285807625683,0,1.9525542847808859,null,{"$f":"MAX(TE32-ST32,0)","v":45.516386888201716},{"$f":"IF(SR32=0,0,IF(SN32=0,0,IF(SZ$26=1000,IF(SR32<0,IF(SR31>0,IF(SQ32-(0-SR32)<0,0,SQ32-(0-SR32)),0),IF(SZ$26>=SN32,SQ32,0)),IF(SZ$26>=SN32,SQ32,0))))","v":1.9525542847808859},1.9525542847808859,null,0,1000,0.91437719262858652,2.2564736686409237,0,47.468941172982603,null,null,null,null,5,2.5,-0.84503877291226726,2.1428571428571428,-0.19030285807625683,0,1.9525542847808859,null,{"$f":"MAX(UA32-TP32,0)","v":41.111911010824507},{"$f":"IF(TN32=0,0,IF(TJ32=0,0,IF(TV$26=1000,IF(TN32<0,IF(TN31>0,IF(TM32-(0-TN32)<0,0,TM32-(0-TN32)),0),IF(TV$26>=TJ32,TM32,0)),IF(TV$26>=TJ32,TM32,0))))","v":1.9525542847808859},1.9525542847808859,null,0,1000,0.91437719262858652,2.2564736686409237,0,43.064465295605395,null,null,null,null,5,2.5,-0.84503877291226726,2.1428571428571428,-0.19030285807625683,0,1.9525542847808859,null,{"$f":"MAX(UW32-UL32,0)","v":44.883263428764678},{"$f":"IF(UJ32=0,0,IF(UF32=0,0,IF(UR$26=1000,IF(UJ32<0,IF(UJ31>0,IF(UI32-(0-UJ32)<0,0,UI32-(0-UJ32)),0),IF(UR$26>=UF32,UI32,0)),IF(UR$26>=UF32,UI32,0))))","v":1.9525542847808859},1.9525542847808859,null,0,1000,0.91437719262858652,2.2564736686409237,0,46.835817713545566,null,null,null,null,5,2.5,-0.84503877291226726,2.1428571428571428,-0.19030285807625683,0,1.9525542847808859,null,{"$f":"MAX(VS32-VH32,0)","v":43.400501301211079},{"$f":"IF(VF32=0,0,IF(VB32=0,0,IF(VN$26=1000,IF(VF32<0,IF(VF31>0,IF(VE32-(0-VF32)<0,0,VE32-(0-VF32)),0),IF(VN$26>=VB32,VE32,0)),IF(VN$26>=VB32,VE32,0))))","v":1.9525542847808859},1.9525542847808859,null,0,1000,0.91437719262858652,2.2564736686409237,0,45.353055585991967,null,null,null,null,5,2.5,-0.84503877291226726,2.1428571428571428,-0.19030285807625683,0,1.9525542847808859,null,{"$f":"MAX(WO32-WD32,0)","v":43.668175425529206},{"$f":"IF(WB32=0,0,IF(VX32=0,0,IF(WJ$26=1000,IF(WB32<0,IF(WB31>0,IF(WA32-(0-WB32)<0,0,WA32-(0-WB32)),0),IF(WJ$26>=VX32,WA32,0)),IF(WJ$26>=VX32,WA32,0))))","v":1.9525542847808859},1.9525542847808859,null,0,1000,0.91437719262858652,2.2564736686409237,0,45.620729710310094,null,null,null,null,5,2.5,-0.84503877291226726,2.1428571428571428,-0.19030285807625683,0,1.9525542847808859,null,{"$f":"MAX(XK32-WZ32,0)","v":47.02697647387928},{"$f":"IF(WX32=0,0,IF(WT32=0,0,IF(XF$26=1000,IF(WX32<0,IF(WX31>0,IF(WW32-(0-WX32)<0,0,WW32-(0-WX32)),0),IF(XF$26>=WT32,WW32,0)),IF(XF$26>=WT32,WW32,0))))","v":1.9525542847808859},1.9525542847808859,null,0,1000,0.91437719262858652,2.2564736686409237,0,48.979530758660168,null,null,null,null,5,2.5,-0.84503877291226726,2.1428571428571428,-0.19030285807625683,0,1.9525542847808859,null,{"$f":"MAX(YG32-XV32,0)","v":45.90962514416978},{"$f":"IF(XT32=0,0,IF(XP32=0,0,IF(YB$26=1000,IF(XT32<0,IF(XT31>0,IF(XS32-(0-XT32)<0,0,XS32-(0-XT32)),0),IF(YB$26>=XP32,XS32,0)),IF(YB$26>=XP32,XS32,0))))","v":1.9525542847808859},1.9525542847808859,null,0,1000,0.91437719262858652,2.2564736686409237,0,47.862179428950668,null,null,null,null,5,2.5,-0.84503877291226726,2.1428571428571428,-0.19030285807625683,0,1.9525542847808859,null,{"$f":"MAX(ZC32-YR32,0)","v":43.77821542134123},{"$f":"IF(YP32=0,0,IF(YL32=0,0,IF(YX$26=1000,IF(YP32<0,IF(YP31>0,IF(YO32-(0-YP32)<0,0,YO32-(0-YP32)),0),IF(YX$26>=YL32,YO32,0)),IF(YX$26>=YL32,YO32,0))))","v":1.9525542847808859},1.9525542847808859,null,0,1000,0.91437719262858652,2.2564736686409237,0,45.730769706122118,null,null,null,null,5,2.5,-0.84503877291226726,2.1428571428571428,-0.19030285807625683,0,1.9525542847808859,null,{"$f":"MAX(ZY32-ZN32,0)","v":43.571497662459812},{"$f":"IF(ZL32=0,0,IF(ZH32=0,0,IF(ZT$26=1000,IF(ZL32<0,IF(ZL31>0,IF(ZK32-(0-ZL32)<0,0,ZK32-(0-ZL32)),0),IF(ZT$26>=ZH32,ZK32,0)),IF(ZT$26>=ZH32,ZK32,0))))","v":1.9525542847808859},1.9525542847808859,null,0,1000,0.91437719262858652,2.2564736686409237,0,45.5240519472407,null,null,null,null,5,2.5,-0.84503877291226726,2.1428571428571428,-0.19030285807625683,0,1.9525542847808859,null,{"$f":"MAX(AAU32-AAJ32,0)","v":43.309360328929614},{"$f":"IF(AAH32=0,0,IF(AAD32=0,0,IF(AAP$26=1000,IF(AAH32<0,IF(AAH31>0,IF(AAG32-(0-AAH32)<0,0,AAG32-(0-AAH32)),0),IF(AAP$26>=AAD32,AAG32,0)),IF(AAP$26>=AAD32,AAG32,0))))","v":1.9525542847808859},1.9525542847808859,null,0,1000,0.91437719262858652,2.2564736686409237,0,45.261914613710502,null,null,null,null,5,2.5,-0.84503877291226726,2.1428571428571428,-0.19030285807625683,0,1.9525542847808859,null,{"$f":"MAX(ABQ32-ABF32,0)","v":43.40731942127038},{"$f":"IF(ABD32=0,0,IF(AAZ32=0,0,IF(ABL$26=1000,IF(ABD32<0,IF(ABD31>0,IF(ABC32-(0-ABD32)<0,0,ABC32-(0-ABD32)),0),IF(ABL$26>=AAZ32,ABC32,0)),IF(ABL$26>=AAZ32,ABC32,0))))","v":1.9525542847808859},1.9525542847808859,null,0,1000,0.91437719262858652,2.2564736686409237,0,45.359873706051268,null,null,null,null,5,2.5,-0.84503877291226726,2.1428571428571428,-0.19030285807625683,0,1.9525542847808859,null,{"$f":"MAX(ACM32-ACB32,0)","v":43.40731942127038},{"$f":"IF(ABZ32=0,0,IF(ABV32=0,0,IF(ACH$26=1000,IF(ABZ32<0,IF(ABZ31>0,IF(ABY32-(0-ABZ32)<0,0,ABY32-(0-ABZ32)),0),IF(ACH$26>=ABV32,ABY32,0)),IF(ACH$26>=ABV32,ABY32,0))))","v":1.9525542847808859},1.9525542847808859,null,0,1000,0.91437719262858652,2.2564736686409237,0,45.359873706051268,null,null,null,null,5,2.5,-0.84503877291226726,2.1428571428571428,-0.19030285807625683,0,1.9525542847808859,null,{"$f":"MAX(ADI32-ACX32,0)","v":43.40731942127038},{"$f":"IF(ACV32=0,0,IF(ACR32=0,0,IF(ADD$26=1000,IF(ACV32<0,IF(ACV31>0,IF(ACU32-(0-ACV32)<0,0,ACU32-(0-ACV32)),0),IF(ADD$26>=ACR32,ACU32,0)),IF(ADD$26>=ACR32,ACU32,0))))","v":1.9525542847808859},1.9525542847808859,null,0,1000,0.91437719262858652,2.2564736686409237,0,45.359873706051268,null,null,null,null,5,2.5,-0.84503877291226726,2.1428571428571428,-0.19030285807625683,0,1.9525542847808859,null,{"$f":"MAX(AEE32-ADT32,0)","v":43.40731942127038},{"$f":"IF(ADR32=0,0,IF(ADN32=0,0,IF(ADZ$26=1000,IF(ADR32<0,IF(ADR31>0,IF(ADQ32-(0-ADR32)<0,0,ADQ32-(0-ADR32)),0),IF(ADZ$26>=ADN32,ADQ32,0)),IF(ADZ$26>=ADN32,ADQ32,0))))","v":1.9525542847808859},1.9525542847808859,null,0,1000,0.91437719262858652,2.2564736686409237,0,45.359873706051268,null,null,null,null,5,2.5,-0.84503877291226726,2.1428571428571428,-0.19030285807625683,0,1.9525542847808859,null,{"$f":"MAX(AFA32-AEP32,0)","v":43.40731942127038},{"$f":"IF(AEN32=0,0,IF(AEJ32=0,0,IF(AEV$26=1000,IF(AEN32<0,IF(AEN31>0,IF(AEM32-(0-AEN32)<0,0,AEM32-(0-AEN32)),0),IF(AEV$26>=AEJ32,AEM32,0)),IF(AEV$26>=AEJ32,AEM32,0))))","v":1.9525542847808859},1.9525542847808859,null,0,1000,0.91437719262858652,2.2564736686409237,0,45.359873706051268,null,null,null,null,5,2.5,-0.84503877291226726,2.1428571428571428,-0.19030285807625683,0,1.9525542847808859,null,{"$f":"MAX(AFW32-AFL32,0)","v":43.40731942127038},{"$f":"IF(AFJ32=0,0,IF(AFF32=0,0,IF(AFR$26=1000,IF(AFJ32<0,IF(AFJ31>0,IF(AFI32-(0-AFJ32)<0,0,AFI32-(0-AFJ32)),0),IF(AFR$26>=AFF32,AFI32,0)),IF(AFR$26>=AFF32,AFI32,0))))","v":1.9525542847808859},1.9525542847808859,null,0,1000,0.91437719262858652,2.2564736686409237,0,45.359873706051268,null,null,null,null,5,2.5,-0.84503877291226726,2.1428571428571428,-0.19030285807625683,0,1.9525542847808859,null,{"$f":"MAX(AGS32-AGH32,0)","v":43.40731942127038},{"$f":"IF(AGF32=0,0,IF(AGB32=0,0,IF(AGN$26=1000,IF(AGF32<0,IF(AGF31>0,IF(AGE32-(0-AGF32)<0,0,AGE32-(0-AGF32)),0),IF(AGN$26>=AGB32,AGE32,0)),IF(AGN$26>=AGB32,AGE32,0))))","v":1.9525542847808859},1.9525542847808859,null,0,1000,0.91437719262858652,2.2564736686409237,0,45.359873706051268,null,null,null,null,5,2.5,-0.84503877291226726,2.1428571428571428,-0.19030285807625683,0,1.9525542847808859,null,{"$f":"MAX(AHO32-AHD32,0)","v":43.40731942127038},{"$f":"IF(AHB32=0,0,IF(AGX32=0,0,IF(AHJ$26=1000,IF(AHB32<0,IF(AHB31>0,IF(AHA32-(0-AHB32)<0,0,AHA32-(0-AHB32)),0),IF(AHJ$26>=AGX32,AHA32,0)),IF(AHJ$26>=AGX32,AHA32,0))))","v":1.9525542847808859},1.9525542847808859,null,0,1000,0.91437719262858652,2.2564736686409237,0,45.359873706051268,null,null,null,null,5,2.5,-0.84503877291226726,2.1428571428571428,-0.19030285807625683,0,1.9525542847808859,null,{"$f":"MAX(AIK32-AHZ32,0)","v":43.40731942127038},{"$f":"IF(AHX32=0,0,IF(AHT32=0,0,IF(AIF$26=1000,IF(AHX32<0,IF(AHX31>0,IF(AHW32-(0-AHX32)<0,0,AHW32-(0-AHX32)),0),IF(AIF$26>=AHT32,AHW32,0)),IF(AIF$26>=AHT32,AHW32,0))))","v":1.9525542847808859},1.9525542847808859,null,0,1000,0.91437719262858652,2.2564736686409237,0,45.359873706051268,null,null,null,null,5,2.5,-0.84503877291226726,2.1428571428571428,-0.19030285807625683,0,1.9525542847808859,null,{"$f":"MAX(AJG32-AIV32,0)","v":43.40731942127038},{"$f":"IF(AIT32=0,0,IF(AIP32=0,0,IF(AJB$26=1000,IF(AIT32<0,IF(AIT31>0,IF(AIS32-(0-AIT32)<0,0,AIS32-(0-AIT32)),0),IF(AJB$26>=AIP32,AIS32,0)),IF(AJB$26>=AIP32,AIS32,0))))","v":1.9525542847808859},1.9525542847808859,null,0,1000,0.91437719262858652,2.2564736686409237,0,45.359873706051268,null,null,null,null,5,2.5,-0.84503877291226726,2.1428571428571428,-0.19030285807625683,0,1.9525542847808859,null,{"$f":"MAX(AKC32-AJR32,0)","v":43.40731942127038},{"$f":"IF(AJP32=0,0,IF(AJL32=0,0,IF(AJX$26=1000,IF(AJP32<0,IF(AJP31>0,IF(AJO32-(0-AJP32)<0,0,AJO32-(0-AJP32)),0),IF(AJX$26>=AJL32,AJO32,0)),IF(AJX$26>=AJL32,AJO32,0))))","v":1.9525542847808859},1.9525542847808859,null,0,1000,0.91437719262858652,2.2564736686409237,0,45.359873706051268,null,null,null,null,5,2.5,-0.84503877291226726,2.1428571428571428,-0.19030285807625683,0,1.9525542847808859,null,{"$f":"MAX(AKY32-AKN32,0)","v":43.40731942127038},{"$f":"IF(AKL32=0,0,IF(AKH32=0,0,IF(AKT$26=1000,IF(AKL32<0,IF(AKL31>0,IF(AKK32-(0-AKL32)<0,0,AKK32-(0-AKL32)),0),IF(AKT$26>=AKH32,AKK32,0)),IF(AKT$26>=AKH32,AKK32,0))))","v":1.9525542847808859},1.9525542847808859,null,0,1000,0.91437719262858652,2.2564736686409237,0,45.359873706051268,null,null,null,null,5,2.5,-0.84503877291226726,2.1428571428571428,-0.19030285807625683,0,1.9525542847808859,null,{"$f":"MAX(ALU32-ALJ32,0)","v":43.40731942127038},{"$f":"IF(ALH32=0,0,IF(ALD32=0,0,IF(ALP$26=1000,IF(ALH32<0,IF(ALH31>0,IF(ALG32-(0-ALH32)<0,0,ALG32-(0-ALH32)),0),IF(ALP$26>=ALD32,ALG32,0)),IF(ALP$26>=ALD32,ALG32,0))))","v":1.9525542847808859},1.9525542847808859,null,0,1000,0.91437719262858652,2.2564736686409237,0,45.359873706051268,null,null,null,null,5,2.5,-0.84503877291226726,2.1428571428571428,-0.19030285807625683,0,1.9525542847808859,null,{"$f":"MAX(AMQ32-AMF32,0)","v":43.40731942127038},{"$f":"IF(AMD32=0,0,IF(ALZ32=0,0,IF(AML$26=1000,IF(AMD32<0,IF(AMD31>0,IF(AMC32-(0-AMD32)<0,0,AMC32-(0-AMD32)),0),IF(AML$26>=ALZ32,AMC32,0)),IF(AML$26>=ALZ32,AMC32,0))))","v":1.9525542847808859},1.9525542847808859,null,0,1000,0.91437719262858652,2.2564736686409237,0,45.359873706051268,null,null,null,null,5,2.5,-0.84503877291226726,2.1428571428571428,-0.19030285807625683,0,1.9525542847808859,null,{"$f":"MAX(ANM32-ANB32,0)","v":43.40731942127038},{"$f":"IF(AMZ32=0,0,IF(AMV32=0,0,IF(ANH$26=1000,IF(AMZ32<0,IF(AMZ31>0,IF(AMY32-(0-AMZ32)<0,0,AMY32-(0-AMZ32)),0),IF(ANH$26>=AMV32,AMY32,0)),IF(ANH$26>=AMV32,AMY32,0))))","v":1.9525542847808859},1.9525542847808859,null,0,1000,0.91437719262858652,2.2564736686409237,0,45.359873706051268,null,null,null,null,5,2.5,-0.84503877291226726,2.1428571428571428,-0.19030285807625683,0,1.9525542847808859,null,{"$f":"MAX(AOI32-ANX32,0)","v":43.40731942127038},{"$f":"IF(ANV32=0,0,IF(ANR32=0,0,IF(AOD$26=1000,IF(ANV32<0,IF(ANV31>0,IF(ANU32-(0-ANV32)<0,0,ANU32-(0-ANV32)),0),IF(AOD$26>=ANR32,ANU32,0)),IF(AOD$26>=ANR32,ANU32,0))))","v":1.9525542847808859},1.9525542847808859,null,0,1000,0.91437719262858652,2.2564736686409237,0,45.359873706051268,null,null,null,null,5,2.5,-0.84503877291226726,2.1428571428571428,-0.19030285807625683,0,1.9525542847808859,null,{"$f":"MAX(APE32-AOT32,0)","v":43.40731942127038},{"$f":"IF(AOR32=0,0,IF(AON32=0,0,IF(AOZ$26=1000,IF(AOR32<0,IF(AOR31>0,IF(AOQ32-(0-AOR32)<0,0,AOQ32-(0-AOR32)),0),IF(AOZ$26>=AON32,AOQ32,0)),IF(AOZ$26>=AON32,AOQ32,0))))","v":1.9525542847808859},1.9525542847808859,null,0,1000,0.91437719262858652,2.2564736686409237,0,45.359873706051268,null,null,null,null,5,2.5,-0.84503877291226726,2.1428571428571428,-0.19030285807625683,0,1.9525542847808859,null,{"$f":"MAX(AQA32-APP32,0)","v":43.40731942127038},{"$f":"IF(APN32=0,0,IF(APJ32=0,0,IF(APV$26=1000,IF(APN32<0,IF(APN31>0,IF(APM32-(0-APN32)<0,0,APM32-(0-APN32)),0),IF(APV$26>=APJ32,APM32,0)),IF(APV$26>=APJ32,APM32,0))))","v":1.9525542847808859},1.9525542847808859,null,0,1000,0.91437719262858652,2.2564736686409237,0,45.359873706051268,null,null,null,null,5,2.5,-0.84503877291226726,2.1428571428571428,-0.19030285807625683,0,1.9525542847808859,null,{"$f":"MAX(AQW32-AQL32,0)","v":43.40731942127038},{"$f":"IF(AQJ32=0,0,IF(AQF32=0,0,IF(AQR$26=1000,IF(AQJ32<0,IF(AQJ31>0,IF(AQI32-(0-AQJ32)<0,0,AQI32-(0-AQJ32)),0),IF(AQR$26>=AQF32,AQI32,0)),IF(AQR$26>=AQF32,AQI32,0))))","v":1.9525542847808859},1.9525542847808859,null,0,1000,0.91437719262858652,2.2564736686409237,0,45.359873706051268,null,null,null,null,5,2.5,-0.84503877291226726,2.1428571428571428,-0.19030285807625683,0,1.9525542847808859,null,{"$f":"MAX(ARS32-ARH32,0)","v":43.40731942127038},{"$f":"IF(ARF32=0,0,IF(ARB32=0,0,IF(ARN$26=1000,IF(ARF32<0,IF(ARF31>0,IF(ARE32-(0-ARF32)<0,0,ARE32-(0-ARF32)),0),IF(ARN$26>=ARB32,ARE32,0)),IF(ARN$26>=ARB32,ARE32,0))))","v":1.9525542847808859},1.9525542847808859,null,0,1000,0.91437719262858652,2.2564736686409237,0,45.359873706051268,null,null,null,null,5,2.5,-0.84503877291226726,2.1428571428571428,-0.19030285807625683,0,1.9525542847808859,null,{"$f":"MAX(ASO32-ASD32,0)","v":43.40731942127038},{"$f":"IF(ASB32=0,0,IF(ARX32=0,0,IF(ASJ$26=1000,IF(ASB32<0,IF(ASB31>0,IF(ASA32-(0-ASB32)<0,0,ASA32-(0-ASB32)),0),IF(ASJ$26>=ARX32,ASA32,0)),IF(ASJ$26>=ARX32,ASA32,0))))","v":1.9525542847808859},1.9525542847808859,null,0,1000,0.91437719262858652,2.2564736686409237,0,45.359873706051268,null,null,null,null,5,2.5,-0.84503877291226726,2.1428571428571428,-0.19030285807625683,0,1.9525542847808859,null,{"$f":"MAX(ATK32-ASZ32,0)","v":43.40731942127038},{"$f":"IF(ASX32=0,0,IF(AST32=0,0,IF(ATF$26=1000,IF(ASX32<0,IF(ASX31>0,IF(ASW32-(0-ASX32)<0,0,ASW32-(0-ASX32)),0),IF(ATF$26>=AST32,ASW32,0)),IF(ATF$26>=AST32,ASW32,0))))","v":1.9525542847808859},1.9525542847808859,null,0,1000,0.91437719262858652,2.2564736686409237,0,45.359873706051268,null,null,null,null,5,2.5,-0.84503877291226726,2.1428571428571428,-0.19030285807625683,0,1.9525542847808859,null,{"$f":"MAX(AUG32-ATV32,0)","v":43.40731942127038},{"$f":"IF(ATT32=0,0,IF(ATP32=0,0,IF(AUB$26=1000,IF(ATT32<0,IF(ATT31>0,IF(ATS32-(0-ATT32)<0,0,ATS32-(0-ATT32)),0),IF(AUB$26>=ATP32,ATS32,0)),IF(AUB$26>=ATP32,ATS32,0))))","v":1.9525542847808859},1.9525542847808859,null,0,1000,0.91437719262858652,2.2564736686409237,0,45.359873706051268,null,null,null,null,5,2.5,-0.84503877291226726,2.1428571428571428,-0.19030285807625683,0,1.9525542847808859,null,{"$f":"MAX(AVC32-AUR32,0)","v":43.40731942127038},{"$f":"IF(AUP32=0,0,IF(AUL32=0,0,IF(AUX$26=1000,IF(AUP32<0,IF(AUP31>0,IF(AUO32-(0-AUP32)<0,0,AUO32-(0-AUP32)),0),IF(AUX$26>=AUL32,AUO32,0)),IF(AUX$26>=AUL32,AUO32,0))))","v":1.9525542847808859},1.9525542847808859,null,0,1000,0.91437719262858652,2.2564736686409237,0,45.359873706051268,null,null,null,null,5,2.5,-0.84503877291226726,2.1428571428571428,-0.19030285807625683,0,1.9525542847808859,null,{"$f":"MAX(AVY32-AVN32,0)","v":43.40731942127038},{"$f":"IF(AVL32=0,0,IF(AVH32=0,0,IF(AVT$26=1000,IF(AVL32<0,IF(AVL31>0,IF(AVK32-(0-AVL32)<0,0,AVK32-(0-AVL32)),0),IF(AVT$26>=AVH32,AVK32,0)),IF(AVT$26>=AVH32,AVK32,0))))","v":1.9525542847808859},1.9525542847808859,null,0,1000,0.91437719262858652,2.2564736686409237,0,45.359873706051268,null,null,null,null,5,2.5,-0.84503877291226726,2.1428571428571428,-0.19030285807625683,0,1.9525542847808859,null,{"$f":"MAX(AWU32-AWJ32,0)","v":43.40731942127038},{"$f":"IF(AWH32=0,0,IF(AWD32=0,0,IF(AWP$26=1000,IF(AWH32<0,IF(AWH31>0,IF(AWG32-(0-AWH32)<0,0,AWG32-(0-AWH32)),0),IF(AWP$26>=AWD32,AWG32,0)),IF(AWP$26>=AWD32,AWG32,0))))","v":1.9525542847808859},1.9525542847808859,null,0,1000,0.91437719262858652,2.2564736686409237,0,45.359873706051268,null,null,null,null,5,2.5,-0.84503877291226726,2.1428571428571428,-0.19030285807625683,0,1.9525542847808859,null,{"$f":"MAX(AXQ32-AXF32,0)","v":43.40731942127038},{"$f":"IF(AXD32=0,0,IF(AWZ32=0,0,IF(AXL$26=1000,IF(AXD32<0,IF(AXD31>0,IF(AXC32-(0-AXD32)<0,0,AXC32-(0-AXD32)),0),IF(AXL$26>=AWZ32,AXC32,0)),IF(AXL$26>=AWZ32,AXC32,0))))","v":1.9525542847808859},1.9525542847808859,null,0,1000,0.91437719262858652,2.2564736686409237,0,45.359873706051268,null,null,null,null,5,2.5,-0.84503877291226726,2.1428571428571428,-0.19030285807625683,0,1.9525542847808859,null,{"$f":"MAX(AYM32-AYB32,0)","v":43.40731942127038},{"$f":"IF(AXZ32=0,0,IF(AXV32=0,0,IF(AYH$26=1000,IF(AXZ32<0,IF(AXZ31>0,IF(AXY32-(0-AXZ32)<0,0,AXY32-(0-AXZ32)),0),IF(AYH$26>=AXV32,AXY32,0)),IF(AYH$26>=AXV32,AXY32,0))))","v":1.9525542847808859},1.9525542847808859,null,0,1000,0.91437719262858652,2.2564736686409237,0,45.359873706051268,null,null,null,null,5,2.5,-0.84503877291226726,2.1428571428571428,-0.19030285807625683,0,1.9525542847808859,null,{"$f":"MAX(AZI32-AYX32,0)","v":43.40731942127038},{"$f":"IF(AYV32=0,0,IF(AYR32=0,0,IF(AZD$26=1000,IF(AYV32<0,IF(AYV31>0,IF(AYU32-(0-AYV32)<0,0,AYU32-(0-AYV32)),0),IF(AZD$26>=AYR32,AYU32,0)),IF(AZD$26>=AYR32,AYU32,0))))","v":1.9525542847808859},1.9525542847808859,null,0,1000,0.91437719262858652,2.2564736686409237,0,45.359873706051268,null,null,null,null,5,2.5,-0.84503877291226726,2.1428571428571428,-0.19030285807625683,0,1.9525542847808859,null,{"$f":"MAX(BAE32-AZT32,0)","v":43.40731942127038},{"$f":"IF(AZR32=0,0,IF(AZN32=0,0,IF(AZZ$26=1000,IF(AZR32<0,IF(AZR31>0,IF(AZQ32-(0-AZR32)<0,0,AZQ32-(0-AZR32)),0),IF(AZZ$26>=AZN32,AZQ32,0)),IF(AZZ$26>=AZN32,AZQ32,0))))","v":1.9525542847808859},1.9525542847808859,null,0,1000,0.91437719262858652,2.2564736686409237,0,45.359873706051268,null,null,null,null,5,2.5,-0.84503877291226726,2.1428571428571428,-0.19030285807625683,0,1.9525542847808859,null,{"$f":"MAX(BBA32-BAP32,0)","v":43.40731942127038},{"$f":"IF(BAN32=0,0,IF(BAJ32=0,0,IF(BAV$26=1000,IF(BAN32<0,IF(BAN31>0,IF(BAM32-(0-BAN32)<0,0,BAM32-(0-BAN32)),0),IF(BAV$26>=BAJ32,BAM32,0)),IF(BAV$26>=BAJ32,BAM32,0))))","v":1.9525542847808859},1.9525542847808859,null,0,1000,0.91437719262858652,2.2564736686409237,0,45.359873706051268,null,null,null,null,5,2.5,-0.84503877291226726,2.1428571428571428,-0.19030285807625683,0,1.9525542847808859,null,{"$f":"MAX(BBW32-BBL32,0)","v":43.40731942127038},{"$f":"IF(BBJ32=0,0,IF(BBF32=0,0,IF(BBR$26=1000,IF(BBJ32<0,IF(BBJ31>0,IF(BBI32-(0-BBJ32)<0,0,BBI32-(0-BBJ32)),0),IF(BBR$26>=BBF32,BBI32,0)),IF(BBR$26>=BBF32,BBI32,0))))","v":1.9525542847808859},1.9525542847808859,null,0,1000,0.91437719262858652,2.2564736686409237,0,45.359873706051268,null,null,null,null,5,2.5,-0.84503877291226726,2.1428571428571428,-0.19030285807625683,0,1.9525542847808859,null,{"$f":"MAX(BCS32-BCH32,0)","v":43.40731942127038},{"$f":"IF(BCF32=0,0,IF(BCB32=0,0,IF(BCN$26=1000,IF(BCF32<0,IF(BCF31>0,IF(BCE32-(0-BCF32)<0,0,BCE32-(0-BCF32)),0),IF(BCN$26>=BCB32,BCE32,0)),IF(BCN$26>=BCB32,BCE32,0))))","v":1.9525542847808859},1.9525542847808859,null,0,1000,0.91437719262858652,2.2564736686409237,0,45.359873706051268,null,null,null,null,5,2.5,-0.84503877291226726,2.1428571428571428,-0.19030285807625683,0,1.9525542847808859,null,{"$f":"MAX(BDO32-BDD32,0)","v":43.40731942127038},{"$f":"IF(BDB32=0,0,IF(BCX32=0,0,IF(BDJ$26=1000,IF(BDB32<0,IF(BDB31>0,IF(BDA32-(0-BDB32)<0,0,BDA32-(0-BDB32)),0),IF(BDJ$26>=BCX32,BDA32,0)),IF(BDJ$26>=BCX32,BDA32,0))))","v":1.9525542847808859},1.9525542847808859,null,0,1000,0.91437719262858652,2.2564736686409237,0,45.359873706051268,null,null,null,null,5,2.5,-0.84503877291226726,2.1428571428571428,-0.19030285807625683,0,1.9525542847808859,null,{"$f":"MAX(BEK32-BDZ32,0)","v":43.40731942127038},{"$f":"IF(BDX32=0,0,IF(BDT32=0,0,IF(BEF$26=1000,IF(BDX32<0,IF(BDX31>0,IF(BDW32-(0-BDX32)<0,0,BDW32-(0-BDX32)),0),IF(BEF$26>=BDT32,BDW32,0)),IF(BEF$26>=BDT32,BDW32,0))))","v":1.9525542847808859},1.9525542847808859,null,0,1000,0.91437719262858652,2.2564736686409237,0,45.359873706051268,null,null,null,null,5,2.5,-0.84503877291226726,2.1428571428571428,-0.19030285807625683,0,1.9525542847808859,null,{"$f":"MAX(BFG32-BEV32,0)","v":43.40731942127038},{"$f":"IF(BET32=0,0,IF(BEP32=0,0,IF(BFB$26=1000,IF(BET32<0,IF(BET31>0,IF(BES32-(0-BET32)<0,0,BES32-(0-BET32)),0),IF(BFB$26>=BEP32,BES32,0)),IF(BFB$26>=BEP32,BES32,0))))","v":1.9525542847808859},1.9525542847808859,null,0,1000,0.91437719262858652,2.2564736686409237,0,45.359873706051268,null,null,null,null,5,2.5,-0.84503877291226726,2.1428571428571428,-0.19030285807625683,0,1.9525542847808859,null,{"$f":"MAX(BGC32-BFR32,0)","v":43.40731942127038},{"$f":"IF(BFP32=0,0,IF(BFL32=0,0,IF(BFX$26=1000,IF(BFP32<0,IF(BFP31>0,IF(BFO32-(0-BFP32)<0,0,BFO32-(0-BFP32)),0),IF(BFX$26>=BFL32,BFO32,0)),IF(BFX$26>=BFL32,BFO32,0))))","v":1.9525542847808859},1.9525542847808859,null,0,1000,0.91437719262858652,2.2564736686409237,0,45.359873706051268,null,null,null,null,5,2.5,-0.84503877291226726,2.1428571428571428,-0.19030285807625683,0,1.9525542847808859,null,{"$f":"MAX(BGY32-BGN32,0)","v":43.40731942127038},{"$f":"IF(BGL32=0,0,IF(BGH32=0,0,IF(BGT$26=1000,IF(BGL32<0,IF(BGL31>0,IF(BGK32-(0-BGL32)<0,0,BGK32-(0-BGL32)),0),IF(BGT$26>=BGH32,BGK32,0)),IF(BGT$26>=BGH32,BGK32,0))))","v":1.9525542847808859},1.9525542847808859,null,0,1000,0.91437719262858652,2.2564736686409237,0,45.359873706051268,null,null,null,null,5,2.5,-0.84503877291226726,2.1428571428571428,-0.19030285807625683,0,1.9525542847808859,null,{"$f":"MAX(BHU32-BHJ32,0)","v":43.40731942127038},{"$f":"IF(BHH32=0,0,IF(BHD32=0,0,IF(BHP$26=1000,IF(BHH32<0,IF(BHH31>0,IF(BHG32-(0-BHH32)<0,0,BHG32-(0-BHH32)),0),IF(BHP$26>=BHD32,BHG32,0)),IF(BHP$26>=BHD32,BHG32,0))))","v":1.9525542847808859},1.9525542847808859,null,0,1000,0.91437719262858652,2.2564736686409237,0,45.359873706051268,null,null,null,null,5,2.5,-0.84503877291226726,2.1428571428571428,-0.19030285807625683,0,1.9525542847808859,null,{"$f":"MAX(BIQ32-BIF32,0)","v":43.40731942127038},{"$f":"IF(BID32=0,0,IF(BHZ32=0,0,IF(BIL$26=1000,IF(BID32<0,IF(BID31>0,IF(BIC32-(0-BID32)<0,0,BIC32-(0-BID32)),0),IF(BIL$26>=BHZ32,BIC32,0)),IF(BIL$26>=BHZ32,BIC32,0))))","v":1.9525542847808859},1.9525542847808859,null,0,1000,0.91437719262858652,2.2564736686409237,0,45.359873706051268,null,null,null,null,5,2.5,-0.84503877291226726,2.1428571428571428,-0.19030285807625683,0,1.9525542847808859,null,{"$f":"MAX(BJM32-BJB32,0)","v":43.40731942127038},{"$f":"IF(BIZ32=0,0,IF(BIV32=0,0,IF(BJH$26=1000,IF(BIZ32<0,IF(BIZ31>0,IF(BIY32-(0-BIZ32)<0,0,BIY32-(0-BIZ32)),0),IF(BJH$26>=BIV32,BIY32,0)),IF(BJH$26>=BIV32,BIY32,0))))","v":1.9525542847808859},1.9525542847808859,null,0,1000,0.91437719262858652,2.2564736686409237,0,45.359873706051268,null,null,null,null,5,2.5,-0.84503877291226726,2.1428571428571428,-0.19030285807625683,0,1.9525542847808859,null,{"$f":"MAX(BKI32-BJX32,0)","v":43.40731942127038},{"$f":"IF(BJV32=0,0,IF(BJR32=0,0,IF(BKD$26=1000,IF(BJV32<0,IF(BJV31>0,IF(BJU32-(0-BJV32)<0,0,BJU32-(0-BJV32)),0),IF(BKD$26>=BJR32,BJU32,0)),IF(BKD$26>=BJR32,BJU32,0))))","v":1.9525542847808859},1.9525542847808859,null,0,1000,0.91437719262858652,2.2564736686409237,0,45.359873706051268,null,null,null,null,5,2.5,-0.84503877291226726,2.1428571428571428,-0.19030285807625683,0,1.9525542847808859,null,{"$f":"MAX(BLE32-BKT32,0)","v":43.40731942127038},{"$f":"IF(BKR32=0,0,IF(BKN32=0,0,IF(BKZ$26=1000,IF(BKR32<0,IF(BKR31>0,IF(BKQ32-(0-BKR32)<0,0,BKQ32-(0-BKR32)),0),IF(BKZ$26>=BKN32,BKQ32,0)),IF(BKZ$26>=BKN32,BKQ32,0))))","v":1.9525542847808859},1.9525542847808859,null,0,1000,0.91437719262858652,2.2564736686409237,0,45.359873706051268,null,null,null,null,5,2.5,-0.84503877291226726,2.1428571428571428,-0.19030285807625683,0,1.9525542847808859,null,{"$f":"MAX(BMA32-BLP32,0)","v":43.40731942127038},{"$f":"IF(BLN32=0,0,IF(BLJ32=0,0,IF(BLV$26=1000,IF(BLN32<0,IF(BLN31>0,IF(BLM32-(0-BLN32)<0,0,BLM32-(0-BLN32)),0),IF(BLV$26>=BLJ32,BLM32,0)),IF(BLV$26>=BLJ32,BLM32,0))))","v":1.9525542847808859},1.9525542847808859,null,0,1000,0.91437719262858652,2.2564736686409237,0,45.359873706051268,null,null,null,null,5,2.5,-0.84503877291226726,2.1428571428571428,-0.19030285807625683,0,1.9525542847808859,null,{"$f":"MAX(BMW32-BML32,0)","v":43.40731942127038},{"$f":"IF(BMJ32=0,0,IF(BMF32=0,0,IF(BMR$26=1000,IF(BMJ32<0,IF(BMJ31>0,IF(BMI32-(0-BMJ32)<0,0,BMI32-(0-BMJ32)),0),IF(BMR$26>=BMF32,BMI32,0)),IF(BMR$26>=BMF32,BMI32,0))))","v":1.9525542847808859},1.9525542847808859,null,0,1000,0.91437719262858652,2.2564736686409237,0,45.359873706051268,null,null,null,null,5,2.5,-0.84503877291226726,2.1428571428571428,-0.19030285807625683,0,1.9525542847808859,null,{"$f":"MAX(BNS32-BNH32,0)","v":43.40731942127038},{"$f":"IF(BNF32=0,0,IF(BNB32=0,0,IF(BNN$26=1000,IF(BNF32<0,IF(BNF31>0,IF(BNE32-(0-BNF32)<0,0,BNE32-(0-BNF32)),0),IF(BNN$26>=BNB32,BNE32,0)),IF(BNN$26>=BNB32,BNE32,0))))","v":1.9525542847808859},1.9525542847808859,null,0,1000,0.91437719262858652,2.2564736686409237,0,45.359873706051268,null,null,null,null,5,2.5,-0.84503877291226726,2.1428571428571428,-0.19030285807625683,0,1.9525542847808859,null,{"$f":"MAX(BOO32-BOD32,0)","v":43.40731942127038},{"$f":"IF(BOB32=0,0,IF(BNX32=0,0,IF(BOJ$26=1000,IF(BOB32<0,IF(BOB31>0,IF(BOA32-(0-BOB32)<0,0,BOA32-(0-BOB32)),0),IF(BOJ$26>=BNX32,BOA32,0)),IF(BOJ$26>=BNX32,BOA32,0))))","v":1.9525542847808859},1.9525542847808859,null,0,1000,0.91437719262858652,2.2564736686409237,0,45.359873706051268,null,null,null,5,2.5,2.1428571428571428,0,21.589076650646508,null,null,-2.1428571428571428,-2.1428571428571428,4,{"$f":"CT32","v":38.600985327240089},null,{"$f":"CR32","v":1.9525542847808859},{"$f":"DC32","v":40.553539612020977}]
[11,5.5,1.4503425031483865,2.1428571428571428,0,{"$f":"IF(OR(F37=0,E38<=0,A38=0),0,E38)","v":0},0,null,36.778078880089019,0,0,null,0,1000,1.3435868755095854,2.6115053555344807,2.6115053555344807,36.778078880089019,2.6115053555344807,null,null,null,11,5.5,-1.6262333055850631,2.1428571428571428,0,0,0,null,83.71526100574755,0,0,null,0,1000,-0.14679470275004391,2.9485814016462686,2.9485814016462686,83.71526100574755,null,null,null,null,null,11,5.5,-1.7450616025074046,2.1428571428571428,0,0,0,null,54.311716741648752,0,0,null,0,1000,-3.0495752006402421,2.0772818360721965,2.0772818360721965,54.311716741648752,null,null,null,null,11,5.5,1.6713588257683472,2.1428571428571428,0,0,0,null,23.583557573609241,0,0,null,0,1000,-0.34931510290366347,1.7652660670320293,1.7652660670320293,23.583557573609241,null,null,null,null,11,5.5,-0.51266735917010764,2.1428571428571428,0,0,0,null,35.120228309424206,0,0,null,0,1000,0.8477219931303599,1.8234196227482034,1.8234196227482034,35.120228309424206,null,null,null,null,11,5.5,-1.9357811269164058,2.1428571428571428,0,0,0,null,39.299281796915963,0,0,null,0,1000,-0.54936745846504709,2.4973723092073401,2.4973723092073401,39.299281796915963,null,null,null,null,11,5.5,-1.1600948049059523,2.1428571428571428,0,0,0,null,48.678300899829694,0,0,null,0,1000,2.1356498621594908,2.7895076349790524,2.7895076349790524,48.678300899829694,null,null,null,null,11,5.5,-6.5718702548988331E-2,2.1428571428571428,0,0,0,null,50.898721439082152,0,0,null,0,1000,0.22700840879757186,3.0339279044084466,3.0339279044084466,50.898721439082152,null,null,null,null,11,5.5,-1.2240086518895079,2.1428571428571428,0,0,0,null,40.845654551967456,0,0,null,0,1000,0.46809078645885555,2.1178323941960961,2.1178323941960961,40.845654551967456,null,null,null,null,11,5.5,0.74690206302158557,2.1428571428571428,0,0,0,null,43.501244717869056,0,0,null,0,1000,-0.44588793098461066,1.9267969160783127,1.9267969160783127,43.501244717869056,null,null,null,null,11,{"$f":"HO37+$A$28/$D$12","v":5.5},{"$f":"NORMSINV(RAND())","v":0.59933361162074517},2.1428571428571428,{"$f":"IF(HR37<=0,0,HR37-HQ38+$D$4*(HR37-HQ38)*SQRT($D$13)*NORMINV((RAND()),0,1))","v":0},{"$f":"IF(OR(HS37=0,HR38<0,HN38=0),0,HR38)","v":0},0,{"$f":"IF(HN38>0,IF(AND(HS38=0,HS37>0),HN38,\" \"))","v":" "},42.182669471710369,0,0,{"$f":"IF(HY37=\"Abandon\",0,IF(HN38>0,IF(AND(HT38>0,HV38=0),\"Abandon\",\" \"),\" \"))","v":" "},0,1000,{"$f":"NORMSINV(RAND())","v":-1.605573203723667},{"$f":"IF(HS37>0,IF((IC37+$D$7*$D$9*IB38*SQRT($D$13))<0,0,(IC37+$D$7*$D$9*IB38*SQRT($D$13))),IF(IC37*EXP((($D$8-$D$1)-(1/2)*$D$9^2)*$D$13+$D$9*SQRT($D$13)*IB38)<0,0,IC37*EXP((($D$8-$D$1)-(1/2)*$D$9^2)*$D$13+$D$9*SQRT($D$13)*IB38)))","v":1.6299912486391834},1.6299912486391834,42.182669471710369,null,{"$f":"IF(HS38>0,IF(IA38<=$D$10*$D$13*1000,\"Failure\",\" \"),\" \")","v":" "},{"$f":"IF(IH37>0,\" \",IF(IG38=\"Failure\",HN38,))","v":0},null,11,5.5,0.59933361162074517,2.1428571428571428,0,0,0,null,18.161058849338676,0,0,null,0,1000,-1.605573203723667,1.6299912486391834,1.6299912486391834,18.161058849338676,null,null,null,null,11,5.5,0.59933361162074517,2.1428571428571428,0,0,0,null,19.241064500729252,0,0,null,0,1000,-1.605573203723667,1.6299912486391834,1.6299912486391834,19.241064500729252,null,null,null,null,11,5.5,0.59933361162074517,2.1428571428571428,0,0,0,null,34.899863125044781,0,0,null,0,1000,-1.605573203723667,1.6299912486391834,1.6299912486391834,34.899863125044781,null,null,null,null,11,5.5,0.59933361162074517,2.1428571428571428,0,0,0,null,22.125479667419359,0,0,null,0,1000,-1.605573203723667,1.6299912486391834,1.6299912486391834,22.125479667419359,null,null,null,null,11,5.5,0.59933361162074517,2.1428571428571428,0,0,0,null,32.642590786214171,0,0,null,0,1000,-1.605573203723667,1.6299912486391834,1.6299912486391834,32.642590786214171,null,null,null,null,11,5.5,0.59933361162074517,2.1428571428571428,0,0,0,null,27.896517051621931,0,0,null,0,1000,-1.605573203723667,1.6299912486391834,1.6299912486391834,27.896517051621931,null,null,null,null,11,5.5,0.59933361162074517,2.1428571428571428,0,0,0,null,40.234967105970057,0,0,null,0,1000,-1.605573203723667,1.6299912486391834,1.6299912486391834,40.234967105970057,null,null,null,null,11,5.5,0.59933361162074517,2.1428571428571428,0,0,0,null,35.025820940555327,0,0,null,0,1000,-1.605573203723667,1.6299912486391834,1.6299912486391834,35.025820940555327,null,null,null,null,11,5.5,0.59933361162074517,2.1428571428571428,0,0,0,null,34.316236917913798,0,0,null,0,1000,-1.605573203723667,1.6299912486391834,1.6299912486391834,34.316236917913798,null,null,null,null,11,5.5,0.59933361162074517,2.1428571428571428,0,0,0,null,32.278401308970963,0,0,null,0,1000,-1.605573203723667,1.6299912486391834,1.6299912486391834,32.278401308970963,null,null,null,null,11,5.5,0.59933361162074517,2.1428571428571428,0,0,0,null,35.045599432563591,0,0,null,0,1000,-1.605573203723667,1.6299912486391834,1.6299912486391834,35.045599432563591,null,null,null,null,11,5.5,0.59933361162074517,2.1428571428571428,0,0,0,null,42.351589903522253,0,0,null,0,1000,-1.605573203723667,1.6299912486391834,1.6299912486391834,42.351589903522253,null,null,null,null,11,5.5,0.59933361162074517,2.1428571428571428,0,0,0,null,44.665342865043861,0,0,null,0,1000,-1.605573203723667,1.6299912486391834,1.6299912486391834,44.665342865043861,null,null,null,null,11,5.5,0.59933361162074517,2.1428571428571428,0,0,0,null,39.5480719694363,0,0,null,0,1000,-1.605573203723667,1.6299912486391834,1.6299912486391834,39.5480719694363,null,null,null,null,11,5.5,0.59933361162074517,2.1428571428571428,0,0,0,null,43.929758349995296,0,0,null,0,1000,-1.605573203723667,1.6299912486391834,1.6299912486391834,43.929758349995296,null,null,null,null,11,5.5,0.59933361162074517,2.1428571428571428,0,0,0,null,42.207034536382892,0,0,null,0,1000,-1.605573203723667,1.6299912486391834,1.6299912486391834,42.207034536382892,null,null,null,null,11,5.5,0.59933361162074517,2.1428571428571428,0,0,0,null,42.518027499908008,0,0,null,0,1000,-1.605573203723667,1.6299912486391834,1.6299912486391834,42.518027499908008,null,null,null,null,11,5.5,0.59933361162074517,2.1428571428571428,0,0,0,null,46.420397572392773,0,0,null,0,1000,-1.605573203723667,1.6299912486391834,1.6299912486391834,46.420397572392773,null,null,null,null,11,5.5,0.59933361162074517,2.1428571428571428,0,0,0,null,45.1222205363783,0,0,null,0,1000,-1.605573203723667,1.6299912486391834,1.6299912486391834,45.1222205363783,null,null,null,null,11,5.5,0.59933361162074517,2.1428571428571428,0,0,0,null,42.645875735112085,0,0,null,0,1000,-1.605573203723667,1.6299912486391834,1.6299912486391834,42.645875735112085,null,null,null,null,11,5.5,0.59933361162074517,2.1428571428571428,0,0,0,null,42.405703964263616,0,0,null,0,1000,-1.605573203723667,1.6299912486391834,1.6299912486391834,42.405703964263616,null,null,null,null,11,5.5,0.59933361162074517,2.1428571428571428,0,0,0,null,42.101143833870736,0,0,null,0,1000,-1.605573203723667,1.6299912486391834,1.6299912486391834,42.101143833870736,null,null,null,null,11,5.5,0.59933361162074517,2.1428571428571428,0,0,0,null,42.214956061738825,0,0,null,0,1000,-1.605573203723667,1.6299912486391834,1.6299912486391834,42.214956061738825,null,null,null,null,11,5.5,0.59933361162074517,2.1428571428571428,0,0,0,null,42.214956061738825,0,0,null,0,1000,-1.605573203723667,1.6299912486391834,1.6299912486391834,42.214956061738825,null,null,null,null,11,5.5,0.59933361162074517,2.1428571428571428,0,0,0,null,42.214956061738825,0,0,null,0,1000,-1.605573203723667,1.6299912486391834,1.6299912486391834,42.214956061738825,null,null,null,null,11,5.5,0.59933361162074517,2.1428571428571428,0,0,0,null,42.214956061738825,0,0,null,0,1000,-1.605573203723667,1.6299912486391834,1.6299912486391834,42.214956061738825,null,null,null,null,11,5.5,0.59933361162074517,2.1428571428571428,0,0,0,null,42.214956061738825,0,0,null,0,1000,-1.605573203723667,1.6299912486391834,1.6299912486391834,42.214956061738825,null,null,null,null,11,5.5,0.59933361162074517,2.1428571428571428,0,0,0,null,42.214956061738825,0,0,null,0,1000,-1.605573203723667,1.6299912486391834,1.6299912486391834,42.214956061738825,null,null,null,null,11,5.5,0.59933361162074517,2.1428571428571428,0,0,0,null,42.214956061738825,0,0,null,0,1000,-1.605573203723667,1.6299912486391834,1.6299912486391834,42.214956061738825,null,null,null,null,11,5.5,0.59933361162074517,2.1428571428571428,0,0,0,null,42.214956061738825,0,0,null,0,1000,-1.605573203723667,1.6299912486391834,1.6299912486391834,42.214956061738825,null,null,null,null,11,5.5,0.59933361162074517,2.1428571428571428,0,0,0,null,42.214956061738825,0,0,null,0,1000,-1.605573203723667,1.6299912486391834,1.6299912486391834,42.214956061738825,null,null,null,null,11,5.5,0.59933361162074517,2.1428571428571428,0,0,0,null,42.214956061738825,0,0,null,0,1000,-1.605573203723667,1.6299912486391834,1.6299912486391834,42.214956061738825,null,null,null,null,11,5.5,0.59933361162074517,2.1428571428571428,0,0,0,null,42.214956061738825,0,0,null,0,1000,-1.605573203723667,1.6299912486391834,1.6299912486391834,42.214956061738825,null,null,null,null,11,5.5,0.59933361162074517,2.1428571428571428,0,0,0,null,42.214956061738825,0,0,null,0,1000,-1.605573203723667,1.6299912486391834,1.6299912486391834,42.214956061738825,null,null,null,null,11,5.5,0.59933361162074517,2.1428571428571428,0,0,0,null,42.214956061738825,0,0,null,0,1000,-1.605573203723667,1.6299912486391834,1.6299912486391834,42.214956061738825,null,null,null,null,11,5.5,0.59933361162074517,2.1428571428571428,0,0,0,null,42.214956061738825,0,0,null,0,1000,-1.605573203723667,1.6299912486391834,1.6299912486391834,42.214956061738825,null,null,null,null,11,5.5,0.59933361162074517,2.1428571428571428,0,0,0,null,42.214956061738825,0,0,null,0,1000,-1.605573203723667,1.6299912486391834,1.6299912486391834,42.214956061738825,null,null,null,null,11,5.5,0.59933361162074517,2.1428571428571428,0,0,0,null,42.214956061738825,0,0,null,0,1000,-1.605573203723667,1.6299912486391834,1.6299912486391834,42.214956061738825,null,null,null,null,11,5.5,0.59933361162074517,2.1428571428571428,0,0,0,null,42.214956061738825,0,0,null,0,1000,-1.605573203723667,1.6299912486391834,1.6299912486391834,42.214956061738825,null,null,null,null,11,5.5,0.59933361162074517,2.1428571428571428,0,0,0,null,42.214956061738825,0,0,null,0,1000,-1.605573203723667,1.6299912486391834,1.6299912486391834,42.214956061738825,null,null,null,null,11,5.5,0.59933361162074517,2.1428571428571428,0,0,0,null,42.214956061738825,0,0,null,0,1000,-1.605573203723667,1.6299912486391834,1.6299912486391834,42.214956061738825,null,null,null,null,11,5.5,0.59933361162074517,2.1428571428571428,0,0,0,null,42.214956061738825,0,0,null,0,1000,-1.605573203723667,1.6299912486391834,1.6299912486391834,42.214956061738825,null,null,null,null,11,5.5,0.59933361162074517,2.1428571428571428,0,0,0,null,42.214956061738825,0,0,null,0,1000,-1.605573203723667,1.6299912486391834,1.6299912486391834,42.214956061738825,null,null,null,null,11,5.5,0.59933361162074517,2.1428571428571428,0,0,0,null,42.214956061738825,0,0,null,0,1000,-1.605573203723667,1.6299912486391834,1.6299912486391834,42.214956061738825,null,null,null,null,11,5.5,0.59933361162074517,2.1428571428571428,0,0,0,null,42.214956061738825,0,0,null,0,1000,-1.605573203723667,1.6299912486391834,1.6299912486391834,42.214956061738825,null,null,null,null,11,5.5,0.59933361162074517,2.1428571428571428,0,0,0,null,42.214956061738825,0,0,null,0,1000,-1.605573203723667,1.6299912486391834,1.6299912486391834,42.214956061738825,null,null,null,null,11,5.5,0.59933361162074517,2.1428571428571428,0,0,0,null,42.214956061738825,0,0,null,0,1000,-1.605573203723667,1.6299912486391834,1.6299912486391834,42.214956061738825,null,null,null,null,11,5.5,0.59933361162074517,2.1428571428571428,0,0,0,null,42.214956061738825,0,0,null,0,1000,-1.605573203723667,1.6299912486391834,1.6299912486391834,42.214956061738825,null,null,null,null,11,5.5,0.59933361162074517,2.1428571428571428,0,0,0,null,42.214956061738825,0,0,null,0,1000,-1.605573203723667,1.6299912486391834,1.6299912486391834,42.214956061738825,null,null,null,null,11,5.5,0.59933361162074517,2.1428571428571428,0,0,0,null,42.214956061738825,0,0,null,0,1000,-1.605573203723667,1.6299912486391834,1.6299912486391834,42.214956061738825,null,null,null,null,11,5.5,0.59933361162074517,2.1428571428571428,0,0,0,null,42.214956061738825,0,0,null,0,1000,-1.605573203723667,1.6299912486391834,1.6299912486391834,42.214956061738825,null,null,null,null,11,5.5,0.59933361162074517,2.1428571428571428,0,0,0,null,42.214956061738825,0,0,null,0,1000,-1.605573203723667,1.6299912486391834,1.6299912486391834,42.214956061738825,null,null,null,null,11,5.5,0.59933361162074517,2.1428571428571428,0,0,0,null,42.214956061738825,0,0,null,0,1000,-1.605573203723667,1.6299912486391834,1.6299912486391834,42.214956061738825,null,null,null,null,11,5.5,0.59933361162074517,2.1428571428571428,0,0,0,null,42.214956061738825,0,0,null,0,1000,-1.605573203723667,1.6299912486391834,1.6299912486391834,42.214956061738825,null,null,null,null,11,5.5,0.59933361162074517,2.1428571428571428,0,0,0,null,42.214956061738825,0,0,null,0,1000,-1.605573203723667,1.6299912486391834,1.6299912486391834,42.214956061738825,null,null,null,null,11,5.5,0.59933361162074517,2.1428571428571428,0,0,0,null,42.214956061738825,0,0,null,0,1000,-1.605573203723667,1.6299912486391834,1.6299912486391834,42.214956061738825,null,null,null,null,11,5.5,0.59933361162074517,2.1428571428571428,0,0,0,null,42.214956061738825,0,0,null,0,1000,-1.605573203723667,1.6299912486391834,1.6299912486391834,42.214956061738825,null,null,null,null,11,5.5,0.59933361162074517,2.1428571428571428,0,0,0,null,42.214956061738825,0,0,null,0,1000,-1.605573203723667,1.6299912486391834,1.6299912486391834,42.214956061738825,null,null,null,null,11,5.5,0.59933361162074517,2.1428571428571428,0,0,0,null,42.214956061738825,0,0,null,0,1000,-1.605573203723667,1.6299912486391834,1.6299912486391834,42.214956061738825,null,null,null,null,11,5.5,0.59933361162074517,2.1428571428571428,0,0,0,null,42.214956061738825,0,0,null,0,1000,-1.605573203723667,1.6299912486391834,1.6299912486391834,42.214956061738825,null,null,null,null,11,5.5,0.59933361162074517,2.1428571428571428,0,0,0,null,42.214956061738825,0,0,null,0,1000,-1.605573203723667,1.6299912486391834,1.6299912486391834,42.214956061738825,null,null,null,null,11,5.5,0.59933361162074517,2.1428571428571428,0,0,0,null,42.214956061738825,0,0,null,0,1000,-1.605573203723667,1.6299912486391834,1.6299912486391834,42.214956061738825,null,null,null,null,11,5.5,0.59933361162074517,2.1428571428571428,0,0,0,null,42.214956061738825,0,0,null,0,1000,-1.605573203723667,1.6299912486391834,1.6299912486391834,42.214956061738825,null,null,null,null,11,5.5,0.59933361162074517,2.1428571428571428,0,0,0,null,42.214956061738825,0,0,null,0,1000,-1.605573203723667,1.6299912486391834,1.6299912486391834,42.214956061738825,null,null,null,null,11,5.5,0.59933361162074517,2.1428571428571428,0,0,0,null,42.214956061738825,0,0,null,0,1000,-1.605573203723667,1.6299912486391834,1.6299912486391834,42.214956061738825,null,null,null,null,11,5.5,0.59933361162074517,2.1428571428571428,0,0,0,null,42.214956061738825,0,0,null,0,1000,-1.605573203723667,1.6299912486391834,1.6299912486391834,42.214956061738825,null,null,null,null,11,5.5,0.59933361162074517,2.1428571428571428,0,0,0,null,42.214956061738825,0,0,null,0,1000,-1.605573203723667,1.6299912486391834,1.6299912486391834,42.214956061738825,null,null,null,null,11,5.5,0.59933361162074517,2.1428571428571428,0,0,0,null,42.214956061738825,0,0,null,0,1000,-1.605573203723667,1.6299912486391834,1.6299912486391834,42.214956061738825,null,null,null,null,11,5.5,0.59933361162074517,2.1428571428571428,0,0,0,null,42.214956061738825,0,0,null,0,1000,-1.605573203723667,1.6299912486391834,1.6299912486391834,42.214956061738825,null,null,null,11,5.5,0,1.87080274609375,29.944975355021469,null,null,0,1.87080274609375,10,{"$f":"HV38","v":42.182669471710369},null,{"$f":"HT38","v":0},{"$f":"IE38","v":42.182669471710369}]
[16,8,-6.8171804037891429E-2,2.1428571428571428,0,0,0,null,28.701924226510378,0,0,null,0,1000,1.022905049010983,2.2593006795760306,2.2593006795760306,28.701924226510378,2.2593006795760306,null,null,null,16,8,7.8301968968992067E-2,2.1428571428571428,0,0,0,null,78.466986392946239,0,0,null,0,1000,-0.32369963518608358,3.5238101307504359,3.5238101307504359,78.466986392946239,null,null,null,null,null,16,8,-1.3731494731273917,2.1428571428571428,0,0,0,null,52.284157845176757,0,0,null,0,1000,-0.37658631355067501,1.5693755357296322,1.5693755357296322,52.284157845176757,null,null,null,null,16,8,-0.93779386312169977,2.1428571428571428,0,0,0,null,18.442711606960501,0,0,null,0,1000,0.55418385428740891,1.6901446953524111,1.6901446953524111,18.442711606960501,null,null,null,null,16,8,-1.7303576271485872,2.1428571428571428,0,0,0,null,29.022145409536567,0,0,null,0,1000,-0.19733381798110436,2.1268132544200506,2.1268132544200506,29.022145409536567,null,null,null,null,16,8,0.33309665345211198,2.1428571428571428,0,0,0,null,29.845546470885171,0,0,null,0,1000,-0.68166898051374247,2.933487271836551,2.933487271836551,29.845546470885171,null,null,null,null,16,8,-1.3264388498071034E-2,2.1428571428571428,0,0,0,null,42.170777240539884,0,0,null,0,1000,1.3614654636171931E-2,1.8866949126512325,1.8866949126512325,42.170777240539884,null,null,null,null,16,8,-0.99327252009337486,2.1428571428571428,0,0,0,null,42.271780569453668,0,0,null,0,1000,-0.96423284527400366,2.4390341781832432,2.4390341781832432,42.271780569453668,null,null,null,null,16,8,0.44433491758356408,2.1428571428571428,0,0,0,null,35.464364408477437,0,0,null,0,1000,-0.78357542024622795,1.9758339363062152,1.9758339363062152,35.464364408477437,null,null,null,null,16,8,0.41536691512760798,2.1428571428571428,0,0,0,null,40.352741955250501,0,0,null,0,1000,0.54002056610322391,1.63037284983816,1.63037284983816,40.352741955250501,null,null,null,null,16,8,0.59917434398061686,2.1428571428571428,0,0,0,null,35.247942792155129,0,0,null,0,1000,-1.8795926112326673,1.8492897053070421,1.8492897053070421,35.247942792155129,null,null,null,null,16,8,-0.93674535956788252,2.1428571428571428,0,0,0,null,11.896798163715673,0,0,null,0,1000,-0.94417405289881196,1.2503385383580103,1.2503385383580103,11.896798163715673,null,null,null,null,16,8,-0.70209138500922108,2.1428571428571428,0,0,0,null,13.273158636101799,0,0,null,0,1000,-1.3214203756331346,1.1273861581045279,1.1273861581045279,13.273158636101799,null,null,null,null,16,8,-1.1253920538524644,2.1428571428571428,0,0,0,null,30.675586724669984,0,0,null,0,1000,-1.6593956441597646,1.4968284989881109,1.4968284989881109,30.675586724669984,null,null,null,null,16,8,-1.0328890434050193,2.1428571428571428,0,0,0,null,16.369035429077051,0,0,null,0,1000,-0.15269903631468271,1.6972799229675093,1.6972799229675093,16.369035429077051,null,null,null,null,16,{"$f":"LU42+$A$28/$D$12","v":8},{"$f":"NORMSINV(RAND())","v":-1.6477487505800466},2.1428571428571428,{"$f":"IF(LX42<=0,0,LX42-LW43+$D$4*(LX42-LW43)*SQRT($D$13)*NORMINV((RAND()),0,1))","v":0},{"$f":"IF(OR(LY42=0,LX43<0,LT43=0),0,LX43)","v":0},0,{"$f":"IF(LT43>0,IF(AND(LY43=0,LY42>0),LT43,\" \"))","v":" "},28.286483624071316,0,0,{"$f":"IF(ME42=\"Abandon\",0,IF(LT43>0,IF(AND(LZ43>0,MB43=0),\"Abandon\",\" \"),\" \"))","v":" "},0,1000,{"$f":"NORMSINV(RAND())","v":-0.33813636167125344},{"$f":"IF(LY42>0,IF((MI42+$D$7*$D$9*MH43*SQRT($D$13))<0,0,(MI42+$D$7*$D$9*MH43*SQRT($D$13))),IF(MI42*EXP((($D$8-$D$1)-(1/2)*$D$9^2)*$D$13+$D$9*SQRT($D$13)*MH43)<0,0,MI42*EXP((($D$8-$D$1)-(1/2)*$D$9^2)*$D$13+$D$9*SQRT($D$13)*MH43)))","v":1.6524807279232068},1.6524807279232068,28.286483624071316,null,{"$f":"IF(LY43>0,IF(MG43<=$D$10*$D$13*1000,\"Failure\",\" \"),\" \")","v":" "},{"$f":"IF(MN42>0,\" \",IF(MM43=\"Failure\",LT43,))","v":0},null,16,8,{"$f":"LV43","v":-1.6477487505800466},2.1428571428571428,{"$f":"LX43","v":0},{"$f":"LY43","v":0},0,null,22.908477513577019,0,0,null,0,1000,-0.33813636167125344,1.6524807279232068,1.6524807279232068,22.908477513577019,null,null,null,null,16,8,{"$f":"MR43","v":-1.6477487505800466},2.1428571428571428,0,0,0,null,36.889773105903899,0,0,null,0,1000,-0.33813636167125344,1.6524807279232068,1.6524807279232068,36.889773105903899,null,null,null,null,16,8,{"$f":"NN43","v":-1.6477487505800466},2.1428571428571428,0,0,0,null,30.987037186765207,0,0,null,0,1000,-0.33813636167125344,1.6524807279232068,1.6524807279232068,30.987037186765207,null,null,null,null,16,8,-1.6477487505800466,2.1428571428571428,0,0,0,null,30.182973149188015,0,0,null,0,1000,-0.33813636167125344,1.6524807279232068,1.6524807279232068,30.182973149188015,null,null,null,null,16,8,{"$f":"PF43","v":-1.6477487505800466},2.1428571428571428,0,0,0,null,27.873802881309956,0,0,null,0,1000,-0.33813636167125344,1.6524807279232068,1.6524807279232068,27.873802881309956,null,null,null,null,16,8,-1.6477487505800466,2.1428571428571428,0,0,0,null,31.009449154388363,0,0,null,0,1000,-0.33813636167125344,1.6524807279232068,1.6524807279232068,31.009449154388363,null,null,null,null,16,8,-1.6477487505800466,2.1428571428571428,0,0,0,null,39.288220954676149,0,0,null,0,1000,-0.33813636167125344,1.6524807279232068,1.6524807279232068,39.288220954676149,null,null,null,null,16,8,-1.6477487505800466,2.1428571428571428,0,0,0,null,41.910046543803148,0,0,null,0,1000,-0.33813636167125344,1.6524807279232068,1.6524807279232068,41.910046543803148,null,null,null,null,16,8,{"$f":"SP43","v":-1.6477487505800466},2.1428571428571428,0,0,0,null,36.111418944521546,0,0,null,0,1000,-0.33813636167125344,1.6524807279232068,1.6524807279232068,36.111418944521546,null,null,null,null,16,8,{"$f":"TL43","v":-1.6477487505800466},2.1428571428571428,0,0,0,null,41.076520088475952,0,0,null,0,1000,-0.33813636167125344,1.6524807279232068,1.6524807279232068,41.076520088475952,null,null,null,null,16,8,{"$f":"UH43","v":-1.6477487505800466},2.1428571428571428,0,0,0,null,39.124418264019674,0,0,null,0,1000,-0.33813636167125344,1.6524807279232068,1.6524807279232068,39.124418264019674,null,null,null,null,16,8,-1.6477487505800466,2.1428571428571428,0,0,0,null,39.476819459552821,0,0,null,0,1000,-0.33813636167125344,1.6524807279232068,1.6524807279232068,39.476819459552821,null,null,null,null,16,8,-1.6477487505800466,2.1428571428571428,0,0,0,null,43.898784070483224,0,0,null,0,1000,-0.33813636167125344,1.6524807279232068,1.6524807279232068,43.898784070483224,null,null,null,null,16,8,-1.6477487505800466,2.1428571428571428,0,0,0,null,42.427756770316549,0,0,null,0,1000,-0.33813636167125344,1.6524807279232068,1.6524807279232068,42.427756770316549,null,null,null,null,16,8,-1.6477487505800466,2.1428571428571428,0,0,0,null,39.621690489501653,0,0,null,0,1000,-0.33813636167125344,1.6524807279232068,1.6524807279232068,39.621690489501653,null,null,null,null,16,8,-1.6477487505800466,2.1428571428571428,0,0,0,null,39.34954021889439,0,0,null,0,1000,-0.33813636167125344,1.6524807279232068,1.6524807279232068,39.34954021889439,null,null,null,null,16,8,-1.6477487505800466,2.1428571428571428,0,0,0,null,39.004428378273872,0,0,null,0,1000,-0.33813636167125344,1.6524807279232068,1.6524807279232068,39.004428378273872,null,null,null,null,16,8,-1.6477487505800466,2.1428571428571428,0,0,0,null,39.133394528222681,0,0,null,0,1000,-0.33813636167125344,1.6524807279232068,1.6524807279232068,39.133394528222681,null,null,null,null,16,8,-1.6477487505800466,2.1428571428571428,0,0,0,null,39.133394528222681,0,0,null,0,1000,-0.33813636167125344,1.6524807279232068,1.6524807279232068,39.133394528222681,null,null,null,null,16,8,-1.6477487505800466,2.1428571428571428,0,0,0,null,39.133394528222681,0,0,null,0,1000,-0.33813636167125344,1.6524807279232068,1.6524807279232068,39.133394528222681,null,null,null,null,16,8,-1.6477487505800466,2.1428571428571428,0,0,0,null,39.133394528222681,0,0,null,0,1000,-0.33813636167125344,1.6524807279232068,1.6524807279232068,39.133394528222681,null,null,null,null,16,8,-1.6477487505800466,2.1428571428571428,0,0,0,null,39.133394528222681,0,0,null,0,1000,-0.33813636167125344,1.6524807279232068,1.6524807279232068,39.133394528222681,null,null,null,null,16,8,-1.6477487505800466,2.1428571428571428,0,0,0,null,39.133394528222681,0,0,null,0,1000,-0.33813636167125344,1.6524807279232068,1.6524807279232068,39.133394528222681,null,null,null,null,16,8,-1.6477487505800466,2.1428571428571428,0,0,0,null,39.133394528222681,0,0,null,0,1000,-0.33813636167125344,1.6524807279232068,1.6524807279232068,39.133394528222681,null,null,null,null,16,8,-1.6477487505800466,2.1428571428571428,0,0,0,null,39.133394528222681,0,0,null,0,1000,-0.33813636167125344,1.6524807279232068,1.6524807279232068,39.133394528222681,null,null,null,null,16,8,-1.6477487505800466,2.1428571428571428,0,0,0,null,39.133394528222681,0,0,null,0,1000,-0.33813636167125344,1.6524807279232068,1.6524807279232068,39.133394528222681,null,null,null,null,16,8,-1.6477487505800466,2.1428571428571428,0,0,0,null,39.133394528222681,0,0,null,0,1000,-0.33813636167125344,1.6524807279232068,1.6524807279232068,39.133394528222681,null,null,null,null,16,8,-1.6477487505800466,2.1428571428571428,0,0,0,null,39.133394528222681,0,0,null,0,1000,-0.33813636167125344,1.6524807279232068,1.6524807279232068,39.133394528222681,null,null,null,null,16,8,-1.6477487505800466,2.1428571428571428,0,0,0,null,39.133394528222681,0,0,null,0,1000,-0.33813636167125344,1.6524807279232068,1.6524807279232068,39.133394528222681,null,null,null,null,16,8,-1.6477487505800466,2.1428571428571428,0,0,0,null,39.133394528222681,0,0,null,0,1000,-0.33813636167125344,1.6524807279232068,1.6524807279232068,39.133394528222681,null,null,null,null,16,8,-1.6477487505800466,2.1428571428571428,0,0,0,null,39.133394528222681,0,0,null,0,1000,-0.33813636167125344,1.6524807279232068,1.6524807279232068,39.133394528222681,null,null,null,null,16,8,-1.6477487505800466,2.1428571428571428,0,0,0,null,39.133394528222681,0,0,null,0,1000,-0.33813636167125344,1.6524807279232068,1.6524807279232068,39.133394528222681,null,null,null,null,16,8,-1.6477487505800466,2.1428571428571428,0,0,0,null,39.133394528222681,0,0,null,0,1000,-0.33813636167125344,1.6524807279232068,1.6524807279232068,39.133394528222681,null,null,null,null,16,8,-1.6477487505800466,2.1428571428571428,0,0,0,null,39.133394528222681,0,0,null,0,1000,-0.33813636167125344,1.6524807279232068,1.6524807279232068,39.133394528222681,null,null,null,null,16,8,-1.6477487505800466,2.1428571428571428,0,0,0,null,39.133394528222681,0,0,null,0,1000,-0.33813636167125344,1.6524807279232068,1.6524807279232068,39.133394528222681,null,null,null,null,16,8,-1.6477487505800466,2.1428571428571428,0,0,0,null,39.133394528222681,0,0,null,0,1000,-0.33813636167125344,1.6524807279232068,1.6524807279232068,39.133394528222681,null,null,null,null,16,8,-1.6477487505800466,2.1428571428571428,0,0,0,null,39.133394528222681,0,0,null,0,1000,-0.33813636167125344,1.6524807279232068,1.6524807279232068,39.133394528222681,null,null,null,null,16,8,-1.6477487505800466,2.1428571428571428,0,0,0,null,39.133394528222681,0,0,null,0,1000,-0.33813636167125344,1.6524807279232068,1.6524807279232068,39.133394528222681,null,null,null,null,16,8,-1.6477487505800466,2.1428571428571428,0,0,0,null,39.133394528222681,0,0,null,0,1000,-0.33813636167125344,1.6524807279232068,1.6524807279232068,39.133394528222681,null,null,null,null,16,8,-1.6477487505800466,2.1428571428571428,0,0,0,null,39.133394528222681,0,0,null,0,1000,-0.33813636167125344,1.6524807279232068,1.6524807279232068,39.133394528222681,null,null,null,null,16,8,-1.6477487505800466,2.1428571428571428,0,0,0,null,39.133394528222681,0,0,null,0,1000,-0.33813636167125344,1.6524807279232068,1.6524807279232068,39.133394528222681,null,null,null,null,16,8,-1.6477487505800466,2.1428571428571428,0,0,0,null,39.133394528222681,0,0,null,0,1000,-0.33813636167125344,1.6524807279232068,1.6524807279232068,39.133394528222681,null,null,null,null,16,8,-1.6477487505800466,2.1428571428571428,0,0,0,null,39.133394528222681,0,0,null,0,1000,-0.33813636167125344,1.6524807279232068,1.6524807279232068,39.133394528222681,null,null,null,null,16,8,-1.6477487505800466,2.1428571428571428,0,0,0,null,39.133394528222681,0,0,null,0,1000,-0.33813636167125344,1.6524807279232068,1.6524807279232068,39.133394528222681,null,null,null,null,16,8,-1.6477487505800466,2.1428571428571428,0,0,0,null,39.133394528222681,0,0,null,0,1000,-0.33813636167125344,1.6524807279232068,1.6524807279232068,39.133394528222681,null,null,null,null,16,8,-1.6477487505800466,2.1428571428571428,0,0,0,null,39.133394528222681,0,0,null,0,1000,-0.33813636167125344,1.6524807279232068,1.6524807279232068,39.133394528222681,null,null,null,null,16,8,-1.6477487505800466,2.1428571428571428,0,0,0,null,39.133394528222681,0,0,null,0,1000,-0.33813636167125344,1.6524807279232068,1.6524807279232068,39.133394528222681,null,null,null,null,16,8,-1.6477487505800466,2.1428571428571428,0,0,0,null,39.133394528222681,0,0,null,0,1000,-0.33813636167125344,1.6524807279232068,1.6524807279232068,39.133394528222681,null,null,null,null,16,8,-1.6477487505800466,2.1428571428571428,0,0,0,null,39.133394528222681,0,0,null,0,1000,-0.33813636167125344,1.6524807279232068,1.6524807279232068,39.133394528222681,null,null,null,null,16,8,-1.6477487505800466,2.1428571428571428,0,0,0,null,39.133394528222681,0,0,null,0,1000,-0.33813636167125344,1.6524807279232068,1.6524807279232068,39.133394528222681,null,null,null,null,16,8,-1.6477487505800466,2.1428571428571428,0,0,0,null,39.133394528222681,0,0,null,0,1000,-0.33813636167125344,1.6524807279232068,1.6524807279232068,39.133394528222681,null,null,null,null,16,8,-1.6477487505800466,2.1428571428571428,0,0,0,null,39.133394528222681,0,0,null,0,1000,-0.33813636167125344,1.6524807279232068,1.6524807279232068,39.133394528222681,null,null,null,null,16,8,-1.6477487505800466,2.1428571428571428,0,0,0,null,39.133394528222681,0,0,null,0,1000,-0.33813636167125344,1.6524807279232068,1.6524807279232068,39.133394528222681,null,null,null,null,16,8,-1.6477487505800466,2.1428571428571428,0,0,0,null,39.133394528222681,0,0,null,0,1000,-0.33813636167125344,1.6524807279232068,1.6524807279232068,39.133394528222681,null,null,null,null,16,8,-1.6477487505800466,2.1428571428571428,0,0,0,null,39.133394528222681,0,0,null,0,1000,-0.33813636167125344,1.6524807279232068,1.6524807279232068,39.133394528222681,null,null,null,null,16,8,-1.6477487505800466,2.1428571428571428,0,0,0,null,39.133394528222681,0,0,null,0,1000,-0.33813636167125344,1.6524807279232068,1.6524807279232068,39.133394528222681,null,null,null,null,16,8,-1.6477487505800466,2.1428571428571428,0,0,0,null,39.133394528222681,0,0,null,0,1000,-0.33813636167125344,1.6524807279232068,1.6524807279232068,39.133394528222681,null,null,null,null,16,8,-1.6477487505800466,2.1428571428571428,0,0,0,null,39.133394528222681,0,0,null,0,1000,-0.33813636167125344,1.6524807279232068,1.6524807279232068,39.133394528222681,null,null,null,null,16,8,-1.6477487505800466,2.1428571428571428,0,0,0,null,39.133394528222681,0,0,null,0,1000,-0.33813636167125344,1.6524807279232068,1.6524807279232068,39.133394528222681,null,null,null,null,16,8,-1.6477487505800466,2.1428571428571428,0,0,0,null,39.133394528222681,0,0,null,0,1000,-0.33813636167125344,1.6524807279232068,1.6524807279232068,39.133394528222681,null,null,null,null,16,8,-1.6477487505800466,2.1428571428571428,0,0,0,null,39.133394528222681,0,0,null,0,1000,-0.33813636167125344,1.6524807279232068,1.6524807279232068,39.133394528222681,null,null,null,null,16,8,-1.6477487505800466,2.1428571428571428,0,0,0,null,39.133394528222681,0,0,null,0,1000,-0.33813636167125344,1.6524807279232068,1.6524807279232068,39.133394528222681,null,null,null,null,16,8,-1.6477487505800466,2.1428571428571428,0,0,0,null,39.133394528222681,0,0,null,0,1000,-0.33813636167125344,1.6524807279232068,1.6524807279232068,39.133394528222681,null,null,null,null,16,8,-1.6477487505800466,2.1428571428571428,0,0,0,null,39.133394528222681,0,0,null,0,1000,-0.33813636167125344,1.6524807279232068,1.6524807279232068,39.133394528222681,null,null,null,16,8,0,2.0909544981760941,28.779528198618614,null,null,0,2.0909544981760941,15,{"$f":"MB43","v":28.286483624071316},null,{"$f":"LZ43","v":0},{"$f":"MK43","v":28.286483624071316}]
[22,11,-0.7146780802864996,2.1428571428571428,0,0,0,null,17.761917346286921,0,0,null,0,1000,-2.2797215268445652,1.2459895919273396,1.2459895919273396,17.761917346286921,1.2459895919273396,null,null,null,22,11,0.53489482447704395,2.1428571428571428,0,0,0,null,67.497112988192782,0,0,null,0,1000,-0.65157045831204274,3.7870912827611263,3.7870912827611263,67.497112988192782,null,null,null,null,null,22,11,0.42194744994030026,2.1428571428571428,0,0,0,null,41.932688609712834,0,0,null,0,1000,0.92001559629329777,3.7620039772406213,3.7620039772406213,41.932688609712834,null,null,null,null,22,11,-0.43140526780864713,2.1428571428571428,0,0,0,null,12.748208289312762,0,0,null,0,1000,1.0186772888186413,1.3438624872813596,1.3438624872813596,12.748208289312762,null,null,null,null,22,11,0.50830590459771785,2.1428571428571428,0,0,0,null,20.429895626100517,0,0,null,0,1000,-1.8394949258166684,2.3089120589386312,2.3089120589386312,20.429895626100517,null,null,null,null,22,11,-1.3430952143381016,2.1428571428571428,0,0,0,null,21.084538649188762,0,0,null,0,1000,0.75209101658309396,1.5415929641360362,1.5415929641360362,21.084538649188762,null,null,null,null,22,11,-1.0887979720308871,2.1428571428571428,0,0,0,null,35.826103480070621,0,0,null,0,1000,-1.4749908277878883,1.8562646834999244,1.8562646834999244,35.826103480070621,null,null,null,null,22,11,-0.18330299302122827,2.1428571428571428,0,0,0,null,32.034801309461983,0,0,null,0,1000,4.0269192634424945E-2,2.9215024304100781,2.9215024304100781,32.034801309461983,null,null,null,null,22,11,1.813473773413951,2.1428571428571428,0,0,0,null,28.515647210599191,0,0,null,0,1000,-0.49610394648421574,1.9453466305280545,1.9453466305280545,28.515647210599191,null,null,null,null,22,11,-0.43539548992921812,2.1428571428571428,0,0,0,null,30.880946143040539,0,0,null,0,1000,0.11442167133059784,3.2259794323253761,3.2259794323253761,30.880946143040539,null,null,null,null,22,11,-1.2107982883176083,2.1428571428571428,0,0,0,null,21.950997724890524,0,0,null,0,1000,-0.62719659633708746,2.7955431206670411,2.7955431206670411,21.950997724890524,null,null,null,null,22,11,-1.1359175058408606,2.1428571428571428,0,0,0,null,7.2342156096492021,0,0,null,0,1000,9.3746493364648562E-2,0.93100854897348584,0.93100854897348584,7.2342156096492021,null,null,null,null,22,11,0.98943945600231664,2.1428571428571428,0,0,0,null,9.330523991614557,0,0,null,0,1000,0.46409050635846633,0.78650302509946524,0.78650302509946524,9.330523991614557,null,null,null,null,22,11,1.0081282298049199,2.1428571428571428,0,0,0,null,27.120586852452252,0,0,null,0,1000,2.7050629115458733,2.0911442884877056,2.0911442884877056,27.120586852452252,null,null,null,null,22,11,-1.1667529028823598,2.1428571428571428,0,0,0,null,9.6725244556771592,0,0,null,0,1000,0.53352939424002455,1.5287660903303413,1.5287660903303413,9.6725244556771592,null,null,null,null,22,11,0.34421983429353742,2.1428571428571428,0,0,0,null,20.765653566209167,0,0,null,0,1000,-0.85389970711258589,1.7891465306619134,1.7891465306619134,20.765653566209167,null,null,null,null,22,11,-1.1819015063475962,2.1428571428571428,0,0,0,null,14.783159891198371,0,0,null,0,1000,-0.75341540097938475,1.6388110243084881,1.6388110243084881,14.783159891198371,null,null,null,null,22,11,0.41018475713238589,2.1428571428571428,0,0,0,null,28.523861951496183,0,0,null,0,1000,0.8161973969419779,3.2751462897392272,3.2751462897392272,28.523861951496183,null,null,null,null,22,11,-0.80849208336751954,2.1428571428571428,0,0,0,null,22.99464602929157,0,0,null,0,1000,0.68340649070350779,2.3831276682282989,2.3831276682282989,22.99464602929157,null,null,null,null,22,11,-1.1509404724902779,2.1428571428571428,0,0,0,null,21.171648468475183,0,0,null,0,1000,-0.17166676860205834,2.5892147491990358,2.5892147491990358,21.171648468475183,null,null,null,null,22,11,0.72425323928025465,2.1428571428571428,0,0,0,null,18.328849084638335,0,0,null,0,1000,-1.1130668127850369,2.3948940657527706,2.3948940657527706,18.328849084638335,null,null,null,null,22,{"$f":"QW48+$A$28/$D$12","v":11},{"$f":"NORMSINV(RAND())","v":-0.26099583421580075},2.1428571428571428,{"$f":"IF(QZ48<=0,0,QZ48-QY49+$D$4*(QZ48-QY49)*SQRT($D$13)*NORMINV((RAND()),0,1))","v":0},{"$f":"IF(OR(RA48=0,QZ49<0,QV49=0),0,QZ49)","v":0},0,{"$f":"IF(QV49>0,IF(AND(RA49=0,RA48>0),QV49,\" \"))","v":" "},21.971950297784151,0,0,{"$f":"IF(RG48=\"Abandon\",0,IF(QV49>0,IF(AND(RB49>0,RD49=0),\"Abandon\",\" \"),\" \"))","v":" "},0,1000,{"$f":"NORMSINV(RAND())","v":-0.90208069145623637},{"$f":"IF(RA48>0,IF((RK48+$D$7*$D$9*RJ49*SQRT($D$13))<0,0,(RK48+$D$7*$D$9*RJ49*SQRT($D$13))),IF(RK48*EXP((($D$8-$D$1)-(1/2)*$D$9^2)*$D$13+$D$9*SQRT($D$13)*RJ49)<0,0,RK48*EXP((($D$8-$D$1)-(1/2)*$D$9^2)*$D$13+$D$9*SQRT($D$13)*RJ49)))","v":2.4689024527177525},2.4689024527177525,21.971950297784151,null,{"$f":"IF(RA49>0,IF(RI49<=$D$10*$D$13*1000,\"Failure\",\" \"),\" \")","v":" "},{"$f":"IF(RP48>0,\" \",IF(RO49=\"Failure\",QV49,))","v":0},null,22,{"$f":"QW49","v":11},{"$f":"QX49","v":-0.26099583421580075},2.1428571428571428,{"$f":"QZ49","v":0},{"$f":"RA49","v":0},0,null,31.590510863091783,0,0,null,0,1000,-0.90208069145623637,2.4689024527177525,2.4689024527177525,31.590510863091783,null,null,null,null,22,11,-0.26099583421580075,2.1428571428571428,0,0,0,null,34.636637611000793,0,0,null,0,1000,-0.90208069145623637,2.4689024527177525,2.4689024527177525,34.636637611000793,null,null,null,null,22,11,-0.26099583421580075,2.1428571428571428,0,0,0,null,27.89959350532612,0,0,null,0,1000,-0.90208069145623637,2.4689024527177525,2.4689024527177525,27.89959350532612,null,null,null,null,22,11,-0.26099583421580075,2.1428571428571428,0,0,0,null,33.668218032981727,0,0,null,0,1000,-0.90208069145623637,2.4689024527177525,2.4689024527177525,33.668218032981727,null,null,null,null,22,11,-0.26099583421580075,2.1428571428571428,0,0,0,null,31.400199288036077,0,0,null,0,1000,-0.90208069145623637,2.4689024527177525,2.4689024527177525,31.400199288036077,null,null,null,null,22,11,-0.26099583421580075,2.1428571428571428,0,0,0,null,31.809631064184877,0,0,null,0,1000,-0.90208069145623637,2.4689024527177525,2.4689024527177525,31.809631064184877,null,null,null,null,22,11,-0.26099583421580075,2.1428571428571428,0,0,0,null,36.947220969296453,0,0,null,0,1000,-0.90208069145623637,2.4689024527177525,2.4689024527177525,36.947220969296453,null,null,null,null,22,11,-0.26099583421580075,2.1428571428571428,0,0,0,null,35.238131079974686,0,0,null,0,1000,-0.90208069145623637,2.4689024527177525,2.4689024527177525,35.238131079974686,null,null,null,null,22,11,-0.26099583421580075,2.1428571428571428,0,0,0,null,31.97794718755873,0,0,null,0,1000,-0.90208069145623637,2.4689024527177525,2.4689024527177525,31.97794718755873,null,null,null,null,22,11,-0.26099583421580075,2.1428571428571428,0,0,0,null,31.66175368399945,0,0,null,0,1000,-0.90208069145623637,2.4689024527177525,2.4689024527177525,31.66175368399945,null,null,null,null,22,11,-0.26099583421580075,2.1428571428571428,0,0,0,null,31.260790929995551,0,0,null,0,1000,-0.90208069145623637,2.4689024527177525,2.4689024527177525,31.260790929995551,null,null,null,null,22,11,-0.26099583421580075,2.1428571428571428,0,0,0,null,31.410628219158887,0,0,null,0,1000,-0.90208069145623637,2.4689024527177525,2.4689024527177525,31.410628219158887,null,null,null,null,22,11,-0.26099583421580075,2.1428571428571428,0,0,0,null,31.410628219158887,0,0,null,0,1000,-0.90208069145623637,2.4689024527177525,2.4689024527177525,31.410628219158887,null,null,null,null,22,11,-0.26099583421580075,2.1428571428571428,0,0,0,null,31.410628219158887,0,0,null,0,1000,-0.90208069145623637,2.4689024527177525,2.4689024527177525,31.410628219158887,null,null,null,null,22,11,-0.26099583421580075,2.1428571428571428,0,0,0,null,31.410628219158887,0,0,null,0,1000,-0.90208069145623637,2.4689024527177525,2.4689024527177525,31.410628219158887,null,null,null,null,22,11,-0.26099583421580075,2.1428571428571428,0,0,0,null,31.410628219158887,0,0,null,0,1000,-0.90208069145623637,2.4689024527177525,2.4689024527177525,31.410628219158887,null,null,null,null,22,11,-0.26099583421580075,2.1428571428571428,0,0,0,null,31.410628219158887,0,0,null,0,1000,-0.90208069145623637,2.4689024527177525,2.4689024527177525,31.410628219158887,null,null,null,null,22,11,-0.26099583421580075,2.1428571428571428,0,0,0,null,31.410628219158887,0,0,null,0,1000,-0.90208069145623637,2.4689024527177525,2.4689024527177525,31.410628219158887,null,null,null,null,22,11,-0.26099583421580075,2.1428571428571428,0,0,0,null,31.410628219158887,0,0,null,0,1000,-0.90208069145623637,2.4689024527177525,2.4689024527177525,31.410628219158887,null,null,null,null,22,11,-0.26099583421580075,2.1428571428571428,0,0,0,null,31.410628219158887,0,0,null,0,1000,-0.90208069145623637,2.4689024527177525,2.4689024527177525,31.410628219158887,null,null,null,null,22,11,-0.26099583421580075,2.1428571428571428,0,0,0,null,31.410628219158887,0,0,null,0,1000,-0.90208069145623637,2.4689024527177525,2.4689024527177525,31.410628219158887,null,null,null,null,22,11,-0.26099583421580075,2.1428571428571428,0,0,0,null,31.410628219158887,0,0,null,0,1000,-0.90208069145623637,2.4689024527177525,2.4689024527177525,31.410628219158887,null,null,null,null,22,11,-0.26099583421580075,2.1428571428571428,0,0,0,null,31.410628219158887,0,0,null,0,1000,-0.90208069145623637,2.4689024527177525,2.4689024527177525,31.410628219158887,null,null,null,null,22,11,-0.26099583421580075,2.1428571428571428,0,0,0,null,31.410628219158887,0,0,null,0,1000,-0.90208069145623637,2.4689024527177525,2.4689024527177525,31.410628219158887,null,null,null,null,22,11,-0.26099583421580075,2.1428571428571428,0,0,0,null,31.410628219158887,0,0,null,0,1000,-0.90208069145623637,2.4689024527177525,2.4689024527177525,31.410628219158887,null,null,null,null,22,11,-0.26099583421580075,2.1428571428571428,0,0,0,null,31.410628219158887,0,0,null,0,1000,-0.90208069145623637,2.4689024527177525,2.4689024527177525,31.410628219158887,null,null,null,null,22,11,-0.26099583421580075,2.1428571428571428,0,0,0,null,31.410628219158887,0,0,null,0,1000,-0.90208069145623637,2.4689024527177525,2.4689024527177525,31.410628219158887,null,null,null,null,22,11,-0.26099583421580075,2.1428571428571428,0,0,0,null,31.410628219158887,0,0,null,0,1000,-0.90208069145623637,2.4689024527177525,2.4689024527177525,31.410628219158887,null,null,null,null,22,11,-0.26099583421580075,2.1428571428571428,0,0,0,null,31.410628219158887,0,0,null,0,1000,-0.90208069145623637,2.4689024527177525,2.4689024527177525,31.410628219158887,null,null,null,null,22,11,-0.26099583421580075,2.1428571428571428,0,0,0,null,31.410628219158887,0,0,null,0,1000,-0.90208069145623637,2.4689024527177525,2.4689024527177525,31.410628219158887,null,null,null,null,22,11,-0.26099583421580075,2.1428571428571428,0,0,0,null,31.410628219158887,0,0,null,0,1000,-0.90208069145623637,2.4689024527177525,2.4689024527177525,31.410628219158887,null,null,null,null,22,11,-0.26099583421580075,2.1428571428571428,0,0,0,null,31.410628219158887,0,0,null,0,1000,-0.90208069145623637,2.4689024527177525,2.4689024527177525,31.410628219158887,null,null,null,null,22,11,-0.26099583421580075,2.1428571428571428,0,0,0,null,31.410628219158887,0,0,null,0,1000,-0.90208069145623637,2.4689024527177525,2.4689024527177525,31.410628219158887,null,null,null,null,22,11,-0.26099583421580075,2.1428571428571428,0,0,0,null,31.410628219158887,0,0,null,0,1000,-0.90208069145623637,2.4689024527177525,2.4689024527177525,31.410628219158887,null,null,null,null,22,11,-0.26099583421580075,2.1428571428571428,0,0,0,null,31.410628219158887,0,0,null,0,1000,-0.90208069145623637,2.4689024527177525,2.4689024527177525,31.410628219158887,null,null,null,null,22,11,-0.26099583421580075,2.1428571428571428,0,0,0,null,31.410628219158887,0,0,null,0,1000,-0.90208069145623637,2.4689024527177525,2.4689024527177525,31.410628219158887,null,null,null,null,22,11,-0.26099583421580075,2.1428571428571428,0,0,0,null,31.410628219158887,0,0,null,0,1000,-0.90208069145623637,2.4689024527177525,2.4689024527177525,31.410628219158887,null,null,null,null,22,11,-0.26099583421580075,2.1428571428571428,0,0,0,null,31.410628219158887,0,0,null,0,1000,-0.90208069145623637,2.4689024527177525,2.4689024527177525,31.410628219158887,null,null,null,null,22,11,-0.26099583421580075,2.1428571428571428,0,0,0,null,31.410628219158887,0,0,null,0,1000,-0.90208069145623637,2.4689024527177525,2.4689024527177525,31.410628219158887,null,null,null,null,22,11,-0.26099583421580075,2.1428571428571428,0,0,0,null,31.410628219158887,0,0,null,0,1000,-0.90208069145623637,2.4689024527177525,2.4689024527177525,31.410628219158887,null,null,null,null,22,11,-0.26099583421580075,2.1428571428571428,0,0,0,null,31.410628219158887,0,0,null,0,1000,-0.90208069145623637,2.4689024527177525,2.4689024527177525,31.410628219158887,null,null,null,null,22,11,-0.26099583421580075,2.1428571428571428,0,0,0,null,31.410628219158887,0,0,null,0,1000,-0.90208069145623637,2.4689024527177525,2.4689024527177525,31.410628219158887,null,null,null,null,22,11,-0.26099583421580075,2.1428571428571428,0,0,0,null,31.410628219158887,0,0,null,0,1000,-0.90208069145623637,2.4689024527177525,2.4689024527177525,31.410628219158887,null,null,null,null,22,11,-0.26099583421580075,2.1428571428571428,0,0,0,null,31.410628219158887,0,0,null,0,1000,-0.90208069145623637,2.4689024527177525,2.4689024527177525,31.410628219158887,null,null,null,null,22,11,-0.26099583421580075,2.1428571428571428,0,0,0,null,31.410628219158887,0,0,null,0,1000,-0.90208069145623637,2.4689024527177525,2.4689024527177525,31.410628219158887,null,null,null,null,22,11,-0.26099583421580075,2.1428571428571428,0,0,0,null,31.410628219158887,0,0,null,0,1000,-0.90208069145623637,2.4689024527177525,2.4689024527177525,31.410628219158887,null,null,null,null,22,11,-0.26099583421580075,2.1428571428571428,0,0,0,null,31.410628219158887,0,0,null,0,1000,-0.90208069145623637,2.4689024527177525,2.4689024527177525,31.410628219158887,null,null,null,null,22,11,-0.26099583421580075,2.1428571428571428,0,0,0,null,31.410628219158887,0,0,null,0,1000,-0.90208069145623637,2.4689024527177525,2.4689024527177525,31.410628219158887,null,null,null,null,22,11,-0.26099583421580075,2.1428571428571428,0,0,0,null,31.410628219158887,0,0,null,0,1000,-0.90208069145623637,2.4689024527177525,2.4689024527177525,31.410628219158887,null,null,null,null,22,11,-0.26099583421580075,2.1428571428571428,0,0,0,null,31.410628219158887,0,0,null,0,1000,-0.90208069145623637,2.4689024527177525,2.4689024527177525,31.410628219158887,null,null,null,null,22,11,-0.26099583421580075,2.1428571428571428,0,0,0,null,31.410628219158887,0,0,null,0,1000,-0.90208069145623637,2.4689024527177525,2.4689024527177525,31.410628219158887,null,null,null,null,22,11,-0.26099583421580075,2.1428571428571428,0,0,0,null,31.410628219158887,0,0,null,0,1000,-0.90208069145623637,2.4689024527177525,2.4689024527177525,31.410628219158887,null,null,null,null,22,11,-0.26099583421580075,2.1428571428571428,0,0,0,null,31.410628219158887,0,0,null,0,1000,-0.90208069145623637,2.4689024527177525,2.4689024527177525,31.410628219158887,null,null,null,null,22,11,-0.26099583421580075,2.1428571428571428,0,0,0,null,31.410628219158887,0,0,null,0,1000,-0.90208069145623637,2.4689024527177525,2.4689024527177525,31.410628219158887,null,null,null,null,22,11,-0.26099583421580075,2.1428571428571428,0,0,0,null,31.410628219158887,0,0,null,0,1000,-0.90208069145623637,2.4689024527177525,2.4689024527177525,31.410628219158887,null,null,null,null,22,11,-0.26099583421580075,2.1428571428571428,0,0,0,null,31.410628219158887,0,0,null,0,1000,-0.90208069145623637,2.4689024527177525,2.4689024527177525,31.410628219158887,null,null,null,null,22,11,-0.26099583421580075,2.1428571428571428,0,0,0,null,31.410628219158887,0,0,null,0,1000,-0.90208069145623637,2.4689024527177525,2.4689024527177525,31.410628219158887,null,null,null,null,22,11,-0.26099583421580075,2.1428571428571428,0,0,0,null,31.410628219158887,0,0,null,0,1000,-0.90208069145623637,2.4689024527177525,2.4689024527177525,31.410628219158887,null,null,null,22,11,0,2.3895959976698053,24.948090660723253,null,null,0,2.3895959976698053,21,{"$f":"+RD49","v":21.971950297784151},null,{"$f":"+RB49","v":0},{"$f":"+RM49","v":21.971950297784151}]
[27,13.5,0.15867825333272276,2.1428571428571428,0,0,0,null,13.960666306682311,0,0,null,0,1000,0.86125190500323523,1.3575964545663948,1.3575964545663948,13.960666306682311,1.3575964545663948,null,null,null,27,13.5,-0.8237349617602866,2.1428571428571428,0,0,0,null,54.462105973336172,0,0,null,0,1000,0.1756562909995629,5.6665423145082618,5.6665423145082618,54.462105973336172,null,null,null,null,null,27,13.5,2.5164552416268524,2.1428571428571428,0,0,0,null,27.501600300108791,0,0,null,0,1000,-5.240422127949957E-2,3.967449635190976,3.967449635190976,27.501600300108791,null,null,null,null,27,13.5,-0.35817950755784483,2.1428571428571428,0,0,0,null,7.3365555456145639,0,0,null,0,1000,0.24336883477838844,1.2441895708398261,1.2441895708398261,7.3365555456145639,null,null,null,null,27,13.5,9.7855618948296391E-2,2.1428571428571428,0,0,0,null,11.952338198144426,0,0,null,0,1000,-1.4129489218131923,1.700268456455502,1.700268456455502,11.952338198144426,null,null,null,null,27,13.5,0.87509337401571097,2.1428571428571428,0,0,0,null,13.267458800313495,0,0,null,0,1000,1.6501366786627181,2.4755498426060356,2.4755498426060356,13.267458800313495,null,null,null,null,27,13.5,-0.20094425042136738,2.1428571428571428,0,0,0,null,29.390041661183144,0,0,null,0,1000,1.0499663429430413,2.4921605728813132,2.4921605728813132,29.390041661183144,null,null,null,null,27,13.5,2.3184047212542507,2.1428571428571428,0,0,0,null,21.134000376456559,0,0,null,0,1000,0.34062182318976464,3.2805708003318719,3.2805708003318719,21.134000376456559,null,null,null,null,27,13.5,-1.660871810308026,2.1428571428571428,0,0,0,null,19.859753091594282,0,0,null,0,1000,0.46760445877266438,3.1457799427545177,3.1457799427545177,19.859753091594282,null,null,null,null,27,13.5,0.926334701544129,2.1428571428571428,0,0,0,null,18.176581854666182,0,0,null,0,1000,-0.85392128333718453,3.1544975311267387,3.1544975311267387,18.176581854666182,null,null,null,null,27,13.5,5.8443063357163809E-2,2.1428571428571428,0,0,0,null,11.121080729238468,0,0,null,0,1000,-1.1927849930105547,1.5701803770074532,1.5701803770074532,11.121080729238468,null,null,null,null,27,13.5,0.17306615516855869,2.1428571428571428,0,0,0,null,4.4506792473122605,0,0,null,0,1000,0.60474825227038986,0.54710134880569194,0.54710134880569194,4.4506792473122605,null,null,null,null,27,13.5,-2.6415611122055593,2.1428571428571428,0,0,0,null,6.3638699153032858,0,0,null,0,1000,-0.71656782108811123,0.64370126095113844,0.64370126095113844,6.3638699153032858,null,null,null,null,27,13.5,-0.4075620764061556,2.1428571428571428,0,0,0,null,19.138260949254139,0,0,null,0,1000,0.68813980646033224,2.4480641787116544,2.4480641787116544,19.138260949254139,null,null,null,null,27,13.5,1.8216934240981742E-2,2.1428571428571428,0,0,0,null,5.0738456160241467,0,0,null,0,1000,1.1135143575436788,0.79022145808479183,0.79022145808479183,5.0738456160241467,null,null,null,null,27,13.5,0.4122295445462531,2.1428571428571428,0,0,0,null,13.352016448557791,0,0,null,0,1000,0.13330472968787455,1.8535908602416815,1.8535908602416815,13.352016448557791,null,null,null,null,27,13.5,0.84359773110007008,2.1428571428571428,0,0,0,null,9.1737838679649375,0,0,null,0,1000,9.5933013625039837E-2,1.1784597643339818,1.1784597643339818,9.1737838679649375,null,null,null,null,27,13.5,2.0165222673978334,2.1428571428571428,0,0,0,null,17.57495015615909,0,0,null,0,1000,0.77751369281213867,2.763011676905629,2.763011676905629,17.57495015615909,null,null,null,null,27,13.5,-1.3409132346617538,2.1428571428571428,0,0,0,null,13.071629473014548,0,0,null,0,1000,-0.88650914469868802,2.1519738195760199,2.1519738195760199,13.071629473014548,null,null,null,null,27,13.5,0.93126081441470032,2.1428571428571428,0,0,0,null,11.655739815152927,0,0,null,0,1000,-0.36671615813795339,1.986291691817434,1.986291691817434,11.655739815152927,null,null,null,null,27,13.5,1.4093469488428971,2.1428571428571428,0,0,0,null,9.8911997205583635,0,0,null,0,1000,-0.40862798825969343,1.4002678410364087,1.4002678410364087,9.8911997205583635,null,null,null,null,27,13.5,-0.68225064772848343,2.1428571428571428,0,0,0,null,13.809969645246376,0,0,null,0,1000,-0.20034765873847288,1.7022553030866829,1.7022553030866829,13.809969645246376,null,null,null,null,27,13.5,8.2629898032756929E-2,2.1428571428571428,0,0,0,null,22.195146756714259,0,0,null,0,1000,0.31553419246966569,2.6123218921590921,2.6123218921590921,22.195146756714259,null,null,null,null,27,13.5,1.904973146650909,2.1428571428571428,0,0,0,null,23.313660083870307,0,0,null,0,1000,9.0413665139914612E-2,3.2237399772416908,3.2237399772416908,23.313660083870307,null,null,null,null,27,13.5,0.48403692764674283,2.1428571428571428,0,0,0,null,16.737652231899702,0,0,null,0,1000,0.31693736798073757,2.6122224143261654,2.6122224143261654,16.737652231899702,null,null,null,null,27,13.5,-1.8989582719821512,2.1428571428571428,0,0,0,null,22.993122917594139,0,0,null,0,1000,-0.44419969465339526,2.6010004799492363,2.6010004799492363,22.993122917594139,null,null,null,null,27,{"$f":"VC53+$A$28/$D$12","v":13.5},{"$f":"NORMSINV(RAND())","v":-2.1375868937312013},2.1428571428571428,{"$f":"IF(VF53<=0,0,VF53-VE54+$D$4*(VF53-VE54)*SQRT($D$13)*NORMINV((RAND()),0,1))","v":0},{"$f":"IF(OR(VG53=0,VF54<0,VB54=0),0,VF54)","v":0},0,{"$f":"IF(VB54>0,IF(AND(VG54=0,VG53>0),VB54,\" \"))","v":" "},20.423120985232408,0,0,{"$f":"IF(VM53=\"Abandon\",0,IF(VB54>0,IF(AND(VH54>0,VJ54=0),\"Abandon\",\" \"),\" \"))","v":" "},0,1000,{"$f":"NORMSINV(RAND())","v":0.76478698706033832},{"$f":"IF(VG53>0,IF((VQ53+$D$7*$D$9*VP54*SQRT($D$13))<0,0,(VQ53+$D$7*$D$9*VP54*SQRT($D$13))),IF(VQ53*EXP((($D$8-$D$1)-(1/2)*$D$9^2)*$D$13+$D$9*SQRT($D$13)*VP54)<0,0,VQ53*EXP((($D$8-$D$1)-(1/2)*$D$9^2)*$D$13+$D$9*SQRT($D$13)*VP54)))","v":3.0965613005316421},3.0965613005316421,20.423120985232408,null,{"$f":"IF(VG54>0,IF(VO54<=$D$10*$D$13*1000,\"Failure\",\" \"),\" \")","v":" "},{"$f":"IF(VV53>0,\" \",IF(VU54=\"Failure\",VB54,))","v":0},null,27,13.5,-2.1375868937312013,2.1428571428571428,0,0,0,null,20.887067969011824,0,0,null,0,1000,0.76478698706033832,3.0965613005316421,3.0965613005316421,20.887067969011824,null,null,null,null,27,13.5,-2.1375868937312013,2.1428571428571428,0,0,0,null,26.708720022480755,0,0,null,0,1000,0.76478698706033832,3.0965613005316421,3.0965613005316421,26.708720022480755,null,null,null,null,27,13.5,-2.1375868937312013,2.1428571428571428,0,0,0,null,24.772067458243637,0,0,null,0,1000,0.76478698706033832,3.0965613005316421,3.0965613005316421,24.772067458243637,null,null,null,null,27,13.5,-2.1375868937312013,2.1428571428571428,0,0,0,null,21.077795123839106,0,0,null,0,1000,0.76478698706033832,3.0965613005316421,3.0965613005316421,21.077795123839106,null,null,null,null,27,13.5,-2.1375868937312013,2.1428571428571428,0,0,0,null,20.719500944411134,0,0,null,0,1000,0.76478698706033832,3.0965613005316421,3.0965613005316421,20.719500944411134,null,null,null,null,27,13.5,-2.1375868937312013,2.1428571428571428,0,0,0,null,20.265150619974197,0,0,null,0,1000,0.76478698706033832,3.0965613005316421,3.0965613005316421,20.265150619974197,null,null,null,null,27,13.5,-2.1375868937312013,2.1428571428571428,0,0,0,null,20.434938512401359,0,0,null,0,1000,0.76478698706033832,3.0965613005316421,3.0965613005316421,20.434938512401359,null,null,null,null,27,13.5,-2.1375868937312013,2.1428571428571428,0,0,0,null,20.434938512401359,0,0,null,0,1000,0.76478698706033832,3.0965613005316421,3.0965613005316421,20.434938512401359,null,null,null,null,27,13.5,-2.1375868937312013,2.1428571428571428,0,0,0,null,20.434938512401359,0,0,null,0,1000,0.76478698706033832,3.0965613005316421,3.0965613005316421,20.434938512401359,null,null,null,null,27,13.5,-2.1375868937312013,2.1428571428571428,0,0,0,null,20.434938512401359,0,0,null,0,1000,0.76478698706033832,3.0965613005316421,3.0965613005316421,20.434938512401359,null,null,null,null,27,13.5,-2.1375868937312013,2.1428571428571428,0,0,0,null,20.434938512401359,0,0,null,0,1000,0.76478698706033832,3.0965613005316421,3.0965613005316421,20.434938512401359,null,null,null,null,27,13.5,-2.1375868937312013,2.1428571428571428,0,0,0,null,20.434938512401359,0,0,null,0,1000,0.76478698706033832,3.0965613005316421,3.0965613005316421,20.434938512401359,null,null,null,null,27,13.5,-2.1375868937312013,2.1428571428571428,0,0,0,null,20.434938512401359,0,0,null,0,1000,0.76478698706033832,3.0965613005316421,3.0965613005316421,20.434938512401359,null,null,null,null,27,13.5,-2.1375868937312013,2.1428571428571428,0,0,0,null,20.434938512401359,0,0,null,0,1000,0.76478698706033832,3.0965613005316421,3.0965613005316421,20.434938512401359,null,null,null,null,27,13.5,-2.1375868937312013,2.1428571428571428,0,0,0,null,20.434938512401359,0,0,null,0,1000,0.76478698706033832,3.0965613005316421,3.0965613005316421,20.434938512401359,null,null,null,null,27,13.5,-2.1375868937312013,2.1428571428571428,0,0,0,null,20.434938512401359,0,0,null,0,1000,0.76478698706033832,3.0965613005316421,3.0965613005316421,20.434938512401359,null,null,null,null,27,13.5,-2.1375868937312013,2.1428571428571428,0,0,0,null,20.434938512401359,0,0,null,0,1000,0.76478698706033832,3.0965613005316421,3.0965613005316421,20.434938512401359,null,null,null,null,27,13.5,-2.1375868937312013,2.1428571428571428,0,0,0,null,20.434938512401359,0,0,null,0,1000,0.76478698706033832,3.0965613005316421,3.0965613005316421,20.434938512401359,null,null,null,null,27,13.5,-2.1375868937312013,2.1428571428571428,0,0,0,null,20.434938512401359,0,0,null,0,1000,0.76478698706033832,3.0965613005316421,3.0965613005316421,20.434938512401359,null,null,null,null,27,13.5,-2.1375868937312013,2.1428571428571428,0,0,0,null,20.434938512401359,0,0,null,0,1000,0.76478698706033832,3.0965613005316421,3.0965613005316421,20.434938512401359,null,null,null,null,27,13.5,-2.1375868937312013,2.1428571428571428,0,0,0,null,20.434938512401359,0,0,null,0,1000,0.76478698706033832,3.0965613005316421,3.0965613005316421,20.434938512401359,null,null,null,null,27,13.5,-2.1375868937312013,2.1428571428571428,0,0,0,null,20.434938512401359,0,0,null,0,1000,0.76478698706033832,3.0965613005316421,3.0965613005316421,20.434938512401359,null,null,null,null,27,13.5,-2.1375868937312013,2.1428571428571428,0,0,0,null,20.434938512401359,0,0,null,0,1000,0.76478698706033832,3.0965613005316421,3.0965613005316421,20.434938512401359,null,null,null,null,27,13.5,-2.1375868937312013,2.1428571428571428,0,0,0,null,20.434938512401359,0,0,null,0,1000,0.76478698706033832,3.0965613005316421,3.0965613005316421,20.434938512401359,null,null,null,null,27,13.5,-2.1375868937312013,2.1428571428571428,0,0,0,null,20.434938512401359,0,0,null,0,1000,0.76478698706033832,3.0965613005316421,3.0965613005316421,20.434938512401359,null,null,null,null,27,13.5,-2.1375868937312013,2.1428571428571428,0,0,0,null,20.434938512401359,0,0,null,0,1000,0.76478698706033832,3.0965613005316421,3.0965613005316421,20.434938512401359,null,null,null,null,27,13.5,-2.1375868937312013,2.1428571428571428,0,0,0,null,20.434938512401359,0,0,null,0,1000,0.76478698706033832,3.0965613005316421,3.0965613005316421,20.434938512401359,null,null,null,null,27,13.5,-2.1375868937312013,2.1428571428571428,0,0,0,null,20.434938512401359,0,0,null,0,1000,0.76478698706033832,3.0965613005316421,3.0965613005316421,20.434938512401359,null,null,null,null,27,13.5,-2.1375868937312013,2.1428571428571428,0,0,0,null,20.434938512401359,0,0,null,0,1000,0.76478698706033832,3.0965613005316421,3.0965613005316421,20.434938512401359,null,null,null,null,27,13.5,-2.1375868937312013,2.1428571428571428,0,0,0,null,20.434938512401359,0,0,null,0,1000,0.76478698706033832,3.0965613005316421,3.0965613005316421,20.434938512401359,null,null,null,null,27,13.5,-2.1375868937312013,2.1428571428571428,0,0,0,null,20.434938512401359,0,0,null,0,1000,0.76478698706033832,3.0965613005316421,3.0965613005316421,20.434938512401359,null,null,null,null,27,13.5,-2.1375868937312013,2.1428571428571428,0,0,0,null,20.434938512401359,0,0,null,0,1000,0.76478698706033832,3.0965613005316421,3.0965613005316421,20.434938512401359,null,null,null,null,27,13.5,-2.1375868937312013,2.1428571428571428,0,0,0,null,20.434938512401359,0,0,null,0,1000,0.76478698706033832,3.0965613005316421,3.0965613005316421,20.434938512401359,null,null,null,null,27,13.5,-2.1375868937312013,2.1428571428571428,0,0,0,null,20.434938512401359,0,0,null,0,1000,0.76478698706033832,3.0965613005316421,3.0965613005316421,20.434938512401359,null,null,null,null,27,13.5,-2.1375868937312013,2.1428571428571428,0,0,0,null,20.434938512401359,0,0,null,0,1000,0.76478698706033832,3.0965613005316421,3.0965613005316421,20.434938512401359,null,null,null,null,27,13.5,-2.1375868937312013,2.1428571428571428,0,0,0,null,20.434938512401359,0,0,null,0,1000,0.76478698706033832,3.0965613005316421,3.0965613005316421,20.434938512401359,null,null,null,null,27,13.5,-2.1375868937312013,2.1428571428571428,0,0,0,null,20.434938512401359,0,0,null,0,1000,0.76478698706033832,3.0965613005316421,3.0965613005316421,20.434938512401359,null,null,null,null,27,13.5,-2.1375868937312013,2.1428571428571428,0,0,0,null,20.434938512401359,0,0,null,0,1000,0.76478698706033832,3.0965613005316421,3.0965613005316421,20.434938512401359,null,null,null,null,27,13.5,-2.1375868937312013,2.1428571428571428,0,0,0,null,20.434938512401359,0,0,null,0,1000,0.76478698706033832,3.0965613005316421,3.0965613005316421,20.434938512401359,null,null,null,null,27,13.5,-2.1375868937312013,2.1428571428571428,0,0,0,null,20.434938512401359,0,0,null,0,1000,0.76478698706033832,3.0965613005316421,3.0965613005316421,20.434938512401359,null,null,null,null,27,13.5,-2.1375868937312013,2.1428571428571428,0,0,0,null,20.434938512401359,0,0,null,0,1000,0.76478698706033832,3.0965613005316421,3.0965613005316421,20.434938512401359,null,null,null,null,27,13.5,-2.1375868937312013,2.1428571428571428,0,0,0,null,20.434938512401359,0,0,null,0,1000,0.76478698706033832,3.0965613005316421,3.0965613005316421,20.434938512401359,null,null,null,null,27,13.5,-2.1375868937312013,2.1428571428571428,0,0,0,null,20.434938512401359,0,0,null,0,1000,0.76478698706033832,3.0965613005316421,3.0965613005316421,20.434938512401359,null,null,null,null,27,13.5,-2.1375868937312013,2.1428571428571428,0,0,0,null,20.434938512401359,0,0,null,0,1000,0.76478698706033832,3.0965613005316421,3.0965613005316421,20.434938512401359,null,null,null,null,27,13.5,-2.1375868937312013,2.1428571428571428,0,0,0,null,20.434938512401359,0,0,null,0,1000,0.76478698706033832,3.0965613005316421,3.0965613005316421,20.434938512401359,null,null,null,null,27,13.5,-2.1375868937312013,2.1428571428571428,0,0,0,null,20.434938512401359,0,0,null,0,1000,0.76478698706033832,3.0965613005316421,3.0965613005316421,20.434938512401359,null,null,null,null,27,13.5,-2.1375868937312013,2.1428571428571428,0,0,0,null,20.434938512401359,0,0,null,0,1000,0.76478698706033832,3.0965613005316421,3.0965613005316421,20.434938512401359,null,null,null,null,27,13.5,-2.1375868937312013,2.1428571428571428,0,0,0,null,20.434938512401359,0,0,null,0,1000,0.76478698706033832,3.0965613005316421,3.0965613005316421,20.434938512401359,null,null,null,null,27,13.5,-2.1375868937312013,2.1428571428571428,0,0,0,null,20.434938512401359,0,0,null,0,1000,0.76478698706033832,3.0965613005316421,3.0965613005316421,20.434938512401359,null,null,null,null,27,13.5,-2.1375868937312013,2.1428571428571428,0,0,0,null,20.434938512401359,0,0,null,0,1000,0.76478698706033832,3.0965613005316421,3.0965613005316421,20.434938512401359,null,null,null,null,27,13.5,-2.1375868937312013,2.1428571428571428,0,0,0,null,20.434938512401359,0,0,null,0,1000,0.76478698706033832,3.0965613005316421,3.0965613005316421,20.434938512401359,null,null,null,null,27,13.5,-2.1375868937312013,2.1428571428571428,0,0,0,null,20.434938512401359,0,0,null,0,1000,0.76478698706033832,3.0965613005316421,3.0965613005316421,20.434938512401359,null,null,null,null,27,13.5,-2.1375868937312013,2.1428571428571428,0,0,0,null,20.434938512401359,0,0,null,0,1000,0.76478698706033832,3.0965613005316421,3.0965613005316421,20.434938512401359,null,null,null,27,13.5,0,2.6707981429811758,18.761059312656965,null,null,0,2.6707981429811758,26,{"$f":"+VJ54","v":20.423120985232408},null,{"$f":"+VH54","v":0},{"$f":"+VS54","v":20.423120985232408}]
[32,16,0.13228529635988881,2.1428571428571428,0,0,0,null,7.0077434011924389,0,0,null,0,1000,0.89865039288689597,2.0636795088209134,2.0636795088209134,7.0077434011924389,2.0636795088209134,null,null,null,32,16,-0.84641884489637453,2.1428571428571428,0,0,0,null,26.676674705176591,0,0,null,0,1000,0.88913497206525716,8.5177772938154312,8.5177772938154312,26.676674705176591,null,null,null,null,null,32,16,-1.4515644868655873,2.1428571428571428,0,0,0,null,9.2755745191104957,0,0,null,0,1000,-0.7450417336501427,3.0327273385419309,3.0327273385419309,9.2755745191104957,null,null,null,null,32,16,0.64106836842910919,2.1428571428571428,0,0,0,null,2.4753578743477842,0,0,null,0,1000,-0.31222617399378999,0.8683488858465167,0.8683488858465167,2.4753578743477842,null,null,null,null,32,16,-1.1262916830573215,2.1428571428571428,0,0,0,null,4.9870154273289886,0,0,null,0,1000,0.66592974716272957,1.6696182083977205,{"$f":"IF(CL59<=CZ$24,0,IF(AND(CL59>0,$D$19=1),DA59,IF(AND(CL59>0,CL59<=$E$19*$D$12+CZ$24),DA59,0)))","v":1.6696182083977205},4.9870154273289886,null,null,null,null,32,16,-0.31280387220148864,2.1428571428571428,0,0,0,null,4.2239070769831928,0,0,null,0,1000,-2.0185352501045144,1.1399368380844521,{"$f":"IF(DH59<=DV$24,0,IF(AND(DH59>0,$D$19=1),DW59,IF(AND(DH59>0,DH59<=$E$19*$D$12+DV$24),DW59,0)))","v":1.1399368380844521},4.2239070769831928,null,null,null,null,32,16,-0.18572938490457669,2.1428571428571428,0,0,0,null,16.110487867614289,0,0,null,0,1000,0.89010421887979307,4.169101080660921,{"$f":"IF(ED59<=ER$24,0,IF(AND(ED59>0,$D$19=1),ES59,IF(AND(ED59>0,ED59<=$E$19*$D$12+ER$24),ES59,0)))","v":4.169101080660921},16.110487867614289,null,null,null,null,32,16,1.2207263541056039,2.1428571428571428,0,0,0,null,8.0523646889865272,0,0,null,0,1000,-0.12306727950634085,3.0399284104918469,{"$f":"IF(EZ59<=FN$24,0,IF(AND(EZ59>0,$D$19=1),FO59,IF(AND(EZ59>0,EZ59<=$E$19*$D$12+FN$24),FO59,0)))","v":3.0399284104918469},8.0523646889865272,null,null,null,null,32,16,1.9996415179698634,2.1428571428571428,0,0,0,null,8.5338166700998901,0,0,null,0,1000,0.93354524991056564,2.8368138734850725,{"$f":"IF(FV59<=GJ$24,0,IF(AND(FV59>0,$D$19=1),GK59,IF(AND(FV59>0,FV59<=$E$19*$D$12+GJ$24),GK59,0)))","v":2.8368138734850725},8.5338166700998901,null,null,null,null,32,16,-0.79221083945823856,2.1428571428571428,0,0,0,null,7.3226817920153664,0,0,null,0,1000,0.96826650050301499,2.4583793403757954,{"$f":"IF(GR59<=HF$24,0,IF(AND(GR59>0,$D$19=1),HG59,IF(AND(GR59>0,GR59<=$E$19*$D$12+HF$24),HG59,0)))","v":2.4583793403757954},7.3226817920153664,null,null,null,null,32,16,-0.50394499410252414,2.1428571428571428,0,0,0,null,4.0187106306457689,0,0,null,0,1000,-0.74108854825344828,1.5258466809673985,{"$f":"IF(HN59<=IB$24,0,IF(AND(HN59>0,$D$19=1),IC59,IF(AND(HN59>0,HN59<=$E$19*$D$12+IB$24),IC59,0)))","v":1.5258466809673985},4.0187106306457689,null,null,null,null,32,16,0.27280322267725676,2.1428571428571428,0,0,0,null,1.9489459974710721,0,0,null,0,1000,1.523271222799728,0.73783159046542479,{"$f":"IF(IJ59<=IX$24,0,IF(AND(IJ59>0,$D$19=1),IY59,IF(AND(IJ59>0,IJ59<=$E$19*$D$12+IX$24),IY59,0)))","v":0.73783159046542479},1.9489459974710721,null,null,null,null,32,16,-0.40346040828579477,2.1428571428571428,0,0,0,null,2.8350621940706868,0,0,null,0,1000,-0.41149142781778952,0.89486378824965451,{"$f":"IF(JF59<=JT$24,0,IF(AND(JF59>0,$D$19=1),JU59,IF(AND(JF59>0,JF59<=$E$19*$D$12+JT$24),JU59,0)))","v":0.89486378824965451},2.8350621940706868,null,null,null,null,32,16,0.274482314438249,2.1428571428571428,0,0,0,null,6.9426685761534088,0,0,null,0,1000,-1.0053474219073124,2.2218616497609247,{"$f":"IF(KB59<=KP$24,0,IF(AND(KB59>0,$D$19=1),KQ59,IF(AND(KB59>0,KB59<=$E$19*$D$12+KP$24),KQ59,0)))","v":2.2218616497609247},6.9426685761534088,null,null,null,null,32,16,0.10122886406429378,2.1428571428571428,0,0,0,null,2.0339485316172548,0,0,null,0,1000,0.92961591681165223,0.68768969107387767,{"$f":"IF(KX59<=LL$24,0,IF(AND(KX59>0,$D$19=1),LM59,IF(AND(KX59>0,KX59<=$E$19*$D$12+LL$24),LM59,0)))","v":0.68768969107387767},2.0339485316172548,null,null,null,null,32,16,-1.2436176656735822,2.1428571428571428,0,0,0,null,5.2012698055114033,0,0,null,0,1000,-0.31752458177741227,1.8266647728281766,{"$f":"IF(LT59<=MH$24,0,IF(AND(LT59>0,$D$19=1),MI59,IF(AND(LT59>0,LT59<=$E$19*$D$12+MH$24),MI59,0)))","v":1.8266647728281766},5.2012698055114033,null,null,null,null,32,16,-1.1341216171905422,2.1428571428571428,0,0,0,null,3.8099010575347956,0,0,null,0,1000,1.4351139704842857,1.4548511643873303,{"$f":"IF(MP59<=ND$24,0,IF(AND(MP59>0,$D$19=1),NE59,IF(AND(MP59>0,MP59<=$E$19*$D$12+ND$24),NE59,0)))","v":1.4548511643873303},3.8099010575347956,null,null,null,null,32,16,0.3726087820689219,2.1428571428571428,0,0,0,null,7.3364405046626402,0,0,null,0,1000,-0.34958500501801976,2.1242311525226905,{"$f":"IF(NL59<=NZ$24,0,IF(AND(NL59>0,$D$19=1),OA59,IF(AND(NL59>0,NL59<=$E$19*$D$12+NZ$24),OA59,0)))","v":2.1242311525226905},7.3364405046626402,null,null,null,null,32,16,-1.1982497510253589,2.1428571428571428,0,0,0,null,4.8350424030434684,0,0,null,0,1000,1.4291940230372868,1.8961692979020495,{"$f":"IF(OH59<=OV$24,0,IF(AND(OH59>0,$D$19=1),OW59,IF(AND(OH59>0,OH59<=$E$19*$D$12+OV$24),OW59,0)))","v":1.8961692979020495},4.8350424030434684,null,null,null,null,32,16,2.0866053373764912,2.1428571428571428,0,0,0,null,3.8959687972758896,0,0,null,0,1000,0.15976678303928452,1.4441109343249308,{"$f":"IF(PD59<=PR$24,0,IF(AND(PD59>0,$D$19=1),PS59,IF(AND(PD59>0,PD59<=$E$19*$D$12+PR$24),PS59,0)))","v":1.4441109343249308},3.8959687972758896,null,null,null,null,32,16,-1.3308115757653554,2.1428571428571428,0,0,0,null,4.0356795241331938,0,0,null,0,1000,0.40331709786477071,1.4055688378371349,{"$f":"IF(PZ59<=QN$24,0,IF(AND(PZ59>0,$D$19=1),QO59,IF(AND(PZ59>0,PZ59<=$E$19*$D$12+QN$24),QO59,0)))","v":1.4055688378371349},4.0356795241331938,null,null,null,null,32,16,1.0395988283554456,2.1428571428571428,0,0,0,null,5.8843850766927694,0,0,null,0,1000,0.27172157243741629,1.9554683809107409,{"$f":"IF(QV59<=RJ$24,0,IF(AND(QV59>0,$D$19=1),RK59,IF(AND(QV59>0,QV59<=$E$19*$D$12+RJ$24),RK59,0)))","v":1.9554683809107409},5.8843850766927694,null,null,null,null,32,16,-1.6391393698104555,2.1428571428571428,0,0,0,null,9.5603861429205423,0,0,null,0,1000,0.10502031568575833,3.1045980391746077,{"$f":"IF(RR59<=SF$24,0,IF(AND(RR59>0,$D$19=1),SG59,IF(AND(RR59>0,RR59<=$E$19*$D$12+SF$24),SG59,0)))","v":3.1045980391746077},9.5603861429205423,null,null,null,null,32,16,1.6973509196216019,2.1428571428571428,0,0,0,null,9.0927148521106691,0,0,null,0,1000,-0.23702396195760725,3.2232701912524213,{"$f":"IF(SN59<=TB$24,0,IF(AND(SN59>0,$D$19=1),TC59,IF(AND(SN59>0,SN59<=$E$19*$D$12+TB$24),TC59,0)))","v":3.2232701912524213},9.0927148521106691,null,null,null,null,32,16,0.23475379675233252,2.1428571428571428,0,0,0,null,6.3228881555451286,0,0,null,0,1000,0.30394904689692098,2.2119223384530065,{"$f":"IF(TJ59<=TX$24,0,IF(AND(TJ59>0,$D$19=1),TY59,IF(AND(TJ59>0,TJ59<=$E$19*$D$12+TX$24),TY59,0)))","v":2.2119223384530065},6.3228881555451286,null,null,null,null,32,16,0.69085279193294202,2.1428571428571428,0,0,0,null,10.858964760565163,0,0,null,0,1000,1.4353506464837014,3.3294542307510882,{"$f":"IF(UF59<=UT$24,0,IF(AND(UF59>0,$D$19=1),UU59,IF(AND(UF59>0,UF59<=$E$19*$D$12+UT$24),UU59,0)))","v":3.3294542307510882},10.858964760565163,null,null,null,null,32,16,1.3061536068167314,2.1428571428571428,0,0,0,null,8.3807514983741971,0,0,null,0,1000,1.1711526268469916,2.8592136307542204,{"$f":"IF(VB59<=VP$24,0,IF(AND(VB59>0,$D$19=1),VQ59,IF(AND(VB59>0,VB59<=$E$19*$D$12+VP$24),VQ59,0)))","v":2.8592136307542204},8.3807514983741971,null,null,null,null,32,16,0.61748502602667688,2.1428571428571428,0,0,0,null,8.5410798515184201,0,0,null,0,1000,0.41931319061816613,2.6518407551691774,{"$f":"IF(VX59<=WL$24,0,IF(AND(VX59>0,$D$19=1),WM59,IF(AND(VX59>0,VX59<=$E$19*$D$12+WL$24),WM59,0)))","v":2.6518407551691774},8.5410798515184201,null,null,null,null,32,16,-0.72251417238455751,2.1428571428571428,0,0,0,null,11.527966217376425,0,0,null,0,1000,0.16271154470215818,3.8280722382826782,{"$f":"IF(WT59<=XH$24,0,IF(AND(WT59>0,$D$19=1),XI59,IF(AND(WT59>0,WT59<=$E$19*$D$12+XH$24),XI59,0)))","v":3.8280722382826782},11.527966217376425,null,null,null,null,32,16,-0.84495234484734949,2.1428571428571428,0,0,0,null,10.449500106977961,0,0,null,0,1000,0.73399114781107633,3.6689986579747145,{"$f":"IF(XP59<=YD$24,0,IF(AND(XP59>0,$D$19=1),YE59,IF(AND(XP59>0,XP59<=$E$19*$D$12+YD$24),YE59,0)))","v":3.6689986579747145},10.449500106977961,null,null,null,null,32,16,0.85699667001696855,2.1428571428571428,0,0,0,null,6.9912585797435636,0,0,null,0,1000,-7.7633442909820341E-2,2.5530541495162011,{"$f":"IF(YL59<=YZ$24,0,IF(AND(YL59>0,$D$19=1),ZA59,IF(AND(YL59>0,YL59<=$E$19*$D$12+YZ$24),ZA59,0)))","v":2.5530541495162011},6.9912585797435636,null,null,null,null,32,{"$f":"ZI58+$A$28/$D$12","v":16},{"$f":"NORMINV((RAND()),0,1)","v":5.5538670175464114E-2},2.1428571428571428,{"$f":"IF(ZL58<=0,0,ZL58-ZK59+$D$4*(ZL58-ZK59)*SQRT($D$13)*NORMINV((RAND()),0,1))","v":0},{"$f":"IF(OR(ZM58=0,ZL59<0,ZH59=0),0,ZL59)","v":0},0,{"$f":"IF(ZH59>0,IF(AND(ZM59=0,ZM58>0),ZH59,\" \"))","v":" "},6.58525808458191,0,0,{"$f":"IF(ZS58=\"Abandon\",0,IF(ZH59>0,IF(AND(ZN59>0,ZP59=0),\"Abandon\",\" \"),\" \"))","v":" "},0,1000,{"$f":"NORMINV((RAND()),0,1)","v":-0.81096091491374245},{"$f":"IF(ZM58>0,IF((ZW58+$D$7*$D$9*ZV59*SQRT($D$13))<0,0,(ZW58+$D$7*$D$9*ZV59*SQRT($D$13))),IF(ZW58*EXP((($D$8-$D$1)-(1/2)*$D$9^2)*$D$13+$D$9*SQRT($D$13)*ZV59)<0,0,ZW58*EXP((($D$8-$D$1)-(1/2)*$D$9^2)*$D$13+$D$9*SQRT($D$13)*ZV59)))","v":2.2967797179467118},{"$f":"IF(ZH59<=ZV$24,0,IF(AND(ZH59>0,$D$19=1),ZW59,IF(AND(ZH59>0,ZH59<=$E$19*$D$12+ZV$24),ZW59,0)))","v":2.2967797179467118},6.58525808458191,null,{"$f":"IF(ZM59>0,IF(ZU59<=$D$10*$D$13*1000,\"Failure\",\" \"),\" \")","v":" "},{"$f":"IF(AAB58>0,\" \",IF(AAA59=\"Failure\",ZH59,))","v":0},null,32,16,5.5538670175464114E-2,2.1428571428571428,0,0,0,null,6.0704117172957819,0,0,null,0,1000,-0.81096091491374245,2.2967797179467118,{"$f":"IF(AAD59<=AAR$24,0,IF(AND(AAD59>0,$D$19=1),AAS59,IF(AND(AAD59>0,AAD59<=$E$19*$D$12+AAR$24),AAS59,0)))","v":2.2967797179467118},6.0704117172957819,null,null,null,null,32,16,5.5538670175464114E-2,2.1428571428571428,0,0,0,null,6.2628066049490938,0,0,null,0,1000,-0.81096091491374245,2.2967797179467118,{"$f":"IF(AAZ59<=ABN$24,0,IF(AND(AAZ59>0,$D$19=1),ABO59,IF(AND(AAZ59>0,AAZ59<=$E$19*$D$12+ABN$24),ABO59,0)))","v":2.2967797179467118},6.2628066049490938,null,null,null,null,32,16,5.5538670175464114E-2,2.1428571428571428,0,0,0,null,6.2628066049490938,0,0,null,0,1000,-0.81096091491374245,2.2967797179467118,{"$f":"IF(ABV59<=ACJ$24,0,IF(AND(ABV59>0,$D$19=1),ACK59,IF(AND(ABV59>0,ABV59<=$E$19*$D$12+ACJ$24),ACK59,0)))","v":2.2967797179467118},6.2628066049490938,null,null,null,null,32,16,5.5538670175464114E-2,2.1428571428571428,0,0,0,null,6.2628066049490938,0,0,null,0,1000,-0.81096091491374245,2.2967797179467118,{"$f":"IF(ACR59<=ADF$24,0,IF(AND(ACR59>0,$D$19=1),ADG59,IF(AND(ACR59>0,ACR59<=$E$19*$D$12+ADF$24),ADG59,0)))","v":2.2967797179467118},6.2628066049490938,null,null,null,null,32,16,5.5538670175464114E-2,2.1428571428571428,0,0,0,null,6.2628066049490938,0,0,null,0,1000,-0.81096091491374245,2.2967797179467118,{"$f":"IF(ADN59<=AEB$24,0,IF(AND(ADN59>0,$D$19=1),AEC59,IF(AND(ADN59>0,ADN59<=$E$19*$D$12+AEB$24),AEC59,0)))","v":2.2967797179467118},6.2628066049490938,null,null,null,null,32,16,5.5538670175464114E-2,2.1428571428571428,0,0,0,null,6.2628066049490938,0,0,null,0,1000,-0.81096091491374245,2.2967797179467118,{"$f":"IF(AEJ59<=AEX$24,0,IF(AND(AEJ59>0,$D$19=1),AEY59,IF(AND(AEJ59>0,AEJ59<=$E$19*$D$12+AEX$24),AEY59,0)))","v":2.2967797179467118},6.2628066049490938,null,null,null,null,32,16,5.5538670175464114E-2,2.1428571428571428,0,0,0,null,6.2628066049490938,0,0,null,0,1000,-0.81096091491374245,2.2967797179467118,{"$f":"IF(AFF59<=AFT$24,0,IF(AND(AFF59>0,$D$19=1),AFU59,IF(AND(AFF59>0,AFF59<=$E$19*$D$12+AFT$24),AFU59,0)))","v":2.2967797179467118},6.2628066049490938,null,null,null,null,32,16,5.5538670175464114E-2,2.1428571428571428,0,0,0,null,6.2628066049490938,0,0,null,0,1000,-0.81096091491374245,2.2967797179467118,{"$f":"IF(AGB59<=AGP$24,0,IF(AND(AGB59>0,$D$19=1),AGQ59,IF(AND(AGB59>0,AGB59<=$E$19*$D$12+AGP$24),AGQ59,0)))","v":2.2967797179467118},6.2628066049490938,null,null,null,null,32,16,5.5538670175464114E-2,2.1428571428571428,0,0,0,null,6.2628066049490938,0,0,null,0,1000,-0.81096091491374245,2.2967797179467118,{"$f":"IF(AGX59<=AHL$24,0,IF(AND(AGX59>0,$D$19=1),AHM59,IF(AND(AGX59>0,AGX59<=$E$19*$D$12+AHL$24),AHM59,0)))","v":2.2967797179467118},6.2628066049490938,null,null,null,null,32,16,5.5538670175464114E-2,2.1428571428571428,0,0,0,null,6.2628066049490938,0,0,null,0,1000,-0.81096091491374245,2.2967797179467118,{"$f":"IF(AHT59<=AIH$24,0,IF(AND(AHT59>0,$D$19=1),AII59,IF(AND(AHT59>0,AHT59<=$E$19*$D$12+AIH$24),AII59,0)))","v":2.2967797179467118},6.2628066049490938,null,null,null,null,32,16,5.5538670175464114E-2,2.1428571428571428,0,0,0,null,6.2628066049490938,0,0,null,0,1000,-0.81096091491374245,2.2967797179467118,{"$f":"IF(AIP59<=AJD$24,0,IF(AND(AIP59>0,$D$19=1),AJE59,IF(AND(AIP59>0,AIP59<=$E$19*$D$12+AJD$24),AJE59,0)))","v":2.2967797179467118},6.2628066049490938,null,null,null,null,32,16,5.5538670175464114E-2,2.1428571428571428,0,0,0,null,6.2628066049490938,0,0,null,0,1000,-0.81096091491374245,2.2967797179467118,{"$f":"IF(AJL59<=AJZ$24,0,IF(AND(AJL59>0,$D$19=1),AKA59,IF(AND(AJL59>0,AJL59<=$E$19*$D$12+AJZ$24),AKA59,0)))","v":2.2967797179467118},6.2628066049490938,null,null,null,null,32,16,5.5538670175464114E-2,2.1428571428571428,0,0,0,null,6.2628066049490938,0,0,null,0,1000,-0.81096091491374245,2.2967797179467118,{"$f":"IF(AKH59<=AKV$24,0,IF(AND(AKH59>0,$D$19=1),AKW59,IF(AND(AKH59>0,AKH59<=$E$19*$D$12+AKV$24),AKW59,0)))","v":2.2967797179467118},6.2628066049490938,null,null,null,null,32,16,5.5538670175464114E-2,2.1428571428571428,0,0,0,null,6.2628066049490938,0,0,null,0,1000,-0.81096091491374245,2.2967797179467118,{"$f":"IF(ALD59<=ALR$24,0,IF(AND(ALD59>0,$D$19=1),ALS59,IF(AND(ALD59>0,ALD59<=$E$19*$D$12+ALR$24),ALS59,0)))","v":2.2967797179467118},6.2628066049490938,null,null,null,null,32,16,5.5538670175464114E-2,2.1428571428571428,0,0,0,null,6.2628066049490938,0,0,null,0,1000,-0.81096091491374245,2.2967797179467118,{"$f":"IF(ALZ59<=AMN$24,0,IF(AND(ALZ59>0,$D$19=1),AMO59,IF(AND(ALZ59>0,ALZ59<=$E$19*$D$12+AMN$24),AMO59,0)))","v":2.2967797179467118},6.2628066049490938,null,null,null,null,32,16,5.5538670175464114E-2,2.1428571428571428,0,0,0,null,6.2628066049490938,0,0,null,0,1000,-0.81096091491374245,2.2967797179467118,{"$f":"IF(AMV59<=ANJ$24,0,IF(AND(AMV59>0,$D$19=1),ANK59,IF(AND(AMV59>0,AMV59<=$E$19*$D$12+ANJ$24),ANK59,0)))","v":2.2967797179467118},6.2628066049490938,null,null,null,null,32,16,5.5538670175464114E-2,2.1428571428571428,0,0,0,null,6.2628066049490938,0,0,null,0,1000,-0.81096091491374245,2.2967797179467118,{"$f":"IF(ANR59<=AOF$24,0,IF(AND(ANR59>0,$D$19=1),AOG59,IF(AND(ANR59>0,ANR59<=$E$19*$D$12+AOF$24),AOG59,0)))","v":2.2967797179467118},6.2628066049490938,null,null,null,null,32,16,5.5538670175464114E-2,2.1428571428571428,0,0,0,null,6.2628066049490938,0,0,null,0,1000,-0.81096091491374245,2.2967797179467118,{"$f":"IF(AON59<=APB$24,0,IF(AND(AON59>0,$D$19=1),APC59,IF(AND(AON59>0,AON59<=$E$19*$D$12+APB$24),APC59,0)))","v":2.2967797179467118},6.2628066049490938,null,null,null,null,32,16,5.5538670175464114E-2,2.1428571428571428,0,0,0,null,6.2628066049490938,0,0,null,0,1000,-0.81096091491374245,2.2967797179467118,{"$f":"IF(APJ59<=APX$24,0,IF(AND(APJ59>0,$D$19=1),APY59,IF(AND(APJ59>0,APJ59<=$E$19*$D$12+APX$24),APY59,0)))","v":2.2967797179467118},6.2628066049490938,null,null,null,null,32,16,5.5538670175464114E-2,2.1428571428571428,0,0,0,null,6.2628066049490938,0,0,null,0,1000,-0.81096091491374245,2.2967797179467118,{"$f":"IF(AQF59<=AQT$24,0,IF(AND(AQF59>0,$D$19=1),AQU59,IF(AND(AQF59>0,AQF59<=$E$19*$D$12+AQT$24),AQU59,0)))","v":2.2967797179467118},6.2628066049490938,null,null,null,null,32,16,5.5538670175464114E-2,2.1428571428571428,0,0,0,null,6.2628066049490938,0,0,null,0,1000,-0.81096091491374245,2.2967797179467118,{"$f":"IF(ARB59<=ARP$24,0,IF(AND(ARB59>0,$D$19=1),ARQ59,IF(AND(ARB59>0,ARB59<=$E$19*$D$12+ARP$24),ARQ59,0)))","v":2.2967797179467118},6.2628066049490938,null,null,null,null,32,16,5.5538670175464114E-2,2.1428571428571428,0,0,0,null,6.2628066049490938,0,0,null,0,1000,-0.81096091491374245,2.2967797179467118,{"$f":"IF(ARX59<=ASL$24,0,IF(AND(ARX59>0,$D$19=1),ASM59,IF(AND(ARX59>0,ARX59<=$E$19*$D$12+ASL$24),ASM59,0)))","v":2.2967797179467118},6.2628066049490938,null,null,null,null,32,16,5.5538670175464114E-2,2.1428571428571428,0,0,0,null,6.2628066049490938,0,0,null,0,1000,-0.81096091491374245,2.2967797179467118,{"$f":"IF(AST59<=ATH$24,0,IF(AND(AST59>0,$D$19=1),ATI59,IF(AND(AST59>0,AST59<=$E$19*$D$12+ATH$24),ATI59,0)))","v":2.2967797179467118},6.2628066049490938,null,null,null,null,32,16,5.5538670175464114E-2,2.1428571428571428,0,0,0,null,6.2628066049490938,0,0,null,0,1000,-0.81096091491374245,2.2967797179467118,{"$f":"IF(ATP59<=AUD$24,0,IF(AND(ATP59>0,$D$19=1),AUE59,IF(AND(ATP59>0,ATP59<=$E$19*$D$12+AUD$24),AUE59,0)))","v":2.2967797179467118},6.2628066049490938,null,null,null,null,32,16,5.5538670175464114E-2,2.1428571428571428,0,0,0,null,6.2628066049490938,0,0,null,0,1000,-0.81096091491374245,2.2967797179467118,{"$f":"IF(AUL59<=AUZ$24,0,IF(AND(AUL59>0,$D$19=1),AVA59,IF(AND(AUL59>0,AUL59<=$E$19*$D$12+AUZ$24),AVA59,0)))","v":2.2967797179467118},6.2628066049490938,null,null,null,null,32,16,5.5538670175464114E-2,2.1428571428571428,0,0,0,null,6.2628066049490938,0,0,null,0,1000,-0.81096091491374245,2.2967797179467118,{"$f":"IF(AVH59<=AVV$24,0,IF(AND(AVH59>0,$D$19=1),AVW59,IF(AND(AVH59>0,AVH59<=$E$19*$D$12+AVV$24),AVW59,0)))","v":2.2967797179467118},6.2628066049490938,null,null,null,null,32,16,5.5538670175464114E-2,2.1428571428571428,0,0,0,null,6.2628066049490938,0,0,null,0,1000,-0.81096091491374245,2.2967797179467118,{"$f":"IF(AWD59<=AWR$24,0,IF(AND(AWD59>0,$D$19=1),AWS59,IF(AND(AWD59>0,AWD59<=$E$19*$D$12+AWR$24),AWS59,0)))","v":2.2967797179467118},6.2628066049490938,null,null,null,null,32,16,5.5538670175464114E-2,2.1428571428571428,0,0,0,null,6.2628066049490938,0,0,null,0,1000,-0.81096091491374245,2.2967797179467118,{"$f":"IF(AWZ59<=AXN$24,0,IF(AND(AWZ59>0,$D$19=1),AXO59,IF(AND(AWZ59>0,AWZ59<=$E$19*$D$12+AXN$24),AXO59,0)))","v":2.2967797179467118},6.2628066049490938,null,null,null,null,32,16,5.5538670175464114E-2,2.1428571428571428,0,0,0,null,6.2628066049490938,0,0,null,0,1000,-0.81096091491374245,2.2967797179467118,{"$f":"IF(AXV59<=AYJ$24,0,IF(AND(AXV59>0,$D$19=1),AYK59,IF(AND(AXV59>0,AXV59<=$E$19*$D$12+AYJ$24),AYK59,0)))","v":2.2967797179467118},6.2628066049490938,null,null,null,null,32,16,5.5538670175464114E-2,2.1428571428571428,0,0,0,null,6.2628066049490938,0,0,null,0,1000,-0.81096091491374245,2.2967797179467118,{"$f":"IF(AYR59<=AZF$24,0,IF(AND(AYR59>0,$D$19=1),AZG59,IF(AND(AYR59>0,AYR59<=$E$19*$D$12+AZF$24),AZG59,0)))","v":2.2967797179467118},6.2628066049490938,null,null,null,null,32,16,5.5538670175464114E-2,2.1428571428571428,0,0,0,null,6.2628066049490938,0,0,null,0,1000,-0.81096091491374245,2.2967797179467118,{"$f":"IF(AZN59<=BAB$24,0,IF(AND(AZN59>0,$D$19=1),BAC59,IF(AND(AZN59>0,AZN59<=$E$19*$D$12+BAB$24),BAC59,0)))","v":2.2967797179467118},6.2628066049490938,null,null,null,null,32,16,5.5538670175464114E-2,2.1428571428571428,0,0,0,null,6.2628066049490938,0,0,null,0,1000,-0.81096091491374245,2.2967797179467118,{"$f":"IF(BAJ59<=BAX$24,0,IF(AND(BAJ59>0,$D$19=1),BAY59,IF(AND(BAJ59>0,BAJ59<=$E$19*$D$12+BAX$24),BAY59,0)))","v":2.2967797179467118},6.2628066049490938,null,null,null,null,32,16,5.5538670175464114E-2,2.1428571428571428,0,0,0,null,6.2628066049490938,0,0,null,0,1000,-0.81096091491374245,2.2967797179467118,{"$f":"IF(BBF59<=BBT$24,0,IF(AND(BBF59>0,$D$19=1),BBU59,IF(AND(BBF59>0,BBF59<=$E$19*$D$12+BBT$24),BBU59,0)))","v":2.2967797179467118},6.2628066049490938,null,null,null,null,32,16,5.5538670175464114E-2,2.1428571428571428,0,0,0,null,6.2628066049490938,0,0,null,0,1000,-0.81096091491374245,2.2967797179467118,{"$f":"IF(BCB59<=BCP$24,0,IF(AND(BCB59>0,$D$19=1),BCQ59,IF(AND(BCB59>0,BCB59<=$E$19*$D$12+BCP$24),BCQ59,0)))","v":2.2967797179467118},6.2628066049490938,null,null,null,null,32,16,5.5538670175464114E-2,2.1428571428571428,0,0,0,null,6.2628066049490938,0,0,null,0,1000,-0.81096091491374245,2.2967797179467118,{"$f":"IF(BCX59<=BDL$24,0,IF(AND(BCX59>0,$D$19=1),BDM59,IF(AND(BCX59>0,BCX59<=$E$19*$D$12+BDL$24),BDM59,0)))","v":2.2967797179467118},6.2628066049490938,null,null,null,null,32,16,5.5538670175464114E-2,2.1428571428571428,0,0,0,null,6.2628066049490938,0,0,null,0,1000,-0.81096091491374245,2.2967797179467118,{"$f":"IF(BDT59<=BEH$24,0,IF(AND(BDT59>0,$D$19=1),BEI59,IF(AND(BDT59>0,BDT59<=$E$19*$D$12+BEH$24),BEI59,0)))","v":2.2967797179467118},6.2628066049490938,null,null,null,null,32,16,5.5538670175464114E-2,2.1428571428571428,0,0,0,null,6.2628066049490938,0,0,null,0,1000,-0.81096091491374245,2.2967797179467118,{"$f":"IF(BEP59<=BFD$24,0,IF(AND(BEP59>0,$D$19=1),BFE59,IF(AND(BEP59>0,BEP59<=$E$19*$D$12+BFD$24),BFE59,0)))","v":2.2967797179467118},6.2628066049490938,null,null,null,null,32,16,5.5538670175464114E-2,2.1428571428571428,0,0,0,null,6.2628066049490938,0,0,null,0,1000,-0.81096091491374245,2.2967797179467118,{"$f":"IF(BFL59<=BFZ$24,0,IF(AND(BFL59>0,$D$19=1),BGA59,IF(AND(BFL59>0,BFL59<=$E$19*$D$12+BFZ$24),BGA59,0)))","v":2.2967797179467118},6.2628066049490938,null,null,null,null,32,16,5.5538670175464114E-2,2.1428571428571428,0,0,0,null,6.2628066049490938,0,0,null,0,1000,-0.81096091491374245,2.2967797179467118,{"$f":"IF(BGH59<=BGV$24,0,IF(AND(BGH59>0,$D$19=1),BGW59,IF(AND(BGH59>0,BGH59<=$E$19*$D$12+BGV$24),BGW59,0)))","v":2.2967797179467118},6.2628066049490938,null,null,null,null,32,16,5.5538670175464114E-2,2.1428571428571428,0,0,0,null,6.2628066049490938,0,0,null,0,1000,-0.81096091491374245,2.2967797179467118,{"$f":"IF(BHD59<=BHR$24,0,IF(AND(BHD59>0,$D$19=1),BHS59,IF(AND(BHD59>0,BHD59<=$E$19*$D$12+BHR$24),BHS59,0)))","v":2.2967797179467118},6.2628066049490938,null,null,null,null,32,16,5.5538670175464114E-2,2.1428571428571428,0,0,0,null,6.2628066049490938,0,0,null,0,1000,-0.81096091491374245,2.2967797179467118,{"$f":"IF(BHZ59<=BIN$24,0,IF(AND(BHZ59>0,$D$19=1),BIO59,IF(AND(BHZ59>0,BHZ59<=$E$19*$D$12+BIN$24),BIO59,0)))","v":2.2967797179467118},6.2628066049490938,null,null,null,null,32,16,5.5538670175464114E-2,2.1428571428571428,0,0,0,null,6.2628066049490938,0,0,null,0,1000,-0.81096091491374245,2.2967797179467118,{"$f":"IF(BIV59<=BJJ$24,0,IF(AND(BIV59>0,$D$19=1),BJK59,IF(AND(BIV59>0,BIV59<=$E$19*$D$12+BJJ$24),BJK59,0)))","v":2.2967797179467118},6.2628066049490938,null,null,null,null,32,16,5.5538670175464114E-2,2.1428571428571428,0,0,0,null,6.2628066049490938,0,0,null,0,1000,-0.81096091491374245,2.2967797179467118,{"$f":"IF(BJR59<=BKF$24,0,IF(AND(BJR59>0,$D$19=1),BKG59,IF(AND(BJR59>0,BJR59<=$E$19*$D$12+BKF$24),BKG59,0)))","v":2.2967797179467118},6.2628066049490938,null,null,null,null,32,16,5.5538670175464114E-2,2.1428571428571428,0,0,0,null,6.2628066049490938,0,0,null,0,1000,-0.81096091491374245,2.2967797179467118,{"$f":"IF(BKN59<=BLB$24,0,IF(AND(BKN59>0,$D$19=1),BLC59,IF(AND(BKN59>0,BKN59<=$E$19*$D$12+BLB$24),BLC59,0)))","v":2.2967797179467118},6.2628066049490938,null,null,null,null,32,16,5.5538670175464114E-2,2.1428571428571428,0,0,0,null,6.2628066049490938,0,0,null,0,1000,-0.81096091491374245,2.2967797179467118,{"$f":"IF(BLJ59<=BLX$24,0,IF(AND(BLJ59>0,$D$19=1),BLY59,IF(AND(BLJ59>0,BLJ59<=$E$19*$D$12+BLX$24),BLY59,0)))","v":2.2967797179467118},6.2628066049490938,null,null,null,null,32,16,5.5538670175464114E-2,2.1428571428571428,0,0,0,null,6.2628066049490938,0,0,null,0,1000,-0.81096091491374245,2.2967797179467118,{"$f":"IF(BMF59<=BMT$24,0,IF(AND(BMF59>0,$D$19=1),BMU59,IF(AND(BMF59>0,BMF59<=$E$19*$D$12+BMT$24),BMU59,0)))","v":2.2967797179467118},6.2628066049490938,null,null,null,null,32,16,5.5538670175464114E-2,2.1428571428571428,0,0,0,null,6.2628066049490938,0,0,null,0,1000,-0.81096091491374245,2.2967797179467118,{"$f":"IF(BNB59<=BNP$24,0,IF(AND(BNB59>0,$D$19=1),BNQ59,IF(AND(BNB59>0,BNB59<=$E$19*$D$12+BNP$24),BNQ59,0)))","v":2.2967797179467118},6.2628066049490938,null,null,null,null,32,16,5.5538670175464114E-2,2.1428571428571428,0,0,0,null,6.2628066049490938,0,0,null,0,1000,-0.81096091491374245,2.2967797179467118,{"$f":"IF(BNX59<=BOL$24,0,IF(AND(BNX59>0,$D$19=1),BOM59,IF(AND(BNX59>0,BNX59<=$E$19*$D$12+BOL$24),BOM59,0)))","v":2.2967797179467118},6.2628066049490938,null,null,null,32,16,0,2.9850915081493028,8.6234127112496601,null,null,0,2.9850915081493028,31,{"$f":"+ZP59","v":6.58525808458191},null,{"$f":"+ZN59","v":0},{"$f":"+ZY59","v":6.58525808458191}]
[0,19,-0.90217423582875222,2.1428571428571428,0,0,0,null,0,0,0,null,0,1000,-0.84057430043535275,3.804634835777438,0,0,0,null,null,null,0,19,-2.2224267792618693,2.1428571428571428,0,0,0,null,0,0,0,null,0,1000,-0.44253886212059307,11.609558383953514,0,0,null,null,null,null,null,0,19,1.328383278826101,2.1428571428571428,0,0,0,null,0,0,0,null,0,1000,-0.12809888578999384,3.0787206317461964,0,0,null,null,null,null,0,19,0.55162150640045726,2.1428571428571428,0,0,0,null,0,0,0,null,0,1000,6.120032744031368E-2,1.1181357189962744,0,0,null,null,null,null,0,19,1.1661962600822311,2.1428571428571428,0,0,0,null,0,0,0,null,0,1000,0.61369754873108606,1.6453535515957198,0,0,null,null,null,null,0,19,0.14239155212241314,2.1428571428571428,0,{"$f":"IF(OR(DM64=0,DL65<0,DH65=0),0,DL65)","v":0},0,null,0,0,0,null,0,1000,-2.0524485439690505E-2,1.7803246133569244,0,0,null,null,null,null,0,19,5.841836649102883E-3,2.1428571428571428,0,0,0,null,0,0,0,null,0,1000,-0.63985185463563643,4.7405639910444197,0,0,null,null,null,null,0,19,7.3714468709732361E-2,2.1428571428571428,0,0,0,null,0,0,0,null,0,1000,-0.22274664318928189,4.0176050810036505,0,0,null,null,null,null,0,19,0.24941014565488295,2.1428571428571428,0,0,0,null,0,0,0,null,0,1000,-0.42931201336118974,3.4488781813957443,0,0,null,null,null,null,0,19,0.53907670934476903,2.1428571428571428,0,0,0,null,0,0,0,null,0,1000,-0.67798773441374705,2.0776553076423978,0,0,null,null,null,null,0,19,2.2346970745958679,2.1428571428571428,0,0,0,null,0,0,0,null,0,1000,-1.2111183622044064,0.89176044219119288,0,0,null,null,null,null,0,19,1.3485804367875329,2.1428571428571428,0,0,0,null,0,0,0,null,0,1000,0.86860397370634179,0.63881660785742689,0,0,null,null,null,null,0,19,-0.2690656177595776,2.1428571428571428,0,0,0,null,0,0,0,null,0,1000,0.42216305424417805,1.305820505189432,0,0,null,null,null,null,0,19,1.6682123946737926,2.1428571428571428,0,0,0,null,0,0,0,null,0,1000,-1.1521311806759563E-2,2.3254783369886058,0,0,null,null,null,null,0,19,1.0348783160021142,2.1428571428571428,0,0,0,null,0,0,0,null,0,1000,-0.703849582767749,0.67311571120174796,0,0,null,null,null,null,0,19,1.6455844597290037,2.1428571428571428,0,0,0,null,0,0,0,null,0,1000,-1.4022988573116077,1.2051675013402854,0,0,null,null,null,null,0,19,0.78593325197041697,2.1428571428571428,0,0,0,null,0,0,0,null,0,1000,0.17071322069958014,1.6559437582075418,0,0,null,null,null,null,0,19,-1.64709397543805,2.1428571428571428,0,0,0,null,0,0,0,null,0,1000,0.6007396111001404,4.8276793263720412,0,0,null,null,null,null,0,19,-0.97119478379051749,2.1428571428571428,0,0,0,null,0,0,0,null,0,1000,-1.313539620729492,1.407308821623082,0,0,null,null,null,null,0,19,0.15925940499218033,2.1428571428571428,0,0,0,null,0,0,0,null,0,1000,0.57761774054219028,1.3856171386890894,0,0,null,null,null,null,0,19,-0.70725042210237266,2.1428571428571428,0,0,0,null,0,0,0,null,0,1000,-0.98599615509003047,0.89093356311189076,0,0,null,null,null,null,0,19,-3.4574149778941743E-3,2.1428571428571428,0,0,0,null,0,0,0,null,0,1000,-1.3964068357683155,1.8414296197047553,0,0,null,null,null,null,0,19,0.25957858125459227,2.1428571428571428,0,0,0,null,0,0,0,null,0,1000,-0.41571694425982381,2.8983498970137593,0,0,null,null,null,null,0,19,1.0303980680473463,2.1428571428571428,0,0,0,null,0,0,0,null,0,1000,0.82689872198554959,4.1446071591616764,0,0,null,null,null,null,0,19,5.0057250035740283E-2,2.1428571428571428,0,0,0,null,0,0,0,null,0,1000,0.44411854643817772,2.0902572165557971,0,0,null,null,null,null,0,19,1.0417644096100718,2.1428571428571428,0,0,0,null,0,0,0,null,0,1000,-0.50177465412476063,3.6688744351796827,0,0,null,null,null,null,0,19,0.65611402577770572,2.1428571428571428,0,0,0,null,0,0,0,null,0,1000,-1.654069895852347,3.1004781854421775,0,0,null,null,null,null,0,19,2.6681660089707893,2.1428571428571428,0,0,0,null,0,0,0,null,0,1000,-0.71841190930633059,2.8616235740260585,0,0,null,null,null,null,0,19,0.63891003887911568,2.1428571428571428,0,0,0,null,0,0,0,null,0,1000,0.41114929422444463,4.2222357310146457,0,0,null,null,null,null,0,19,9.056882983942828E-2,2.1428571428571428,0,0,0,null,0,0,0,null,0,1000,1.6489545559494889,3.5938117645004306,0,0,null,null,null,null,0,19,0.56256422784822924,2.1428571428571428,0,0,0,null,0,0,0,null,0,1000,-0.17955744961666259,1.9772845393406486,0,0,null,null,null,null,0,19,0.32684374407989009,2.1428571428571428,0,0,0,null,0,0,0,null,0,1000,0.89705916942293595,2.6565129563792924,0,0,null,null,null,null,0,19,5.114916290980754E-3,2.1428571428571428,0,0,0,null,0,0,0,null,0,1000,-0.30208752505247455,1.6127031489951846,0,0,null,null,null,null,0,19,-0.86162894313788896,2.1428571428571428,0,0,0,null,0,0,0,null,0,1000,-0.1757136099124241,2.0649933614038467,0,0,null,null,null,null,0,19,0.62226804554931803,2.1428571428571428,0,0,0,null,0,0,0,null,0,1000,0.38516298842960384,1.4586247061957975,0,0,null,null,null,null,0,19,-0.25322045251491843,2.1428571428571428,0,0,0,null,0,0,0,null,0,1000,0.27886622270066419,1.4525305027115758,0,0,null,null,null,null,0,19,-3.9414819837184645E-2,2.1428571428571428,0,0,0,null,0,0,0,null,0,1000,-8.2863093103711788E-2,1.0894945102704643,0,0,null,null,null,null,0,{"$f":"AEK64+$A$28/$D$12","v":19},{"$f":"NORMINV((RAND()),0,1)","v":1.3057933301665945},2.1428571428571428,{"$f":"IF(AEN64<=0,0,AEN64-AEM65+$D$4*(AEN64-AEM65)*SQRT($D$13)*NORMINV((RAND()),0,1))","v":0},{"$f":"IF(OR(AEO64=0,AEN65<0,AEJ65=0),0,AEN65)","v":0},0,{"$f":"IF(AEJ65>0,IF(AND(AEO65=0,AEO64>0),AEJ65,\" \"))","v":false},0,0,0,{"$f":"IF(AEU64=\"Abandon\",0,IF(AEJ65>0,IF(AND(AEP65>0,AER65=0),\"Abandon\",\" \"),\" \"))","v":" "},0,1000,{"$f":"NORMINV((RAND()),0,1)","v":0.2040566423090896},{"$f":"IF(AEO64>0,IF((AEY64+$D$7*$D$9*AEX65*SQRT($D$13))<0,0,(AEY64+$D$7*$D$9*AEX65*SQRT($D$13))),IF(AEY64*EXP((($D$8-$D$1)-(1/2)*$D$9^2)*$D$13+$D$9*SQRT($D$13)*AEX65)<0,0,AEY64*EXP((($D$8-$D$1)-(1/2)*$D$9^2)*$D$13+$D$9*SQRT($D$13)*AEX65)))","v":1.1355327752514659},0,0,null,{"$f":"IF(AEO65>0,IF(AEW65<=$D$10*$D$13*1000,\"Failure\",\" \"),\" \")","v":" "},{"$f":"IF(AFD64>0,\" \",IF(AFC65=\"Failure\",AEJ65,))","v":0},null,0,{"$f":"AEK65","v":19},{"$f":"AEL65","v":1.3057933301665945},2.1428571428571428,{"$f":"AEN65","v":0},{"$f":"AEO65","v":0},0,null,0,0,0,null,0,1000,{"$f":"AEX65","v":0.2040566423090896},{"$f":"AEY65","v":1.1355327752514659},0,0,null,null,null,null,0,19,1.3057933301665945,2.1428571428571428,0,0,0,null,0,0,0,null,0,1000,0.2040566423090896,1.1355327752514659,0,0,null,null,null,null,0,19,1.3057933301665945,2.1428571428571428,0,0,0,null,0,0,0,null,0,1000,0.2040566423090896,1.1355327752514659,0,0,null,null,null,null,0,19,1.3057933301665945,2.1428571428571428,0,0,0,null,0,0,0,null,0,1000,0.2040566423090896,1.1355327752514659,0,0,null,null,null,null,0,19,1.3057933301665945,2.1428571428571428,0,0,0,null,0,0,0,null,0,1000,0.2040566423090896,1.1355327752514659,0,0,null,null,null,null,0,19,1.3057933301665945,2.1428571428571428,0,0,0,null,0,0,0,null,0,1000,0.2040566423090896,1.1355327752514659,0,0,null,null,null,null,0,19,1.3057933301665945,2.1428571428571428,0,0,0,null,0,0,0,null,0,1000,0.2040566423090896,1.1355327752514659,0,0,null,null,null,null,0,19,1.3057933301665945,2.1428571428571428,0,0,0,null,0,0,0,null,0,1000,0.2040566423090896,1.1355327752514659,0,0,null,null,null,null,0,19,1.3057933301665945,2.1428571428571428,0,0,0,null,0,0,0,null,0,1000,0.2040566423090896,1.1355327752514659,0,0,null,null,null,null,0,19,1.3057933301665945,2.1428571428571428,0,0,0,null,0,0,0,null,0,1000,0.2040566423090896,1.1355327752514659,0,0,null,null,null,null,0,19,1.3057933301665945,2.1428571428571428,0,0,0,null,0,0,0,null,0,1000,0.2040566423090896,1.1355327752514659,0,0,null,null,null,null,0,19,1.3057933301665945,2.1428571428571428,0,0,0,null,0,0,0,null,0,1000,0.2040566423090896,1.1355327752514659,0,0,null,null,null,null,0,19,1.3057933301665945,2.1428571428571428,0,0,0,null,0,0,0,null,0,1000,0.2040566423090896,1.1355327752514659,0,0,null,null,null,null,0,19,1.3057933301665945,2.1428571428571428,0,0,0,null,0,0,0,null,0,1000,0.2040566423090896,1.1355327752514659,0,0,null,null,null,null,0,19,1.3057933301665945,2.1428571428571428,0,0,0,null,0,0,0,null,0,1000,0.2040566423090896,1.1355327752514659,0,0,null,null,null,null,0,19,1.3057933301665945,2.1428571428571428,0,0,0,null,0,0,0,null,0,1000,0.2040566423090896,1.1355327752514659,0,0,null,null,null,null,0,19,1.3057933301665945,2.1428571428571428,0,0,0,null,0,0,0,null,0,1000,0.2040566423090896,1.1355327752514659,0,0,null,null,null,null,0,19,1.3057933301665945,2.1428571428571428,0,0,0,null,0,0,0,null,0,1000,0.2040566423090896,1.1355327752514659,0,0,null,null,null,null,0,19,1.3057933301665945,2.1428571428571428,0,0,0,null,0,0,0,null,0,1000,0.2040566423090896,1.1355327752514659,0,0,null,null,null,null,0,19,1.3057933301665945,2.1428571428571428,0,0,0,null,0,0,0,null,0,1000,0.2040566423090896,1.1355327752514659,0,0,null,null,null,null,0,19,1.3057933301665945,2.1428571428571428,0,0,0,null,0,0,0,null,0,1000,0.2040566423090896,1.1355327752514659,0,0,null,null,null,null,0,19,1.3057933301665945,2.1428571428571428,0,0,0,null,0,0,0,null,0,1000,0.2040566423090896,1.1355327752514659,0,0,null,null,null,null,0,19,1.3057933301665945,2.1428571428571428,0,0,0,null,0,0,0,null,0,1000,0.2040566423090896,1.1355327752514659,0,0,null,null,null,null,0,19,1.3057933301665945,2.1428571428571428,0,0,0,null,0,0,0,null,0,1000,0.2040566423090896,1.1355327752514659,0,0,null,null,null,null,0,19,1.3057933301665945,2.1428571428571428,0,0,0,null,0,0,0,null,0,1000,0.2040566423090896,1.1355327752514659,0,0,null,null,null,null,0,19,1.3057933301665945,2.1428571428571428,0,0,0,null,0,0,0,null,0,1000,0.2040566423090896,1.1355327752514659,0,0,null,null,null,null,0,19,1.3057933301665945,2.1428571428571428,0,0,0,null,0,0,0,null,0,1000,0.2040566423090896,1.1355327752514659,0,0,null,null,null,null,0,19,1.3057933301665945,2.1428571428571428,0,0,0,null,0,0,0,null,0,1000,0.2040566423090896,1.1355327752514659,0,0,null,null,null,null,0,19,1.3057933301665945,2.1428571428571428,0,0,0,null,0,0,0,null,0,1000,0.2040566423090896,1.1355327752514659,0,0,null,null,null,null,0,19,1.3057933301665945,2.1428571428571428,0,0,0,null,0,0,0,null,0,1000,0.2040566423090896,1.1355327752514659,0,0,null,null,null,null,0,19,1.3057933301665945,2.1428571428571428,0,0,0,null,0,0,0,null,0,1000,0.2040566423090896,1.1355327752514659,0,0,null,null,null,null,0,19,1.3057933301665945,2.1428571428571428,0,0,0,null,0,0,0,null,0,1000,0.2040566423090896,1.1355327752514659,0,0,null,null,null,null,0,19,1.3057933301665945,2.1428571428571428,0,0,0,null,0,0,0,null,0,1000,0.2040566423090896,1.1355327752514659,0,0,null,null,null,null,0,19,1.3057933301665945,2.1428571428571428,0,0,0,null,0,0,0,null,0,1000,0.2040566423090896,1.1355327752514659,0,0,null,null,null,null,0,19,1.3057933301665945,2.1428571428571428,0,0,0,null,0,0,0,null,0,1000,0.2040566423090896,1.1355327752514659,0,0,null,null,null,null,0,19,1.3057933301665945,2.1428571428571428,0,0,0,null,0,0,0,null,0,1000,0.2040566423090896,1.1355327752514659,0,0,null,null,null,null,0,19,1.3057933301665945,2.1428571428571428,0,0,0,null,0,0,0,null,0,1000,0.2040566423090896,1.1355327752514659,0,0,null,null,null,null,0,19,1.3057933301665945,2.1428571428571428,0,0,0,null,0,0,0,null,0,1000,0.2040566423090896,1.1355327752514659,0,0,null,null,null,null,0,19,1.3057933301665945,2.1428571428571428,0,0,0,null,0,0,0,null,0,1000,0.2040566423090896,1.1355327752514659,0,0,null,null,null,null,0,19,1.3057933301665945,2.1428571428571428,0,0,0,null,0,0,0,null,0,1000,0.2040566423090896,1.1355327752514659,0,0,null,null,null,null,0,19,1.3057933301665945,2.1428571428571428,0,0,0,null,0,0,0,null,0,1000,0.2040566423090896,1.1355327752514659,0,0,null,null,null,null,0,19,1.3057933301665945,2.1428571428571428,0,0,0,null,0,0,0,null,0,1000,0.2040566423090896,1.1355327752514659,0,0,null,null,null,0,19,0,0,0,null,null,0,0,37,{"$f":"+AER65","v":0},null,{"$f":"+AEP65","v":0},{"$f":"+AFA65","v":0}]
[0,21.5,-1.4475624088830388,2.1428571428571428,0,0,0,null,0,0,0,null,0,1000,-1.3179353521942814,2.7294777244760313,0,0,0,null,null,null,0,21.5,-0.32323531745818518,2.1428571428571428,0,0,0,null,0,0,0,null,0,1000,1.0759075095183068,9.7468603285536215,0,0,null,null,null,null,null,0,21.5,0.53372904574875968,2.1428571428571428,0,0,0,null,0,0,0,null,0,1000,-2.6973870182755995E-2,4.5433625389465497,0,0,null,null,null,null,0,21.5,-0.40139577681864902,2.1428571428571428,0,0,0,null,0,0,0,null,0,1000,-1.4976777558534089,0.67912021642350962,0,0,null,null,null,null,0,21.5,-2.0449806943964854,2.1428571428571428,0,0,0,null,0,0,0,null,0,1000,-0.85952321269860432,0.90125138581614828,0,0,null,null,null,null,0,21.5,-0.66021825112043697,2.1428571428571428,0,0,0,null,0,0,0,null,0,1000,1.431099861290674,3.1936434333093691,0,0,null,null,null,null,0,21.5,0.50425014238990273,2.1428571428571428,0,0,0,null,0,0,0,null,0,1000,0.95269033921413171,5.1462099053518937,0,0,null,null,null,null,0,21.5,-1.0372958925223268,2.1428571428571428,0,0,0,null,0,0,0,null,0,1000,-0.82670565286008424,3.0076736582531942,0,0,null,null,null,null,0,21.5,-1.2227368425968996,2.1428571428571428,0,0,0,null,0,0,0,null,0,1000,-0.36388177989292525,3.913856250405066,0,0,null,null,null,null,0,21.5,3.9329969820049798E-2,2.1428571428571428,0,0,0,null,0,0,0,null,0,1000,-1.91524546159284,1.6449502533774667,0,0,null,null,null,null,0,21.5,0.41843031964958283,2.1428571428571428,0,{"$f":"IF(OR(HS69=0,HR70<0,HN70=0),0,HR70)","v":0},0,null,0,0,0,null,0,1000,0.89460312140495468,1.3203443143995592,0,0,null,null,null,null,0,21.5,2.0817076991442103,2.1428571428571428,0,0,0,null,0,0,0,null,0,1000,0.51729522970469077,0.88395063325912149,0,0,null,null,null,null,0,21.5,-0.89309084191561594,2.1428571428571428,0,0,0,null,0,0,0,null,0,1000,0.43192669732550121,1.0953347374841147,0,0,null,null,null,null,0,21.5,-0.38137873867608835,2.1428571428571428,0,0,0,null,0,0,0,null,0,1000,1.4386198573006175,3.1855742721677229,0,0,null,null,null,null,0,21.5,-6.3797064995272101E-2,2.1428571428571428,0,0,0,null,0,0,0,null,0,1000,-1.0667998305846762,0.36394130499350069,0,0,null,null,null,null,0,21.5,-8.5582151497650319E-2,2.1428571428571428,0,0,0,null,0,0,0,null,0,1000,1.3635815531688942,2.3630610945100305,0,0,null,null,null,null,0,21.5,9.717786143771677E-2,2.1428571428571428,0,0,0,null,0,0,0,null,0,1000,0.49787032967360051,1.5346970501870465,0,0,null,null,null,null,0,21.5,-1.1206385565059367,2.1428571428571428,0,0,0,null,0,0,0,null,0,1000,-0.20844637966191734,5.63645206534013,0,0,null,null,null,null,0,21.5,1.1726544504223781,2.1428571428571428,0,0,0,null,0,0,0,null,0,1000,9.5214470177475349E-3,1.5734752508957637,0,0,null,null,null,null,0,21.5,0.25386673439427992,2.1428571428571428,0,0,0,null,0,0,0,null,0,1000,-0.89461394005732864,1.8639518753505346,0,0,null,null,null,null,0,21.5,1.2181166409017514,2.1428571428571428,0,0,0,null,0,0,0,null,0,1000,-0.91177616284868701,0.67967649662139373,0,0,null,null,null,null,0,21.5,-7.34638895055683E-2,2.1428571428571428,0,0,0,null,0,0,0,null,0,1000,1.1385079400632399,3.7654436709539105,0,0,null,null,null,null,0,21.5,0.6339639471979106,2.1428571428571428,0,0,0,null,0,0,0,null,0,1000,0.2988548001551567,2.2206415247161679,0,0,null,null,null,null,0,21.5,-0.6466638657148277,2.1428571428571428,0,0,0,null,0,0,0,null,0,1000,0.7082893207360369,5.089428412019978,0,0,null,null,null,null,0,21.5,-0.73020552975137576,2.1428571428571428,0,0,0,null,0,0,0,null,0,1000,0.12186006131856866,3.4519499632834436,0,0,null,null,null,null,0,21.5,-1.4914561716869834,2.1428571428571428,0,0,0,null,0,0,0,null,0,1000,-0.38165741056515684,6.3389087200570486,0,0,null,null,null,null,0,21.5,-0.38771676936071503,2.1428571428571428,0,0,0,null,0,0,0,null,0,1000,-0.51821856318161896,4.5067644176633372,0,0,null,null,null,null,0,21.5,0.69510858719871271,2.1428571428571428,0,0,0,null,0,0,0,null,0,1000,0.66943447992625005,4.4617930653435955,0,0,null,null,null,null,0,21.5,6.1984317779693841E-2,2.1428571428571428,0,0,0,null,0,0,0,null,0,1000,-0.79621411841202372,2.7332189177006248,0,0,null,null,null,null,0,21.5,-2.0540545494230265,2.1428571428571428,0,0,0,null,0,0,0,null,0,1000,-0.45663548025105993,3.1625639426171097,0,0,null,null,null,null,0,21.5,-0.66386171113205894,2.1428571428571428,0,0,0,null,0,0,0,null,0,1000,1.0491458272287992,3.3665808573098319,0,0,null,null,null,null,0,21.5,0.68387254928075603,2.1428571428571428,0,0,0,null,0,0,0,null,0,1000,1.9852052390356199,3.4605779455327701,0,0,null,null,null,null,0,21.5,-0.33711919120554401,2.1428571428571428,0,0,0,null,0,0,0,null,0,1000,-0.63114759743542981,1.3573885451038874,0,0,null,null,null,null,0,21.5,-1.7045611763943698,2.1428571428571428,0,0,0,null,0,0,0,null,0,1000,0.92053598809813952,1.9665499164887525,0,0,null,null,null,null,0,21.5,0.1903363296159033,2.1428571428571428,0,0,0,null,0,0,0,null,0,1000,-0.23903863327526959,1.5485592645175361,0,0,null,null,null,null,0,21.5,6.8465466567721942E-2,2.1428571428571428,0,0,0,null,0,0,0,null,0,1000,-0.3529279302382905,1.2974026093221915,0,0,null,null,null,null,0,21.5,1.157386447064765,2.1428571428571428,0,0,0,null,0,0,0,null,0,1000,3.8203674444800564E-2,1.4779227937632253,0,0,null,null,null,null,0,21.5,-0.12947963865938783,2.1428571428571428,0,0,0,null,0,0,0,null,0,1000,0.45635437360699616,1.2370801379836633,0,0,null,null,null,null,0,21.5,0.2108153238604045,2.1428571428571428,0,0,0,null,0,0,0,null,0,1000,0.18047181006358781,0.82486391584420449,0,0,null,null,null,null,0,21.5,-0.1584809456738645,2.1428571428571428,0,0,0,null,0,0,0,null,0,1000,-1.8541128542967866E-2,0.90377911788230103,0,0,null,null,null,null,0,21.5,0.24971109853732318,2.1428571428571428,0,0,0,null,0,0,0,null,0,1000,-0.36900369418126949,1.0976742985471024,0,0,null,null,null,null,0,21.5,1.1199299328750807,2.1428571428571428,0,0,0,null,0,0,0,null,0,1000,1.0896191698533535,1.0961685859458539,0,0,null,null,null,null,0,{"$f":"AIQ69+$A$28/$D$12","v":21.5},{"$f":"NORMINV((RAND()),0,1)","v":1.3711882836933915},2.1428571428571428,{"$f":"IF(AIT69<=0,0,AIT69-AIS70+$D$4*(AIT69-AIS70)*SQRT($D$13)*NORMINV((RAND()),0,1))","v":0},0,0,{"$f":"IF(AIP70>0,IF(AND(AIU70=0,AIU69>0),AIP70,\" \"))","v":false},0,0,0,{"$f":"IF(AJA69=\"Abandon\",0,IF(AIP70>0,IF(AND(AIV70>0,AIX70=0),\"Abandon\",\" \"),\" \"))","v":" "},0,1000,{"$f":"NORMINV((RAND()),0,1)","v":-1.0764842791448608},{"$f":"IF(AIU69>0,IF((AJE69+$D$7*$D$9*AJD70*SQRT($D$13))<0,0,(AJE69+$D$7*$D$9*AJD70*SQRT($D$13))),IF(AJE69*EXP((($D$8-$D$1)-(1/2)*$D$9^2)*$D$13+$D$9*SQRT($D$13)*AJD70)<0,0,AJE69*EXP((($D$8-$D$1)-(1/2)*$D$9^2)*$D$13+$D$9*SQRT($D$13)*AJD70)))","v":0.8020061865302297},0,0,null,{"$f":"IF(AIU70>0,IF(AJC70<=$D$10*$D$13*1000,\"Failure\",\" \"),\" \")","v":" "},{"$f":"IF(AJJ69>0,\" \",IF(AJI70=\"Failure\",AIP70,))","v":0},null,0,{"$f":"AIQ70","v":21.5},{"$f":"AIR70","v":1.3711882836933915},2.1428571428571428,{"$f":"AIT70","v":0},{"$f":"IF(OR(AJQ69=0,AJP70<0,AJL70=0),0,AJP70)","v":0},0,null,0,0,0,null,0,1000,{"$f":"AJD70","v":-1.0764842791448608},{"$f":"AJE70","v":0.8020061865302297},0,0,null,null,null,null,0,21.5,1.3711882836933915,2.1428571428571428,0,0,0,null,0,0,0,null,0,1000,-1.0764842791448608,0.8020061865302297,0,0,null,null,null,null,0,21.5,1.3711882836933915,2.1428571428571428,0,0,0,null,0,0,0,null,0,1000,-1.0764842791448608,0.8020061865302297,0,0,null,null,null,null,0,21.5,1.3711882836933915,2.1428571428571428,0,0,0,null,0,0,0,null,0,1000,-1.0764842791448608,0.8020061865302297,0,0,null,null,null,null,0,21.5,1.3711882836933915,2.1428571428571428,0,0,0,null,0,0,0,null,0,1000,-1.0764842791448608,0.8020061865302297,0,0,null,null,null,null,0,21.5,1.3711882836933915,2.1428571428571428,0,0,0,null,0,0,0,null,0,1000,-1.0764842791448608,0.8020061865302297,0,0,null,null,null,null,0,21.5,1.3711882836933915,2.1428571428571428,0,0,0,null,0,0,0,null,0,1000,-1.0764842791448608,0.8020061865302297,0,0,null,null,null,null,0,21.5,1.3711882836933915,2.1428571428571428,0,0,0,null,0,0,0,null,0,1000,-1.0764842791448608,0.8020061865302297,0,0,null,null,null,null,0,21.5,1.3711882836933915,2.1428571428571428,0,0,0,null,0,0,0,null,0,1000,-1.0764842791448608,0.8020061865302297,0,0,null,null,null,null,0,21.5,1.3711882836933915,2.1428571428571428,0,0,0,null,0,0,0,null,0,1000,-1.0764842791448608,0.8020061865302297,0,0,null,null,null,null,0,21.5,1.3711882836933915,2.1428571428571428,0,0,0,null,0,0,0,null,0,1000,-1.0764842791448608,0.8020061865302297,0,0,null,null,null,null,0,21.5,1.3711882836933915,2.1428571428571428,0,0,0,null,0,0,0,null,0,1000,-1.0764842791448608,0.8020061865302297,0,0,null,null,null,null,0,21.5,1.3711882836933915,2.1428571428571428,0,0,0,null,0,0,0,null,0,1000,-1.0764842791448608,0.8020061865302297,0,0,null,null,null,null,0,21.5,1.3711882836933915,2.1428571428571428,0,0,0,null,0,0,0,null,0,1000,-1.0764842791448608,0.8020061865302297,0,0,null,null,null,null,0,21.5,1.3711882836933915,2.1428571428571428,0,0,0,null,0,0,0,null,0,1000,-1.0764842791448608,0.8020061865302297,0,0,null,null,null,null,0,21.5,1.3711882836933915,2.1428571428571428,0,0,0,null,0,0,0,null,0,1000,-1.0764842791448608,0.8020061865302297,0,0,null,null,null,null,0,21.5,1.3711882836933915,2.1428571428571428,0,0,0,null,0,0,0,null,0,1000,-1.0764842791448608,0.8020061865302297,0,0,null,null,null,null,0,21.5,1.3711882836933915,2.1428571428571428,0,0,0,null,0,0,0,null,0,1000,-1.0764842791448608,0.8020061865302297,0,0,null,null,null,null,0,21.5,1.3711882836933915,2.1428571428571428,0,0,0,null,0,0,0,null,0,1000,-1.0764842791448608,0.8020061865302297,0,0,null,null,null,null,0,21.5,1.3711882836933915,2.1428571428571428,0,0,0,null,0,0,0,null,0,1000,-1.0764842791448608,0.8020061865302297,0,0,null,null,null,null,0,21.5,1.3711882836933915,2.1428571428571428,0,0,0,null,0,0,0,null,0,1000,-1.0764842791448608,0.8020061865302297,0,0,null,null,null,null,0,21.5,1.3711882836933915,2.1428571428571428,0,0,0,null,0,0,0,null,0,1000,-1.0764842791448608,0.8020061865302297,0,0,null,null,null,null,0,21.5,1.3711882836933915,2.1428571428571428,0,0,0,null,0,0,0,null,0,1000,-1.0764842791448608,0.8020061865302297,0,0,null,null,null,null,0,21.5,1.3711882836933915,2.1428571428571428,0,0,0,null,0,0,0,null,0,1000,-1.0764842791448608,0.8020061865302297,0,0,null,null,null,null,0,21.5,1.3711882836933915,2.1428571428571428,0,0,0,null,0,0,0,null,0,1000,-1.0764842791448608,0.8020061865302297,0,0,null,null,null,null,0,21.5,1.3711882836933915,2.1428571428571428,0,0,0,null,0,0,0,null,0,1000,-1.0764842791448608,0.8020061865302297,0,0,null,null,null,null,0,21.5,1.3711882836933915,2.1428571428571428,0,0,0,null,0,0,0,null,0,1000,-1.0764842791448608,0.8020061865302297,0,0,null,null,null,null,0,21.5,1.3711882836933915,2.1428571428571428,0,0,0,null,0,0,0,null,0,1000,-1.0764842791448608,0.8020061865302297,0,0,null,null,null,null,0,21.5,1.3711882836933915,2.1428571428571428,0,0,0,null,0,0,0,null,0,1000,-1.0764842791448608,0.8020061865302297,0,0,null,null,null,null,0,21.5,1.3711882836933915,2.1428571428571428,0,0,0,null,0,0,0,null,0,1000,-1.0764842791448608,0.8020061865302297,0,0,null,null,null,null,0,21.5,1.3711882836933915,2.1428571428571428,0,0,0,null,0,0,0,null,0,1000,-1.0764842791448608,0.8020061865302297,0,0,null,null,null,null,0,21.5,1.3711882836933915,2.1428571428571428,0,0,0,null,0,0,0,null,0,1000,-1.0764842791448608,0.8020061865302297,0,0,null,null,null,null,0,21.5,1.3711882836933915,2.1428571428571428,0,0,0,null,0,0,0,null,0,1000,-1.0764842791448608,0.8020061865302297,0,0,null,null,null,null,0,21.5,1.3711882836933915,2.1428571428571428,0,0,0,null,0,0,0,null,0,1000,-1.0764842791448608,0.8020061865302297,0,0,null,null,null,null,0,21.5,1.3711882836933915,2.1428571428571428,0,0,0,null,0,0,0,null,0,1000,-1.0764842791448608,0.8020061865302297,0,0,null,null,null,null,0,21.5,1.3711882836933915,2.1428571428571428,0,0,0,null,0,0,0,null,0,1000,-1.0764842791448608,0.8020061865302297,0,0,null,null,null,null,0,21.5,1.3711882836933915,2.1428571428571428,0,0,0,null,0,0,0,null,0,1000,-1.0764842791448608,0.8020061865302297,0,0,null,null,null,0,21.5,0,0,0,null,null,0,0,42,{"$f":"+AIX70","v":0},null,{"$f":"+AIV70","v":0},{"$f":"+AJG70","v":0}]
[0,24.5,-0.61532216206808055,2.1428571428571428,0,0,0,null,0,0,0,null,0,1000,0.24762159271044457,3.8993078630960341,0,0,0,null,null,null,0,24.5,6.8624899571852624E-2,2.1428571428571428,0,0,0,null,0,0,0,null,0,1000,-1.1839724961849016,6.89975197034072,0,0,null,null,null,null,null,0,24.5,0.70007111990122695,2.1428571428571428,0,0,0,null,0,0,0,null,0,1000,0.83339081489451106,2.7740767024587103,0,0,null,null,null,null,0,24.5,-1.179007870321686,2.1428571428571428,0,0,0,null,0,0,0,null,0,1000,1.8934434879079922,1.253634980848372,0,0,null,null,null,null,0,24.5,-1.9069187657160043,2.1428571428571428,0,0,0,null,0,0,0,null,0,1000,1.2362871406557625,1.1058570541920805,0,0,null,null,null,null,0,24.5,7.4892150055880555E-2,2.1428571428571428,0,0,0,null,0,0,0,null,0,1000,1.1622542202658632,2.6647784125042855,0,0,null,null,null,null,0,24.5,1.719855881000222,2.1428571428571428,0,0,0,null,0,0,0,null,0,1000,-1.2868490708240385,1.8910517243594345,0,0,null,null,null,null,0,24.5,-1.6621768977282902,2.1428571428571428,0,0,0,null,0,0,0,null,0,1000,1.1981024752667271,4.3571516128412044,0,0,null,null,null,null,0,24.5,1.9792881566191503,2.1428571428571428,0,0,0,null,0,0,0,null,0,1000,1.1268657587824071,5.2141499001375333,0,0,null,null,null,null,0,24.5,1.3386860177898805,2.1428571428571428,0,0,0,null,0,0,0,null,0,1000,0.30483384639387223,2.2934412893176424,0,0,null,null,null,null,0,24.5,-2.6044765181252574,2.1428571428571428,0,0,0,null,0,0,0,null,0,1000,0.56279625669142119,1.3301766569970082,0,0,null,null,null,null,0,24.5,0.81351682253470503,2.1428571428571428,0,0,0,null,0,0,0,null,0,1000,0.52799861577806029,0.80410739542449405,0,0,null,null,null,null,0,24.5,2.1234907327333721,2.1428571428571428,0,0,0,null,0,0,0,null,0,1000,1.4369497321973634,1.5395343920502895,0,0,null,null,null,null,0,24.5,-0.51654468912244722,2.1428571428571428,0,0,0,null,0,0,0,null,0,1000,1.3942870863395478,4.6347005543224418,0,0,null,null,null,null,0,24.5,0.74780708199588863,2.1428571428571428,0,0,0,null,0,0,0,null,0,1000,-0.90613003669604286,0.44967382491333913,0,0,null,null,null,null,0,24.5,1.1894006139093911,2.1428571428571428,0,0,0,null,0,0,0,null,0,1000,2.0890407669398448,2.1718941635033806,0,0,null,null,null,null,0,24.5,1.2128648316038924,2.1428571428571428,0,{"$f":"IF(OR(MU75=0,MT76<0,MP76=0),0,MT76)","v":0},0,null,0,0,0,null,0,1000,0.8302271817705198,1.0255067357359398,0,0,null,null,null,null,0,24.5,1.1756980911476398,2.1428571428571428,0,0,0,null,0,0,0,null,0,1000,0.37360124609647732,7.4298560166402403,0,0,null,null,null,null,0,24.5,0.24772580754847112,2.1428571428571428,0,0,0,null,0,0,0,null,0,1000,-0.21761732383280338,2.8056569106397862,0,0,null,null,null,null,0,24.5,0.84086435949225458,2.1428571428571428,0,0,0,null,0,0,0,null,0,1000,-1.2541581856880875,2.0891262608194103,0,0,null,null,null,null,0,24.5,0.25877405271342785,2.1428571428571428,0,0,0,null,0,0,0,null,0,1000,-1.8755499874253843,0.82245402263897205,0,0,null,null,null,null,0,24.5,0.45224358728862768,2.1428571428571428,0,0,0,null,0,0,0,null,0,1000,1.1028968272241153,6.0022924420810169,0,0,null,null,null,null,0,24.5,-7.5990742383601373E-2,2.1428571428571428,0,0,0,null,0,0,0,null,0,1000,-1.1462227632677233,1.9257522479535392,0,0,null,null,null,null,0,24.5,-0.13294576624568766,2.1428571428571428,0,0,0,null,0,0,0,null,0,1000,0.91403875991785466,3.9054945779730894,0,0,null,null,null,null,0,24.5,-1.4781979871034381,2.1428571428571428,0,0,0,null,0,0,0,null,0,1000,0.77018640014854101,3.3360084293889112,0,0,null,null,null,null,0,24.5,1.7032600605685824,2.1428571428571428,0,0,0,null,0,0,0,null,0,1000,2.1800155484988979,9.9847731131235005,0,0,null,null,null,null,0,24.5,-1.4893543444889925,2.1428571428571428,0,0,0,null,0,0,0,null,0,1000,-0.9332473577239061,2.8502016807433459,0,0,null,null,null,null,0,24.5,1.6370375958442578,2.1428571428571428,0,0,0,null,0,0,0,null,0,1000,-1.0090278704849365,3.7940405973612963,0,0,null,null,null,null,0,24.5,-1.0692769454236639,2.1428571428571428,0,0,0,null,0,0,0,null,0,1000,-0.2136727564724708,3.1109105978372988,0,0,null,null,null,null,0,24.5,-0.98644605495020365,2.1428571428571428,0,0,0,null,0,0,0,null,0,1000,0.67854124482333134,2.0635294783036078,0,0,null,null,null,null,0,24.5,-0.66582409282320421,2.1428571428571428,0,0,0,null,0,0,0,null,0,1000,0.38492588577195835,4.5326790518448412,0,0,null,null,null,null,0,24.5,0.49667446335280879,2.1428571428571428,0,0,0,null,0,0,0,null,0,1000,-0.26303727308106933,3.8192167023491055,0,0,null,null,null,null,0,24.5,1.4013044772675753,2.1428571428571428,0,0,0,null,0,0,0,null,0,1000,-0.21650047869567182,1.2594537230004095,0,0,null,null,null,null,0,24.5,0.6902334795891929,2.1428571428571428,0,0,0,null,0,0,0,null,0,1000,-8.8697137539563084E-2,1.2974359689812056,0,0,null,null,null,null,0,24.5,-0.10998428244337306,2.1428571428571428,0,0,0,null,0,0,0,null,0,1000,1.0927972628788609,1.4422265203377354,0,0,null,null,null,null,0,24.5,1.6722813571224313,2.1428571428571428,0,0,0,null,0,0,0,null,0,1000,0.33227018565152067,0.93448210695956624,0,0,null,null,null,null,0,24.5,-0.89759322702482314,2.1428571428571428,0,0,0,null,0,0,0,null,0,1000,-0.76197044344542764,2.3383730798184827,0,0,null,null,null,null,0,24.5,1.5029516532811489,2.1428571428571428,0,0,0,null,0,0,0,null,0,1000,-0.61934420641721122,0.77269888719310331,0,0,null,null,null,null,0,24.5,0.47816844056695101,2.1428571428571428,0,0,0,null,0,0,0,null,0,1000,0.79984148254565257,1.0873513318454686,0,0,null,null,null,null,0,24.5,1.2339750845449318,2.1428571428571428,0,0,0,null,0,0,0,null,0,1000,-0.39912170474562048,1.1141587652672962,0,0,null,null,null,null,0,24.5,-0.56839716375144134,2.1428571428571428,0,0,0,null,0,0,0,null,0,1000,0.55105098532305063,0.83057464467544528,0,0,null,null,null,null,0,24.5,-0.70567486800620105,2.1428571428571428,0,0,0,null,0,0,0,null,0,1000,0.75911013238096858,1.8645758360159175,0,0,null,null,null,null,0,24.5,1.1578623945913169,2.1428571428571428,0,0,0,null,0,0,0,null,0,1000,-1.9973039559613937,0.93489101606358549,0,0,null,null,null,null,0,24.5,0.9508728023642502,2.1428571428571428,0,0,0,null,0,0,0,null,0,1000,-0.36059707258574492,0.75878860767266876,0,0,null,null,null,null,0,24.5,0.32034379006574304,2.1428571428571428,0,0,0,null,0,0,0,null,0,1000,-1.2187306671824036,0.4762405902113821,0,0,null,null,null,null,0,24.5,0.505912517159954,2.1428571428571428,0,0,0,null,0,0,0,null,0,1000,-0.20095214587373472,0.59210114248487333,0,0,null,null,null,null,0,24.5,-0.16204658811882455,2.1428571428571428,0,0,0,null,0,0,0,null,0,1000,-0.55859701036607623,0.67846143663000746,0,0,null,null,null,null,0,24.5,-1.186635605980221,2.1428571428571428,0,0,0,null,0,0,0,null,0,1000,-0.71359039934793245,0.45413981545003912,0,0,null,null,null,null,0,{"$f":"ANS75+$A$28/$D$12","v":24.5},{"$f":"NORMINV((RAND()),0,1)","v":0.4866216628555875},2.1428571428571428,{"$f":"IF(ANV75<=0,0,ANV75-ANU76+$D$4*(ANV75-ANU76)*SQRT($D$13)*NORMINV((RAND()),0,1))","v":0},{"$f":"IF(OR(ANW75=0,ANV76<0,ANR76=0),0,ANV76)","v":0},0,{"$f":"IF(ANR76>0,IF(AND(ANW76=0,ANW75>0),ANR76,\" \"))","v":false},0,0,0,{"$f":"IF(AOC75=\"Abandon\",0,IF(ANR76>0,IF(AND(ANX76>0,ANZ76=0),\"Abandon\",\" \"),\" \"))","v":" "},0,1000,{"$f":"NORMINV((RAND()),0,1)","v":-0.35894520697440169},{"$f":"IF(ANW75>0,IF((AOG75+$D$7*$D$9*AOF76*SQRT($D$13))<0,0,(AOG75+$D$7*$D$9*AOF76*SQRT($D$13))),IF(AOG75*EXP((($D$8-$D$1)-(1/2)*$D$9^2)*$D$13+$D$9*SQRT($D$13)*AOF76)<0,0,AOG75*EXP((($D$8-$D$1)-(1/2)*$D$9^2)*$D$13+$D$9*SQRT($D$13)*AOF76)))","v":0.47797699625646023},0,0,null,{"$f":"IF(ANW76>0,IF(AOE76<=$D$10*$D$13*1000,\"Failure\",\" \"),\" \")","v":" "},{"$f":"IF(AOL75>0,\" \",IF(AOK76=\"Failure\",ANR76,))","v":0},null,0,24.5,0.4866216628555875,2.1428571428571428,0,{"$f":"IF(OR(AOS75=0,AOR76<0,AON76=0),0,AOR76)","v":0},0,null,0,0,0,null,0,1000,{"$f":"AOF76","v":-0.35894520697440169},{"$f":"AOG76","v":0.47797699625646023},0,0,null,null,null,null,0,24.5,0.4866216628555875,2.1428571428571428,0,0,0,null,0,0,0,null,0,1000,-0.35894520697440169,0.47797699625646023,0,0,null,null,null,null,0,24.5,0.4866216628555875,2.1428571428571428,0,0,0,null,0,0,0,null,0,1000,-0.35894520697440169,0.47797699625646023,0,0,null,null,null,null,0,24.5,0.4866216628555875,2.1428571428571428,0,0,0,null,0,0,0,null,0,1000,-0.35894520697440169,0.47797699625646023,0,0,null,null,null,null,0,24.5,0.4866216628555875,2.1428571428571428,0,0,0,null,0,0,0,null,0,1000,-0.35894520697440169,0.47797699625646023,0,0,null,null,null,null,0,24.5,0.4866216628555875,2.1428571428571428,0,0,0,null,0,0,0,null,0,1000,-0.35894520697440169,0.47797699625646023,0,0,null,null,null,null,0,24.5,0.4866216628555875,2.1428571428571428,0,0,0,null,0,0,0,null,0,1000,-0.35894520697440169,0.47797699625646023,0,0,null,null,null,null,0,24.5,0.4866216628555875,2.1428571428571428,0,0,0,null,0,0,0,null,0,1000,-0.35894520697440169,0.47797699625646023,0,0,null,null,null,null,0,24.5,0.4866216628555875,2.1428571428571428,0,0,0,null,0,0,0,null,0,1000,-0.35894520697440169,0.47797699625646023,0,0,null,null,null,null,0,24.5,0.4866216628555875,2.1428571428571428,0,0,0,null,0,0,0,null,0,1000,-0.35894520697440169,0.47797699625646023,0,0,null,null,null,null,0,24.5,0.4866216628555875,2.1428571428571428,0,0,0,null,0,0,0,null,0,1000,-0.35894520697440169,0.47797699625646023,0,0,null,null,null,null,0,24.5,0.4866216628555875,2.1428571428571428,0,0,0,null,0,0,0,null,0,1000,-0.35894520697440169,0.47797699625646023,0,0,null,null,null,null,0,24.5,0.4866216628555875,2.1428571428571428,0,0,0,null,0,0,0,null,0,1000,-0.35894520697440169,0.47797699625646023,0,0,null,null,null,null,0,24.5,0.4866216628555875,2.1428571428571428,0,0,0,null,0,0,0,null,0,1000,-0.35894520697440169,0.47797699625646023,0,0,null,null,null,null,0,24.5,0.4866216628555875,2.1428571428571428,0,0,0,null,0,0,0,null,0,1000,-0.35894520697440169,0.47797699625646023,0,0,null,null,null,null,0,24.5,0.4866216628555875,2.1428571428571428,0,0,0,null,0,0,0,null,0,1000,-0.35894520697440169,0.47797699625646023,0,0,null,null,null,null,0,24.5,0.4866216628555875,2.1428571428571428,0,0,0,null,0,0,0,null,0,1000,-0.35894520697440169,0.47797699625646023,0,0,null,null,null,null,0,24.5,0.4866216628555875,2.1428571428571428,0,0,0,null,0,0,0,null,0,1000,-0.35894520697440169,0.47797699625646023,0,0,null,null,null,null,0,24.5,0.4866216628555875,2.1428571428571428,0,0,0,null,0,0,0,null,0,1000,-0.35894520697440169,0.47797699625646023,0,0,null,null,null,null,0,24.5,0.4866216628555875,2.1428571428571428,0,0,0,null,0,0,0,null,0,1000,-0.35894520697440169,0.47797699625646023,0,0,null,null,null,null,0,24.5,0.4866216628555875,2.1428571428571428,0,0,0,null,0,0,0,null,0,1000,-0.35894520697440169,0.47797699625646023,0,0,null,null,null,null,0,24.5,0.4866216628555875,2.1428571428571428,0,0,0,null,0,0,0,null,0,1000,-0.35894520697440169,0.47797699625646023,0,0,null,null,null,null,0,24.5,0.4866216628555875,2.1428571428571428,0,0,0,null,0,0,0,null,0,1000,-0.35894520697440169,0.47797699625646023,0,0,null,null,null,null,0,24.5,0.4866216628555875,2.1428571428571428,0,0,0,null,0,0,0,null,0,1000,-0.35894520697440169,0.47797699625646023,0,0,null,null,null,null,0,24.5,0.4866216628555875,2.1428571428571428,0,0,0,null,0,0,0,null,0,1000,-0.35894520697440169,0.47797699625646023,0,0,null,null,null,null,0,24.5,0.4866216628555875,2.1428571428571428,0,0,0,null,0,0,0,null,0,1000,-0.35894520697440169,0.47797699625646023,0,0,null,null,null,null,0,24.5,0.4866216628555875,2.1428571428571428,0,0,0,null,0,0,0,null,0,1000,-0.35894520697440169,0.47797699625646023,0,0,null,null,null,null,0,24.5,0.4866216628555875,2.1428571428571428,0,0,0,null,0,0,0,null,0,1000,-0.35894520697440169,0.47797699625646023,0,0,null,null,null,null,0,24.5,0.4866216628555875,2.1428571428571428,0,0,0,null,0,0,0,null,0,1000,-0.35894520697440169,0.47797699625646023,0,0,null,null,null,null,0,24.5,0.4866216628555875,2.1428571428571428,0,0,0,null,0,0,0,null,0,1000,-0.35894520697440169,0.47797699625646023,0,0,null,null,null,null,0,24.5,0.4866216628555875,2.1428571428571428,0,0,0,null,0,0,0,null,0,1000,-0.35894520697440169,0.47797699625646023,0,0,null,null,null,0,24.5,0,0,0,null,null,0,0,48,{"$f":"+ANZ76","v":0},null,{"$f":"+ANX76","v":0},{"$f":"+AOI76","v":0}]
[0,27,0.3924022461151625,2.1428571428571428,0,0,0,null,0,0,0,null,0,1000,6.3839634352601919E-3,2.7149515783584497,0,0,0,null,null,null,0,27,0.68637463503342488,2.1428571428571428,0,0,0,null,0,0,0,null,0,1000,0.28027955189625547,8.3129375943631025,0,0,null,null,null,null,null,0,27,-0.73555048036260884,2.1428571428571428,0,0,0,null,0,0,0,null,0,1000,-1.5698677175492279,1.9099481909747911,0,0,null,null,null,null,0,27,1.7893061926773834,2.1428571428571428,0,0,0,null,0,0,0,null,0,1000,7.4946414162292599E-2,1.201700967731117,0,0,null,null,null,null,0,27,0.79080543700824424,2.1428571428571428,0,0,0,null,0,0,0,null,0,1000,0.55672781021666118,1.9467239819481397,0,0,null,null,null,null,0,27,7.3944719013397317E-2,2.1428571428571428,0,0,0,null,0,0,0,null,0,1000,0.63034336038589989,4.0611825039756653,0,0,null,null,null,null,0,27,-2.1352769533477747,2.1428571428571428,0,0,0,null,0,0,0,null,0,1000,-0.90842634968699654,1.41932613729954,0,0,null,null,null,null,0,27,-9.5784974001021955E-2,2.1428571428571428,0,0,0,null,0,0,0,null,0,1000,0.72454036933480448,5.7205543315022256,0,0,null,null,null,null,0,27,-0.89250975190313286,2.1428571428571428,0,0,0,null,0,0,0,null,0,1000,-0.51938124840129118,4.4787957764451392,0,0,null,null,null,null,0,27,-0.4323583503637432,2.1428571428571428,0,0,0,null,0,0,0,null,0,1000,-0.59777805078170443,2.3903101364917467,0,0,null,null,null,null,0,27,0.28051859630816939,2.1428571428571428,0,0,0,null,0,0,0,null,0,1000,1.0955220077904921,1.8006954278262579,0,0,null,null,null,null,0,27,-0.26583255211876511,2.1428571428571428,0,0,0,null,0,0,0,null,0,1000,1.9343284407059034,1.2451160534695596,0,0,null,null,null,null,0,27,-1.0078625293104957,2.1428571428571428,0,0,0,null,0,0,0,null,0,1000,2.1721758109011731,1.7628168014145567,0,0,null,null,null,null,0,27,1.3581520360177732,2.1428571428571428,0,0,0,null,0,0,0,null,0,1000,-0.25800366518058648,4.9729661587384433,0,0,null,null,null,null,0,27,-0.878799600465759,2.1428571428571428,0,0,0,null,0,0,0,null,0,1000,-0.37557999827049415,0.75563500993585198,0,0,null,null,null,null,0,27,0.96856206466988126,2.1428571428571428,0,0,0,null,0,0,0,null,0,1000,-1.6988138701636299,1.3856610691141575,0,0,null,null,null,null,0,27,0.8195674817284051,2.1428571428571428,0,0,0,null,0,0,0,null,0,1000,-1.8033174257456754,0.75742913749978991,0,0,null,null,null,null,0,27,1.3886051634214061,2.1428571428571428,0,0,0,null,0,0,0,null,0,1000,1.8069867903865047,6.483013763629959,0,0,null,null,null,null,0,27,-0.37248962286167325,2.1428571428571428,0,0,0,null,0,0,0,null,0,1000,0.60322409117577369,2.5529607512821095,0,0,null,null,null,null,0,27,0.83773164440452008,2.1428571428571428,0,0,0,null,0,0,0,null,0,1000,-4.9310718726403413E-2,2.6210522144715704,0,0,null,null,null,null,0,27,0.46605338264046464,2.1428571428571428,0,0,0,null,0,0,0,null,0,1000,0.6258980221034367,1.1293133446856878,0,0,null,null,null,null,0,27,0.27487324120386269,2.1428571428571428,0,{"$f":"IF(OR(RA80=0,QZ81<0,QV81=0),0,QZ81)","v":0},0,null,0,0,0,null,0,1000,-0.457535095412133,9.9416385296707528,0,0,null,null,null,null,0,27,0.58015013561133366,2.1428571428571428,0,0,0,null,0,0,0,null,0,1000,2.0283491396023599,2.1685224347769738,0,0,null,null,null,null,0,27,-0.7223526803227952,2.1428571428571428,0,0,0,null,0,0,0,null,0,1000,1.4793742453416561,8.8063298935315988,0,0,null,null,null,null,0,27,-0.15960483266895178,2.1428571428571428,0,0,0,null,0,0,0,null,0,1000,1.3420251562652268,3.4470005515244257,0,0,null,null,null,null,0,27,-3.6361297040637494E-2,2.1428571428571428,0,0,0,null,0,0,0,null,0,1000,0.53338682228195478,13.225812949777614,0,0,null,null,null,null,0,27,0.99344025759436982,2.1428571428571428,0,0,0,null,0,0,0,null,0,1000,0.93231535428156498,2.7071948600886917,0,0,null,null,null,null,0,27,-2.1091525927428423,2.1428571428571428,0,0,0,null,0,0,0,null,0,1000,0.62827254476204319,4.4340046639214599,0,0,null,null,null,null,0,27,0.93150726614776702,2.1428571428571428,0,0,0,null,0,0,0,null,0,1000,-4.6548619223754827E-2,2.3068729245345034,0,0,null,null,null,null,0,27,-0.89451531531917361,2.1428571428571428,0,0,0,null,0,0,0,null,0,1000,0.24675301823775553,2.7152915889354157,0,0,null,null,null,null,0,27,9.2541996631219467E-2,2.1428571428571428,0,0,0,null,0,0,0,null,0,1000,-1.2414790554243469,4.1989588187765587,0,0,null,null,null,null,0,27,-0.3599213922499519,2.1428571428571428,0,0,0,null,0,0,0,null,0,1000,-0.91868345319735878,2.6722731232364771,0,0,null,null,null,null,0,27,-0.72793733433671837,2.1428571428571428,0,0,0,null,0,0,0,null,0,1000,-0.45195620136781661,0.78061433026886307,0,0,null,null,null,null,0,27,-0.83404061040379507,2.1428571428571428,0,0,0,null,0,0,0,null,0,1000,1.049040000566952,1.4207274635150455,0,0,null,null,null,null,0,27,-1.3061657502373116,2.1428571428571428,0,0,0,null,0,0,0,null,0,1000,-1.186848661115453,0.74875875186258312,0,0,null,null,null,null,0,27,0.80985336606131408,2.1428571428571428,0,0,0,null,0,0,0,null,0,1000,-1.0886474676250861,1.2834501964930936,0,0,null,null,null,null,0,27,0.10374164323497263,2.1428571428571428,0,0,0,null,0,0,0,null,0,1000,0.69896858647112625,3.7442786811827742,0,0,null,null,null,null,0,27,-0.9363092454605122,2.1428571428571428,0,0,0,null,0,0,0,null,0,1000,1.0107653809502064,1.0062927853572752,0,0,null,null,null,null,0,27,-1.5290494368326106,2.1428571428571428,0,0,0,null,0,0,0,null,0,1000,-0.83228870520729603,1.2538212023636366,0,0,null,null,null,null,0,27,-1.2074479558292037,2.1428571428571428,0,0,0,null,0,0,0,null,0,1000,-1.4112292589209237,0.95245815477057194,0,0,null,null,null,null,0,27,0.26978789615496107,2.1428571428571428,0,0,0,null,0,0,0,null,0,1000,1.1638876935215419,0.90868630616011914,0,0,null,null,null,null,0,27,-0.75814029322015242,2.1428571428571428,0,0,0,null,0,0,0,null,0,1000,-0.54422163172325766,1.72457466439659,0,0,null,null,null,null,0,27,-0.85289156641227659,2.1428571428571428,0,0,0,null,0,0,0,null,0,1000,0.96551085244843371,1.3838669825509944,0,0,null,null,null,null,0,27,-7.6531609741940662E-2,2.1428571428571428,0,0,0,null,0,0,0,null,0,1000,-1.5290554800429903,0.58429331872591772,0,0,null,null,null,null,0,27,0.87582094662816212,2.1428571428571428,0,0,0,null,0,0,0,null,0,1000,0.12568068386137976,0.63017780553728253,0,0,null,null,null,null,0,27,-0.78655155087523121,2.1428571428571428,0,0,0,null,0,0,0,null,0,1000,0.51774643009182619,0.537482384650667,0,0,null,null,null,null,0,27,-0.68087731738320001,2.1428571428571428,0,0,0,null,0,0,0,null,0,1000,-1.4645525789561877E-2,0.75875134616578921,0,0,null,null,null,null,0,27,-1.2766406540134698,2.1428571428571428,0,0,0,null,0,0,0,null,0,1000,1.3563371989574631,0.79879987938300123,0,0,null,null,null,null,0,27,0.28623716351171358,2.1428571428571428,0,0,0,null,0,0,0,null,0,1000,-0.92124794168135127,0.54858629003705661,0,0,null,null,null,null,0,27,-0.95807949106652912,2.1428571428571428,0,0,0,null,0,0,0,null,0,1000,-1.6221464304975757,0.36631278405379503,0,0,null,null,null,null,0,27,0.4927612350092801,2.1428571428571428,0,0,0,null,0,0,0,null,0,1000,0.15714492139454037,0.51347530317661694,0,0,null,null,null,null,0,27,0.97629986297058557,2.1428571428571428,0,0,0,null,0,0,0,null,0,1000,0.99130002414528973,0.62025643054925139,0,0,null,null,null,null,0,27,-0.17671203601423746,2.1428571428571428,0,0,0,null,0,0,0,null,0,1000,0.70624827280269886,0.65177914503043377,0,0,null,null,null,null,0,{"$f":"ARY80+$A$28/$D$12","v":27},{"$f":"NORMINV((RAND()),0,1)","v":1.0926593312113153},2.1428571428571428,{"$f":"IF(ASB80<=0,0,ASB80-ASA81+$D$4*(ASB80-ASA81)*SQRT($D$13)*NORMINV((RAND()),0,1))","v":0},0,0,{"$f":"IF(ARX81>0,IF(AND(ASC81=0,ASC80>0),ARX81,\" \"))","v":false},0,0,0,{"$f":"IF(ASI80=\"Abandon\",0,IF(ARX81>0,IF(AND(ASD81>0,ASF81=0),\"Abandon\",\" \"),\" \"))","v":" "},0,1000,{"$f":"NORMINV((RAND()),0,1)","v":-0.29269298017195178},{"$f":"IF(ASC80>0,IF((ASM80+$D$7*$D$9*ASL81*SQRT($D$13))<0,0,(ASM80+$D$7*$D$9*ASL81*SQRT($D$13))),IF(ASM80*EXP((($D$8-$D$1)-(1/2)*$D$9^2)*$D$13+$D$9*SQRT($D$13)*ASL81)<0,0,ASM80*EXP((($D$8-$D$1)-(1/2)*$D$9^2)*$D$13+$D$9*SQRT($D$13)*ASL81)))","v":0.56431280164007358},0,0,null,{"$f":"IF(ASC81>0,IF(ASK81<=$D$10*$D$13*1000,\"Failure\",\" \"),\" \")","v":" "},{"$f":"IF(ASR80>0,\" \",IF(ASQ81=\"Failure\",ARX81,))","v":0},null,0,{"$f":"ARY81","v":27},{"$f":"ARZ81","v":1.0926593312113153},2.1428571428571428,{"$f":"ASB81","v":0},{"$f":"IF(OR(ASY80=0,ASX81<0,AST81=0),0,ASX81)","v":0},0,null,0,0,0,null,0,1000,{"$f":"ASL81","v":-0.29269298017195178},{"$f":"ASM81","v":0.56431280164007358},0,0,null,null,null,null,0,27,1.0926593312113153,2.1428571428571428,0,0,0,null,0,0,0,null,0,1000,-0.29269298017195178,0.56431280164007358,0,0,null,null,null,null,0,27,1.0926593312113153,2.1428571428571428,0,0,0,null,0,0,0,null,0,1000,-0.29269298017195178,0.56431280164007358,0,0,null,null,null,null,0,27,1.0926593312113153,2.1428571428571428,0,0,0,null,0,0,0,null,0,1000,-0.29269298017195178,0.56431280164007358,0,0,null,null,null,null,0,27,1.0926593312113153,2.1428571428571428,0,0,0,null,0,0,0,null,0,1000,-0.29269298017195178,0.56431280164007358,0,0,null,null,null,null,0,27,1.0926593312113153,2.1428571428571428,0,0,0,null,0,0,0,null,0,1000,-0.29269298017195178,0.56431280164007358,0,0,null,null,null,null,0,27,1.0926593312113153,2.1428571428571428,0,0,0,null,0,0,0,null,0,1000,-0.29269298017195178,0.56431280164007358,0,0,null,null,null,null,0,27,1.0926593312113153,2.1428571428571428,0,0,0,null,0,0,0,null,0,1000,-0.29269298017195178,0.56431280164007358,0,0,null,null,null,null,0,27,1.0926593312113153,2.1428571428571428,0,0,0,null,0,0,0,null,0,1000,-0.29269298017195178,0.56431280164007358,0,0,null,null,null,null,0,27,1.0926593312113153,2.1428571428571428,0,0,0,null,0,0,0,null,0,1000,-0.29269298017195178,0.56431280164007358,0,0,null,null,null,null,0,27,1.0926593312113153,2.1428571428571428,0,0,0,null,0,0,0,null,0,1000,-0.29269298017195178,0.56431280164007358,0,0,null,null,null,null,0,27,1.0926593312113153,2.1428571428571428,0,0,0,null,0,0,0,null,0,1000,-0.29269298017195178,0.56431280164007358,0,0,null,null,null,null,0,27,1.0926593312113153,2.1428571428571428,0,0,0,null,0,0,0,null,0,1000,-0.29269298017195178,0.56431280164007358,0,0,null,null,null,null,0,27,1.0926593312113153,2.1428571428571428,0,0,0,null,0,0,0,null,0,1000,-0.29269298017195178,0.56431280164007358,0,0,null,null,null,null,0,27,1.0926593312113153,2.1428571428571428,0,0,0,null,0,0,0,null,0,1000,-0.29269298017195178,0.56431280164007358,0,0,null,null,null,null,0,27,1.0926593312113153,2.1428571428571428,0,0,0,null,0,0,0,null,0,1000,-0.29269298017195178,0.56431280164007358,0,0,null,null,null,null,0,27,1.0926593312113153,2.1428571428571428,0,0,0,null,0,0,0,null,0,1000,-0.29269298017195178,0.56431280164007358,0,0,null,null,null,null,0,27,1.0926593312113153,2.1428571428571428,0,0,0,null,0,0,0,null,0,1000,-0.29269298017195178,0.56431280164007358,0,0,null,null,null,null,0,27,1.0926593312113153,2.1428571428571428,0,0,0,null,0,0,0,null,0,1000,-0.29269298017195178,0.56431280164007358,0,0,null,null,null,null,0,27,1.0926593312113153,2.1428571428571428,0,0,0,null,0,0,0,null,0,1000,-0.29269298017195178,0.56431280164007358,0,0,null,null,null,null,0,27,1.0926593312113153,2.1428571428571428,0,0,0,null,0,0,0,null,0,1000,-0.29269298017195178,0.56431280164007358,0,0,null,null,null,null,0,27,1.0926593312113153,2.1428571428571428,0,0,0,null,0,0,0,null,0,1000,-0.29269298017195178,0.56431280164007358,0,0,null,null,null,null,0,27,1.0926593312113153,2.1428571428571428,0,0,0,null,0,0,0,null,0,1000,-0.29269298017195178,0.56431280164007358,0,0,null,null,null,null,0,27,1.0926593312113153,2.1428571428571428,0,0,0,null,0,0,0,null,0,1000,-0.29269298017195178,0.56431280164007358,0,0,null,null,null,null,0,27,1.0926593312113153,2.1428571428571428,0,0,0,null,0,0,0,null,0,1000,-0.29269298017195178,0.56431280164007358,0,0,null,null,null,null,0,27,1.0926593312113153,2.1428571428571428,0,0,0,null,0,0,0,null,0,1000,-0.29269298017195178,0.56431280164007358,0,0,null,null,null,0,27,0,0,0,null,null,0,0,53,{"$f":"+ASF81","v":0},null,{"$f":"+ASD81","v":0},{"$f":"+ASO81","v":0}]
[0,29.5,1.5160086088781906,2.1428571428571428,0,0,0,null,0,0,0,null,0,1000,-0.99230848971993235,1.9592784634700935,0,0,0,null,null,null,0,29.5,1.4622817912910568,2.1428571428571428,0,0,0,null,0,0,0,null,0,1000,-1.759399879764368,5.0521229180606131,0,0,null,null,null,null,null,0,29.5,-1.4754938460880289,2.1428571428571428,0,0,0,null,0,0,0,null,0,1000,-1.9552665200621739,1.5164036549893989,0,0,null,null,null,null,0,29.5,0.51532856520016279,2.1428571428571428,0,0,0,null,0,0,0,null,0,1000,1.1828753662548288,1.8510175708660754,0,0,null,null,null,null,0,29.5,1.2731832040284083,2.1428571428571428,0,0,0,null,0,0,0,null,0,1000,-0.51326203636437018,1.8179944289737715,0,0,null,null,null,null,0,29.5,-9.5599678795849422E-2,2.1428571428571428,0,0,0,null,0,0,0,null,0,1000,-1.0092250910875229,3.6756501573598443,0,0,null,null,null,null,0,29.5,-1.7138550846413327,2.1428571428571428,0,0,0,null,0,0,0,null,0,1000,-0.54891529957088592,0.94251019572018879,0,0,null,null,null,null,0,29.5,-0.65255547611760423,2.1428571428571428,0,0,0,null,0,0,0,null,0,1000,0.66969314404226121,11.662861007437073,0,0,null,null,null,null,0,29.5,-2.5215020819304296E-2,2.1428571428571428,0,0,0,null,0,0,0,null,0,1000,0.61597681421862727,3.699016958017471,0,0,null,null,null,null,0,29.5,0.2061765292802753,2.1428571428571428,0,0,0,null,0,0,0,null,0,1000,0.1448025308994593,2.9120688730856901,0,0,null,null,null,null,0,29.5,-0.24860811941489913,2.1428571428571428,0,0,0,null,0,0,0,null,0,1000,-4.1209082334469904E-2,1.809542350545384,0,0,null,null,null,null,0,29.5,1.1663797052040192,2.1428571428571428,0,0,0,null,0,0,0,null,0,1000,-0.30881388253293413,1.1641533390972281,0,0,null,null,null,null,0,29.5,0.53707507922648345,2.1428571428571428,0,0,0,null,0,0,0,null,0,1000,-0.49548437709118315,1.3979062395721149,0,0,null,null,null,null,0,29.5,-1.4778207572484343,2.1428571428571428,0,0,0,null,0,0,0,null,0,1000,1.8659365501112999,3.9822869508255438,0,0,null,null,null,null,0,29.5,-1.2922827937449872,2.1428571428571428,0,0,0,null,0,0,0,null,0,1000,-3.1088155220684044,0.39868949250270069,0,0,null,null,null,null,0,29.5,0.44595428874228282,2.1428571428571428,0,0,0,null,0,0,0,null,0,1000,-0.19477530340756252,1.4450419458733508,0,0,null,null,null,null,0,29.5,-0.56483447852726398,2.1428571428571428,0,0,0,null,0,0,0,null,0,1000,-0.6054754586844322,0.62801847867791549,0,0,null,null,null,null,0,29.5,-0.37462624055960486,2.1428571428571428,0,0,0,null,0,0,0,null,0,1000,0.95860081419587007,6.5817524689095679,0,0,null,null,null,null,0,29.5,0.66062238424772735,2.1428571428571428,0,0,0,null,0,0,0,null,0,1000,0.17238918125651886,2.5847844329206136,0,0,null,null,null,null,0,29.5,0.90340903597487487,2.1428571428571428,0,0,0,null,0,0,0,null,0,1000,-1.6317480130261548,2.5133454267704631,0,0,null,null,null,null,0,29.5,1.8071951448278027,2.1428571428571428,0,0,0,null,0,0,0,null,0,1000,-0.59084049268712902,0.64916875084930326,0,0,null,null,null,null,0,29.5,2.2911876286343538,2.1428571428571428,0,0,0,null,0,0,0,null,0,1000,1.568486753585685,10.821156487073864,0,0,null,null,null,null,0,29.5,-1.2483122985136694,2.1428571428571428,0,0,0,null,0,0,0,null,0,1000,-0.17955295530232229,3.8955164231962733,0,0,null,null,null,null,0,29.5,0.80514819312537,2.1428571428571428,0,0,0,null,0,0,0,null,0,1000,0.1219818651661882,6.3225723874676101,0,0,null,null,null,null,0,29.5,2.051800105695932E-2,2.1428571428571428,0,0,0,null,0,0,0,null,0,1000,-0.76217057023869772,2.8925391020773015,0,0,null,null,null,null,0,29.5,-0.30998029417522066,2.1428571428571428,0,0,0,null,0,0,0,null,0,1000,-0.58647007027661713,10.517502759349371,0,0,null,null,null,null,0,29.5,-0.70506704174676071,2.1428571428571428,0,{"$f":"IF(OR(VG85=0,VF86<0,VB86=0),0,VF86)","v":0},0,null,0,0,0,null,0,1000,1.1933066282716067,2.6930267129650307,0,0,null,null,null,null,0,29.5,-1.1397839836343695,2.1428571428571428,0,0,0,null,0,0,0,null,0,1000,-0.38748080885625213,4.0617330445365489,0,0,null,null,null,null,0,29.5,-0.44518052769808897,2.1428571428571428,0,0,0,null,0,0,0,null,0,1000,1.5034190670379293,2.2255290868461017,0,0,null,null,null,null,0,29.5,0.18242000051057541,2.1428571428571428,0,0,0,null,0,0,0,null,0,1000,0.47183080852225867,5.6578590087915872,0,0,null,null,null,null,0,29.5,-0.77541467197387193,2.1428571428571428,0,0,0,null,0,0,0,null,0,1000,-1.4775396802764005,5.396826358208008,0,0,null,null,null,null,0,29.5,0.67437400764014011,2.1428571428571428,0,0,0,null,0,0,0,null,0,1000,-2.1863569988708185,2.2307032138329355,0,0,null,null,null,null,0,29.5,-1.8428541505739446,2.1428571428571428,0,0,0,null,0,0,0,null,0,1000,-1.3184481453762067,0.742589754820704,0,0,null,null,null,null,0,29.5,-0.16778049870155112,2.1428571428571428,0,0,0,null,0,0,0,null,0,1000,-0.13981118379979254,1.4806780542616869,0,0,null,null,null,null,0,29.5,-0.61574509063909422,2.1428571428571428,0,0,0,null,0,0,0,null,0,1000,1.5189614885995659,0.69285868215243085,0,0,null,null,null,null,0,29.5,0.40918818170931126,2.1428571428571428,0,0,0,null,0,0,0,null,0,1000,0.35561017646978732,1.1255692392773726,0,0,null,null,null,null,0,29.5,-1.3517936310900089,2.1428571428571428,0,0,0,null,0,0,0,null,0,1000,-0.30551124741452668,4.2016415012285764,0,0,null,null,null,null,0,29.5,0.51299365214191972,2.1428571428571428,0,0,0,null,0,0,0,null,0,1000,0.55223856610026967,0.88803797222401493,0,0,null,null,null,null,0,29.5,-9.1569923173418499E-3,2.1428571428571428,0,0,0,null,0,0,0,null,0,1000,-1.4315415491473757,1.3483565672903204,0,0,null,null,null,null,0,29.5,-1.0089511901161043,2.1428571428571428,0,0,0,null,0,0,0,null,0,1000,1.5362536997209459,1.2649601984622854,0,0,null,null,null,null,0,29.5,1.2435434666576763,2.1428571428571428,0,0,0,null,0,0,0,null,0,1000,0.27401745144647643,0.85257322172631367,0,0,null,null,null,null,0,29.5,0.69372495494656461,2.1428571428571428,0,0,0,null,0,0,0,null,0,1000,1.1012631461017295,2.8776841354639848,0,0,null,null,null,null,0,29.5,9.0356599654115771E-2,2.1428571428571428,0,0,0,null,0,0,0,null,0,1000,2.0047072952545903,2.1913333698178481,0,0,null,null,null,null,0,29.5,-0.7638334594496673,2.1428571428571428,0,0,0,null,0,0,0,null,0,1000,-0.66610563750248752,0.50382505180524195,0,0,null,null,null,null,0,29.5,-1.6055549571326317,2.1428571428571428,0,0,0,null,0,0,0,null,0,1000,-0.28105341879751627,0.75399161427418271,0,0,null,null,null,null,0,29.5,0.14663570831951728,2.1428571428571428,0,0,0,null,0,0,0,null,0,1000,-1.0063390240146881,0.38181281468235329,0,0,null,null,null,null,0,29.5,-3.7351428921301798E-2,2.1428571428571428,0,0,0,null,0,0,0,null,0,1000,-0.13818603192552706,1.1393290907964373,0,0,null,null,null,null,0,29.5,1.3413093703643335,2.1428571428571428,0,0,0,null,0,0,0,null,0,1000,-0.28419361813921901,0.85226990487425147,0,0,null,null,null,null,0,29.5,0.12866856362647164,2.1428571428571428,0,0,0,null,0,0,0,null,0,1000,0.79668694135335449,0.4840071023952206,0,0,null,null,null,null,0,29.5,0.51590704257128506,2.1428571428571428,0,0,0,null,0,0,0,null,0,1000,-6.3295478182165011E-3,0.69360564185097628,0,0,null,null,null,null,0,29.5,0.56999991850641285,2.1428571428571428,0,0,0,null,0,0,0,null,0,1000,0.56389505487440517,0.53290575147343389,0,0,null,null,null,null,0,29.5,0.57032485672205446,2.1428571428571428,0,0,0,null,0,0,0,null,0,1000,0.60304351125946121,0.55342978148873689,0,0,null,null,null,null,0,29.5,-0.69013494814869503,2.1428571428571428,0,0,0,null,0,0,0,null,0,1000,-1.3494407397371961,0.82210114715159321,0,0,null,null,null,null,0,29.5,7.3434731822425714E-2,2.1428571428571428,0,0,0,null,0,0,0,null,0,1000,-0.13479856242937099,0.71666629509044977,0,0,null,null,null,null,0,29.5,1.3469869313449925,2.1428571428571428,0,0,0,null,0,0,0,null,0,1000,0.45053238547743513,0.67748742614821111,0,0,null,null,null,null,0,29.5,-0.17038687409595391,2.1428571428571428,0,0,0,null,0,0,0,null,0,1000,-1.1983993056801441,0.37645310391428488,0,0,null,null,null,null,0,29.5,1.9655812934290567E-2,2.1428571428571428,0,0,0,null,0,0,0,null,0,1000,0.23235088209492408,0.8439162403357503,0,0,null,null,null,null,0,29.5,-1.5425003305604095,2.1428571428571428,0,0,0,null,0,0,0,null,0,1000,-1.5971361312728574,0.52134625911619703,0,0,null,null,null,null,0,{"$f":"AWE85+$A$28/$D$12","v":29.5},{"$f":"NORMINV((RAND()),0,1)","v":0.25986838306401455},2.1428571428571428,{"$f":"IF(AWH85<=0,0,AWH85-AWG86+$D$4*(AWH85-AWG86)*SQRT($D$13)*NORMINV((RAND()),0,1))","v":0},0,0,{"$f":"IF(AWD86>0,IF(AND(AWI86=0,AWI85>0),AWD86,\" \"))","v":false},0,0,0,{"$f":"IF(AWO85=\"Abandon\",0,IF(AWD86>0,IF(AND(AWJ86>0,AWL86=0),\"Abandon\",\" \"),\" \"))","v":" "},0,1000,{"$f":"NORMINV((RAND()),0,1)","v":-1.5758120553799111},{"$f":"IF(AWI85>0,IF((AWS85+$D$7*$D$9*AWR86*SQRT($D$13))<0,0,(AWS85+$D$7*$D$9*AWR86*SQRT($D$13))),IF(AWS85*EXP((($D$8-$D$1)-(1/2)*$D$9^2)*$D$13+$D$9*SQRT($D$13)*AWR86)<0,0,AWS85*EXP((($D$8-$D$1)-(1/2)*$D$9^2)*$D$13+$D$9*SQRT($D$13)*AWR86)))","v":0.52295238568169655},0,0,null,{"$f":"IF(AWI86>0,IF(AWQ86<=$D$10*$D$13*1000,\"Failure\",\" \"),\" \")","v":" "},{"$f":"IF(AWX85>0,\" \",IF(AWW86=\"Failure\",AWD86,))","v":0},null,0,{"$f":"AWE86","v":29.5},{"$f":"AWF86","v":0.25986838306401455},2.1428571428571428,{"$f":"AWH86","v":0},{"$f":"IF(OR(AXE85=0,AXD86<0,AWZ86=0),0,AXD86)","v":0},0,null,0,0,0,null,0,1000,{"$f":"AWR86","v":-1.5758120553799111},{"$f":"AWS86","v":0.52295238568169655},0,0,null,null,null,null,0,29.5,0.25986838306401455,2.1428571428571428,0,0,0,null,0,0,0,null,0,1000,-1.5758120553799111,0.52295238568169655,0,0,null,null,null,null,0,29.5,0.25986838306401455,2.1428571428571428,0,0,0,null,0,0,0,null,0,1000,-1.5758120553799111,0.52295238568169655,0,0,null,null,null,null,0,29.5,0.25986838306401455,2.1428571428571428,0,0,0,null,0,0,0,null,0,1000,-1.5758120553799111,0.52295238568169655,0,0,null,null,null,null,0,29.5,0.25986838306401455,2.1428571428571428,0,0,0,null,0,0,0,null,0,1000,-1.5758120553799111,0.52295238568169655,0,0,null,null,null,null,0,29.5,0.25986838306401455,2.1428571428571428,0,0,0,null,0,0,0,null,0,1000,-1.5758120553799111,0.52295238568169655,0,0,null,null,null,null,0,29.5,0.25986838306401455,2.1428571428571428,0,0,0,null,0,0,0,null,0,1000,-1.5758120553799111,0.52295238568169655,0,0,null,null,null,null,0,29.5,0.25986838306401455,2.1428571428571428,0,0,0,null,0,0,0,null,0,1000,-1.5758120553799111,0.52295238568169655,0,0,null,null,null,null,0,29.5,0.25986838306401455,2.1428571428571428,0,0,0,null,0,0,0,null,0,1000,-1.5758120553799111,0.52295238568169655,0,0,null,null,null,null,0,29.5,0.25986838306401455,2.1428571428571428,0,0,0,null,0,0,0,null,0,1000,-1.5758120553799111,0.52295238568169655,0,0,null,null,null,null,0,29.5,0.25986838306401455,2.1428571428571428,0,0,0,null,0,0,0,null,0,1000,-1.5758120553799111,0.52295238568169655,0,0,null,null,null,null,0,29.5,0.25986838306401455,2.1428571428571428,0,0,0,null,0,0,0,null,0,1000,-1.5758120553799111,0.52295238568169655,0,0,null,null,null,null,0,29.5,0.25986838306401455,2.1428571428571428,0,0,0,null,0,0,0,null,0,1000,-1.5758120553799111,0.52295238568169655,0,0,null,null,null,null,0,29.5,0.25986838306401455,2.1428571428571428,0,0,0,null,0,0,0,null,0,1000,-1.5758120553799111,0.52295238568169655,0,0,null,null,null,null,0,29.5,0.25986838306401455,2.1428571428571428,0,0,0,null,0,0,0,null,0,1000,-1.5758120553799111,0.52295238568169655,0,0,null,null,null,null,0,29.5,0.25986838306401455,2.1428571428571428,0,0,0,null,0,0,0,null,0,1000,-1.5758120553799111,0.52295238568169655,0,0,null,null,null,null,0,29.5,0.25986838306401455,2.1428571428571428,0,0,0,null,0,0,0,null,0,1000,-1.5758120553799111,0.52295238568169655,0,0,null,null,null,null,0,29.5,0.25986838306401455,2.1428571428571428,0,0,0,null,0,0,0,null,0,1000,-1.5758120553799111,0.52295238568169655,0,0,null,null,null,null,0,29.5,0.25986838306401455,2.1428571428571428,0,0,0,null,0,0,0,null,0,1000,-1.5758120553799111,0.52295238568169655,0,0,null,null,null,null,0,29.5,0.25986838306401455,2.1428571428571428,0,0,0,null,0,0,0,null,0,1000,-1.5758120553799111,0.52295238568169655,0,0,null,null,null,null,0,29.5,0.25986838306401455,2.1428571428571428,0,0,0,null,0,0,0,null,0,1000,-1.5758120553799111,0.52295238568169655,0,0,null,null,null,0,29.5,0,0,0,null,null,0,0,58,{"$f":"+AWL86","v":0},null,{"$f":"+AWJ86","v":0},{"$f":"+AWU86","v":0}]
[0,30,0.19143955201881022,2.1428571428571428,0,0,0,null,0,0,0,null,0,1000,-0.19501206862464529,1.9281130414574335,0,0,0,null,null,null,0,30,-0.47774224320564468,2.1428571428571428,0,0,0,null,0,0,0,null,0,1000,0.9440813597983897,5.8596394031299193,0,0,null,null,null,null,null,0,30,0.39398068105736633,2.1428571428571428,0,0,0,null,0,0,0,null,0,1000,1.2736017385812071,1.844400495209499,0,0,null,null,null,null,0,30,2.2114329221956668,2.1428571428571428,0,0,0,null,0,0,0,null,0,1000,0.96561514095454892,2.153557877301334,0,0,null,null,null,null,0,30,-0.96655933625531276,2.1428571428571428,0,0,0,null,0,0,0,null,0,1000,-0.22123233241811968,1.7823223685544294,0,0,null,null,null,null,0,30,1.0967169877372236,2.1428571428571428,0,0,0,null,0,0,0,null,0,1000,-1.8820246612696618,2.8358575576631901,0,0,null,null,null,null,0,30,0.68358885366697886,2.1428571428571428,0,0,0,null,0,0,0,null,0,1000,1.4198748527913154,1.1708196954833308,0,0,null,null,null,null,0,30,1.7307789486783873,2.1428571428571428,0,0,0,null,0,0,0,null,0,1000,-0.16532369436246078,11.52660236603624,0,0,null,null,null,null,0,30,0.46031782929819032,2.1428571428571428,0,0,0,null,0,0,0,null,0,1000,-0.72434116567761841,3.3725766645340629,0,0,null,null,null,null,0,30,0.39902324083536578,2.1428571428571428,0,0,0,null,0,0,0,null,0,1000,0.66799078607093831,3.2456554184276625,0,0,null,null,null,null,0,30,0.13059211690219413,2.1428571428571428,0,0,0,null,0,0,0,null,0,1000,-1.0572006961645193,1.5725035968149588,0,0,null,null,null,null,0,30,-5.2984376250449633E-3,2.1428571428571428,0,0,0,null,0,0,0,null,0,1000,-0.92196527630186187,1.0315853398856258,0,0,null,null,null,null,0,30,-0.59825339828969248,2.1428571428571428,0,0,0,null,0,0,0,null,0,1000,-0.62415927547643935,1.293092626023808,0,0,null,null,null,null,0,30,-1.4540374188615091,2.1428571428571428,0,0,0,null,0,0,0,null,0,1000,0.17459397357806239,4.1335533315271773,0,0,null,null,null,null,0,30,-1.4175108179584708,2.1428571428571428,0,0,0,null,0,0,0,null,0,1000,0.79419918777042409,0.45252452493705242,0,0,null,null,null,null,0,30,0.39083093306718031,2.1428571428571428,0,0,0,null,0,0,0,null,0,1000,0.32035743777206327,1.5318035628680466,0,0,null,null,null,null,0,30,-0.40069827702115313,2.1428571428571428,0,0,0,null,0,0,0,null,0,1000,-1.6916397678748409,0.49802332866638022,0,0,null,null,null,null,0,30,-1.1453393814880253,2.1428571428571428,0,0,0,null,0,0,0,null,0,1000,0.66214912465120734,7.3295337859532141,0,0,null,null,null,null,0,30,-0.56487309006493736,2.1428571428571428,0,0,0,null,0,0,0,null,0,1000,-0.2525984480024821,2.5226270572755962,0,0,null,null,null,null,0,30,0.30168596594364855,2.1428571428571428,0,0,0,null,0,0,0,null,0,1000,0.32145267888660167,2.6646698981687482,0,0,null,null,null,null,0,30,7.052933453464412E-2,2.1428571428571428,0,0,0,null,0,0,0,null,0,1000,4.5510399725017761E-2,0.6613965371672974,0,0,null,null,null,null,0,30,-0.42859654066107516,2.1428571428571428,0,0,0,null,0,0,0,null,0,1000,8.7522596537233151E-3,10.966680861546973,0,0,null,null,null,null,0,30,-0.86526310499754311,2.1428571428571428,0,0,0,null,0,0,0,null,0,1000,0.36866365325974637,4.1582815868027145,0,0,null,null,null,null,0,30,-1.8562436326907812,2.1428571428571428,0,0,0,null,0,0,0,null,0,1000,0.41562888290381433,6.7949284992786314,0,0,null,null,null,null,0,30,-0.89224044207359587,2.1428571428571428,0,0,0,null,0,0,0,null,0,1000,-0.38873763153564922,2.7680839866613045,0,0,null,null,null,null,0,30,0.95791989713980052,2.1428571428571428,0,0,0,null,0,0,0,null,0,1000,-0.26072950403745837,10.252551735094874,0,0,null,null,null,null,0,30,0.36473741381209251,2.1428571428571428,0,0,0,null,0,0,0,null,0,1000,0.70376258883229448,3.0170494007276081,0,0,null,null,null,null,0,30,1.0439062907951948,2.1428571428571428,0,{"$f":"IF(OR(WC86=0,WB87<0,VX87=0),0,WB87)","v":0},0,null,0,0,0,null,0,1000,0.93118254257481026,4.7021912375901866,0,0,null,null,null,null,0,30,1.6165747608149044,2.1428571428571428,0,0,0,null,0,0,0,null,0,1000,0.60590271750196278,2.4583539867917317,0,0,null,null,null,null,0,30,0.80120667755242836,2.1428571428571428,0,0,0,null,0,0,0,null,0,1000,-0.1568022805249428,5.5986352274752766,0,0,null,null,null,null,0,30,1.5292877703199674,2.1428571428571428,0,0,0,null,0,0,0,null,0,1000,0.10686613028804647,5.5473619226425788,0,0,null,null,null,null,0,30,7.6329511949712386E-3,2.1428571428571428,0,0,0,null,0,0,0,null,0,1000,-0.54321672649420227,2.0876812141995651,0,0,null,null,null,null,0,30,-0.16567153586474162,2.1428571428571428,0,0,0,null,0,0,0,null,0,1000,-1.955074208836231,0.56692142518456323,0,0,null,null,null,null,0,30,-0.92342716562106042,2.1428571428571428,0,0,0,null,0,0,0,null,0,1000,-0.58038295629327474,1.3783346732273682,0,0,null,null,null,null,0,30,-0.23728399913422388,2.1428571428571428,0,0,0,null,0,0,0,null,0,1000,9.3207747521787218E-2,0.71078305305555178,0,0,null,null,null,null,0,30,1.6583560176293495,2.1428571428571428,0,0,0,null,0,0,0,null,0,1000,0.79062484759294549,1.2768962914952535,0,0,null,null,null,null,0,30,-1.2609992093571627,2.1428571428571428,0,0,0,null,0,0,0,null,0,1000,-0.83701354251720927,3.7690849771914889,0,0,null,null,null,null,0,30,4.2721402732321792E-2,2.1428571428571428,0,0,0,null,0,0,0,null,0,1000,0.47452959429440211,0.96252620788946475,0,0,null,null,null,null,0,30,-0.77166807843284779,2.1428571428571428,0,0,0,null,0,0,0,null,0,1000,-0.7638070833684335,1.2223845337668826,0,0,null,null,null,null,0,30,-0.57118347411195214,2.1428571428571428,0,0,0,null,0,0,0,null,0,1000,-4.293033402373795E-2,1.2724497336711698,0,0,null,null,null,null,0,30,-1.2189782800878644,2.1428571428571428,0,0,0,null,0,0,0,null,0,1000,0.50395334692442362,0.92801719079274325,0,0,null,null,null,null,0,30,-0.50886432788291636,2.1428571428571428,0,0,0,null,0,0,0,null,0,1000,0.50921747983154364,3.1347090482102438,0,0,null,null,null,null,0,30,0.58367910903106501,2.1428571428571428,0,0,0,null,0,0,0,null,0,1000,1.5349841830485134,2.7677295833103841,0,0,null,null,null,null,0,30,0.39844812803589058,2.1428571428571428,0,0,0,null,0,0,0,null,0,1000,-1.2325277102038623,0.42689293035072545,0,0,null,null,null,null,0,30,0.64570831336600432,2.1428571428571428,0,0,0,null,0,0,0,null,0,1000,-0.37680084712409539,0.72279367336468725,0,0,null,null,null,null,0,30,-0.17378440452303071,2.1428571428571428,0,0,0,null,0,0,0,null,0,1000,0.36047411900095766,0.40708613141990629,0,0,null,null,null,null,0,30,1.0964971156699357,2.1428571428571428,0,0,0,null,0,0,0,null,0,1000,1.173789364257837,1.3659558415884168,0,0,null,null,null,null,0,30,1.2122563756738722,2.1428571428571428,0,0,0,null,0,0,0,null,0,1000,-1.9150417030891757E-2,0.86026185280827705,0,0,null,null,null,null,0,30,-0.18643017477545909,2.1428571428571428,0,0,0,null,0,0,0,null,0,1000,-0.23860017601759237,0.47332277591738953,0,0,null,null,null,null,0,30,1.6825977001310106,2.1428571428571428,0,0,0,null,0,0,0,null,0,1000,-1.8962213289457563,0.53403962679213013,0,0,null,null,null,null,0,30,-1.8354734006808131,2.1428571428571428,0,0,0,null,0,0,0,null,0,1000,-1.6787044643569653,0.42338749634139583,0,0,null,null,null,null,0,30,0.76257043500684618,2.1428571428571428,0,0,0,null,0,0,0,null,0,1000,-0.29711725679048562,0.53666377519660524,0,0,null,null,null,null,0,30,0.25896818802507021,2.1428571428571428,0,0,0,null,0,0,0,null,0,1000,1.0477586016255322,0.96787058857346731,0,0,null,null,null,null,0,30,1.9982365265367954,2.1428571428571428,0,0,0,null,0,0,0,null,0,1000,0.65747689202434756,0.79755214110292005,0,0,null,null,null,null,0,30,-1.7655784064599156,2.1428571428571428,0,0,0,null,0,0,0,null,0,1000,-0.24868107205968742,0.66156934144554425,0,0,null,null,null,null,0,30,-0.50963084414446269,2.1428571428571428,0,0,0,null,0,0,0,null,0,1000,0.95928295325434454,0.43758275389696527,0,0,null,null,null,null,0,30,0.72589083406013666,2.1428571428571428,0,0,0,null,0,0,0,null,0,1000,-0.75067276962774487,0.76652312232437469,0,0,null,null,null,null,0,30,-0.23904485677083503,2.1428571428571428,0,0,0,null,0,0,0,null,0,1000,-1.4200279605170956,0.4299511941023843,0,0,null,null,null,null,0,30,1.0783731385861188,2.1428571428571428,0,0,0,null,0,0,0,null,0,1000,-0.66934039714746896,0.48059946584825164,0,0,null,null,null,null,0,{"$f":"AXA86+$A$28/$D$12","v":30},{"$f":"NORMINV((RAND()),0,1)","v":-0.4203783161636},2.1428571428571428,{"$f":"IF(AXD86<=0,0,AXD86-AXC87+$D$4*(AXD86-AXC87)*SQRT($D$13)*NORMINV((RAND()),0,1))","v":0},0,0,{"$f":"IF(AWZ87>0,IF(AND(AXE87=0,AXE86>0),AWZ87,\" \"))","v":false},0,0,0,{"$f":"IF(AXK86=\"Abandon\",0,IF(AWZ87>0,IF(AND(AXF87>0,AXH87=0),\"Abandon\",\" \"),\" \"))","v":" "},0,1000,{"$f":"NORMINV((RAND()),0,1)","v":-1.6923658704482485},{"$f":"IF(AXE86>0,IF((AXO86+$D$7*$D$9*AXN87*SQRT($D$13))<0,0,(AXO86+$D$7*$D$9*AXN87*SQRT($D$13))),IF(AXO86*EXP((($D$8-$D$1)-(1/2)*$D$9^2)*$D$13+$D$9*SQRT($D$13)*AXN87)<0,0,AXO86*EXP((($D$8-$D$1)-(1/2)*$D$9^2)*$D$13+$D$9*SQRT($D$13)*AXN87)))","v":0.41466170079203174},0,0,null,{"$f":"IF(AXE87>0,IF(AXM87<=$D$10*$D$13*1000,\"Failure\",\" \"),\" \")","v":" "},{"$f":"IF(AXT86>0,\" \",IF(AXS87=\"Failure\",AWZ87,))","v":0},null,0,{"$f":"AXA87","v":30},{"$f":"AXB87","v":-0.4203783161636},2.1428571428571428,{"$f":"AXD87","v":0},0,0,null,0,0,0,null,0,1000,{"$f":"AXN87","v":-1.6923658704482485},{"$f":"AXO87","v":0.41466170079203174},0,0,null,null,null,null,0,30,-0.4203783161636,2.1428571428571428,0,0,0,null,0,0,0,null,0,1000,-1.6923658704482485,0.41466170079203174,0,0,null,null,null,null,0,30,-0.4203783161636,2.1428571428571428,0,0,0,null,0,0,0,null,0,1000,-1.6923658704482485,0.41466170079203174,0,0,null,null,null,null,0,30,-0.4203783161636,2.1428571428571428,0,0,0,null,0,0,0,null,0,1000,-1.6923658704482485,0.41466170079203174,0,0,null,null,null,null,0,30,-0.4203783161636,2.1428571428571428,0,0,0,null,0,0,0,null,0,1000,-1.6923658704482485,0.41466170079203174,0,0,null,null,null,null,0,30,-0.4203783161636,2.1428571428571428,0,0,0,null,0,0,0,null,0,1000,-1.6923658704482485,0.41466170079203174,0,0,null,null,null,null,0,30,-0.4203783161636,2.1428571428571428,0,0,0,null,0,0,0,null,0,1000,-1.6923658704482485,0.41466170079203174,0,0,null,null,null,null,0,30,-0.4203783161636,2.1428571428571428,0,0,0,null,0,0,0,null,0,1000,-1.6923658704482485,0.41466170079203174,0,0,null,null,null,null,0,30,-0.4203783161636,2.1428571428571428,0,0,0,null,0,0,0,null,0,1000,-1.6923658704482485,0.41466170079203174,0,0,null,null,null,null,0,30,-0.4203783161636,2.1428571428571428,0,0,0,null,0,0,0,null,0,1000,-1.6923658704482485,0.41466170079203174,0,0,null,null,null,null,0,30,-0.4203783161636,2.1428571428571428,0,0,0,null,0,0,0,null,0,1000,-1.6923658704482485,0.41466170079203174,0,0,null,null,null,null,0,30,-0.4203783161636,2.1428571428571428,0,0,0,null,0,0,0,null,0,1000,-1.6923658704482485,0.41466170079203174,0,0,null,null,null,null,0,30,-0.4203783161636,2.1428571428571428,0,0,0,null,0,0,0,null,0,1000,-1.6923658704482485,0.41466170079203174,0,0,null,null,null,null,0,30,-0.4203783161636,2.1428571428571428,0,0,0,null,0,0,0,null,0,1000,-1.6923658704482485,0.41466170079203174,0,0,null,null,null,null,0,30,-0.4203783161636,2.1428571428571428,0,0,0,null,0,0,0,null,0,1000,-1.6923658704482485,0.41466170079203174,0,0,null,null,null,null,0,30,-0.4203783161636,2.1428571428571428,0,0,0,null,0,0,0,null,0,1000,-1.6923658704482485,0.41466170079203174,0,0,null,null,null,null,0,30,-0.4203783161636,2.1428571428571428,0,0,0,null,0,0,0,null,0,1000,-1.6923658704482485,0.41466170079203174,0,0,null,null,null,null,0,30,-0.4203783161636,2.1428571428571428,0,0,0,null,0,0,0,null,0,1000,-1.6923658704482485,0.41466170079203174,0,0,null,null,null,null,0,30,-0.4203783161636,2.1428571428571428,0,0,0,null,0,0,0,null,0,1000,-1.6923658704482485,0.41466170079203174,0,0,null,null,null,null,0,30,-0.4203783161636,2.1428571428571428,0,0,0,null,0,0,0,null,0,1000,-1.6923658704482485,0.41466170079203174,0,0,null,null,null,0,30,0,0,0,null,null,0,0,59,{"$f":"+AXH87","v":0},null,{"$f":"+AXF87","v":0},{"$f":"+AXQ87","v":0}]
[0,32.5,1.2488683747741014,2.1428571428571428,0,0,0,null,0,{"$f":"IF(E92=0,0,IF(A92=0,0,IF(M$26=1000,IF(E92<0,IF(E91>0,IF(D92-(0-E92)<0,0,D92-(0-E92)),0),IF(M$26>=A92,D92,0)),IF(M$26>=A92,D92,0))))","v":0},0,null,0,1000,-0.6051491411999157,2.3929450182744745,{"$f":"IF(A92<=O$24,0,IF(AND(A92>0,$D$19=1),P92,IF(AND(A92>0,A92<=$E$19*$D$12+O$24),P92,0)))","v":0},0,0,null,null,null,0,32.5,-1.0174450668846029,{"$f":"$D$27","v":2.1428571428571428},0,0,0,null,0,{"$f":"IF(AA92=0,0,IF(W92=0,0,IF(AI$26=1000,IF(AA92<0,IF(AA91>0,IF(Z92-(0-AA92)<0,0,Z92-(0-AA92)),0),IF(AI$26>=W92,Z92,0)),IF(AI$26>=W92,Z92,0))))","v":0},0,null,0,1000,-0.85531347132984303,7.3777979189429299,{"$f":"IF(W92<=AK$24,0,IF(AND(W92>0,$D$19=1),AL92,IF(AND(W92>0,W92<=$E$19*$D$12+AK$24),AL92,0)))","v":0},{"$f":"IF(W92=$D$14*$D$12,IF(AM92+(AL93*$D$18)/(($D$16*$D$13)-($D$8*$D$13))<0,AM92,AM92+(AL93*$D$18)/(($D$16*$D$13)-($D$8*$D$13))),IF(AM92=0,EXP(-($D$16)*$D$13)*AN93+AM92,EXP(-($D$16)*$D$13)*AN93+AM92))","v":0},null,null,null,null,null,0,32.5,0.43954274609827143,2.1428571428571428,0,0,0,null,0,{"$f":"IF(AX92=0,0,IF(AT92=0,0,IF(BF$26=1000,IF(AX92<0,IF(AX91>0,IF(AW92-(0-AX92)<0,0,AW92-(0-AX92)),0),IF(BF$26>=AT92,AW92,0)),IF(BF$26>=AT92,AW92,0))))","v":0},0,null,0,1000,2.6552666663852289,3.2895987875757862,{"$f":"IF(AT92<=BH$24,0,IF(AND(AT92>0,$D$19=1),BI92,IF(AND(AT92>0,AT92<=$E$19*$D$12+BH$24),BI92,0)))","v":0},{"$f":"IF(AT92=$D$14*$D$12,IF(BJ92+(BI93*$D$18)/(($D$16*$D$13)-($D$8*$D$13))<0,BJ92,BJ92+(BI93*$D$18)/(($D$16*$D$13)-($D$8*$D$13))),IF(BJ92=0,EXP(-($D$16)*$D$13)*BK93+BJ92,EXP(-($D$16)*$D$13)*BK93+BJ92))","v":0},null,null,null,null,0,32.5,1.023617231554983,2.1428571428571428,0,0,0,null,0,0,0,null,0,1000,1.0955905352542497,1.5733314766501982,{"$f":"IF(BP92<=CD$24,0,IF(AND(BP92>0,$D$19=1),CE92,IF(AND(BP92>0,BP92<=$E$19*$D$12+CD$24),CE92,0)))","v":0},{"$f":"IF(BP92=$D$14*$D$12,IF(CF92+(CE93*$D$18)/(($D$16*$D$13)-($D$8*$D$13))<0,CF92,CF92+(CE93*$D$18)/(($D$16*$D$13)-($D$8*$D$13))),IF(CF92=0,EXP(-($D$16)*$D$13)*CG93+CF92,EXP(-($D$16)*$D$13)*CG93+CF92))","v":0},null,null,null,null,0,32.5,0.56617433999909583,{"$f":"$D$27","v":2.1428571428571428},0,0,0,null,0,0,0,null,0,1000,1.3167039313286537,3.0407666178032104,0,{"$f":"IF(CL92=$D$14*$D$12,IF(DB92+(DA93*$D$18)/(($D$16*$D$13)-($D$8*$D$13))<0,DB92,DB92+(DA93*$D$18)/(($D$16*$D$13)-($D$8*$D$13))),IF(DB92=0,EXP(-($D$16)*$D$13)*DC93+DB92,EXP(-($D$16)*$D$13)*DC93+DB92))","v":0},null,null,null,null,0,32.5,2.3634460345400163,{"$f":"$D$27","v":2.1428571428571428},0,0,0,null,0,0,0,null,0,1000,-0.4680732811463566,1.9076980109934012,0,{"$f":"IF(DH92=$D$14*$D$12,IF(DX92+(DW93*$D$18)/(($D$16*$D$13)-($D$8*$D$13))<0,DX92,DX92+(DW93*$D$18)/(($D$16*$D$13)-($D$8*$D$13))),IF(DX92=0,EXP(-($D$16)*$D$13)*DY93+DX92,EXP(-($D$16)*$D$13)*DY93+DX92))","v":0},null,null,null,null,0,32.5,0.19420117776858772,{"$f":"$D$27","v":2.1428571428571428},0,0,0,null,0,0,0,null,0,1000,-0.33073255755186809,1.0047491719640436,0,{"$f":"IF(ED92=$D$14*$D$12,IF(ET92+(ES93*$D$18)/(($D$16*$D$13)-($D$8*$D$13))<0,ET92,ET92+(ES93*$D$18)/(($D$16*$D$13)-($D$8*$D$13))),IF(ET92=0,EXP(-($D$16)*$D$13)*EU93+ET92,EXP(-($D$16)*$D$13)*EU93+ET92))","v":0},null,null,null,null,0,32.5,1.3705694565295568,{"$f":"$D$27","v":2.1428571428571428},0,0,0,null,0,0,0,null,0,1000,-1.163376928178353,12.411808366447035,0,{"$f":"IF(EZ92=$D$14*$D$12,IF(FP92+(FO93*$D$18)/(($D$16*$D$13)-($D$8*$D$13))<0,FP92,FP92+(FO93*$D$18)/(($D$16*$D$13)-($D$8*$D$13))),IF(FP92=0,EXP(-($D$16)*$D$13)*FQ93+FP92,EXP(-($D$16)*$D$13)*FQ93+FP92))","v":0},null,null,null,null,0,32.5,0.29355146044014407,{"$f":"$D$27","v":2.1428571428571428},0,0,0,null,0,0,0,null,0,1000,-1.4353631500118107,2.701791222479673,0,{"$f":"IF(FV92=$D$14*$D$12,IF(GL92+(GK93*$D$18)/(($D$16*$D$13)-($D$8*$D$13))<0,GL92,GL92+(GK93*$D$18)/(($D$16*$D$13)-($D$8*$D$13))),IF(GL92=0,EXP(-($D$16)*$D$13)*GM93+GL92,EXP(-($D$16)*$D$13)*GM93+GL92))","v":0},null,null,null,null,0,32.5,-0.93043071538824262,{"$f":"$D$27","v":2.1428571428571428},0,0,0,null,0,0,0,null,0,1000,-2.2969862553965736,2.6101329711630616,0,{"$f":"IF(GR92=$D$14*$D$12,IF(HH92+(HG93*$D$18)/(($D$16*$D$13)-($D$8*$D$13))<0,HH92,HH92+(HG93*$D$18)/(($D$16*$D$13)-($D$8*$D$13))),IF(HH92=0,EXP(-($D$16)*$D$13)*HI93+HH92,EXP(-($D$16)*$D$13)*HI93+HH92))","v":0},null,null,null,null,0,32.5,0.78481900326185849,{"$f":"$D$27","v":2.1428571428571428},0,0,0,null,0,0,0,null,0,1000,0.64885094450949987,1.7077239006172815,0,{"$f":"IF(HN92=$D$14*$D$12,IF(ID92+(IC93*$D$18)/(($D$16*$D$13)-($D$8*$D$13))<0,ID92,ID92+(IC93*$D$18)/(($D$16*$D$13)-($D$8*$D$13))),IF(ID92=0,EXP(-($D$16)*$D$13)*IE93+ID92,EXP(-($D$16)*$D$13)*IE93+ID92))","v":0},null,null,null,null,0,32.5,-0.48736330446462367,{"$f":"$D$27","v":2.1428571428571428},0,0,0,null,0,0,0,null,0,1000,0.59287231727849365,1.265756281735726,0,{"$f":"IF(IJ92=$D$14*$D$12,IF(IZ92+(IY93*$D$18)/(($D$16*$D$13)-($D$8*$D$13))<0,IZ92,IZ92+(IY93*$D$18)/(($D$16*$D$13)-($D$8*$D$13))),IF(IZ92=0,EXP(-($D$16)*$D$13)*JA93+IZ92,EXP(-($D$16)*$D$13)*JA93+IZ92))","v":0},null,null,null,null,0,32.5,0.95814220309645426,{"$f":"$D$27","v":2.1428571428571428},0,0,0,null,0,0,0,null,0,1000,0.82811548705965188,1.0195938219783363,0,{"$f":"IF(JF92=$D$14*$D$12,IF(JV92+(JU93*$D$18)/(($D$16*$D$13)-($D$8*$D$13))<0,JV92,JV92+(JU93*$D$18)/(($D$16*$D$13)-($D$8*$D$13))),IF(JV92=0,EXP(-($D$16)*$D$13)*JW93+JV92,EXP(-($D$16)*$D$13)*JW93+JV92))","v":0},null,null,null,null,0,32.5,-0.42433535575744136,{"$f":"$D$27","v":2.1428571428571428},0,0,0,null,0,0,0,null,0,1000,-0.91048024467742694,4.0581836550282908,0,{"$f":"IF(KB92=$D$14*$D$12,IF(KR92+(KQ93*$D$18)/(($D$16*$D$13)-($D$8*$D$13))<0,KR92,KR92+(KQ93*$D$18)/(($D$16*$D$13)-($D$8*$D$13))),IF(KR92=0,EXP(-($D$16)*$D$13)*KS93+KR92,EXP(-($D$16)*$D$13)*KS93+KR92))","v":0},null,null,null,null,0,32.5,-3.9569597002805469E-2,{"$f":"$D$27","v":2.1428571428571428},0,0,0,null,0,0,0,null,0,1000,1.0927719506466134,0.86230459586148289,0,{"$f":"IF(KX92=$D$14*$D$12,IF(LN92+(LM93*$D$18)/(($D$16*$D$13)-($D$8*$D$13))<0,LN92,LN92+(LM93*$D$18)/(($D$16*$D$13)-($D$8*$D$13))),IF(LN92=0,EXP(-($D$16)*$D$13)*LO93+LN92,EXP(-($D$16)*$D$13)*LO93+LN92))","v":0},null,null,null,null,0,32.5,-1.5788530462819477,{"$f":"$D$27","v":2.1428571428571428},0,0,0,null,0,0,0,null,0,1000,6.7425379351769704E-2,1.1701016656531515,0,{"$f":"IF(LT92=$D$14*$D$12,IF(MJ92+(MI93*$D$18)/(($D$16*$D$13)-($D$8*$D$13))<0,MJ92,MJ92+(MI93*$D$18)/(($D$16*$D$13)-($D$8*$D$13))),IF(MJ92=0,EXP(-($D$16)*$D$13)*MK93+MJ92,EXP(-($D$16)*$D$13)*MK93+MJ92))","v":0},null,null,null,null,0,32.5,-0.53634671520265076,{"$f":"$D$27","v":2.1428571428571428},0,0,0,null,0,0,0,null,0,1000,-0.49923487619488061,0.80571900141889718,0,{"$f":"IF(MP92=$D$14*$D$12,IF(NF92+(NE93*$D$18)/(($D$16*$D$13)-($D$8*$D$13))<0,NF92,NF92+(NE93*$D$18)/(($D$16*$D$13)-($D$8*$D$13))),IF(NF92=0,EXP(-($D$16)*$D$13)*NG93+NF92,EXP(-($D$16)*$D$13)*NG93+NF92))","v":0},null,null,null,null,0,32.5,-2.0994744779792318E-3,{"$f":"$D$27","v":2.1428571428571428},0,0,0,null,0,0,0,null,0,1000,0.84111928125287472,13.178923294648605,0,{"$f":"IF(NL92=$D$14*$D$12,IF(OB92+(OA93*$D$18)/(($D$16*$D$13)-($D$8*$D$13))<0,OB92,OB92+(OA93*$D$18)/(($D$16*$D$13)-($D$8*$D$13))),IF(OB92=0,EXP(-($D$16)*$D$13)*OC93+OB92,EXP(-($D$16)*$D$13)*OC93+OB92))","v":0},null,null,null,null,0,32.5,0.23330949795940079,{"$f":"$D$27","v":2.1428571428571428},0,0,0,null,0,0,0,null,0,1000,-0.33241899820260379,3.6752343337707498,0,{"$f":"IF(OH92=$D$14*$D$12,IF(OX92+(OW93*$D$18)/(($D$16*$D$13)-($D$8*$D$13))<0,OX92,OX92+(OW93*$D$18)/(($D$16*$D$13)-($D$8*$D$13))),IF(OX92=0,EXP(-($D$16)*$D$13)*OY93+OX92,EXP(-($D$16)*$D$13)*OY93+OX92))","v":0},null,null,null,null,0,32.5,0.7747123001482209,{"$f":"$D$27","v":2.1428571428571428},0,0,0,null,0,0,0,null,0,1000,-0.23230136112849167,3.6806339330888926,0,{"$f":"IF(PD92=$D$14*$D$12,IF(PT92+(PS93*$D$18)/(($D$16*$D$13)-($D$8*$D$13))<0,PT92,PT92+(PS93*$D$18)/(($D$16*$D$13)-($D$8*$D$13))),IF(PT92=0,EXP(-($D$16)*$D$13)*PU93+PT92,EXP(-($D$16)*$D$13)*PU93+PT92))","v":0},null,null,null,null,0,32.5,0.92716172970342514,{"$f":"$D$27","v":2.1428571428571428},0,0,0,null,0,0,0,null,0,1000,-0.14994024681102575,0.85106828786802136,0,{"$f":"IF(PZ92=$D$14*$D$12,IF(QP92+(QO93*$D$18)/(($D$16*$D$13)-($D$8*$D$13))<0,QP92,QP92+(QO93*$D$18)/(($D$16*$D$13)-($D$8*$D$13))),IF(QP92=0,EXP(-($D$16)*$D$13)*QQ93+QP92,EXP(-($D$16)*$D$13)*QQ93+QP92))","v":0},null,null,null,null,0,32.5,-0.42252130686845191,{"$f":"$D$27","v":2.1428571428571428},0,0,0,null,0,0,0,null,0,1000,-0.15505765096954299,12.527300766920792,0,{"$f":"IF(QV92=$D$14*$D$12,IF(RL92+(RK93*$D$18)/(($D$16*$D$13)-($D$8*$D$13))<0,RL92,RL92+(RK93*$D$18)/(($D$16*$D$13)-($D$8*$D$13))),IF(RL92=0,EXP(-($D$16)*$D$13)*RM93+RL92,EXP(-($D$16)*$D$13)*RM93+RL92))","v":0},null,null,null,null,0,32.5,1.7722377850760749,{"$f":"$D$27","v":2.1428571428571428},0,0,0,null,0,0,0,null,0,1000,1.0261775022037085,5.1415423434781484,0,{"$f":"IF(RR92=$D$14*$D$12,IF(SH92+(SG93*$D$18)/(($D$16*$D$13)-($D$8*$D$13))<0,SH92,SH92+(SG93*$D$18)/(($D$16*$D$13)-($D$8*$D$13))),IF(SH92=0,EXP(-($D$16)*$D$13)*SI93+SH92,EXP(-($D$16)*$D$13)*SI93+SH92))","v":0},null,null,null,null,0,32.5,-0.74513228936162679,{"$f":"$D$27","v":2.1428571428571428},0,0,0,null,0,0,0,null,0,1000,-1.1416629742170876,12.948375461315679,0,{"$f":"IF(SN92=$D$14*$D$12,IF(TD92+(TC93*$D$18)/(($D$16*$D$13)-($D$8*$D$13))<0,TD92,TD92+(TC93*$D$18)/(($D$16*$D$13)-($D$8*$D$13))),IF(TD92=0,EXP(-($D$16)*$D$13)*TE93+TD92,EXP(-($D$16)*$D$13)*TE93+TD92))","v":0},null,null,null,null,0,32.5,2.2939649418141372,{"$f":"$D$27","v":2.1428571428571428},0,0,0,null,0,0,0,null,0,1000,1.3822047383779201,3.1936180205735529,0,{"$f":"IF(TJ92=$D$14*$D$12,IF(TZ92+(TY93*$D$18)/(($D$16*$D$13)-($D$8*$D$13))<0,TZ92,TZ92+(TY93*$D$18)/(($D$16*$D$13)-($D$8*$D$13))),IF(TZ92=0,EXP(-($D$16)*$D$13)*UA93+TZ92,EXP(-($D$16)*$D$13)*UA93+TZ92))","v":0},null,null,null,null,0,32.5,1.5002419086819694,{"$f":"$D$27","v":2.1428571428571428},0,0,0,null,0,0,0,null,0,1000,0.38278108829466367,7.7837617735709079,0,{"$f":"IF(UF92=$D$14*$D$12,IF(UV92+(UU93*$D$18)/(($D$16*$D$13)-($D$8*$D$13))<0,UV92,UV92+(UU93*$D$18)/(($D$16*$D$13)-($D$8*$D$13))),IF(UV92=0,EXP(-($D$16)*$D$13)*UW93+UV92,EXP(-($D$16)*$D$13)*UW93+UV92))","v":0},null,null,null,null,0,32.5,0.68120673238721985,{"$f":"$D$27","v":2.1428571428571428},0,0,0,null,0,0,0,null,0,1000,0.3290681515969035,2.4571552374713441,0,{"$f":"IF(VB92=$D$14*$D$12,IF(VR92+(VQ93*$D$18)/(($D$16*$D$13)-($D$8*$D$13))<0,VR92,VR92+(VQ93*$D$18)/(($D$16*$D$13)-($D$8*$D$13))),IF(VR92=0,EXP(-($D$16)*$D$13)*VS93+VR92,EXP(-($D$16)*$D$13)*VS93+VR92))","v":0},null,null,null,null,0,32.5,-1.131308799127712,{"$f":"$D$27","v":2.1428571428571428},0,0,0,null,0,0,0,null,0,1000,1.2457617933560334,9.254190245042631,0,{"$f":"IF(VX92=$D$14*$D$12,IF(WN92+(WM93*$D$18)/(($D$16*$D$13)-($D$8*$D$13))<0,WN92,WN92+(WM93*$D$18)/(($D$16*$D$13)-($D$8*$D$13))),IF(WN92=0,EXP(-($D$16)*$D$13)*WO93+WN92,EXP(-($D$16)*$D$13)*WO93+WN92))","v":0},null,null,null,null,0,32.5,1.4260901095531462,{"$f":"$D$27","v":2.1428571428571428},0,0,0,null,0,0,0,null,0,1000,0.16675713166170869,2.8320148527285283,0,{"$f":"IF(WT92=$D$14*$D$12,IF(XJ92+(XI93*$D$18)/(($D$16*$D$13)-($D$8*$D$13))<0,XJ92,XJ92+(XI93*$D$18)/(($D$16*$D$13)-($D$8*$D$13))),IF(XJ92=0,EXP(-($D$16)*$D$13)*XK93+XJ92,EXP(-($D$16)*$D$13)*XK93+XJ92))","v":0},null,null,null,null,0,32.5,-0.96146573080258901,{"$f":"$D$27","v":2.1428571428571428},0,0,0,null,0,0,0,null,0,1000,1.5594332901557741,5.6833180558969367,0,{"$f":"IF(XP92=$D$14*$D$12,IF(YF92+(YE93*$D$18)/(($D$16*$D$13)-($D$8*$D$13))<0,YF92,YF92+(YE93*$D$18)/(($D$16*$D$13)-($D$8*$D$13))),IF(YF92=0,EXP(-($D$16)*$D$13)*YG93+YF92,EXP(-($D$16)*$D$13)*YG93+YF92))","v":0},null,null,null,null,0,32.5,0.40223099032972809,{"$f":"$D$27","v":2.1428571428571428},0,0,0,null,0,0,0,null,0,1000,0.24494873716033463,8.2758595041253784,0,{"$f":"IF(YL92=$D$14*$D$12,IF(ZB92+(ZA93*$D$18)/(($D$16*$D$13)-($D$8*$D$13))<0,ZB92,ZB92+(ZA93*$D$18)/(($D$16*$D$13)-($D$8*$D$13))),IF(ZB92=0,EXP(-($D$16)*$D$13)*ZC93+ZB92,EXP(-($D$16)*$D$13)*ZC93+ZB92))","v":0},null,null,null,null,0,32.5,-0.24241615510132272,{"$f":"$D$27","v":2.1428571428571428},0,0,0,null,0,0,0,null,0,1000,-1.0608450378665322,3.1441511752107529,0,{"$f":"IF(ZH92=$D$14*$D$12,IF(ZX92+(ZW93*$D$18)/(($D$16*$D$13)-($D$8*$D$13))<0,ZX92,ZX92+(ZW93*$D$18)/(($D$16*$D$13)-($D$8*$D$13))),IF(ZX92=0,EXP(-($D$16)*$D$13)*ZY93+ZX92,EXP(-($D$16)*$D$13)*ZY93+ZX92))","v":0},null,null,null,null,0,32.5,1.622909767131544,{"$f":"$D$27","v":2.1428571428571428},0,0,0,null,0,0,0,null,0,1000,0.12534824116005042,0.83201063153865129,0,{"$f":"IF(AAD92=$D$14*$D$12,IF(AAT92+(AAS93*$D$18)/(($D$16*$D$13)-($D$8*$D$13))<0,AAT92,AAT92+(AAS93*$D$18)/(($D$16*$D$13)-($D$8*$D$13))),IF(AAT92=0,EXP(-($D$16)*$D$13)*AAU93+AAT92,EXP(-($D$16)*$D$13)*AAU93+AAT92))","v":0},null,null,null,null,0,32.5,2.1365833620330874E-2,{"$f":"$D$27","v":2.1428571428571428},0,0,0,null,0,0,0,null,0,1000,0.6360862807232891,1.7450674783894631,0,{"$f":"IF(AAZ92=$D$14*$D$12,IF(ABP92+(ABO93*$D$18)/(($D$16*$D$13)-($D$8*$D$13))<0,ABP92,ABP92+(ABO93*$D$18)/(($D$16*$D$13)-($D$8*$D$13))),IF(ABP92=0,EXP(-($D$16)*$D$13)*ABQ93+ABP92,EXP(-($D$16)*$D$13)*ABQ93+ABP92))","v":0},null,null,null,null,0,32.5,-0.43619379777815909,{"$f":"$D$27","v":2.1428571428571428},0,0,0,null,0,0,0,null,0,1000,1.6768622091299843,0.8784970621206718,0,{"$f":"IF(ABV92=$D$14*$D$12,IF(ACL92+(ACK93*$D$18)/(($D$16*$D$13)-($D$8*$D$13))<0,ACL92,ACL92+(ACK93*$D$18)/(($D$16*$D$13)-($D$8*$D$13))),IF(ACL92=0,EXP(-($D$16)*$D$13)*ACM93+ACL92,EXP(-($D$16)*$D$13)*ACM93+ACL92))","v":0},null,null,null,null,0,32.5,0.87344378085960672,{"$f":"$D$27","v":2.1428571428571428},0,0,0,null,0,0,0,null,0,1000,-0.23916357891397186,0.98855948076290323,0,{"$f":"IF(ACR92=$D$14*$D$12,IF(ADH92+(ADG93*$D$18)/(($D$16*$D$13)-($D$8*$D$13))<0,ADH92,ADH92+(ADG93*$D$18)/(($D$16*$D$13)-($D$8*$D$13))),IF(ADH92=0,EXP(-($D$16)*$D$13)*ADI93+ADH92,EXP(-($D$16)*$D$13)*ADI93+ADH92))","v":0},null,null,null,null,0,32.5,0.70602792656089364,{"$f":"$D$27","v":2.1428571428571428},0,0,0,null,0,0,0,null,0,1000,0.3108593471417978,3.6776757470082533,0,{"$f":"IF(ADN92=$D$14*$D$12,IF(AED92+(AEC93*$D$18)/(($D$16*$D$13)-($D$8*$D$13))<0,AED92,AED92+(AEC93*$D$18)/(($D$16*$D$13)-($D$8*$D$13))),IF(AED92=0,EXP(-($D$16)*$D$13)*AEE93+AED92,EXP(-($D$16)*$D$13)*AEE93+AED92))","v":0},null,null,null,null,0,32.5,-2.1127232635837747,{"$f":"$D$27","v":2.1428571428571428},0,0,0,null,0,0,0,null,0,1000,-1.6026910608920693,0.54692662475250564,0,{"$f":"IF(AEJ92=$D$14*$D$12,IF(AEZ92+(AEY93*$D$18)/(($D$16*$D$13)-($D$8*$D$13))<0,AEZ92,AEZ92+(AEY93*$D$18)/(($D$16*$D$13)-($D$8*$D$13))),IF(AEZ92=0,EXP(-($D$16)*$D$13)*AFA93+AEZ92,EXP(-($D$16)*$D$13)*AFA93+AEZ92))","v":0},null,null,null,null,0,32.5,-0.31803868739459396,{"$f":"$D$27","v":2.1428571428571428},0,0,0,null,0,0,0,null,0,1000,-0.24119436159573027,1.1413153376225518,0,{"$f":"IF(AFF92=$D$14*$D$12,IF(AFV92+(AFU93*$D$18)/(($D$16*$D$13)-($D$8*$D$13))<0,AFV92,AFV92+(AFU93*$D$18)/(($D$16*$D$13)-($D$8*$D$13))),IF(AFV92=0,EXP(-($D$16)*$D$13)*AFW93+AFV92,EXP(-($D$16)*$D$13)*AFW93+AFV92))","v":0},null,null,null,null,0,32.5,-0.22446697502124535,{"$f":"$D$27","v":2.1428571428571428},0,0,0,null,0,0,0,null,0,1000,0.21960784641293163,1.2114518311858438,0,{"$f":"IF(AGB92=$D$14*$D$12,IF(AGR92+(AGQ93*$D$18)/(($D$16*$D$13)-($D$8*$D$13))<0,AGR92,AGR92+(AGQ93*$D$18)/(($D$16*$D$13)-($D$8*$D$13))),IF(AGR92=0,EXP(-($D$16)*$D$13)*AGS93+AGR92,EXP(-($D$16)*$D$13)*AGS93+AGR92))","v":0},null,null,null,null,0,32.5,1.6568424004437639,{"$f":"$D$27","v":2.1428571428571428},0,0,0,null,0,0,0,null,0,1000,-1.1650172004018338,0.69602856178014438,0,{"$f":"IF(AGX92=$D$14*$D$12,IF(AHN92+(AHM93*$D$18)/(($D$16*$D$13)-($D$8*$D$13))<0,AHN92,AHN92+(AHM93*$D$18)/(($D$16*$D$13)-($D$8*$D$13))),IF(AHN92=0,EXP(-($D$16)*$D$13)*AHO93+AHN92,EXP(-($D$16)*$D$13)*AHO93+AHN92))","v":0},null,null,null,null,0,32.5,-0.80834511453619329,{"$f":"$D$27","v":2.1428571428571428},0,0,0,null,0,0,0,null,0,1000,-0.32975602620737243,3.178273427055363,0,{"$f":"IF(AHT92=$D$14*$D$12,IF(AIJ92+(AII93*$D$18)/(($D$16*$D$13)-($D$8*$D$13))<0,AIJ92,AIJ92+(AII93*$D$18)/(($D$16*$D$13)-($D$8*$D$13))),IF(AIJ92=0,EXP(-($D$16)*$D$13)*AIK93+AIJ92,EXP(-($D$16)*$D$13)*AIK93+AIJ92))","v":0},null,null,null,null,0,32.5,-0.53106147048853924,{"$f":"$D$27","v":2.1428571428571428},0,0,0,null,0,0,0,null,0,1000,-0.56219199164676514,3.3453790980531579,0,{"$f":"IF(AIP92=$D$14*$D$12,IF(AJF92+(AJE93*$D$18)/(($D$16*$D$13)-($D$8*$D$13))<0,AJF92,AJF92+(AJE93*$D$18)/(($D$16*$D$13)-($D$8*$D$13))),IF(AJF92=0,EXP(-($D$16)*$D$13)*AJG93+AJF92,EXP(-($D$16)*$D$13)*AJG93+AJF92))","v":0},null,null,null,null,0,32.5,0.6042525307530402,{"$f":"$D$27","v":2.1428571428571428},0,0,0,null,0,0,0,null,0,1000,0.20174032188747884,0.40444086527040252,0,{"$f":"IF(AJL92=$D$14*$D$12,IF(AKB92+(AKA93*$D$18)/(($D$16*$D$13)-($D$8*$D$13))<0,AKB92,AKB92+(AKA93*$D$18)/(($D$16*$D$13)-($D$8*$D$13))),IF(AKB92=0,EXP(-($D$16)*$D$13)*AKC93+AKB92,EXP(-($D$16)*$D$13)*AKC93+AKB92))","v":0},null,null,null,null,0,32.5,4.262221983084611E-2,{"$f":"$D$27","v":2.1428571428571428},0,0,0,null,0,0,0,null,0,1000,0.19707035156612401,1.0783186660098119,0,{"$f":"IF(AKH92=$D$14*$D$12,IF(AKX92+(AKW93*$D$18)/(($D$16*$D$13)-($D$8*$D$13))<0,AKX92,AKX92+(AKW93*$D$18)/(($D$16*$D$13)-($D$8*$D$13))),IF(AKX92=0,EXP(-($D$16)*$D$13)*AKY93+AKX92,EXP(-($D$16)*$D$13)*AKY93+AKX92))","v":0},null,null,null,null,0,32.5,-0.60148305228143162,{"$f":"$D$27","v":2.1428571428571428},0,0,0,null,0,0,0,null,0,1000,-0.93213609199192726,0.46915860701743761,0,{"$f":"IF(ALD92=$D$14*$D$12,IF(ALT92+(ALS93*$D$18)/(($D$16*$D$13)-($D$8*$D$13))<0,ALT92,ALT92+(ALS93*$D$18)/(($D$16*$D$13)-($D$8*$D$13))),IF(ALT92=0,EXP(-($D$16)*$D$13)*ALU93+ALT92,EXP(-($D$16)*$D$13)*ALU93+ALT92))","v":0},null,null,null,null,0,32.5,1.9711208514536158,{"$f":"$D$27","v":2.1428571428571428},0,0,0,null,0,0,0,null,0,1000,-0.1382093857278123,0.94452951385287331,0,{"$f":"IF(ALZ92=$D$14*$D$12,IF(AMP92+(AMO93*$D$18)/(($D$16*$D$13)-($D$8*$D$13))<0,AMP92,AMP92+(AMO93*$D$18)/(($D$16*$D$13)-($D$8*$D$13))),IF(AMP92=0,EXP(-($D$16)*$D$13)*AMQ93+AMP92,EXP(-($D$16)*$D$13)*AMQ93+AMP92))","v":0},null,null,null,null,0,32.5,1.2691982083688593,{"$f":"$D$27","v":2.1428571428571428},0,0,0,null,0,0,0,null,0,1000,0.41956453054558507,0.63862777860171649,0,{"$f":"IF(AMV92=$D$14*$D$12,IF(ANL92+(ANK93*$D$18)/(($D$16*$D$13)-($D$8*$D$13))<0,ANL92,ANL92+(ANK93*$D$18)/(($D$16*$D$13)-($D$8*$D$13))),IF(ANL92=0,EXP(-($D$16)*$D$13)*ANM93+ANL92,EXP(-($D$16)*$D$13)*ANM93+ANL92))","v":0},null,null,null,null,0,32.5,-1.1581701798345483,{"$f":"$D$27","v":2.1428571428571428},0,0,0,null,0,0,0,null,0,1000,-0.25864750958367838,0.34777236904439779,0,{"$f":"IF(ANR92=$D$14*$D$12,IF(AOH92+(AOG93*$D$18)/(($D$16*$D$13)-($D$8*$D$13))<0,AOH92,AOH92+(AOG93*$D$18)/(($D$16*$D$13)-($D$8*$D$13))),IF(AOH92=0,EXP(-($D$16)*$D$13)*AOI93+AOH92,EXP(-($D$16)*$D$13)*AOI93+AOH92))","v":0},null,null,null,null,0,32.5,1.561422192208382,{"$f":"$D$27","v":2.1428571428571428},0,0,0,null,0,0,0,null,{"$f":"IF(AOZ91>0,\" \",IF(OR(APG92=\"Failure\",APA91=\"Abandon\"),AON92,))","v":0},1000,-1.2927950138471158,0.37193778658593757,0,{"$f":"IF(AON92=$D$14*$D$12,IF(APD92+(APC93*$D$18)/(($D$16*$D$13)-($D$8*$D$13))<0,APD92,APD92+(APC93*$D$18)/(($D$16*$D$13)-($D$8*$D$13))),IF(APD92=0,EXP(-($D$16)*$D$13)*APE93+APD92,EXP(-($D$16)*$D$13)*APE93+APD92))","v":0},null,null,null,null,0,32.5,1.0585186900169261,{"$f":"$D$27","v":2.1428571428571428},0,0,0,null,0,0,0,null,0,1000,-0.19256767452330545,0.32133875856727534,0,{"$f":"IF(APJ92=$D$14*$D$12,IF(APZ92+(APY93*$D$18)/(($D$16*$D$13)-($D$8*$D$13))<0,APZ92,APZ92+(APY93*$D$18)/(($D$16*$D$13)-($D$8*$D$13))),IF(APZ92=0,EXP(-($D$16)*$D$13)*AQA93+APZ92,EXP(-($D$16)*$D$13)*AQA93+APZ92))","v":0},null,null,null,null,0,32.5,0.36599844612347943,{"$f":"$D$27","v":2.1428571428571428},0,0,0,null,0,0,0,null,0,1000,1.8134998823998576,0.80379760521002774,0,{"$f":"IF(AQF92=$D$14*$D$12,IF(AQV92+(AQU93*$D$18)/(($D$16*$D$13)-($D$8*$D$13))<0,AQV92,AQV92+(AQU93*$D$18)/(($D$16*$D$13)-($D$8*$D$13))),IF(AQV92=0,EXP(-($D$16)*$D$13)*AQW93+AQV92,EXP(-($D$16)*$D$13)*AQW93+AQV92))","v":0},null,null,null,null,0,32.5,-0.38276227943618057,{"$f":"$D$27","v":2.1428571428571428},0,0,0,null,0,0,0,null,0,1000,-0.62779851462188252,0.688146852480782,0,{"$f":"IF(ARB92=$D$14*$D$12,IF(ARR92+(ARQ93*$D$18)/(($D$16*$D$13)-($D$8*$D$13))<0,ARR92,ARR92+(ARQ93*$D$18)/(($D$16*$D$13)-($D$8*$D$13))),IF(ARR92=0,EXP(-($D$16)*$D$13)*ARS93+ARR92,EXP(-($D$16)*$D$13)*ARS93+ARR92))","v":0},null,null,null,null,0,32.5,-0.8754729314989379,{"$f":"$D$27","v":2.1428571428571428},0,0,0,null,0,0,0,null,0,1000,-0.82322688451150317,0.98815242767553257,0,{"$f":"IF(ARX92=$D$14*$D$12,IF(ASN92+(ASM93*$D$18)/(($D$16*$D$13)-($D$8*$D$13))<0,ASN92,ASN92+(ASM93*$D$18)/(($D$16*$D$13)-($D$8*$D$13))),IF(ASN92=0,EXP(-($D$16)*$D$13)*ASO93+ASN92,EXP(-($D$16)*$D$13)*ASO93+ASN92))","v":0},null,null,null,null,0,32.5,-3.7478894226620825E-2,{"$f":"$D$27","v":2.1428571428571428},0,0,0,null,0,0,0,null,0,1000,-3.8448843896273913E-2,0.71417524270248001,0,{"$f":"IF(AST92=$D$14*$D$12,IF(ATJ92+(ATI93*$D$18)/(($D$16*$D$13)-($D$8*$D$13))<0,ATJ92,ATJ92+(ATI93*$D$18)/(($D$16*$D$13)-($D$8*$D$13))),IF(ATJ92=0,EXP(-($D$16)*$D$13)*ATK93+ATJ92,EXP(-($D$16)*$D$13)*ATK93+ATJ92))","v":0},null,null,null,null,0,32.5,-1.4677621316136058,{"$f":"$D$27","v":2.1428571428571428},0,0,0,null,0,0,0,null,0,1000,1.8509359210209308E-2,0.50695828749603711,0,{"$f":"IF(ATP92=$D$14*$D$12,IF(AUF92+(AUE93*$D$18)/(($D$16*$D$13)-($D$8*$D$13))<0,AUF92,AUF92+(AUE93*$D$18)/(($D$16*$D$13)-($D$8*$D$13))),IF(AUF92=0,EXP(-($D$16)*$D$13)*AUG93+AUF92,EXP(-($D$16)*$D$13)*AUG93+AUF92))","v":0},null,null,null,null,0,32.5,0.12689935939331748,{"$f":"$D$27","v":2.1428571428571428},0,0,0,null,0,0,0,null,0,1000,1.4891732419548205,0.834248392986773,0,{"$f":"IF(AUL92=$D$14*$D$12,IF(AVB92+(AVA93*$D$18)/(($D$16*$D$13)-($D$8*$D$13))<0,AVB92,AVB92+(AVA93*$D$18)/(($D$16*$D$13)-($D$8*$D$13))),IF(AVB92=0,EXP(-($D$16)*$D$13)*AVC93+AVB92,EXP(-($D$16)*$D$13)*AVC93+AVB92))","v":0},null,null,null,null,0,32.5,2.2891054328054596,{"$f":"$D$27","v":2.1428571428571428},0,0,0,null,0,0,0,null,0,1000,-0.86044941215885784,0.56986371627880461,0,{"$f":"IF(AVH92=$D$14*$D$12,IF(AVX92+(AVW93*$D$18)/(($D$16*$D$13)-($D$8*$D$13))<0,AVX92,AVX92+(AVW93*$D$18)/(($D$16*$D$13)-($D$8*$D$13))),IF(AVX92=0,EXP(-($D$16)*$D$13)*AVY93+AVX92,EXP(-($D$16)*$D$13)*AVY93+AVX92))","v":0},null,null,null,null,0,32.5,-0.62427947361263914,{"$f":"$D$27","v":2.1428571428571428},0,0,0,null,0,0,0,null,0,1000,0.26761992371970406,0.8089835610241306,0,{"$f":"IF(AWD92=$D$14*$D$12,IF(AWT92+(AWS93*$D$18)/(($D$16*$D$13)-($D$8*$D$13))<0,AWT92,AWT92+(AWS93*$D$18)/(($D$16*$D$13)-($D$8*$D$13))),IF(AWT92=0,EXP(-($D$16)*$D$13)*AWU93+AWT92,EXP(-($D$16)*$D$13)*AWU93+AWT92))","v":0},null,null,null,null,0,32.5,-1.4720825350887783,{"$f":"$D$27","v":2.1428571428571428},0,0,0,null,0,0,0,null,0,1000,-1.4204524724909124,0.53476682342694548,0,{"$f":"IF(AWZ92=$D$14*$D$12,IF(AXP92+(AXO93*$D$18)/(($D$16*$D$13)-($D$8*$D$13))<0,AXP92,AXP92+(AXO93*$D$18)/(($D$16*$D$13)-($D$8*$D$13))),IF(AXP92=0,EXP(-($D$16)*$D$13)*AXQ93+AXP92,EXP(-($D$16)*$D$13)*AXQ93+AXP92))","v":0},null,null,null,null,0,32.5,0.27329279843779802,{"$f":"$D$27","v":2.1428571428571428},0,0,0,null,0,0,0,null,0,1000,-0.39976940741667361,0.35722039287560009,0,{"$f":"IF(AXV92=$D$14*$D$12,IF(AYL92+(AYK93*$D$18)/(($D$16*$D$13)-($D$8*$D$13))<0,AYL92,AYL92+(AYK93*$D$18)/(($D$16*$D$13)-($D$8*$D$13))),IF(AYL92=0,EXP(-($D$16)*$D$13)*AYM93+AYL92,EXP(-($D$16)*$D$13)*AYM93+AYL92))","v":0},null,null,null,null,0,32.5,2.3924462859214124,{"$f":"$D$27","v":2.1428571428571428},0,0,0,null,0,0,0,null,0,1000,7.9637708571379112E-3,0.28839368476194016,0,{"$f":"IF(AYR92=$D$14*$D$12,IF(AZH92+(AZG93*$D$18)/(($D$16*$D$13)-($D$8*$D$13))<0,AZH92,AZH92+(AZG93*$D$18)/(($D$16*$D$13)-($D$8*$D$13))),IF(AZH92=0,EXP(-($D$16)*$D$13)*AZI93+AZH92,EXP(-($D$16)*$D$13)*AZI93+AZH92))","v":0},null,null,null,null,0,32.5,-1.0724696950890398,{"$f":"$D$27","v":2.1428571428571428},0,0,0,null,0,0,0,null,0,1000,2.0910444075385795,0.44546797082068323,0,{"$f":"IF(AZN92=$D$14*$D$12,IF(BAD92+(BAC93*$D$18)/(($D$16*$D$13)-($D$8*$D$13))<0,BAD92,BAD92+(BAC93*$D$18)/(($D$16*$D$13)-($D$8*$D$13))),IF(BAD92=0,EXP(-($D$16)*$D$13)*BAE93+BAD92,EXP(-($D$16)*$D$13)*BAE93+BAD92))","v":0},null,null,null,null,0,32.5,0.57857904823690609,{"$f":"$D$27","v":2.1428571428571428},0,0,0,null,0,0,0,null,0,1000,-0.39464546577204529,0.29731070472348536,0,{"$f":"IF(BAJ92=$D$14*$D$12,IF(BAZ92+(BAY93*$D$18)/(($D$16*$D$13)-($D$8*$D$13))<0,BAZ92,BAZ92+(BAY93*$D$18)/(($D$16*$D$13)-($D$8*$D$13))),IF(BAZ92=0,EXP(-($D$16)*$D$13)*BBA93+BAZ92,EXP(-($D$16)*$D$13)*BBA93+BAZ92))","v":0},null,null,null,null,0,{"$f":"BBG91+$A$28/$D$12","v":32.5},{"$f":"NORMINV((RAND()),0,1)","v":-1.1621300935807202},{"$f":"$D$27","v":2.1428571428571428},{"$f":"IF(BBJ91<=0,0,BBJ91-BBI92+$D$4*(BBJ91-BBI92)*SQRT($D$13)*NORMINV((RAND()),0,1))","v":0},0,0,{"$f":"IF(BBF92>0,IF(AND(BBK92=0,BBK91>0),BBF92,\" \"))","v":false},0,0,0,{"$f":"IF(BBQ91=\"Abandon\",0,IF(BBF92>0,IF(AND(BBL92>0,BBN92=0),\"Abandon\",\" \"),\" \"))","v":" "},0,1000,{"$f":"NORMINV((RAND()),0,1)","v":0.52604148550045171},{"$f":"IF(BBK91>0,IF((BBU91+$D$7*$D$9*BBT92*SQRT($D$13))<0,0,(BBU91+$D$7*$D$9*BBT92*SQRT($D$13))),IF(BBU91*EXP((($D$8-$D$1)-(1/2)*$D$9^2)*$D$13+$D$9*SQRT($D$13)*BBT92)<0,0,BBU91*EXP((($D$8-$D$1)-(1/2)*$D$9^2)*$D$13+$D$9*SQRT($D$13)*BBT92)))","v":0.33953825772576185},0,{"$f":"IF(BBF92=$D$14*$D$12,IF(BBV92+(BBU93*$D$18)/(($D$16*$D$13)-($D$8*$D$13))<0,BBV92,BBV92+(BBU93*$D$18)/(($D$16*$D$13)-($D$8*$D$13))),IF(BBV92=0,EXP(-($D$16)*$D$13)*BBW93+BBV92,EXP(-($D$16)*$D$13)*BBW93+BBV92))","v":0},null,{"$f":"IF(BBK92>0,IF(BBS92<=$D$10*$D$13*1000,\"Failure\",\" \"),\" \")","v":" "},{"$f":"IF(BBZ91>0,\" \",IF(BBY92=\"Failure\",BBF92,))","v":0},null,0,{"$f":"BBG92","v":32.5},-1.1621300935807202,{"$f":"$D$27","v":2.1428571428571428},0,{"$f":"IF(OR(BCG91=0,BCF92<0,BCB92=0),0,BCF92)","v":0},0,null,{"$f":"MAX(BCS92-BCH92,0)","v":0},0,0,null,0,1000,{"$f":"BBT92","v":0.52604148550045171},{"$f":"BBU92","v":0.33953825772576185},0,{"$f":"IF(BCB92=$D$14*$D$12,IF(BCR92+(BCQ93*$D$18)/(($D$16*$D$13)-($D$8*$D$13))<0,BCR92,BCR92+(BCQ93*$D$18)/(($D$16*$D$13)-($D$8*$D$13))),IF(BCR92=0,EXP(-($D$16)*$D$13)*BCS93+BCR92,EXP(-($D$16)*$D$13)*BCS93+BCR92))","v":0},null,null,null,null,0,{"$f":"BCC92","v":32.5},-1.1621300935807202,{"$f":"$D$27","v":2.1428571428571428},0,0,0,null,0,0,0,null,0,1000,0.52604148550045171,0.33953825772576185,0,{"$f":"IF(BCX92=$D$14*$D$12,IF(BDN92+(BDM93*$D$18)/(($D$16*$D$13)-($D$8*$D$13))<0,BDN92,BDN92+(BDM93*$D$18)/(($D$16*$D$13)-($D$8*$D$13))),IF(BDN92=0,EXP(-($D$16)*$D$13)*BDO93+BDN92,EXP(-($D$16)*$D$13)*BDO93+BDN92))","v":0},null,null,null,null,0,{"$f":"BCY92","v":32.5},-1.1621300935807202,{"$f":"$D$27","v":2.1428571428571428},0,0,0,null,0,0,0,null,0,1000,0.52604148550045171,0.33953825772576185,0,{"$f":"IF(BDT92=$D$14*$D$12,IF(BEJ92+(BEI93*$D$18)/(($D$16*$D$13)-($D$8*$D$13))<0,BEJ92,BEJ92+(BEI93*$D$18)/(($D$16*$D$13)-($D$8*$D$13))),IF(BEJ92=0,EXP(-($D$16)*$D$13)*BEK93+BEJ92,EXP(-($D$16)*$D$13)*BEK93+BEJ92))","v":0},null,null,null,null,0,{"$f":"BDU92","v":32.5},-1.1621300935807202,{"$f":"$D$27","v":2.1428571428571428},0,0,0,null,0,0,0,null,0,1000,0.52604148550045171,0.33953825772576185,0,{"$f":"IF(BEP92=$D$14*$D$12,IF(BFF92+(BFE93*$D$18)/(($D$16*$D$13)-($D$8*$D$13))<0,BFF92,BFF92+(BFE93*$D$18)/(($D$16*$D$13)-($D$8*$D$13))),IF(BFF92=0,EXP(-($D$16)*$D$13)*BFG93+BFF92,EXP(-($D$16)*$D$13)*BFG93+BFF92))","v":0},null,null,null,null,0,{"$f":"BEQ92","v":32.5},-1.1621300935807202,{"$f":"$D$27","v":2.1428571428571428},0,0,0,null,0,0,0,null,0,1000,0.52604148550045171,0.33953825772576185,0,{"$f":"IF(BFL92=$D$14*$D$12,IF(BGB92+(BGA93*$D$18)/(($D$16*$D$13)-($D$8*$D$13))<0,BGB92,BGB92+(BGA93*$D$18)/(($D$16*$D$13)-($D$8*$D$13))),IF(BGB92=0,EXP(-($D$16)*$D$13)*BGC93+BGB92,EXP(-($D$16)*$D$13)*BGC93+BGB92))","v":0},null,null,null,null,0,{"$f":"BFM92","v":32.5},-1.1621300935807202,{"$f":"$D$27","v":2.1428571428571428},0,0,0,null,0,0,0,null,0,1000,0.52604148550045171,0.33953825772576185,0,{"$f":"IF(BGH92=$D$14*$D$12,IF(BGX92+(BGW93*$D$18)/(($D$16*$D$13)-($D$8*$D$13))<0,BGX92,BGX92+(BGW93*$D$18)/(($D$16*$D$13)-($D$8*$D$13))),IF(BGX92=0,EXP(-($D$16)*$D$13)*BGY93+BGX92,EXP(-($D$16)*$D$13)*BGY93+BGX92))","v":0},null,null,null,null,0,{"$f":"BGI92","v":32.5},-1.1621300935807202,{"$f":"$D$27","v":2.1428571428571428},0,0,0,null,0,0,0,null,0,1000,0.52604148550045171,0.33953825772576185,0,{"$f":"IF(BHD92=$D$14*$D$12,IF(BHT92+(BHS93*$D$18)/(($D$16*$D$13)-($D$8*$D$13))<0,BHT92,BHT92+(BHS93*$D$18)/(($D$16*$D$13)-($D$8*$D$13))),IF(BHT92=0,EXP(-($D$16)*$D$13)*BHU93+BHT92,EXP(-($D$16)*$D$13)*BHU93+BHT92))","v":0},null,null,null,null,0,{"$f":"BHE92","v":32.5},-1.1621300935807202,{"$f":"$D$27","v":2.1428571428571428},0,0,0,null,0,0,0,null,0,1000,0.52604148550045171,0.33953825772576185,0,{"$f":"IF(BHZ92=$D$14*$D$12,IF(BIP92+(BIO93*$D$18)/(($D$16*$D$13)-($D$8*$D$13))<0,BIP92,BIP92+(BIO93*$D$18)/(($D$16*$D$13)-($D$8*$D$13))),IF(BIP92=0,EXP(-($D$16)*$D$13)*BIQ93+BIP92,EXP(-($D$16)*$D$13)*BIQ93+BIP92))","v":0},null,null,null,null,0,{"$f":"BIA92","v":32.5},-1.1621300935807202,{"$f":"$D$27","v":2.1428571428571428},0,0,0,null,0,0,0,null,0,1000,0.52604148550045171,0.33953825772576185,0,{"$f":"IF(BIV92=$D$14*$D$12,IF(BJL92+(BJK93*$D$18)/(($D$16*$D$13)-($D$8*$D$13))<0,BJL92,BJL92+(BJK93*$D$18)/(($D$16*$D$13)-($D$8*$D$13))),IF(BJL92=0,EXP(-($D$16)*$D$13)*BJM93+BJL92,EXP(-($D$16)*$D$13)*BJM93+BJL92))","v":0},null,null,null,null,0,{"$f":"BIW92","v":32.5},-1.1621300935807202,{"$f":"$D$27","v":2.1428571428571428},0,0,0,null,0,0,0,null,0,1000,0.52604148550045171,0.33953825772576185,0,{"$f":"IF(BJR92=$D$14*$D$12,IF(BKH92+(BKG93*$D$18)/(($D$16*$D$13)-($D$8*$D$13))<0,BKH92,BKH92+(BKG93*$D$18)/(($D$16*$D$13)-($D$8*$D$13))),IF(BKH92=0,EXP(-($D$16)*$D$13)*BKI93+BKH92,EXP(-($D$16)*$D$13)*BKI93+BKH92))","v":0},null,null,null,null,0,{"$f":"BJS92","v":32.5},-1.1621300935807202,{"$f":"$D$27","v":2.1428571428571428},0,0,0,null,0,0,0,null,0,1000,0.52604148550045171,0.33953825772576185,0,{"$f":"IF(BKN92=$D$14*$D$12,IF(BLD92+(BLC93*$D$18)/(($D$16*$D$13)-($D$8*$D$13))<0,BLD92,BLD92+(BLC93*$D$18)/(($D$16*$D$13)-($D$8*$D$13))),IF(BLD92=0,EXP(-($D$16)*$D$13)*BLE93+BLD92,EXP(-($D$16)*$D$13)*BLE93+BLD92))","v":0},null,null,null,null,0,{"$f":"BKO92","v":32.5},-1.1621300935807202,{"$f":"$D$27","v":2.1428571428571428},0,0,0,null,0,0,0,null,0,1000,0.52604148550045171,0.33953825772576185,0,{"$f":"IF(BLJ92=$D$14*$D$12,IF(BLZ92+(BLY93*$D$18)/(($D$16*$D$13)-($D$8*$D$13))<0,BLZ92,BLZ92+(BLY93*$D$18)/(($D$16*$D$13)-($D$8*$D$13))),IF(BLZ92=0,EXP(-($D$16)*$D$13)*BMA93+BLZ92,EXP(-($D$16)*$D$13)*BMA93+BLZ92))","v":0},null,null,null,null,0,{"$f":"BLK92","v":32.5},-1.1621300935807202,{"$f":"$D$27","v":2.1428571428571428},0,0,0,null,0,0,0,null,0,1000,0.52604148550045171,0.33953825772576185,0,{"$f":"IF(BMF92=$D$14*$D$12,IF(BMV92+(BMU93*$D$18)/(($D$16*$D$13)-($D$8*$D$13))<0,BMV92,BMV92+(BMU93*$D$18)/(($D$16*$D$13)-($D$8*$D$13))),IF(BMV92=0,EXP(-($D$16)*$D$13)*BMW93+BMV92,EXP(-($D$16)*$D$13)*BMW93+BMV92))","v":0},null,null,null,null,0,{"$f":"BMG92","v":32.5},-1.1621300935807202,{"$f":"$D$27","v":2.1428571428571428},0,0,0,null,0,0,0,null,0,1000,0.52604148550045171,0.33953825772576185,0,{"$f":"IF(BNB92=$D$14*$D$12,IF(BNR92+(BNQ93*$D$18)/(($D$16*$D$13)-($D$8*$D$13))<0,BNR92,BNR92+(BNQ93*$D$18)/(($D$16*$D$13)-($D$8*$D$13))),IF(BNR92=0,EXP(-($D$16)*$D$13)*BNS93+BNR92,EXP(-($D$16)*$D$13)*BNS93+BNR92))","v":0},null,null,null,null,0,{"$f":"BNC92","v":32.5},-1.1621300935807202,{"$f":"$D$27","v":2.1428571428571428},0,0,0,null,0,0,0,null,0,1000,0.52604148550045171,0.33953825772576185,0,{"$f":"IF(BNX92=$D$14*$D$12,IF(BON92+(BOM93*$D$18)/(($D$16*$D$13)-($D$8*$D$13))<0,BON92,BON92+(BOM93*$D$18)/(($D$16*$D$13)-($D$8*$D$13))),IF(BON92=0,EXP(-($D$16)*$D$13)*BOO93+BON92,EXP(-($D$16)*$D$13)*BOO93+BON92))","v":0},null,null,null,{"$f":"BNX92","v":0},{"$f":"BNY92","v":32.5},0,0,0,null,null,0,0,64,{"$f":"+BBN92","v":0},null,{"$f":"+BBL92","v":0},{"$f":"+BBW92","v":0}]
[0,35,0.2091199986135894,2.1428571428571428,0,0,0,null,0,0,0,null,0,1000,0.16273681819865513,3.7763796833412737,0,0,0,null,null,null,0,35,1.1907369799672403,2.1428571428571428,0,0,0,null,0,0,0,null,0,1000,0.84203204142124599,9.5211969802547856,0,0,null,null,null,null,null,0,{"$f":"AU96+$A$28/$D$12","v":35},-0.86601869518699459,2.1428571428571428,0,0,0,null,0,0,0,null,0,1000,0.13352719034464364,3.4494754745689646,0,0,null,null,null,null,0,{"$f":"BQ96+$A$28/$D$12","v":35},-0.66517877332497921,2.1428571428571428,0,0,0,null,0,{"$f":"IF(BT97=0,0,IF(BP97=0,0,IF(CB$26=1000,IF(BT97<0,IF(BT96>0,IF(BS97-(0-BT97)<0,0,BS97-(0-BT97)),0),IF(CB$26>=BP97,BS97,0)),IF(CB$26>=BP97,BS97,0))))","v":0},0,null,0,1000,2.179668703382684,3.1849299736686691,0,0,null,null,null,null,0,{"$f":"CM96+$A$28/$D$12","v":35},-0.64545066591784817,2.1428571428571428,0,0,0,null,0,{"$f":"IF(CP97=0,0,IF(CL97=0,0,IF(CX$26=1000,IF(CP97<0,IF(CP96>0,IF(CO97-(0-CP97)<0,0,CO97-(0-CP97)),0),IF(CX$26>=CL97,CO97,0)),IF(CX$26>=CL97,CO97,0))))","v":0},0,null,0,1000,-0.70214720909018524,1.4905756406134083,0,0,null,null,null,null,0,{"$f":"DI96+$A$28/$D$12","v":35},{"$f":"NORMSINV(RAND())","v":-0.54372301997998196},2.1428571428571428,{"$f":"IF(DL96<=0,0,DL96-DK97+$D$4*(DL96-DK97)*SQRT($D$13)*NORMINV((RAND()),0,1))","v":0},{"$f":"IF(OR(DM96=0,DL97<0,DH97=0),0,DL97)","v":0},0,null,0,{"$f":"IF(DL97=0,0,IF(DH97=0,0,IF(DT$26=1000,IF(DL97<0,IF(DL96>0,IF(DK97-(0-DL97)<0,0,DK97-(0-DL97)),0),IF(DT$26>=DH97,DK97,0)),IF(DT$26>=DH97,DK97,0))))","v":0},0,null,0,1000,{"$f":"NORMSINV(RAND())","v":9.4784918186977887E-2},{"$f":"IF(DM96>0,IF((DW96+$D$7*$D$9*DV97*SQRT($D$13))<0,0,(DW96+$D$7*$D$9*DV97*SQRT($D$13))),IF(DW96*EXP((($D$8-$D$1)-(1/2)*$D$9^2)*$D$13+$D$9*SQRT($D$13)*DV97)<0,0,DW96*EXP((($D$8-$D$1)-(1/2)*$D$9^2)*$D$13+$D$9*SQRT($D$13)*DV97)))","v":1.7625401855532208},0,0,null,null,null,null,0,35,0.1902880464489429,2.1428571428571428,0,0,0,null,0,{"$f":"IF(EH97=0,0,IF(ED97=0,0,IF(EP$26=1000,IF(EH97<0,IF(EH96>0,IF(EG97-(0-EH97)<0,0,EG97-(0-EH97)),0),IF(EP$26>=ED97,EG97,0)),IF(EP$26>=ED97,EG97,0))))","v":0},0,null,0,1000,-3.3217713888042404,0.55460847298735538,0,0,null,null,null,null,0,35,-0.20586399813921458,2.1428571428571428,0,0,0,null,0,{"$f":"IF(FD97=0,0,IF(EZ97=0,0,IF(FL$26=1000,IF(FD97<0,IF(FD96>0,IF(FC97-(0-FD97)<0,0,FC97-(0-FD97)),0),IF(FL$26>=EZ97,FC97,0)),IF(FL$26>=EZ97,FC97,0))))","v":0},0,null,0,1000,2.3145087094619936,12.699383786720832,0,0,null,null,null,null,0,35,-1.0231685475975834,2.1428571428571428,0,0,0,null,0,{"$f":"IF(FZ97=0,0,IF(FV97=0,0,IF(GH$26=1000,IF(FZ97<0,IF(FZ96>0,IF(FY97-(0-FZ97)<0,0,FY97-(0-FZ97)),0),IF(GH$26>=FV97,FY97,0)),IF(GH$26>=FV97,FY97,0))))","v":0},0,null,0,1000,-0.22432920055006719,2.9249831182020909,0,0,null,null,null,null,0,35,-1.7660721458072561,2.1428571428571428,0,0,0,null,0,{"$f":"IF(GV97=0,0,IF(GR97=0,0,IF(HD$26=1000,IF(GV97<0,IF(GV96>0,IF(GU97-(0-GV97)<0,0,GU97-(0-GV97)),0),IF(HD$26>=GR97,GU97,0)),IF(HD$26>=GR97,GU97,0))))","v":0},0,null,0,1000,-1.1554196137510837,1.7306755348432388,0,0,null,null,null,null,0,35,5.6399523202176553E-2,2.1428571428571428,0,0,0,null,0,{"$f":"IF(HR97=0,0,IF(HN97=0,0,IF(HZ$26=1000,IF(HR97<0,IF(HR96>0,IF(HQ97-(0-HR97)<0,0,HQ97-(0-HR97)),0),IF(HZ$26>=HN97,HQ97,0)),IF(HZ$26>=HN97,HQ97,0))))","v":0},0,null,0,1000,-0.37889333263359032,2.9153127660728479,0,0,null,null,null,null,0,35,-0.89332404899501183,2.1428571428571428,0,0,0,null,0,{"$f":"IF(IN97=0,0,IF(IJ97=0,0,IF(IV$26=1000,IF(IN97<0,IF(IN96>0,IF(IM97-(0-IN97)<0,0,IM97-(0-IN97)),0),IF(IV$26>=IJ97,IM97,0)),IF(IV$26>=IJ97,IM97,0))))","v":0},0,null,0,1000,1.0600659154048306,1.9751298874607357,0,0,null,null,null,null,0,35,1.4032151188342274,2.1428571428571428,0,0,0,null,0,{"$f":"IF(JJ97=0,0,IF(JF97=0,0,IF(JR$26=1000,IF(JJ97<0,IF(JJ96>0,IF(JI97-(0-JJ97)<0,0,JI97-(0-JJ97)),0),IF(JR$26>=JF97,JI97,0)),IF(JR$26>=JF97,JI97,0))))","v":0},0,null,0,1000,-0.44017200991571959,1.0615143338254498,0,0,null,null,null,null,0,35,0.60062245892443766,2.1428571428571428,0,0,0,null,0,{"$f":"IF(KF97=0,0,IF(KB97=0,0,IF(KN$26=1000,IF(KF97<0,IF(KF96>0,IF(KE97-(0-KF97)<0,0,KE97-(0-KF97)),0),IF(KN$26>=KB97,KE97,0)),IF(KN$26>=KB97,KE97,0))))","v":0},0,null,0,1000,0.77777618848655494,4.8029341008125321,0,0,null,null,null,null,0,35,0.51164745019733227,2.1428571428571428,0,0,0,null,0,{"$f":"IF(LB97=0,0,IF(KX97=0,0,IF(LJ$26=1000,IF(LB97<0,IF(LB96>0,IF(LA97-(0-LB97)<0,0,LA97-(0-LB97)),0),IF(LJ$26>=KX97,LA97,0)),IF(LJ$26>=KX97,LA97,0))))","v":0},0,null,0,1000,-1.0240353624587761,1.0093613461813604,0,0,null,null,null,null,0,35,-0.18316520656154178,2.1428571428571428,0,0,0,null,0,{"$f":"IF(LX97=0,0,IF(LT97=0,0,IF(MF$26=1000,IF(LX97<0,IF(LX96>0,IF(LW97-(0-LX97)<0,0,LW97-(0-LX97)),0),IF(MF$26>=LT97,LW97,0)),IF(MF$26>=LT97,LW97,0))))","v":0},0,null,0,1000,-1.554885581479271,1.6283390837489584,0,0,null,null,null,null,0,35,1.1171484293732179,2.1428571428571428,0,0,0,null,0,{"$f":"IF(MT97=0,0,IF(MP97=0,0,IF(NB$26=1000,IF(MT97<0,IF(MT96>0,IF(MS97-(0-MT97)<0,0,MS97-(0-MT97)),0),IF(NB$26>=MP97,MS97,0)),IF(NB$26>=MP97,MS97,0))))","v":0},0,null,0,1000,-0.84504760771918253,0.6121276290767651,0,0,null,null,null,null,0,35,-0.82093819974487947,2.1428571428571428,0,0,0,null,0,{"$f":"IF(NP97=0,0,IF(NL97=0,0,IF(NX$26=1000,IF(NP97<0,IF(NP96>0,IF(NO97-(0-NP97)<0,0,NO97-(0-NP97)),0),IF(NX$26>=NL97,NO97,0)),IF(NX$26>=NL97,NO97,0))))","v":0},0,null,0,1000,1.7222198930429515,28.523552761988523,0,0,null,null,null,null,0,35,-0.95360173185440389,2.1428571428571428,0,0,0,null,0,{"$f":"IF(OL97=0,0,IF(OH97=0,0,IF(OT$26=1000,IF(OL97<0,IF(OL96>0,IF(OK97-(0-OL97)<0,0,OK97-(0-OL97)),0),IF(OT$26>=OH97,OK97,0)),IF(OT$26>=OH97,OK97,0))))","v":0},0,null,0,1000,0.66010162598611599,6.3461372128949991,0,0,null,null,null,null,0,35,-0.49207990647622901,2.1428571428571428,0,0,0,null,0,{"$f":"IF(PH97=0,0,IF(PD97=0,0,IF(PP$26=1000,IF(PH97<0,IF(PH96>0,IF(PG97-(0-PH97)<0,0,PG97-(0-PH97)),0),IF(PP$26>=PD97,PG97,0)),IF(PP$26>=PD97,PG97,0))))","v":0},0,null,0,1000,0.33092050951817037,2.3452014152117986,0,0,null,null,null,null,0,35,1.1856544166469021,2.1428571428571428,0,0,0,null,0,{"$f":"IF(QD97=0,0,IF(PZ97=0,0,IF(QL$26=1000,IF(QD97<0,IF(QD96>0,IF(QC97-(0-QD97)<0,0,QC97-(0-QD97)),0),IF(QL$26>=PZ97,QC97,0)),IF(QL$26>=PZ97,QC97,0))))","v":0},0,null,0,1000,-1.1585560286857156E-2,1.0676070656643872,0,0,null,null,null,null,0,35,0.6097458380166646,2.1428571428571428,0,0,0,null,0,{"$f":"IF(QZ97=0,0,IF(QV97=0,0,IF(RH$26=1000,IF(QZ97<0,IF(QZ96>0,IF(QY97-(0-QZ97)<0,0,QY97-(0-QZ97)),0),IF(RH$26>=QV97,QY97,0)),IF(RH$26>=QV97,QY97,0))))","v":0},0,null,0,1000,-0.12777788432705975,9.8486311780623463,0,0,null,null,null,null,0,35,-0.87973766508177964,2.1428571428571428,0,0,0,null,0,{"$f":"IF(RV97=0,0,IF(RR97=0,0,IF(SD$26=1000,IF(RV97<0,IF(RV96>0,IF(RU97-(0-RV97)<0,0,RU97-(0-RV97)),0),IF(SD$26>=RR97,RU97,0)),IF(SD$26>=RR97,RU97,0))))","v":0},0,null,0,1000,0.33691276232885714,5.8273863710902507,0,0,null,null,null,null,0,35,-0.75194610752164626,2.1428571428571428,0,0,0,null,0,{"$f":"IF(SR97=0,0,IF(SN97=0,0,IF(SZ$26=1000,IF(SR97<0,IF(SR96>0,IF(SQ97-(0-SR97)<0,0,SQ97-(0-SR97)),0),IF(SZ$26>=SN97,SQ97,0)),IF(SZ$26>=SN97,SQ97,0))))","v":0},0,null,0,1000,1.5465192360738449,22.718587723815808,0,0,null,null,null,null,0,35,-1.2910372917660915,2.1428571428571428,0,0,0,null,0,{"$f":"IF(TN97=0,0,IF(TJ97=0,0,IF(TV$26=1000,IF(TN97<0,IF(TN96>0,IF(TM97-(0-TN97)<0,0,TM97-(0-TN97)),0),IF(TV$26>=TJ97,TM97,0)),IF(TV$26>=TJ97,TM97,0))))","v":0},0,null,0,1000,-1.1770849468949833,3.0403460047083768,0,0,null,null,null,null,0,35,0.1379245932954079,2.1428571428571428,0,0,0,null,0,{"$f":"IF(UJ97=0,0,IF(UF97=0,0,IF(UR$26=1000,IF(UJ97<0,IF(UJ96>0,IF(UI97-(0-UJ97)<0,0,UI97-(0-UJ97)),0),IF(UR$26>=UF97,UI97,0)),IF(UR$26>=UF97,UI97,0))))","v":0},0,null,0,1000,0.97994385264894324,11.388573601016612,0,0,null,null,null,null,0,35,1.1032319253983507,2.1428571428571428,0,0,0,null,0,{"$f":"IF(VF97=0,0,IF(VB97=0,0,IF(VN$26=1000,IF(VF97<0,IF(VF96>0,IF(VE97-(0-VF97)<0,0,VE97-(0-VF97)),0),IF(VN$26>=VB97,VE97,0)),IF(VN$26>=VB97,VE97,0))))","v":0},0,null,0,1000,1.1952660289931132,5.0624104851955671,0,0,null,null,null,null,0,35,0.44090710059598176,2.1428571428571428,0,0,0,null,0,{"$f":"IF(WB97=0,0,IF(VX97=0,0,IF(WJ$26=1000,IF(WB97<0,IF(WB96>0,IF(WA97-(0-WB97)<0,0,WA97-(0-WB97)),0),IF(WJ$26>=VX97,WA97,0)),IF(WJ$26>=VX97,WA97,0))))","v":0},0,null,0,1000,1.0778515888823805,8.627233496738846,0,0,null,null,null,null,0,35,0.89050109222728269,2.1428571428571428,0,0,0,null,0,{"$f":"IF(WX97=0,0,IF(WT97=0,0,IF(XF$26=1000,IF(WX97<0,IF(WX96>0,IF(WW97-(0-WX97)<0,0,WW97-(0-WX97)),0),IF(XF$26>=WT97,WW97,0)),IF(XF$26>=WT97,WW97,0))))","v":0},0,null,0,1000,-0.82061412695245095,2.3810617679310315,0,0,null,null,null,null,0,35,-3.7514324923016526E-2,2.1428571428571428,0,0,0,null,0,{"$f":"IF(XT97=0,0,IF(XP97=0,0,IF(YB$26=1000,IF(XT97<0,IF(XT96>0,IF(XS97-(0-XT97)<0,0,XS97-(0-XT97)),0),IF(YB$26>=XP97,XS97,0)),IF(YB$26>=XP97,XS97,0))))","v":0},0,null,0,1000,-0.34695856410277071,6.7636498668211713,0,0,null,null,null,null,0,35,-0.90105248555108464,2.1428571428571428,0,0,0,null,0,{"$f":"IF(YP97=0,0,IF(YL97=0,0,IF(YX$26=1000,IF(YP97<0,IF(YP96>0,IF(YO97-(0-YP97)<0,0,YO97-(0-YP97)),0),IF(YX$26>=YL97,YO97,0)),IF(YX$26>=YL97,YO97,0))))","v":0},0,null,0,1000,-0.1125860093943883,12.765251059748994,0,0,null,null,null,null,0,35,0.23949909542370509,2.1428571428571428,0,0,0,null,0,{"$f":"IF(ZL97=0,0,IF(ZH97=0,0,IF(ZT$26=1000,IF(ZL97<0,IF(ZL96>0,IF(ZK97-(0-ZL97)<0,0,ZK97-(0-ZL97)),0),IF(ZT$26>=ZH97,ZK97,0)),IF(ZT$26>=ZH97,ZK97,0))))","v":0},0,null,0,1000,-1.3636724564628833,3.6293085156865241,0,0,null,null,null,null,0,35,-0.41310450528606768,2.1428571428571428,0,0,0,null,0,{"$f":"IF(AAH97=0,0,IF(AAD97=0,0,IF(AAP$26=1000,IF(AAH97<0,IF(AAH96>0,IF(AAG97-(0-AAH97)<0,0,AAG97-(0-AAH97)),0),IF(AAP$26>=AAD97,AAG97,0)),IF(AAP$26>=AAD97,AAG97,0))))","v":0},0,null,0,1000,-0.68553975669040246,0.72134047844574611,0,0,null,null,null,null,0,35,0.7956132165573071,2.1428571428571428,0,0,0,null,0,{"$f":"IF(ABD97=0,0,IF(AAZ97=0,0,IF(ABL$26=1000,IF(ABD97<0,IF(ABD96>0,IF(ABC97-(0-ABD97)<0,0,ABC97-(0-ABD97)),0),IF(ABL$26>=AAZ97,ABC97,0)),IF(ABL$26>=AAZ97,ABC97,0))))","v":0},0,null,0,1000,-0.44392788457641214,3.2145855937309178,0,0,null,null,null,null,0,35,0.65459089837113504,2.1428571428571428,0,0,0,null,0,{"$f":"IF(ABZ97=0,0,IF(ABV97=0,0,IF(ACH$26=1000,IF(ABZ97<0,IF(ABZ96>0,IF(ABY97-(0-ABZ97)<0,0,ABY97-(0-ABZ97)),0),IF(ACH$26>=ABV97,ABY97,0)),IF(ACH$26>=ABV97,ABY97,0))))","v":0},0,null,0,1000,-0.52319100543792441,0.77934324924278486,0,0,null,null,null,null,0,35,-5.4682438952161211E-3,2.1428571428571428,0,0,0,null,0,{"$f":"IF(ACV97=0,0,IF(ACR97=0,0,IF(ADD$26=1000,IF(ACV97<0,IF(ACV96>0,IF(ACU97-(0-ACV97)<0,0,ACU97-(0-ACV97)),0),IF(ADD$26>=ACR97,ACU97,0)),IF(ADD$26>=ACR97,ACU97,0))))","v":0},0,null,0,1000,-0.3223825131299024,1.3410209918073253,0,0,null,null,null,null,0,35,-0.51841968520702397,2.1428571428571428,0,0,0,null,0,{"$f":"IF(ADR97=0,0,IF(ADN97=0,0,IF(ADZ$26=1000,IF(ADR97<0,IF(ADR96>0,IF(ADQ97-(0-ADR97)<0,0,ADQ97-(0-ADR97)),0),IF(ADZ$26>=ADN97,ADQ97,0)),IF(ADZ$26>=ADN97,ADQ97,0))))","v":0},0,null,0,1000,-1.4873549051562658,2.6591932487848884,0,0,null,null,null,null,0,35,-0.19909851019811933,2.1428571428571428,0,0,0,null,0,{"$f":"IF(AEN97=0,0,IF(AEJ97=0,0,IF(AEV$26=1000,IF(AEN97<0,IF(AEN96>0,IF(AEM97-(0-AEN97)<0,0,AEM97-(0-AEN97)),0),IF(AEV$26>=AEJ97,AEM97,0)),IF(AEV$26>=AEJ97,AEM97,0))))","v":0},0,null,0,1000,0.7149944861246158,0.70889789745973153,0,0,null,null,null,null,0,35,-2.3861687816760351,2.1428571428571428,0,0,0,null,0,{"$f":"IF(AFJ97=0,0,IF(AFF97=0,0,IF(AFR$26=1000,IF(AFJ97<0,IF(AFJ96>0,IF(AFI97-(0-AFJ97)<0,0,AFI97-(0-AFJ97)),0),IF(AFR$26>=AFF97,AFI97,0)),IF(AFR$26>=AFF97,AFI97,0))))","v":0},0,null,0,1000,-0.71337384507331059,0.99328725868589385,0,0,null,null,null,null,0,35,-0.2766044592513231,2.1428571428571428,0,0,0,null,0,{"$f":"IF(AGF97=0,0,IF(AGB97=0,0,IF(AGN$26=1000,IF(AGF97<0,IF(AGF96>0,IF(AGE97-(0-AGF97)<0,0,AGE97-(0-AGF97)),0),IF(AGN$26>=AGB97,AGE97,0)),IF(AGN$26>=AGB97,AGE97,0))))","v":0},0,null,0,1000,-0.97532143834899732,1.070151009165252,0,0,null,null,null,null,0,35,-0.13057605554701845,2.1428571428571428,0,0,0,null,0,{"$f":"IF(AHB97=0,0,IF(AGX97=0,0,IF(AHJ$26=1000,IF(AHB97<0,IF(AHB96>0,IF(AHA97-(0-AHB97)<0,0,AHA97-(0-AHB97)),0),IF(AHJ$26>=AGX97,AHA97,0)),IF(AHJ$26>=AGX97,AHA97,0))))","v":0},0,null,0,1000,-1.8000248971691009,0.75983703197307639,0,0,null,null,null,null,0,35,1.3199599211635169,2.1428571428571428,0,0,0,null,0,{"$f":"IF(AHX97=0,0,IF(AHT97=0,0,IF(AIF$26=1000,IF(AHX97<0,IF(AHX96>0,IF(AHW97-(0-AHX97)<0,0,AHW97-(0-AHX97)),0),IF(AIF$26>=AHT97,AHW97,0)),IF(AIF$26>=AHT97,AHW97,0))))","v":0},0,null,0,1000,0.13100878624775725,2.5758981461109403,0,0,null,null,null,null,0,35,0.73362975295507493,2.1428571428571428,0,0,0,null,0,{"$f":"IF(AIT97=0,0,IF(AIP97=0,0,IF(AJB$26=1000,IF(AIT97<0,IF(AIT96>0,IF(AIS97-(0-AIT97)<0,0,AIS97-(0-AIT97)),0),IF(AJB$26>=AIP97,AIS97,0)),IF(AJB$26>=AIP97,AIS97,0))))","v":0},0,null,0,1000,-1.4770604556076743,2.8291629198481916,0,0,null,null,null,null,0,35,0.10945716019431312,2.1428571428571428,0,0,0,null,0,{"$f":"IF(AJP97=0,0,IF(AJL97=0,0,IF(AJX$26=1000,IF(AJP97<0,IF(AJP96>0,IF(AJO97-(0-AJP97)<0,0,AJO97-(0-AJP97)),0),IF(AJX$26>=AJL97,AJO97,0)),IF(AJX$26>=AJL97,AJO97,0))))","v":0},0,null,0,1000,-4.7536132898560693E-2,0.39792809582885474,0,0,null,null,null,null,0,35,-0.83809646217454625,2.1428571428571428,0,0,0,null,0,{"$f":"IF(AKL97=0,0,IF(AKH97=0,0,IF(AKT$26=1000,IF(AKL97<0,IF(AKL96>0,IF(AKK97-(0-AKL97)<0,0,AKK97-(0-AKL97)),0),IF(AKT$26>=AKH97,AKK97,0)),IF(AKT$26>=AKH97,AKK97,0))))","v":0},0,null,0,1000,0.81442991005637866,1.2977094410568748,0,0,null,null,null,null,0,35,0.25355972093351953,2.1428571428571428,0,0,0,null,0,{"$f":"IF(ALH97=0,0,IF(ALD97=0,0,IF(ALP$26=1000,IF(ALH97<0,IF(ALH96>0,IF(ALG97-(0-ALH97)<0,0,ALG97-(0-ALH97)),0),IF(ALP$26>=ALD97,ALG97,0)),IF(ALP$26>=ALD97,ALG97,0))))","v":0},0,null,0,1000,1.4628896302887013,0.83189383037041387,0,0,null,null,null,null,0,35,-1.3461050799981678,2.1428571428571428,0,0,0,null,0,{"$f":"IF(AMD97=0,0,IF(ALZ97=0,0,IF(AML$26=1000,IF(AMD97<0,IF(AMD96>0,IF(AMC97-(0-AMD97)<0,0,AMC97-(0-AMD97)),0),IF(AML$26>=ALZ97,AMC97,0)),IF(AML$26>=ALZ97,AMC97,0))))","v":0},0,null,0,1000,0.51315420407712897,0.89572160328639483,0,0,null,null,null,null,0,35,-1.357615633064001,2.1428571428571428,0,0,0,null,0,{"$f":"IF(AMZ97=0,0,IF(AMV97=0,0,IF(ANH$26=1000,IF(AMZ97<0,IF(AMZ96>0,IF(AMY97-(0-AMZ97)<0,0,AMY97-(0-AMZ97)),0),IF(ANH$26>=AMV97,AMY97,0)),IF(ANH$26>=AMV97,AMY97,0))))","v":0},0,null,0,1000,-0.3960195595066886,0.70414881105660032,0,0,null,null,null,null,0,35,0.69657844013276793,2.1428571428571428,0,0,0,null,0,{"$f":"IF(ANV97=0,0,IF(ANR97=0,0,IF(AOD$26=1000,IF(ANV97<0,IF(ANV96>0,IF(ANU97-(0-ANV97)<0,0,ANU97-(0-ANV97)),0),IF(AOD$26>=ANR97,ANU97,0)),IF(AOD$26>=ANR97,ANU97,0))))","v":0},0,null,0,1000,7.2070461806947067E-2,0.2758063881621679,0,0,null,null,null,null,0,35,0.85782347756826915,2.1428571428571428,0,0,0,null,0,{"$f":"IF(AOR97=0,0,IF(AON97=0,0,IF(AOZ$26=1000,IF(AOR97<0,IF(AOR96>0,IF(AOQ97-(0-AOR97)<0,0,AOQ97-(0-AOR97)),0),IF(AOZ$26>=AON97,AOQ97,0)),IF(AOZ$26>=AON97,AOQ97,0))))","v":0},0,null,0,1000,1.2315201687342805,0.48809701895310664,0,0,null,null,null,null,0,35,5.1940231412908513E-3,2.1428571428571428,0,0,0,null,0,{"$f":"IF(APN97=0,0,IF(APJ97=0,0,IF(APV$26=1000,IF(APN97<0,IF(APN96>0,IF(APM97-(0-APN97)<0,0,APM97-(0-APN97)),0),IF(APV$26>=APJ97,APM97,0)),IF(APV$26>=APJ97,APM97,0))))","v":0},0,null,0,1000,1.2295034476155062,0.30202418671603837,0,0,null,null,null,null,0,35,0.95440159842414285,2.1428571428571428,0,0,0,null,0,{"$f":"IF(AQJ97=0,0,IF(AQF97=0,0,IF(AQR$26=1000,IF(AQJ97<0,IF(AQJ96>0,IF(AQI97-(0-AQJ97)<0,0,AQI97-(0-AQJ97)),0),IF(AQR$26>=AQF97,AQI97,0)),IF(AQR$26>=AQF97,AQI97,0))))","v":0},0,null,0,1000,-0.83463544518690014,1.2578434335690034,0,0,null,null,null,null,0,35,0.22011149909177546,2.1428571428571428,0,0,0,null,0,{"$f":"IF(ARF97=0,0,IF(ARB97=0,0,IF(ARN$26=1000,IF(ARF97<0,IF(ARF96>0,IF(ARE97-(0-ARF97)<0,0,ARE97-(0-ARF97)),0),IF(ARN$26>=ARB97,ARE97,0)),IF(ARN$26>=ARB97,ARE97,0))))","v":0},0,null,0,1000,2.6312564094554531,1.5622162640775905,0,0,null,null,null,null,0,35,0.37316160918777924,2.1428571428571428,0,0,0,null,0,{"$f":"IF(ASB97=0,0,IF(ARX97=0,0,IF(ASJ$26=1000,IF(ASB97<0,IF(ASB96>0,IF(ASA97-(0-ASB97)<0,0,ASA97-(0-ASB97)),0),IF(ASJ$26>=ARX97,ASA97,0)),IF(ASJ$26>=ARX97,ASA97,0))))","v":0},0,null,0,1000,1.3632434524822683,1.155013842050217,0,0,null,null,null,null,0,35,1.3262786547895227,2.1428571428571428,0,0,0,null,0,{"$f":"IF(ASX97=0,0,IF(AST97=0,0,IF(ATF$26=1000,IF(ASX97<0,IF(ASX96>0,IF(ASW97-(0-ASX97)<0,0,ASW97-(0-ASX97)),0),IF(ATF$26>=AST97,ASW97,0)),IF(ATF$26>=AST97,ASW97,0))))","v":0},0,null,0,1000,2.058669797292477,1.5141763224791549,0,0,null,null,null,null,0,35,-4.473856567933694E-3,2.1428571428571428,0,0,0,null,0,{"$f":"IF(ATT97=0,0,IF(ATP97=0,0,IF(AUB$26=1000,IF(ATT97<0,IF(ATT96>0,IF(ATS97-(0-ATT97)<0,0,ATS97-(0-ATT97)),0),IF(AUB$26>=ATP97,ATS97,0)),IF(AUB$26>=ATP97,ATS97,0))))","v":0},0,null,0,1000,0.19661161162826155,0.4477068590212368,0,0,null,null,null,null,0,35,-0.4562222535879315,2.1428571428571428,0,0,0,null,0,{"$f":"IF(AUP97=0,0,IF(AUL97=0,0,IF(AUX$26=1000,IF(AUP97<0,IF(AUP96>0,IF(AUO97-(0-AUP97)<0,0,AUO97-(0-AUP97)),0),IF(AUX$26>=AUL97,AUO97,0)),IF(AUX$26>=AUL97,AUO97,0))))","v":0},0,null,0,1000,0.90764377555382159,0.95321737979536847,0,0,null,null,null,null,0,35,-0.88553910742737341,2.1428571428571428,0,0,0,null,0,{"$f":"IF(AVL97=0,0,IF(AVH97=0,0,IF(AVT$26=1000,IF(AVL97<0,IF(AVL96>0,IF(AVK97-(0-AVL97)<0,0,AVK97-(0-AVL97)),0),IF(AVT$26>=AVH97,AVK97,0)),IF(AVT$26>=AVH97,AVK97,0))))","v":0},0,null,0,1000,-0.39451649230864189,0.74227321882630148,0,0,null,null,null,null,0,35,-1.1555844016636867,2.1428571428571428,0,0,0,null,0,{"$f":"IF(AWH97=0,0,IF(AWD97=0,0,IF(AWP$26=1000,IF(AWH97<0,IF(AWH96>0,IF(AWG97-(0-AWH97)<0,0,AWG97-(0-AWH97)),0),IF(AWP$26>=AWD97,AWG97,0)),IF(AWP$26>=AWD97,AWG97,0))))","v":0},0,null,0,1000,1.1667707867443597,1.4245266361778266,0,0,null,null,null,null,0,35,-0.20150721632929403,2.1428571428571428,0,0,0,null,0,{"$f":"IF(AXD97=0,0,IF(AWZ97=0,0,IF(AXL$26=1000,IF(AXD97<0,IF(AXD96>0,IF(AXC97-(0-AXD97)<0,0,AXC97-(0-AXD97)),0),IF(AXL$26>=AWZ97,AXC97,0)),IF(AXL$26>=AWZ97,AXC97,0))))","v":0},0,null,0,1000,-0.56200597213549619,0.55569180573470267,0,0,null,null,null,null,0,35,1.193302731879728,2.1428571428571428,0,0,0,null,0,{"$f":"IF(AXZ97=0,0,IF(AXV97=0,0,IF(AYH$26=1000,IF(AXZ97<0,IF(AXZ96>0,IF(AXY97-(0-AXZ97)<0,0,AXY97-(0-AXZ97)),0),IF(AYH$26>=AXV97,AXY97,0)),IF(AYH$26>=AXV97,AXY97,0))))","v":0},0,null,0,1000,5.3622855329787562E-2,0.29329576861229811,0,0,null,null,null,null,0,35,-0.24545087955437184,2.1428571428571428,0,0,0,null,0,{"$f":"IF(AYV97=0,0,IF(AYR97=0,0,IF(AZD$26=1000,IF(AYV97<0,IF(AYV96>0,IF(AYU97-(0-AYV97)<0,0,AYU97-(0-AYV97)),0),IF(AZD$26>=AYR97,AYU97,0)),IF(AZD$26>=AYR97,AYU97,0))))","v":0},0,null,0,1000,0.12055386965677561,0.29296443318147053,0,0,null,null,null,null,0,35,-5.2535415057469066E-2,2.1428571428571428,0,0,0,null,0,{"$f":"IF(AZR97=0,0,IF(AZN97=0,0,IF(AZZ$26=1000,IF(AZR97<0,IF(AZR96>0,IF(AZQ97-(0-AZR97)<0,0,AZQ97-(0-AZR97)),0),IF(AZZ$26>=AZN97,AZQ97,0)),IF(AZZ$26>=AZN97,AZQ97,0))))","v":0},0,null,0,1000,0.21392696460942129,0.4234859857976298,0,0,null,null,null,null,0,35,0.90835383688206961,2.1428571428571428,0,0,0,null,0,{"$f":"IF(BAN97=0,0,IF(BAJ97=0,0,IF(BAV$26=1000,IF(BAN97<0,IF(BAN96>0,IF(BAM97-(0-BAN97)<0,0,BAM97-(0-BAN97)),0),IF(BAV$26>=BAJ97,BAM97,0)),IF(BAV$26>=BAJ97,BAM97,0))))","v":0},0,null,0,1000,0.89806690022239222,0.35470380855754235,0,0,null,null,null,null,0,35,0.27594958021226657,2.1428571428571428,0,0,0,null,0,{"$f":"IF(BBJ97=0,0,IF(BBF97=0,0,IF(BBR$26=1000,IF(BBJ97<0,IF(BBJ96>0,IF(BBI97-(0-BBJ97)<0,0,BBI97-(0-BBJ97)),0),IF(BBR$26>=BBF97,BBI97,0)),IF(BBR$26>=BBF97,BBI97,0))))","v":0},0,null,0,1000,1.6153785862431835E-2,0.41340131116802115,0,0,null,null,null,null,0,35,0.4875932592654888,2.1428571428571428,0,0,0,null,0,{"$f":"IF(BCF97=0,0,IF(BCB97=0,0,IF(BCN$26=1000,IF(BCF97<0,IF(BCF96>0,IF(BCE97-(0-BCF97)<0,0,BCE97-(0-BCF97)),0),IF(BCN$26>=BCB97,BCE97,0)),IF(BCN$26>=BCB97,BCE97,0))))","v":0},0,null,0,1000,1.3537183181355315,0.51408281790529697,0,0,null,null,null,null,0,{"$f":"BCY96+$A$28/$D$12","v":35},0.99913021863399398,2.1428571428571428,0,0,0,null,0,{"$f":"IF(BDB97=0,0,IF(BCX97=0,0,IF(BDJ$26=1000,IF(BDB97<0,IF(BDB96>0,IF(BDA97-(0-BDB97)<0,0,BDA97-(0-BDB97)),0),IF(BDJ$26>=BCX97,BDA97,0)),IF(BDJ$26>=BCX97,BDA97,0))))","v":0},0,null,0,1000,0.12331194884524618,0.30973775897488931,0,0,null,null,null,null,0,{"$f":"BDU96+$A$28/$D$12","v":35},-0.40240617336331275,2.1428571428571428,0,0,0,null,0,{"$f":"IF(BDX97=0,0,IF(BDT97=0,0,IF(BEF$26=1000,IF(BDX97<0,IF(BDX96>0,IF(BDW97-(0-BDX97)<0,0,BDW97-(0-BDX97)),0),IF(BEF$26>=BDT97,BDW97,0)),IF(BEF$26>=BDT97,BDW97,0))))","v":0},0,null,0,1000,-0.50093589119076343,0.40160561634642655,0,0,null,null,null,null,0,{"$f":"BEQ96+$A$28/$D$12","v":35},0.45555864866809592,2.1428571428571428,0,0,0,null,0,{"$f":"IF(BET97=0,0,IF(BEP97=0,0,IF(BFB$26=1000,IF(BET97<0,IF(BET96>0,IF(BES97-(0-BET97)<0,0,BES97-(0-BET97)),0),IF(BFB$26>=BEP97,BES97,0)),IF(BFB$26>=BEP97,BES97,0))))","v":0},0,null,0,1000,1.0707121257904597,0.42024920204630312,0,0,null,null,null,null,0,{"$f":"BFM96+$A$28/$D$12","v":35},{"$f":"NORMINV((RAND()),0,1)","v":-2.4237071374064629},2.1428571428571428,{"$f":"IF(BFP96<=0,0,BFP96-BFO97+$D$4*(BFP96-BFO97)*SQRT($D$13)*NORMINV((RAND()),0,1))","v":0},0,0,{"$f":"IF(BFL97>0,IF(AND(BFQ97=0,BFQ96>0),BFL97,\" \"))","v":false},{"$f":"MAX(BGC97-BFR97,0)","v":0},{"$f":"IF(BFP97=0,0,IF(BFL97=0,0,IF(BFX$26=1000,IF(BFP97<0,IF(BFP96>0,IF(BFO97-(0-BFP97)<0,0,BFO97-(0-BFP97)),0),IF(BFX$26>=BFL97,BFO97,0)),IF(BFX$26>=BFL97,BFO97,0))))","v":0},0,{"$f":"IF(BFW96=\"Abandon\",0,IF(BFL97>0,IF(AND(BFR97>0,BFT97=0),\"Abandon\",\" \"),\" \"))","v":" "},0,1000,{"$f":"NORMINV((RAND()),0,1)","v":-1.8903767411962453},{"$f":"IF(BFQ96>0,IF((BGA96+$D$7*$D$9*BFZ97*SQRT($D$13))<0,0,(BGA96+$D$7*$D$9*BFZ97*SQRT($D$13))),IF(BGA96*EXP((($D$8-$D$1)-(1/2)*$D$9^2)*$D$13+$D$9*SQRT($D$13)*BFZ97)<0,0,BGA96*EXP((($D$8-$D$1)-(1/2)*$D$9^2)*$D$13+$D$9*SQRT($D$13)*BFZ97)))","v":0.27415988166774469},0,0,null,{"$f":"IF(BFQ97>0,IF(BFY97<=$D$10*$D$13*1000,\"Failure\",\" \"),\" \")","v":" "},{"$f":"IF(BGF96>0,\" \",IF(BGE97=\"Failure\",BFL97,))","v":0},null,0,35,{"$f":"BFN97","v":-2.4237071374064629},2.1428571428571428,{"$f":"BFP97","v":0},{"$f":"IF(OR(BGM96=0,BGL97<0,BGH97=0),0,BGL97)","v":0},0,null,{"$f":"MAX(BGY97-BGN97,0)","v":0},{"$f":"IF(BGL97=0,0,IF(BGH97=0,0,IF(BGT$26=1000,IF(BGL97<0,IF(BGL96>0,IF(BGK97-(0-BGL97)<0,0,BGK97-(0-BGL97)),0),IF(BGT$26>=BGH97,BGK97,0)),IF(BGT$26>=BGH97,BGK97,0))))","v":0},0,null,0,1000,{"$f":"BFZ97","v":-1.8903767411962453},{"$f":"BGA97","v":0.27415988166774469},0,0,null,null,null,null,0,35,-2.4237071374064629,2.1428571428571428,0,0,0,null,0,{"$f":"IF(BHH97=0,0,IF(BHD97=0,0,IF(BHP$26=1000,IF(BHH97<0,IF(BHH96>0,IF(BHG97-(0-BHH97)<0,0,BHG97-(0-BHH97)),0),IF(BHP$26>=BHD97,BHG97,0)),IF(BHP$26>=BHD97,BHG97,0))))","v":0},0,null,0,1000,-1.8903767411962453,0.27415988166774469,0,0,null,null,null,null,0,35,-2.4237071374064629,2.1428571428571428,0,0,0,null,0,{"$f":"IF(BID97=0,0,IF(BHZ97=0,0,IF(BIL$26=1000,IF(BID97<0,IF(BID96>0,IF(BIC97-(0-BID97)<0,0,BIC97-(0-BID97)),0),IF(BIL$26>=BHZ97,BIC97,0)),IF(BIL$26>=BHZ97,BIC97,0))))","v":0},0,null,0,1000,-1.8903767411962453,0.27415988166774469,0,0,null,null,null,null,0,35,-2.4237071374064629,2.1428571428571428,0,0,0,null,0,{"$f":"IF(BIZ97=0,0,IF(BIV97=0,0,IF(BJH$26=1000,IF(BIZ97<0,IF(BIZ96>0,IF(BIY97-(0-BIZ97)<0,0,BIY97-(0-BIZ97)),0),IF(BJH$26>=BIV97,BIY97,0)),IF(BJH$26>=BIV97,BIY97,0))))","v":0},0,null,0,1000,-1.8903767411962453,0.27415988166774469,0,0,null,null,null,null,0,35,-2.4237071374064629,2.1428571428571428,0,0,0,null,0,{"$f":"IF(BJV97=0,0,IF(BJR97=0,0,IF(BKD$26=1000,IF(BJV97<0,IF(BJV96>0,IF(BJU97-(0-BJV97)<0,0,BJU97-(0-BJV97)),0),IF(BKD$26>=BJR97,BJU97,0)),IF(BKD$26>=BJR97,BJU97,0))))","v":0},0,null,0,1000,-1.8903767411962453,0.27415988166774469,0,0,null,null,null,null,0,35,-2.4237071374064629,2.1428571428571428,0,0,0,null,0,{"$f":"IF(BKR97=0,0,IF(BKN97=0,0,IF(BKZ$26=1000,IF(BKR97<0,IF(BKR96>0,IF(BKQ97-(0-BKR97)<0,0,BKQ97-(0-BKR97)),0),IF(BKZ$26>=BKN97,BKQ97,0)),IF(BKZ$26>=BKN97,BKQ97,0))))","v":0},0,null,0,1000,-1.8903767411962453,0.27415988166774469,0,0,null,null,null,null,0,35,-2.4237071374064629,2.1428571428571428,0,0,0,null,0,{"$f":"IF(BLN97=0,0,IF(BLJ97=0,0,IF(BLV$26=1000,IF(BLN97<0,IF(BLN96>0,IF(BLM97-(0-BLN97)<0,0,BLM97-(0-BLN97)),0),IF(BLV$26>=BLJ97,BLM97,0)),IF(BLV$26>=BLJ97,BLM97,0))))","v":0},0,null,0,1000,-1.8903767411962453,0.27415988166774469,0,0,null,null,null,null,0,35,-2.4237071374064629,2.1428571428571428,0,0,0,null,0,{"$f":"IF(BMJ97=0,0,IF(BMF97=0,0,IF(BMR$26=1000,IF(BMJ97<0,IF(BMJ96>0,IF(BMI97-(0-BMJ97)<0,0,BMI97-(0-BMJ97)),0),IF(BMR$26>=BMF97,BMI97,0)),IF(BMR$26>=BMF97,BMI97,0))))","v":0},0,null,0,1000,-1.8903767411962453,0.27415988166774469,0,0,null,null,null,null,0,35,-2.4237071374064629,2.1428571428571428,0,0,0,null,0,{"$f":"IF(BNF97=0,0,IF(BNB97=0,0,IF(BNN$26=1000,IF(BNF97<0,IF(BNF96>0,IF(BNE97-(0-BNF97)<0,0,BNE97-(0-BNF97)),0),IF(BNN$26>=BNB97,BNE97,0)),IF(BNN$26>=BNB97,BNE97,0))))","v":0},0,null,0,1000,-1.8903767411962453,0.27415988166774469,0,0,null,null,null,null,0,35,-2.4237071374064629,2.1428571428571428,0,0,0,null,0,{"$f":"IF(BOB97=0,0,IF(BNX97=0,0,IF(BOJ$26=1000,IF(BOB97<0,IF(BOB96>0,IF(BOA97-(0-BOB97)<0,0,BOA97-(0-BOB97)),0),IF(BOJ$26>=BNX97,BOA97,0)),IF(BOJ$26>=BNX97,BOA97,0))))","v":0},0,null,0,1000,-1.8903767411962453,0.27415988166774469,0,0,null,null,null,0,35,0,0,0,null,null,0,0,69,{"$f":"+BFT97","v":0},null,{"$f":"+BFR97","v":0},{"$f":"+BGC97","v":0}]
[0,38,-0.31313393494919545,2.1428571428571428,0,0,0,null,0,0,0,null,0,1000,-0.70203461462961436,3.5329252509344058,0,0,0,null,null,null,0,38,-0.2527278769046431,2.1428571428571428,0,0,0,null,0,0,0,null,0,1000,0.44834878909026055,12.65731234563798,0,0,null,null,null,null,null,0,38,-1.3570156057752936,2.1428571428571428,0,0,0,null,0,0,0,null,0,1000,1.0994657512838615,3.7704496642410645,0,0,null,null,null,null,0,38,1.1377202781946323,2.1428571428571428,0,0,0,null,0,0,0,null,0,1000,-0.22534903030935177,2.358149388994963,0,0,null,null,null,null,0,38,-7.7722861864514036E-3,2.1428571428571428,0,0,0,null,0,0,0,null,0,1000,-0.68188638500266008,1.2471346623067181,0,0,null,null,null,null,0,38,1.5567772595460383,2.1428571428571428,0,0,0,null,0,0,0,null,0,1000,1.3771320869005952,3.2277219446955057,0,0,null,null,null,null,0,38,-0.58656675399620184,2.1428571428571428,0,0,0,null,0,0,0,null,0,1000,-0.66924706817016988,0.30341158077332664,0,0,null,null,null,null,0,38,1.2639972161409532,2.1428571428571428,0,0,0,null,0,0,0,null,0,1000,-1.3640014156033133,10.318715388387417,0,0,null,null,null,null,0,38,-1.3939334339966305,2.1428571428571428,0,0,0,null,0,0,0,null,0,1000,0.48252894258578921,2.8890020741420277,0,0,null,null,null,null,0,38,0.9053047358175329,2.1428571428571428,0,0,0,null,0,0,0,null,0,1000,-2.2178030288221695,2.2618885744540966,0,0,null,null,null,null,0,38,0.20833577005215625,2.1428571428571428,0,0,0,null,0,0,0,null,0,1000,-0.44157223836002718,2.7598586624982988,0,0,null,null,null,null,0,38,{"$f":"NORMSINV(RAND())","v":-0.72420831686491116},2.1428571428571428,{"$f":"IF(IN102<=0,0,IN102-IM103+$D$4*(IN102-IM103)*SQRT($D$13)*NORMINV((RAND()),0,1))","v":0},{"$f":"IF(OR(IO102=0,IN103<0,IJ103=0),0,IN103)","v":0},0,null,0,0,0,null,0,1000,{"$f":"NORMSINV(RAND())","v":0.68748398684580803},{"$f":"IF(IO102>0,IF((IY102+$D$7*$D$9*IX103*SQRT($D$13))<0,0,(IY102+$D$7*$D$9*IX103*SQRT($D$13))),IF(IY102*EXP((($D$8-$D$1)-(1/2)*$D$9^2)*$D$13+$D$9*SQRT($D$13)*IX103)<0,0,IY102*EXP((($D$8-$D$1)-(1/2)*$D$9^2)*$D$13+$D$9*SQRT($D$13)*IX103)))","v":1.7195809811590288},0,0,null,null,null,null,0,38,0.84128097837290738,2.1428571428571428,0,0,0,null,0,0,0,null,0,1000,0.78824126640951753,2.4366711367113041,0,0,null,null,null,null,0,38,-1.1340154403982161,2.1428571428571428,0,0,0,null,0,0,0,null,0,1000,-0.84134637901759535,4.821497351892293,0,0,null,null,null,null,0,38,-1.4500882876146506,2.1428571428571428,0,0,0,null,0,0,0,null,0,1000,-0.23199629822661907,1.1529339828424605,0,0,null,null,null,null,0,38,-0.30747305787198409,2.1428571428571428,0,0,0,null,0,0,0,null,0,1000,-1.3971977847808394,1.1948221862632795,0,0,null,null,null,null,0,38,-0.24741549318346087,2.1428571428571428,0,0,0,null,0,0,0,null,0,1000,-1.2138119596200163,0.49023869860610592,0,0,null,null,null,null,0,38,-0.31289258693803618,2.1428571428571428,0,0,0,null,0,0,0,null,0,1000,1.3707363899012686,48.929123195077494,0,0,null,null,null,null,0,38,1.1703781314702792,2.1428571428571428,0,0,0,null,0,0,0,null,0,1000,-0.5140764864405496,7.1995514152910127,0,0,null,null,null,null,0,38,2.692709351502625,2.1428571428571428,0,0,0,null,0,0,0,null,0,1000,0.20800793674040469,3.140414433561117,0,0,null,null,null,null,0,38,1.1184508478504589,2.1428571428571428,0,0,0,null,0,0,0,null,0,1000,-0.69530294235854251,0.95138501441027867,0,0,null,null,null,null,0,38,-4.0599092126654621E-2,2.1428571428571428,0,0,0,null,0,0,0,null,0,1000,0.36543909507474809,9.965536905305262,0,0,null,null,null,null,0,38,2.6785427096608701E-2,2.1428571428571428,0,0,0,null,0,0,0,null,0,1000,3.5152665125455111E-2,5.2925722900134851,0,0,null,null,null,null,0,38,-0.37826697192746583,2.1428571428571428,0,0,0,null,0,0,0,null,0,1000,0.79207605807697168,36.562498922703803,0,0,null,null,null,null,0,38,0.81238019877691581,2.1428571428571428,0,0,0,null,0,0,0,null,0,1000,-0.44012953246747022,3.1065816477186821,0,0,null,null,null,null,0,38,1.387259510334399,2.1428571428571428,0,0,0,null,0,0,0,null,0,1000,0.66638498977497262,23.508814580203939,0,0,null,null,null,null,0,38,0.16359237848534372,2.1428571428571428,0,0,0,null,0,0,0,null,0,1000,0.30736283776209561,5.2633088555689573,0,0,null,null,null,null,0,38,-2.2278175264556981,2.1428571428571428,0,0,0,null,0,0,0,null,0,1000,0.37134222984621984,5.7701724731108763,0,0,null,null,null,null,0,38,-0.42493475003832792,2.1428571428571428,0,0,0,null,0,0,0,null,0,1000,0.76599084594729194,2.2814985293944647,0,0,null,null,null,null,0,38,1.6476133023752948,2.1428571428571428,0,0,0,null,0,0,0,null,0,1000,-0.10725596829320677,10.502105491517838,0,0,null,null,null,null,0,38,1.3350662527883748,2.1428571428571428,0,0,0,null,0,0,0,null,0,1000,2.0871515372693121,17.889970942225215,0,0,null,null,null,null,0,38,1.1735942572875135,2.1428571428571428,0,0,0,null,0,0,0,null,0,1000,0.63956026001098054,5.2508668450835279,0,0,null,null,null,null,0,38,-1.1826081510672497,2.1428571428571428,0,0,0,null,0,0,0,null,0,1000,-0.54599151254905709,0.81044068811534575,0,0,null,null,null,null,0,38,0.45382025152153976,2.1428571428571428,0,0,0,null,0,0,0,null,0,1000,0.53329572087285892,4.6079181046606896,0,0,null,null,null,null,0,38,1.1483119441575458,2.1428571428571428,0,0,0,null,0,0,0,null,0,1000,-0.50046547357507243,0.94657155509018753,0,0,null,null,null,null,0,38,-1.258371615462289,2.1428571428571428,0,0,0,null,0,0,0,null,0,1000,-0.86502673579895439,0.95640330135329343,0,0,null,null,null,null,0,38,-2.4482005452940835E-2,2.1428571428571428,0,0,0,null,0,0,0,null,0,1000,-1.4026790848449453,2.1067646003595151,0,0,null,null,null,null,0,38,-0.51788631038321598,2.1428571428571428,0,0,0,null,0,0,0,null,0,1000,-1.6796231969857627,0.32529932782576571,0,0,null,null,null,null,0,38,1.0700611931562234,2.1428571428571428,0,0,0,null,0,0,0,null,0,1000,0.874895715765177,1.0563281849702206,0,0,null,null,null,null,0,38,2.2124794365529277,2.1428571428571428,0,0,0,null,0,0,0,null,0,1000,-0.99808697655773038,1.4298383264944883,0,0,null,null,null,null,0,38,1.3174630484757319,2.1428571428571428,0,0,0,null,0,0,0,null,0,1000,2.4842451405113364E-2,0.66129616470646779,0,0,null,null,null,null,0,38,-1.8804900243244083,2.1428571428571428,0,0,0,null,0,0,0,null,0,1000,-1.5400301753559549,2.9700962058392437,0,0,null,null,null,null,0,38,-0.46087731057274511,2.1428571428571428,0,0,0,null,0,0,0,null,0,1000,0.41116359672130137,2.4241056440779918,0,0,null,null,null,null,0,38,-1.4618489715056195E-2,2.1428571428571428,0,0,0,null,0,0,0,null,0,1000,-0.4405151042759487,0.16718450340848412,0,0,null,null,null,null,0,38,0.46421824559588248,2.1428571428571428,0,0,0,null,0,0,0,null,0,1000,0.49186485439961064,1.0339965288792845,0,0,null,null,null,null,0,38,0.48303583786774412,2.1428571428571428,0,0,0,null,0,0,0,null,0,1000,1.2654303897051751,0.58081859904528343,0,0,null,null,null,null,0,38,0.26262143197433796,2.1428571428571428,0,0,0,null,0,0,0,null,0,1000,-0.21609748388907846,0.93983669934757896,0,0,null,null,null,null,0,38,-0.41008937477023893,2.1428571428571428,0,0,0,null,0,0,0,null,0,1000,-0.9641962663104201,0.41128553859069256,0,0,null,null,null,null,0,38,0.7879950574278004,2.1428571428571428,0,0,0,null,0,0,0,null,0,1000,1.2023139432887007,0.42646538021561753,0,0,null,null,null,null,0,38,-0.72917112743104762,2.1428571428571428,0,0,0,null,0,0,0,null,0,1000,-0.37051260121382223,0.34961430273637917,0,0,null,null,null,null,0,38,0.44143242525786408,2.1428571428571428,0,0,0,null,0,0,0,null,0,1000,-3.3373937832426648E-2,0.43703420407681887,0,0,null,null,null,null,0,38,-1.3099699928792436,2.1428571428571428,0,0,0,null,0,0,0,null,0,1000,2.0406257574734572,1.9130923148544996,0,0,null,null,null,null,0,38,-0.32907906079439769,2.1428571428571428,0,0,0,null,0,0,0,null,0,1000,-0.68447882598622733,1.0175092769062257,0,0,null,null,null,null,0,38,-0.61703911133679035,2.1428571428571428,0,0,0,null,0,0,0,null,0,1000,-1.3780544407416244,1.2561294468272677,0,0,null,null,null,null,0,38,-1.2229479579723852,2.1428571428571428,0,0,0,null,0,0,0,null,0,1000,-0.61987717898786732,1.3519013082222595,0,0,null,null,null,null,0,38,1.0511704305284728,2.1428571428571428,0,0,0,null,0,0,0,null,0,1000,0.66455647049940891,0.52690365582330778,0,0,null,null,null,null,0,38,0.96614671843553823,2.1428571428571428,0,0,0,null,0,0,0,null,0,1000,-1.2098758369780662,0.62459810729820364,0,0,null,null,null,null,0,38,1.7439925950417236E-2,2.1428571428571428,0,0,0,null,0,0,0,null,0,1000,0.54051630011974705,1.1202818589240353,0,0,null,null,null,null,0,38,-1.643169796064766,2.1428571428571428,0,0,0,null,0,0,0,null,0,1000,0.23572484972510263,1.2913518749692727,0,0,null,null,null,null,0,38,0.57146007080659977,2.1428571428571428,0,0,0,null,0,0,0,null,0,1000,0.35175122988439622,0.3616040593997929,0,0,null,null,null,null,0,38,0.57163310580288429,2.1428571428571428,0,0,0,null,0,0,0,null,0,1000,1.6462252391471712,0.30218183406989407,0,0,null,null,null,null,0,38,0.51128234282010976,2.1428571428571428,0,0,0,null,0,0,0,null,0,1000,-1.6670229269220205,0.24515000635975354,0,0,null,null,null,null,0,38,-0.66482222258286416,2.1428571428571428,0,0,0,null,0,0,0,null,0,1000,-0.3349123126347035,0.4647674104077496,0,0,null,null,null,null,0,38,0.34100366279852712,2.1428571428571428,0,0,0,null,0,0,0,null,0,1000,0.43539015796397162,0.60276092121457703,0,0,null,null,null,null,0,38,0.91341591663446742,2.1428571428571428,0,0,0,null,0,0,0,null,0,1000,-2.0814067488349357,0.24080528351026531,0,0,null,null,null,null,0,38,1.3338040898655812,2.1428571428571428,0,0,0,null,0,0,0,null,0,1000,-0.28780731377641361,0.35668545235722027,0,0,null,null,null,null,0,38,1.0450085783886138,2.1428571428571428,0,0,0,null,0,0,0,null,0,1000,0.95015047810641096,0.39603599188813671,0,0,null,null,null,null,0,38,-1.080107986679357,2.1428571428571428,0,0,0,null,0,0,0,null,0,1000,0.6260662423505341,0.6112110984062451,0,0,null,null,null,null,0,38,-0.43124424774295084,2.1428571428571428,0,0,0,null,0,0,0,null,0,1000,-0.86898629674571259,0.41939063670685761,0,0,null,null,null,null,0,38,2.2173396982044702,2.1428571428571428,0,0,0,null,0,0,0,null,0,1000,0.15732683030665454,0.64876719536384397,0,0,null,null,null,null,0,38,1.2636491173810229,2.1428571428571428,0,0,0,null,0,0,0,null,0,1000,-0.60294244810662845,0.38949545424705767,0,0,null,null,null,null,0,38,0.76917711859239646,2.1428571428571428,0,0,0,null,0,0,0,null,0,1000,-1.465785555546018,0.22569194449733476,0,0,null,null,null,null,0,38,-0.51303830359658664,2.1428571428571428,0,0,0,null,0,0,0,null,0,1000,0.53441332940751329,0.52697067988602353,0,0,null,null,null,null,0,38,7.4276618905548902E-2,2.1428571428571428,0,0,0,null,0,0,0,null,0,1000,1.9882422296163362,0.44303507683137427,0,0,null,null,null,null,0,38,-0.74194122334122292,2.1428571428571428,0,0,0,null,0,0,0,null,0,1000,1.1905041847197522,0.38756760183959227,0,0,null,null,null,null,0,{"$f":"BKO102+$A$28/$D$12","v":38},{"$f":"NORMINV((RAND()),0,1)","v":-2.0328769212441991},2.1428571428571428,{"$f":"IF(BKR102<=0,0,BKR102-BKQ103+$D$4*(BKR102-BKQ103)*SQRT($D$13)*NORMINV((RAND()),0,1))","v":0},0,0,{"$f":"IF(BKN103>0,IF(AND(BKS103=0,BKS102>0),BKN103,\" \"))","v":false},0,0,0,{"$f":"IF(BKY102=\"Abandon\",0,IF(BKN103>0,IF(AND(BKT103>0,BKV103=0),\"Abandon\",\" \"),\" \"))","v":" "},0,1000,{"$f":"NORMINV((RAND()),0,1)","v":-0.89401635420463899},{"$f":"IF(BKS102>0,IF((BLC102+$D$7*$D$9*BLB103*SQRT($D$13))<0,0,(BLC102+$D$7*$D$9*BLB103*SQRT($D$13))),IF(BLC102*EXP((($D$8-$D$1)-(1/2)*$D$9^2)*$D$13+$D$9*SQRT($D$13)*BLB103)<0,0,BLC102*EXP((($D$8-$D$1)-(1/2)*$D$9^2)*$D$13+$D$9*SQRT($D$13)*BLB103)))","v":0.28691862925045325},0,0,null,{"$f":"IF(BKS103>0,IF(BLA103<=$D$10*$D$13*1000,\"Failure\",\" \"),\" \")","v":" "},{"$f":"IF(BLH102>0,\" \",IF(BLG103=\"Failure\",BKN103,))","v":0},null,0,{"$f":"BKO103","v":38},{"$f":"BKP103","v":-2.0328769212441991},2.1428571428571428,{"$f":"BKR103","v":0},{"$f":"IF(OR(BLO102=0,BLN103<0,BLJ103=0),0,BLN103)","v":0},0,null,{"$f":"MAX(BMA103-BLP103,0)","v":0},0,0,null,0,1000,{"$f":"BLB103","v":-0.89401635420463899},{"$f":"BLC103","v":0.28691862925045325},0,0,null,null,null,null,0,38,-2.0328769212441991,2.1428571428571428,0,0,0,null,0,0,0,null,0,1000,-0.89401635420463899,0.28691862925045325,0,0,null,null,null,null,0,38,-2.0328769212441991,2.1428571428571428,0,0,0,null,0,0,0,null,0,1000,-0.89401635420463899,0.28691862925045325,0,0,null,null,null,null,0,38,-2.0328769212441991,2.1428571428571428,0,0,0,null,0,0,0,null,0,1000,-0.89401635420463899,0.28691862925045325,0,0,null,null,null,0,38,0,0,0,null,null,0,0,75,{"$f":"+BKV103","v":0},null,{"$f":"+BKT103","v":0},{"$f":"+BLE103","v":0}]
[0,40,0.14557652375392019,2.1428571428571428,0,0,0,null,0,0,0,null,0,1000,1.6859462764255131,5.2655191389017055,0,0,0,null,null,null,0,40,0.28655659132141376,2.1428571428571428,0,0,0,null,0,0,0,null,0,1000,-1.5867377604475137,10.778897879889623,0,0,null,null,null,null,null,0,40,0.64917838166641928,2.1428571428571428,0,0,0,null,0,0,0,null,0,1000,-0.23755935741131307,4.0032378185274,0,0,null,null,null,null,0,40,-0.46486779524142524,2.1428571428571428,0,0,0,null,0,0,0,null,0,1000,-0.34566168707205863,2.0850109551417693,0,0,null,null,null,null,0,40,0.53518784603224423,2.1428571428571428,0,0,0,null,0,0,0,null,0,1000,-6.0022605682191052E-3,0.99843074981627944,{"$f":"IF(CL107>0,IF(CQ107=0,DA107,0),0)","v":0},0,null,null,null,null,0,40,0.79160640546503713,2.1428571428571428,0,0,0,null,0,0,0,null,0,1000,2.2248003278038233,3.7597563981755404,{"$f":"IF(DH107>0,IF(DM107=0,DW107,0),0)","v":0},0,null,null,null,null,0,40,0.72072409541244642,2.1428571428571428,0,0,0,null,0,0,0,null,0,1000,-1.6649854167527933,0.28808142533214742,{"$f":"IF(ED107>0,IF(EI107=0,ES107,0),0)","v":0},0,null,null,null,null,0,40,0.76609968003696594,2.1428571428571428,0,0,0,null,0,0,0,null,0,1000,1.1889015954224296,9.7015381455163698,{"$f":"IF(EZ107>0,IF(FE107=0,FO107,0),0)","v":0},0,null,null,null,null,0,40,-1.5885154822450795,2.1428571428571428,0,0,0,null,0,0,0,null,0,1000,0.32740927050425445,2.5878926634394714,{"$f":"IF(FV107>0,IF(GA107=0,GK107,0),0)","v":0},0,null,null,null,null,0,40,0.430581840342322,2.1428571428571428,0,0,0,null,0,0,0,null,0,1000,-1.0357134731211806,3.1426615215328542,{"$f":"IF(GR107>0,IF(GW107=0,HG107,0),0)","v":0},0,null,null,null,null,0,40,-1.4995653864160603,2.1428571428571428,0,0,0,null,0,0,0,null,0,1000,0.39098881545186015,4.0989981790731722,{"$f":"IF(HN107>0,IF(HS107=0,IC107,0),0)","v":0},0,null,null,null,null,0,40,-2.128886477399557E-2,2.1428571428571428,0,{"$f":"IF(OR(IO106=0,IN107<0,IJ107=0),0,IN107)","v":0},0,null,0,0,0,null,0,1000,-0.814020805294144,1.5972407934383557,{"$f":"IF(IJ107>0,IF(IO107=0,IY107,0),0)","v":0},0,null,null,null,null,0,40,1.0083992861310789,2.1428571428571428,0,{"$f":"IF(OR(JK106=0,JJ107<0,JF107=0),0,JJ107)","v":0},0,null,0,0,0,null,0,1000,-0.98088990238767626,1.978275835906161,{"$f":"IF(JF107>0,IF(JK107=0,JU107,0),0)","v":0},0,null,null,null,null,0,40,0.40118616344754643,2.1428571428571428,0,{"$f":"IF(OR(KG106=0,KF107<0,KB107=0),0,KF107)","v":0},0,null,0,0,0,null,0,1000,0.60954541798794015,5.6295032800600113,{"$f":"IF(KB107>0,IF(KG107=0,KQ107,0),0)","v":0},0,null,null,null,null,0,40,6.2381777672560887E-3,2.1428571428571428,0,{"$f":"IF(OR(LC106=0,LB107<0,KX107=0),0,LB107)","v":0},0,null,0,0,0,null,0,1000,1.0878429260227327,1.268890463600147,{"$f":"IF(KX107>0,IF(LC107=0,LM107,0),0)","v":0},0,null,null,null,null,0,40,{"$f":"NORMSINV(RAND())","v":0.45823932775051329},2.1428571428571428,{"$f":"IF(LX106<=0,0,LX106-LW107+$D$4*(LX106-LW107)*SQRT($D$13)*NORMINV((RAND()),0,1))","v":0},{"$f":"IF(OR(LY106=0,LX107<0,LT107=0),0,LX107)","v":0},0,null,0,0,0,null,0,1000,{"$f":"NORMSINV(RAND())","v":0.69917212242426607},{"$f":"IF(LY106>0,IF((MI106+$D$7*$D$9*MH107*SQRT($D$13))<0,0,(MI106+$D$7*$D$9*MH107*SQRT($D$13))),IF(MI106*EXP((($D$8-$D$1)-(1/2)*$D$9^2)*$D$13+$D$9*SQRT($D$13)*MH107)<0,0,MI106*EXP((($D$8-$D$1)-(1/2)*$D$9^2)*$D$13+$D$9*SQRT($D$13)*MH107)))","v":1.2121928016534131},{"$f":"IF(LT107>0,IF(LY107=0,MI107,0),0)","v":0},0,null,null,null,null,0,40,1.1762315010482527,2.1428571428571428,0,0,0,null,0,0,0,null,0,1000,0.5122154300785694,0.82477794382745806,{"$f":"IF(MP107>0,IF(MU107=0,NE107,0),0)","v":0},0,null,null,null,null,0,40,-4.1071170351902553E-2,2.1428571428571428,0,0,0,null,0,0,0,null,0,1000,0.469507160593789,56.96684060637898,{"$f":"IF(NL107>0,IF(NQ107=0,OA107,0),0)","v":0},0,null,null,null,null,0,40,7.6019923069874581E-2,2.1428571428571428,0,0,0,null,0,0,0,null,0,1000,-1.3486610806003589,9.7200238715714136,{"$f":"IF(OH107>0,IF(OM107=0,OW107,0),0)","v":0},0,null,null,null,null,0,40,1.1815263329285357,2.1428571428571428,0,0,0,null,0,0,0,null,0,1000,6.7136289623587947E-2,2.4994590720632623,{"$f":"IF(PD107>0,IF(PI107=0,PS107,0),0)","v":0},0,null,null,null,null,0,40,-1.0053784029024955,2.1428571428571428,0,0,0,null,0,0,0,null,0,1000,2.0231146051172275,3.1645776373485894,{"$f":"IF(PZ107>0,IF(QE107=0,QO107,0),0)","v":0},0,null,null,null,null,0,40,-0.13088028517423309,2.1428571428571428,0,0,0,null,0,0,0,null,0,1000,-1.0436800316761372,9.6809985436024117,{"$f":"IF(QV107>0,IF(RA107=0,RK107,0),0)","v":0},0,null,null,null,null,0,40,1.2836012655483195,2.1428571428571428,0,0,0,null,0,0,0,null,0,1000,0.31784946303465877,6.7586089485620837,{"$f":"IF(RR107>0,IF(RW107=0,SG107,0),0)","v":0},0,null,null,null,null,0,40,-0.52310587615293369,2.1428571428571428,0,0,0,null,0,0,0,null,0,1000,0.17879713388004892,62.499403921323868,{"$f":"IF(SN107>0,IF(SS107=0,TC107,0),0)","v":0},0,null,null,null,null,0,40,-0.2078879513167019,2.1428571428571428,0,0,0,null,0,0,0,null,0,1000,-2.0945370276747899,2.1294349614333314,{"$f":"IF(TJ107>0,IF(TO107=0,TY107,0),0)","v":0},0,null,null,null,null,0,40,-1.4395013839211817,2.1428571428571428,0,0,0,null,0,0,0,null,0,1000,0.15277539060636203,19.775975369529128,{"$f":"IF(UF107>0,IF(UK107=0,UU107,0),0)","v":0},0,null,null,null,null,0,40,-0.69766330131123733,2.1428571428571428,0,0,0,null,0,0,0,null,0,1000,-0.64453687937592452,4.5567953529981375,{"$f":"IF(VB107>0,IF(VG107=0,VQ107,0),0)","v":0},0,null,null,null,null,0,40,0.90297778231003734,2.1428571428571428,0,0,0,null,0,0,0,null,0,1000,-3.7867988213900299E-2,5.0933098523408988,{"$f":"IF(VX107>0,IF(WC107=0,WM107,0),0)","v":0},0,null,null,null,null,0,40,-0.73601808891736165,2.1428571428571428,0,0,0,null,0,0,0,null,0,1000,-0.13996751529672066,2.1484038318155734,{"$f":"IF(WT107>0,IF(WY107=0,XI107,0),0)","v":0},0,null,null,null,null,0,40,0.14974523715313429,2.1428571428571428,0,0,0,null,0,0,0,null,0,1000,0.74410449904278697,8.5896497440173221,{"$f":"IF(XP107>0,IF(XU107=0,YE107,0),0)","v":0},0,null,null,null,null,0,40,-0.65872920853530303,2.1428571428571428,0,0,0,null,0,0,0,null,0,1000,0.96946986394454293,28.422176662137844,{"$f":"IF(YL107>0,IF(YQ107=0,ZA107,0),0)","v":0},0,null,null,null,null,0,40,-1.5275984131219298,2.1428571428571428,0,0,0,null,0,0,0,null,0,1000,-0.98107142549057136,5.5002728476562055,{"$f":"IF(ZH107>0,IF(ZM107=0,ZW107,0),0)","v":0},0,null,null,null,null,0,40,-0.84202806808362474,2.1428571428571428,0,0,0,null,0,0,0,null,0,1000,0.84873819677254914,1.1081211310198493,{"$f":"IF(AAD107>0,IF(AAI107=0,AAS107,0),0)","v":0},0,null,null,null,null,0,40,-0.20019717359448067,2.1428571428571428,0,0,0,null,0,0,0,null,0,1000,0.54127481225445284,3.6480505848662736,{"$f":"IF(AAZ107>0,IF(ABE107=0,ABO107,0),0)","v":0},0,null,null,null,null,0,40,-0.15644887442381139,2.1428571428571428,0,0,0,null,0,0,0,null,0,1000,-8.1056117494104019E-2,1.2474247611754234,{"$f":"IF(ABV107>0,IF(ACA107=0,ACK107,0),0)","v":0},0,null,null,null,null,0,40,-1.8923176534717302E-2,2.1428571428571428,0,0,0,null,0,0,0,null,0,1000,-0.53109038985760881,1.1607097143998915,{"$f":"IF(ACR107>0,IF(ACW107=0,ADG107,0),0)","v":0},0,null,null,null,null,0,40,0.74523629916422907,2.1428571428571428,0,0,0,null,0,0,0,null,0,1000,0.14492700536935746,2.8795079267883059,{"$f":"IF(ADN107>0,IF(ADS107=0,AEC107,0),0)","v":0},0,null,null,null,null,0,40,0.13139128326561669,2.1428571428571428,0,0,0,null,0,0,0,null,0,1000,-0.65587445433199898,0.31534969339466462,{"$f":"IF(AEJ107>0,IF(AEO107=0,AEY107,0),0)","v":0},0,null,null,null,null,0,40,-0.9689214387533801,2.1428571428571428,0,0,0,null,0,0,0,null,0,1000,0.31186201731177382,0.82765438092199706,{"$f":"IF(AFF107>0,IF(AFK107=0,AFU107,0),0)","v":0},0,null,null,null,null,0,40,0.68228340750900096,2.1428571428571428,0,0,0,null,0,0,0,null,0,1000,-0.49953126459812458,1.3785000412194124,{"$f":"IF(AGB107>0,IF(AGG107=0,AGQ107,0),0)","v":0},0,null,null,null,null,0,40,1.056068646173282,2.1428571428571428,0,0,0,null,0,0,0,null,0,1000,0.81964839005271639,0.86483058560077553,{"$f":"IF(AGX107>0,IF(AHC107=0,AHM107,0),0)","v":0},0,null,null,null,null,0,40,2.0719931482588172,2.1428571428571428,0,0,0,null,0,0,0,null,0,1000,0.78697103334102525,2.87510694961151,{"$f":"IF(AHT107>0,IF(AHY107=0,AII107,0),0)","v":0},0,null,null,null,null,0,40,-0.61105280046011168,2.1428571428571428,0,0,0,null,0,0,0,null,0,1000,-0.58769189524274135,1.6612870039733403,{"$f":"IF(AIP107>0,IF(AIU107=0,AJE107,0),0)","v":0},0,null,null,null,null,0,40,-0.21140610110457769,2.1428571428571428,0,0,0,null,0,0,0,null,0,1000,0.29289362805053076,0.15644365927787152,{"$f":"IF(AJL107>0,IF(AJQ107=0,AKA107,0),0)","v":0},0,null,null,null,null,0,40,1.0827863499714214,2.1428571428571428,0,0,0,null,0,0,0,null,0,1000,-2.3222192021935379,0.74096832740692353,{"$f":"IF(AKH107>0,IF(AKM107=0,AKW107,0),0)","v":0},0,null,null,null,null,0,40,-0.31343285940363613,2.1428571428571428,0,0,0,null,0,0,0,null,0,1000,6.7151766901724516E-2,0.62505094603588074,{"$f":"IF(ALD107>0,IF(ALI107=0,ALS107,0),0)","v":0},0,null,null,null,null,0,40,2.7308524823572591,2.1428571428571428,0,0,0,null,0,0,0,null,0,1000,7.2979577925829195E-2,0.95635031277159022,{"$f":"IF(ALZ107>0,IF(AME107=0,AMO107,0),0)","v":0},0,null,null,null,null,0,40,0.95642936800948208,2.1428571428571428,0,0,0,null,0,0,0,null,0,1000,-0.84507835602508197,0.32060805885179655,{"$f":"IF(AMV107>0,IF(ANA107=0,ANK107,0),0)","v":0},0,null,null,null,null,0,40,-1.8552028910407958,2.1428571428571428,0,0,0,null,0,0,0,null,0,1000,-1.924215356480987E-2,0.47575908832173919,{"$f":"IF(ANR107>0,IF(ANW107=0,AOG107,0),0)","v":0},0,null,null,null,null,0,40,9.8501836901356943E-2,2.1428571428571428,0,0,0,null,0,0,0,null,0,1000,0.33774572414121362,0.24148869872188758,{"$f":"IF(AON107>0,IF(AOS107=0,APC107,0),0)","v":0},0,null,null,null,null,0,40,-0.83420143464551977,2.1428571428571428,0,0,0,null,0,0,0,null,0,1000,-1.065509860501898,0.43948031749944733,{"$f":"IF(APJ107>0,IF(APO107=0,APY107,0),0)","v":0},0,null,null,null,null,0,40,-0.65365060539203634,2.1428571428571428,0,0,0,null,0,0,0,null,0,1000,-4.4801969678656328E-3,1.6586572546961105,{"$f":"IF(AQF107>0,IF(AQK107=0,AQU107,0),0)","v":0},0,null,null,null,null,0,40,1.0759032740246697,2.1428571428571428,0,0,0,null,0,0,0,null,0,1000,1.3614887968835276,1.5394969879123388,{"$f":"IF(ARB107>0,IF(ARG107=0,ARQ107,0),0)","v":0},0,null,null,null,null,0,40,0.56445251300663968,2.1428571428571428,0,0,0,null,0,0,0,null,0,1000,1.3580610345261961,1.4401129658865874,{"$f":"IF(ARX107>0,IF(ASC107=0,ASM107,0),0)","v":0},0,null,null,null,null,0,40,-0.49574953214477285,2.1428571428571428,0,0,0,null,0,0,0,null,0,1000,2.7121661359242029,2.4596089382732327,{"$f":"IF(AST107>0,IF(ASY107=0,ATI107,0),0)","v":0},0,null,null,null,null,0,40,0.63870826748127163,2.1428571428571428,0,0,0,null,0,0,0,null,0,1000,-0.67581678833887049,0.56829960155918979,{"$f":"IF(ATP107>0,IF(ATU107=0,AUE107,0),0)","v":0},0,null,null,null,null,0,40,-0.13662359347035072,2.1428571428571428,0,0,0,null,0,0,0,null,0,1000,0.68644532650975443,1.2059910236662672,{"$f":"IF(AUL107>0,IF(AUQ107=0,AVA107,0),0)","v":0},0,null,null,null,null,0,40,-0.1520112263907139,2.1428571428571428,0,0,0,null,0,0,0,null,0,1000,-0.86869607627278278,1.2369239724177026,{"$f":"IF(AVH107>0,IF(AVM107=0,AVW107,0),0)","v":0},0,null,null,null,null,0,40,-0.15411730221977493,2.1428571428571428,0,0,0,null,0,0,0,null,0,1000,-1.4260135115701269,0.83440034553230846,{"$f":"IF(AWD107>0,IF(AWI107=0,AWS107,0),0)","v":0},0,null,null,null,null,0,40,-1.350364665574713,2.1428571428571428,0,0,0,null,0,0,0,null,0,1000,-0.25195298686935896,0.41069429617470266,{"$f":"IF(AWZ107>0,IF(AXE107=0,AXO107,0),0)","v":0},0,null,null,null,null,0,40,0.67323259771542032,2.1428571428571428,0,0,0,null,0,0,0,null,0,1000,0.37610385099329668,0.48411757657430066,{"$f":"IF(AXV107>0,IF(AYA107=0,AYK107,0),0)","v":0},0,null,null,null,null,0,40,-0.79698168933788927,2.1428571428571428,0,0,0,null,0,0,0,null,0,1000,-1.6025638797046204,0.18810200282855916,{"$f":"IF(AYR107>0,IF(AYW107=0,AZG107,0),0)","v":0},0,null,null,null,null,0,40,1.0621177958430876,2.1428571428571428,0,0,0,null,0,0,0,null,0,1000,-1.0523179785382704,0.40573831716080172,{"$f":"IF(AZN107>0,IF(AZS107=0,BAC107,0),0)","v":0},0,null,null,null,null,0,40,-1.024027129526198,2.1428571428571428,0,0,0,null,0,0,0,null,0,1000,1.726629493204902,0.52410149747550416,{"$f":"IF(BAJ107>0,IF(BAO107=0,BAY107,0),0)","v":0},0,null,null,null,null,0,40,-1.0588873281820306,2.1428571428571428,0,0,0,null,0,0,0,null,0,1000,-0.49011546372645104,0.2465660046962185,{"$f":"IF(BBF107>0,IF(BBK107=0,BBU107,0),0)","v":0},0,null,null,null,null,0,40,-1.2350750978307297,2.1428571428571428,0,0,0,null,0,0,0,null,0,1000,1.4106794029700085,0.58129786100255831,{"$f":"IF(BCB107>0,IF(BCG107=0,BCQ107,0),0)","v":0},0,null,null,null,null,0,40,-4.2462760318123759E-2,2.1428571428571428,0,0,0,null,0,0,0,null,0,1000,1.4374364394651,0.73728816715365653,{"$f":"IF(BCX107>0,IF(BDC107=0,BDM107,0),0)","v":0},0,null,null,null,null,0,40,1.0251224585830572,2.1428571428571428,0,0,0,null,0,0,0,null,0,1000,1.2205664434199923,0.72008244294280566,{"$f":"IF(BDT107>0,IF(BDY107=0,BEI107,0),0)","v":0},0,null,null,null,null,0,40,1.1952405425247887,2.1428571428571428,0,0,0,null,0,0,0,null,0,1000,1.126111780907127,0.52074745357269581,{"$f":"IF(BEP107>0,IF(BEU107=0,BFE107,0),0)","v":0},0,null,null,null,null,0,40,2.0994721841175252,2.1428571428571428,0,0,0,null,0,0,0,null,0,1000,-0.96105658509377334,0.76911218508963064,{"$f":"IF(BFL107>0,IF(BFQ107=0,BGA107,0),0)","v":0},0,null,null,null,null,0,40,-0.58879302785039522,2.1428571428571428,0,0,0,null,0,0,0,null,0,1000,-0.91179077001248354,0.40676363206966792,{"$f":"IF(BGH107>0,IF(BGM107=0,BGW107,0),0)","v":0},0,null,null,null,null,0,40,0.46956870271084139,2.1428571428571428,0,0,0,null,0,0,0,null,0,1000,-0.23612453182462348,0.34399575155728862,{"$f":"IF(BHD107>0,IF(BHI107=0,BHS107,0),0)","v":0},0,null,null,null,null,0,40,0.74959184758333308,2.1428571428571428,0,0,0,null,0,0,0,null,0,1000,0.4733057609136414,0.55105314769698643,{"$f":"IF(BHZ107>0,IF(BIE107=0,BIO107,0),0)","v":0},0,null,null,null,null,0,40,-0.52762818774162557,2.1428571428571428,0,0,0,null,0,0,0,null,0,1000,-5.5847842321433125E-2,0.45987086534113247,{"$f":"IF(BIV107>0,IF(BJA107=0,BJK107,0),0)","v":0},0,null,null,null,null,0,40,-0.32455796175555213,2.1428571428571428,0,0,0,null,0,0,0,null,0,1000,-0.73725925252224656,0.32863526721224795,{"$f":"IF(BJR107>0,IF(BJW107=0,BKG107,0),0)","v":0},0,null,null,null,null,0,{"$f":"BKO106+$A$28/$D$12","v":40},{"$f":"NORMINV((RAND()),0,1)","v":-0.89005617475072207},2.1428571428571428,0,0,0,null,0,0,0,null,0,1000,{"$f":"NORMINV((RAND()),0,1)","v":-2.2215548264579454},0.19738014788986535,{"$f":"IF(BKN107>0,IF(BKS107=0,BLC107,0),0)","v":0},0,null,null,null,null,0,{"$f":"BLK106+$A$28/$D$12","v":40},{"$f":"NORMINV((RAND()),0,1)","v":-0.25972188236369487},2.1428571428571428,0,0,0,null,0,0,0,null,0,1000,{"$f":"NORMINV((RAND()),0,1)","v":-0.60700263438860713},0.26326275141394506,{"$f":"IF(BLJ107>0,IF(BLO107=0,BLY107,0),0)","v":0},0,null,null,null,null,0,{"$f":"BMG106+$A$28/$D$12","v":40},{"$f":"NORMINV((RAND()),0,1)","v":-2.280824795070187},2.1428571428571428,0,0,0,null,0,0,0,null,0,1000,{"$f":"NORMINV((RAND()),0,1)","v":0.93789205574253953},0.25679810555058435,{"$f":"IF(BMF107>0,IF(BMK107=0,BMU107,0),0)","v":0},0,null,null,null,null,0,{"$f":"BNC106+$A$28/$D$12","v":40},{"$f":"NORMINV((RAND()),0,1)","v":0.10476900331011345},2.1428571428571428,0,0,0,null,0,0,0,null,0,1000,{"$f":"NORMINV((RAND()),0,1)","v":-0.96725926695261943},0.23169142165775805,{"$f":"IF(BNB107>0,IF(BNG107=0,BNQ107,0),0)","v":0},0,null,null,null,null,0,{"$f":"BNY106+$A$28/$D$12","v":40},{"$f":"NORMINV((RAND()),0,1)","v":0.62355698227825129},2.1428571428571428,{"$f":"IF(BOB106<=0,0,BOB106-BOA107+$D$4*(BOB106-BOA107)*SQRT($D$13)*NORMINV((RAND()),0,1))","v":0},0,0,{"$f":"IF(BNX107>0,IF(AND(BOC107=0,BOC106>0),BNX107,\" \"))","v":false},0,0,0,{"$f":"IF(BOI106=\"Abandon\",0,IF(BNX107>0,IF(AND(BOD107>0,BOF107=0),\"Abandon\",\" \"),\" \"))","v":" "},0,1000,{"$f":"NORMINV((RAND()),0,1)","v":-2.2014955172445356},{"$f":"IF(BOC106>0,IF((BOM106+$D$7*$D$9*BOL107*SQRT($D$13))<0,0,(BOM106+$D$7*$D$9*BOL107*SQRT($D$13))),IF(BOM106*EXP((($D$8-$D$1)-(1/2)*$D$9^2)*$D$13+$D$9*SQRT($D$13)*BOL107)<0,0,BOM106*EXP((($D$8-$D$1)-(1/2)*$D$9^2)*$D$13+$D$9*SQRT($D$13)*BOL107)))","v":0.19390495096887889},{"$f":"IF(BNX107>0,IF(BOC107=0,BOM107,0),0)","v":0},0,null,{"$f":"IF(BOC107>0,IF(BOK107<=$D$10*$D$13*1000,\"Failure\",\" \"),\" \")","v":" "},{"$f":"IF(BOR106>0,\" \",IF(BOQ107=\"Failure\",BNX107,))","v":0},0,40,0,0,0,null,null,0,0,79,{"$f":"+BOF107","v":0},null,{"$f":"+BOD107","v":0},{"$f":"+BOO107","v":0}]
[{"$f":"IF(A114<$D$14*$D$12,A114+1,IF(A114=$D$14*$D$12,,))","v":1},{"$f":"B114+$A$28/$D$12","v":0.5},{"$f":"NORMSINV(RAND())","v":-0.30418076974247316},{"$f":"D114","v":2.1428571428571428},{"$f":"E28","v":11.185696841814067},{"$f":"IF(OR(F114=0,E115<=0,A115=0),0,E115)","v":11.185696841814067},{"$f":"IF(AND(F114>0,F115=0),EXP(-(D$16+$D$1+$D$10)*$D$13)*G116+IF(D115-(0-E115)<0,0,D115-(0-E115)),IF(F115=0,0,EXP(-(D$16+$D$1+$D$10)*$D$13)*G116+D115))","v":8.1983038273406432},{"$f":"IF(A115>0,IF(AND(F115=0,F114>0),A115,\" \"))","v":" "},{"$f":"MAX(R115-G115,0)","v":29.12346434391474},{"$f":"IF(E115=0,0,IF(A115=0,0,IF(M$113=1000,IF(E115<0,IF(E114>0,IF(D115-(0-E115)<0,0,D115-(0-E115)),0),IF(M$113>=A115,D115,0)),IF(M$113>=A115,D115,0))))","v":2.1428571428571428},{"$f":"IF(M115=A115,J115,EXP(-($D$16)*$D$13)*(K116)+J115)","v":8.6655327299510958},null,{"$f":"IF(M114>0,\" \",IF(OR(T115=\"Failure\",L115=\"Abandon\"),A115,))","v":0},{"$f":"N28","v":359},{"$f":"NORMSINV(RAND())","v":-0.71838719251902472},{"$f":"P28","v":2.0157951277379702},{"$f":"IF(A115<=O$24,0,IF(AND(A115>0,$D$19=1),P115,IF(AND(A115>0,A115<=$E$19*$D$12+O$24),P115,0)))","v":0},{"$f":"IF(A115=$D$14*$D$12,IF(Q115+(P116*$D$18)/(($D$16*$D$13)-($D$8*$D$13))<0,Q115,Q115+(P116*$D$18)/(($D$16*$D$13)-($D$8*$D$13))),IF(Q115=0,EXP(-($D$16)*$D$13)*R116+Q115,EXP(-($D$16)*$D$13)*R116+Q115))","v":37.321768171255385},null,{"$f":"IF(F115>0,IF(N115<=$D$10*$D$13*1000,\"Failure\",\" \"),\" \")","v":" "},{"$f":"IF(U114>0,\" \",IF(T115=\"Failure\",A115,))","v":0}]
[6,3,-1.4801282344303242,2.1428571428571428,0,0,0,null,42.291103868976769,0,0,null,0,1000,-0.32413305705781087,1.639997076353938,1.639997076353938,42.291103868976769,null," ",0]
[11,5.5,-0.35186763148664052,2.1428571428571428,0,{"$f":"IF(OR(F124=0,E125<=0,A125=0),0,E125)","v":0},0,null,36.778078880089019,0,0,null,0,1000,-0.58809499286745404,2.6115053555344807,2.6115053555344807,36.778078880089019,null," ",0]
[17,8.5,1.1964531546253812,2.1428571428571428,0,0,0,null,27.112021749007091,0,0,null,0,1000,-1.3996937887452019E-2,2.2148651208292289,2.2148651208292289,27.112021749007091,null," ",0]
[22,11,-0.14051657248686317,2.1428571428571428,0,0,0,null,17.761917346286921,0,0,null,0,1000,-0.37078873006923513,1.2459895919273396,1.2459895919273396,17.761917346286921,null," ",0]
[28,14,-1.0810869618028733,2.1428571428571428,0,0,0,null,12.922118084400028,0,0,null,0,1000,5.0539603081238796E-2,1.5962910362020393,1.5962910362020393,12.922118084400028,null," ",0]
[33,16.5,1.2862537005119807,2.1428571428571428,0,0,0,null,5.0692234656873882,0,0,null,0,1000,1.2987868721239386,2.1374547297710849,2.1374547297710849,5.0692234656873882,null," ",0]
[0,19,0.96157930105993783,2.1428571428571428,0,0,0,null,0,0,0,null,0,1000,-2.1555175225154128,3.804634835777438,0,0,null," ",0]
[0,19.5,-0.4458012239790422,2.1428571428571428,0,0,0,null,0,0,0,null,0,1000,-1.1416575164955727,3.4260397482792082,0,0,null," ",0]
[0,22,1.3029000167898295,2.1428571428571428,0,0,0,null,0,0,0,null,0,1000,-0.37845652591588153,2.7573935554579276,0,0,null," ",0]
[0,24.5,-4.6755438773714512E-2,2.1428571428571428,0,0,0,null,0,0,0,null,0,1000,1.1706038298567214,3.8993078630960341,0,0,null," ",0]
[0,27.5,0.97278233430561911,2.1428571428571428,0,0,0,null,0,0,0,null,0,1000,-0.40301439678190881,2.3640332429857569,0,0,null," ",0]
[0,30,2.49596263386145,2.1428571428571428,0,0,0,null,0,0,0,null,0,1000,-0.69314825585784934,1.9281130414574335,0,0,null," ",0]
[0,{"$f":"B179+$A$28/$D$12","v":33},{"$f":"NORMSINV(RAND())","v":-0.90643485116770295},{"$f":"D179","v":2.1428571428571428},{"$f":"E93","v":0},0,{"$f":"IF(AND(F179>0,F180=0),EXP(-(D$16+$D$1+$D$10)*$D$13)*G181+IF(D180-(0-E180)<0,0,D180-(0-E180)),IF(F180=0,0,EXP(-(D$16+$D$1+$D$10)*$D$13)*G181+D180))","v":0},null,0,0,0,null,{"$f":"IF(M179>0,\" \",IF(OR(T180=\"Failure\",L180=\"Abandon\"),A180,))","v":0},{"$f":"N93","v":1000},{"$f":"NORMSINV(RAND())","v":-2.1149392644423583E-2},{"$f":"P93","v":2.4331128001208362},0,{"$f":"IF(A180=$D$14*$D$12,IF(Q180+(P181*$D$18)/(($D$16*$D$13)-($D$8*$D$13))<0,Q180,Q180+(P181*$D$18)/(($D$16*$D$13)-($D$8*$D$13))),IF(Q180=0,EXP(-($D$16)*$D$13)*R181+Q180,EXP(-($D$16)*$D$13)*R181+Q180))","v":0},null,{"$f":"IF(F180>0,IF(N180<=$D$10*$D$13*1000,\"Failure\",\" \"),\" \")","v":" "},{"$f":"IF(U179>0,\" \",IF(T180=\"Failure\",A180,))","v":0}]
[0,36,-0.27036434454061026,2.1428571428571428,0,0,0,null,0,0,0,null,0,1000,-1.740876249088269,3.9599773346001914,0,0,null," ",0]
[0,37.5,-0.1737693784811444,2.1428571428571428,0,{"$f":"IF(OR(F188=0,E189<=0,A189=0),0,E189)","v":0},0,null,0,0,0,null,0,1000,-1.0290317819925789,3.8624378513701938,0,0,null," ",0]
[0,38,-0.64782172090983481,2.1428571428571428,0,0,0,null,0,0,0,null,0,1000,-1.365124475616694E-2,3.5329252509344058,0,0,null," ",0]
[0,38.5,1.1707131806904774,2.1428571428571428,0,0,0,null,0,0,0,null,0,1000,-0.40728840409317951,3.537528459754304,0,0,null," ",0]
[0,39,1.8169703405154083E-2,2.1428571428571428,0,0,0,null,0,0,0,null,0,1000,-0.69709394109334577,4.0332576277025733,0,0,null," ",0]
[0,39.5,0.19294028456629445,2.1428571428571428,0,0,0,null,0,0,0,null,0,1000,0.44407767050318225,4.0791407162444457,0,0,null," ",0]
[0,40,0.45414446118625101,2.1428571428571428,0,0,0,null,0,0,0,null,0,1000,-0.17446180676752895,5.2655191389017055,0,0,null," ",0]
[null,null,null,null,null,null,null,null,null,null,null,null,null,1000,-1.2604190184724842,4.5100840799494035,null,null,null," ",0]

{"sheet":"Hoja1","index":4,"n_rows":17,"n_cols":10,"rows_kept":17,"cut":false,"hidden":true,"merged":[]}
["Dado que inicia el proyecto "]
[null,null,null,"Dado que empecé ",null,null,"Probabilidad que sea positivo"]
["Si se inicia",{"$f":"IF(Model!M20=0,0,Model!I21)","v":26.00999232894516},null,{"$f":"IF(B3>0,1,0)","v":1},">0",0.53400000000000003,{"$f":"F3/(F3+F5)","v":0.66335403726708086},null,"Media",19.905034703931527]
[null,null,null,{"$f":"IF(B3=0,1,0)","v":0},{"$f":"0","v":0},0.19500000000000001,null,null,"Varianza",687.80929576431936]
[null,null,null,null,"<0",{"$f":"1-F3-F4","v":0.27099999999999996},null,null,"Mínimo",-17.880493602959504]
[null,null,null,null,null,null,null,null,"Mediana",14.811475476920823]
[null,null,null,null,null,null,null,null,0,-17.880493602959504]
["CE",{"$f":"J3-J4/(2*B9)","v":6.1488487886451395},null,null,null,null,null,null,0.1,-6.1163203346948549]
["w",{"$f":"Data!C15","v":25},null,null,null,null,null,null,0.2,-4.128298578276528]
[null,null,null,null,null,null,null,null,0.3,-2.089949811489284]
["Maximum Acceptable Loss",{"$f":"LN(1-G3)*B9","v":-27.218086413471571},null,null,null,null,null,null,0.4,7.0894031202017116]
[null,null,null,null,null,null,null,null,0.5,14.810011910474158]
[{"$f":"IF(OR(B8<0,B11>J5),\"Do not invest in the project\",\"Invest in the project\")","v":"Invest in the project"},null,null,null,null,null,null,null,0.6,23.059757358961008]
[null,null,null,null,null,null,null,null,0.7,29.312163366730115]
[null,null,null,null,null,null,null,null,0.8,39.19437092226412]
[null,null,null,null,null,null,null,null,0.9,54.882254805982654]
[null,null,null,null,null,null,null,null,1,147.00313374779836]

{"sheet":"Example & Results","index":5,"n_rows":169,"n_cols":4,"rows_kept":169,"cut":false,"hidden":false,"merged":[[141,0,141,11],[168,0,170,11],[103,0,108,11],[3,3,6,8],[7,3,8,8],[73,0,75,11],[137,0,139,11],[77,0,77,11],[110,0,110,11],[18,0,18,11],[46,0,46,11],[42,0,44,11]]}
["Example"]
[]
["Variable","Value"]
["Total expected investment of the project ($)",1.83,null,"The NPV of the Project is positive and significantly high (3.68), while the PV of the Investments is 1.48 and the PV of the Cash Flows is 5.16. However, this information may not be accurate due to flexibility and uncertainty. "]
["Expected cash flow per year ($)",0.8]
["Average exepcted inflation rate (%)",0.02]
["Time to patent expiration (in years)",14]
["Development time (in years)",3.5,null,"For a better understanding of the behavior and true meaning of these variables, observe the graphs presented below. "]
["Cost of Capital (WACC) of the company (%)",9.35E-2]
["Market share after patent expiration (%)",0.45]
["Industry","Other"]
["Frequency of evaluation","Semiannually"]
["Volatility (%)",0.41110000000000002]
["Probability of catastrophic events",0.02]
["NPV of the Project",3.68]
["NPV of the Cash Flows",5.1592371154346131]
["NPV of the Costs",1.4764038223072444]
[]
["Present Value of the Project"]
[]
[]
[]
[]
[]
[]
[]
[]
[]
[]
[]
[]
[]
[]
[]
[]
[]
[]
[]
[]
[]
["Highlights"]
["Mean = 1.66"]
["51.45% of the cases result in a positive value. It is possible to add the cases of a value of 0, which are around 14% of the cases, so around 34.5% of the cases result in losses. In order to get more information, values at the bottom of the graph may me modified to know, for example, the probability of having losses greater than 1, or cash flows over 0.90. Analysis the maximum (21.85) and the minimum (-2.24) is also relevant, but understanding the frequency is more important. "]
[]
[]
[]
["Time to Completion"]
[]
[]
[]
[]
[]
[]
[]
[]
[]
[]
[]
[]
[]
[]
[]
[]
[]
[]
[]
[]
[]
[]
[]
[]
[]
["Highlights"]
["This graph makes reference to the number of years until the investmnet is completed. In the example, 3.50 years was given as the development time. With the model, it can be seen that the mean is 3.49, with aproximately 50% of the values below 3.5 years. It also results interesting to look at the minimum (1.5 years) and the maximum (10.5 years). Another important number that is not displayed in the statistics is the percentage of times that the project was completed (5,618 displayed trials vs. 10,000 that were made = 56.18%)"]
[]
[]
[]
["Option to Abandon "]
[]
[]
[]
[]
[]
[]
[]
[]
[]
[]
[]
[]
[]
[]
[]
[]
[]
[]
[]
[]
[]
[]
[]
[]
["Highlights"]
["This graph makes reference to the number of years in which the option to abandon was taken. With the model, it can be seen that the mean is 1.10, with aproximately 50% of the values below 0.50 years. It also results interesting to look at the  maximum (9.50 years). Another important number that is not displayed in the statistics is the percentage of times that the project was abandoned (4,382 displayed trials vs. 10,000 that were made = 43.82%). This percentage should be the complement of the percentage of completed projects. In this case, it seems like 32% of the projects were abandoned in t=0; however, this number should be multiplied by 43.82% to obtain the percentage of the total trials that were abandoned at t=0, which results in 14.02% (which agrees with the projects with a value of 0 in the graph of the Present Value of the Project). Another interesting aspect is the declining trend of the graph, which means that, normally, it is more likely to abandon on the first years of the project and less likely as years pass by."]
[]
[]
[]
[]
[]
[]
["PV of Revenues (Cash Flows)"]
[]
[]
[]
[]
[]
[]
[]
[]
[]
[]
[]
[]
[]
[]
[]
[]
[]
[]
[]
[]
[]
[]
[]
[]
[]
["Highlights"]
["The next two charts make up the first chart, since the PV of the project is affected by the costs and the cash flows. This first graph makes reference to the PV of the Cash Flows. Interesting information form here are: the percentage of projects with a value of 0 (43.50%, which mean they are the abandoned projects), the maximum cash flows (22.97), the median (1.79), and the mean (3.22). As in the first graph, the values at the bottom of the chart may be modified to get the probability of obtaining a value between a specified range. "]
[]
[]
[]
["PV of Costs "]
[]
[]
[]
[]
[]
[]
[]
[]
[]
[]
[]
[]
[]
[]
[]
[]
[]
[]
[]
[]
[]
[]
[]
[]
[]
["Highlights"]
["This  graph makes reference to the PV of the Costs or investments. Interesting information form here are: the percentage of projects with a value of 0 (a little higher than 14%, which matches with the projects abandoned at t=0), the maximum costs (2.84), the median (1.17), and the mean (0.99). As in the first graph, the values at the bottom of the chart may be modified to get the probability of obtaining a value between a specified range. "]