{"text_format":"1","workbook":"xlsx","n_sheets":4,"sheets":["Instructions","Input data","Hb reference spectrum","Temporary"],"not_rendered":{"charts":1,"images":0,"macros":1,"external_links":0,"defined_names":36,"comments":0,"pivot_tables":0},"unopened":[],"bounds":{"document_bytes":16777216,"sheet_cells":100000,"rows_first":2000,"rows_last":500,"rows_between":2000,"halvings":0,"cell_chars":16384,"cell_head_chars":4096},"cells_cut":0,"cells_raw":0,"read":"whole","date_system":"1900"}

{"sheet":"Instructions","index":0,"n_rows":33,"n_cols":2,"rows_kept":33,"cut":false,"hidden":false,"merged":[[15,0,15,5],[16,0,16,5],[17,0,17,5],[18,0,18,5],[0,0,0,5],[13,0,13,5],[5,0,5,5],[8,1,8,5],[7,1,7,5],[2,0,2,5],[3,0,3,5],[9,1,9,5],[10,1,10,5],[11,1,11,5],[27,0,27,5],[32,0,32,5],[28,1,28,5],[29,1,29,5],[30,1,30,5],[31,1,31,5],[23,1,23,5],[24,1,24,5],[25,1,25,5],[19,0,19,5],[22,0,22,5],[21,0,21,5]]}
["Instructions for the use of HEBIFit Excel macro"]
[]
["This software is not a medical product registerd with any notified body."]
["It is limited to research use only. This excludes the use for diagnostic purposes."]
[]
["Content of this file"]
["This Excel macro contains three further sheets with the following content: "]
[" - Input data:","The recorded specimen spectrum is inserted here for evaluation."]
[null,"First column contains the wavelength array.\nSecond column contains the absorbance array."]
[" - Hb reference spectrum:","Contains the Hb reference spectrum which is used by the fit for the evaluation."]
[null,"First column: wavelength array.\nSecond column: absorbance array."]
[" - Temporary (hidden):","Contains intermediate calculation results required by the fitting routine."]
[]
["Use of this file"]
[]
["Make sure that"]
[" - Absorbance spectra are recorded over the range of 350 nm to 650 nm with 0.5 nm step size, with the spectral bandpass set to 4 nm, and scan speed to 200 nm/min."]
[" - The wavelength and absorbance arrays have the same length for the Hb reference spectrum and the input spectra."]
[" - The wavelength array has the same content for both sheets and has to be ordered decending.\n    for both sheets"]
[" - Only light green shaded cells should be changed to ensure functionality of the macro."]
[]
["Preparations before the first measurement"]
["Even though we provide a Hb reference spectrum, we suggest recording a new reference spectrum with the device the method is implemented with."]
["Step 1:","Prepare a sample with 9 mg/dl fHb in aqua dest. from full blood hemolysate\n(100 mg/dl in 1:11 dilution)"]
["Step 2:","Record an absorbance spectrum of this sample vs. blank buffer solution "]
["Step 3:","Insert the absorbance measured in sheet \"Hb reference spectrum\", cells \"B2:B602\""]
[]
["Performing a measurement"]
["Step 1:","Copy and paste the recorded specimen spectrum (absorbance array) into the sheet \"Input Data\", column \"B010 to B610\" "]
["Step 2: ","Enter sample ID in sheet \"Input Data\", cell \"B01\" "]
["Step 3: ","Enter the dilution factor according to the dilution used on the recorded specimen"]
["Step 4: ","Press the \"Evaluate\" button "]
["A new sheet labeled according to the sample ID is generated and the fit result is displayed, including the result of Harboe and Kahn"]

{"sheet":"Input data","index":1,"n_rows":610,"n_cols":6,"rows_kept":610,"cut":false,"hidden":false,"merged":[]}
["Sample ID","Non icteric sample","Icteric sample",3,4,5]
["Dilution",11,11,11,11,11]
[null,111.64689807836703,111.64689807836703,111.64689807836703,111.64689807836703,111.64689807836703]
["fHb (HEBIFit)",0,0,0,0,0]
["Bilirubin (HEBIFit)",0,0,0,0,0]
["fHb (Harboe)",{"$f":"(168*B481-84*B551-84*B411)*B$2/11","v":78.456000000000003},{"$f":"(168*C481-84*C551-84*C411)*C$2/11","v":130.03199999999998},0,0,0]
["fHb (Kahn)",{"$f":"11*(155*B154-86*B186-69*B114)*B$2/11","v":71.081999999999994},{"$f":"11*(155*C154-86*C186-69*C114)*C$2/11","v":99.330000000000013},0,0,0]
[]
["Wavelength (nm)","Measured Spectrum","Measured Spectrum","Measured Spectrum","Measured Spectrum","Measured Spectrum"]
[{"$f":"'Hb reference spectrum'!A2","v":650},6.0000000000000001E-3,6.0000000000000001E-3]
[{"$f":"'Hb reference spectrum'!A3","v":649.5},6.0000000000000001E-3,6.0000000000000001E-3]
[{"$f":"'Hb reference spectrum'!A4","v":649},6.0000000000000001E-3,6.0000000000000001E-3]
[{"$f":"'Hb reference spectrum'!A5","v":648.5},6.0000000000000001E-3,6.0000000000000001E-3]
[{"$f":"'Hb reference spectrum'!A6","v":648},6.0000000000000001E-3,6.0000000000000001E-3]
[{"$f":"'Hb reference spectrum'!A7","v":647.5},6.0000000000000001E-3,6.0000000000000001E-3]
[{"$f":"'Hb reference spectrum'!A8","v":647},6.0000000000000001E-3,6.0000000000000001E-3]
[{"$f":"'Hb reference spectrum'!A9","v":646.5},6.0000000000000001E-3,6.0000000000000001E-3]
[{"$f":"'Hb reference spectrum'!A10","v":646},6.0000000000000001E-3,6.0000000000000001E-3]
[{"$f":"'Hb reference spectrum'!A11","v":645.5},6.0000000000000001E-3,6.0000000000000001E-3]
[{"$f":"'Hb reference spectrum'!A12","v":645},6.0000000000000001E-3,6.0000000000000001E-3]
[{"$f":"'Hb reference spectrum'!A13","v":644.5},6.0000000000000001E-3,6.0000000000000001E-3]
[{"$f":"'Hb reference spectrum'!A14","v":644},6.0000000000000001E-3,6.0000000000000001E-3]
[{"$f":"'Hb reference spectrum'!A15","v":643.5},6.0000000000000001E-3,6.0000000000000001E-3]
[{"$f":"'Hb reference spectrum'!A16","v":643},6.0000000000000001E-3,6.0000000000000001E-3]
[{"$f":"'Hb reference spectrum'!A17","v":642.5},6.0000000000000001E-3,6.0000000000000001E-3]
[{"$f":"'Hb reference spectrum'!A18","v":642},6.0000000000000001E-3,6.0000000000000001E-3]
[{"$f":"'Hb reference spectrum'!A19","v":641.5},6.0000000000000001E-3,6.0000000000000001E-3]
[{"$f":"'Hb reference spectrum'!A20","v":641},6.0000000000000001E-3,6.0000000000000001E-3]
[{"$f":"'Hb reference spectrum'!A21","v":640.5},6.0000000000000001E-3,6.0000000000000001E-3]
[{"$f":"'Hb reference spectrum'!A22","v":640},6.0000000000000001E-3,6.0000000000000001E-3]
[{"$f":"'Hb reference spectrum'!A23","v":639.5},7.0000000000000001E-3,6.0000000000000001E-3]
[{"$f":"'Hb reference spectrum'!A24","v":639},7.0000000000000001E-3,7.0000000000000001E-3]
[{"$f":"'Hb reference spectrum'!A25","v":638.5},7.0000000000000001E-3,7.0000000000000001E-3]
[{"$f":"'Hb reference spectrum'!A26","v":638},7.0000000000000001E-3,7.0000000000000001E-3]
[{"$f":"'Hb reference spectrum'!A27","v":637.5},7.0000000000000001E-3,7.0000000000000001E-3]
[{"$f":"'Hb reference spectrum'!A28","v":637},7.0000000000000001E-3,7.0000000000000001E-3]
[{"$f":"'Hb reference spectrum'!A29","v":636.5},7.0000000000000001E-3,7.0000000000000001E-3]
[{"$f":"'Hb reference spectrum'!A30","v":636},7.0000000000000001E-3,7.0000000000000001E-3]
[{"$f":"'Hb reference spectrum'!A31","v":635.5},7.0000000000000001E-3,7.0000000000000001E-3]
[{"$f":"'Hb reference spectrum'!A32","v":635},7.0000000000000001E-3,7.0000000000000001E-3]
[{"$f":"'Hb reference spectrum'!A33","v":634.5},7.0000000000000001E-3,7.0000000000000001E-3]
[{"$f":"'Hb reference spectrum'!A34","v":634},7.0000000000000001E-3,7.0000000000000001E-3]
[{"$f":"'Hb reference spectrum'!A35","v":633.5},7.0000000000000001E-3,7.0000000000000001E-3]
[{"$f":"'Hb reference spectrum'!A36","v":633},7.0000000000000001E-3,7.0000000000000001E-3]
[{"$f":"'Hb reference spectrum'!A37","v":632.5},7.0000000000000001E-3,7.0000000000000001E-3]
[{"$f":"'Hb reference spectrum'!A38","v":632},7.0000000000000001E-3,7.0000000000000001E-3]
[{"$f":"'Hb reference spectrum'!A39","v":631.5},7.0000000000000001E-3,7.0000000000000001E-3]
[{"$f":"'Hb reference spectrum'!A40","v":631},7.0000000000000001E-3,7.0000000000000001E-3]
[{"$f":"'Hb reference spectrum'!A41","v":630.5},7.0000000000000001E-3,7.0000000000000001E-3]
[{"$f":"'Hb reference spectrum'!A42","v":630},7.0000000000000001E-3,7.0000000000000001E-3]
[{"$f":"'Hb reference spectrum'!A43","v":629.5},7.0000000000000001E-3,7.0000000000000001E-3]
[{"$f":"'Hb reference spectrum'!A44","v":629},7.0000000000000001E-3,7.0000000000000001E-3]
[{"$f":"'Hb reference spectrum'!A45","v":628.5},7.0000000000000001E-3,7.0000000000000001E-3]
[{"$f":"'Hb reference spectrum'!A46","v":628},7.0000000000000001E-3,7.0000000000000001E-3]
[{"$f":"'Hb reference spectrum'!A47","v":627.5},7.0000000000000001E-3,7.0000000000000001E-3]
[{"$f":"'Hb reference spectrum'!A48","v":627},7.0000000000000001E-3,7.0000000000000001E-3]
[{"$f":"'Hb reference spectrum'!A49","v":626.5},7.0000000000000001E-3,8.0000000000000002E-3]
[{"$f":"'Hb reference spectrum'!A50","v":626},7.0000000000000001E-3,8.0000000000000002E-3]
[{"$f":"'Hb reference spectrum'!A51","v":625.5},7.0000000000000001E-3,8.0000000000000002E-3]
[{"$f":"'Hb reference spectrum'!A52","v":625},7.0000000000000001E-3,8.0000000000000002E-3]
[{"$f":"'Hb reference spectrum'!A53","v":624.5},7.0000000000000001E-3,8.0000000000000002E-3]
[{"$f":"'Hb reference spectrum'!A54","v":624},7.0000000000000001E-3,8.0000000000000002E-3]
[{"$f":"'Hb reference spectrum'!A55","v":623.5},7.0000000000000001E-3,8.0000000000000002E-3]
[{"$f":"'Hb reference spectrum'!A56","v":623},7.0000000000000001E-3,8.0000000000000002E-3]
[{"$f":"'Hb reference spectrum'!A57","v":622.5},7.0000000000000001E-3,8.0000000000000002E-3]
[{"$f":"'Hb reference spectrum'!A58","v":622},7.0000000000000001E-3,8.0000000000000002E-3]
[{"$f":"'Hb reference spectrum'!A59","v":621.5},8.0000000000000002E-3,8.0000000000000002E-3]
[{"$f":"'Hb reference spectrum'!A60","v":621},8.0000000000000002E-3,8.0000000000000002E-3]
[{"$f":"'Hb reference spectrum'!A61","v":620.5},8.0000000000000002E-3,8.0000000000000002E-3]
[{"$f":"'Hb reference spectrum'!A62","v":620},8.0000000000000002E-3,8.0000000000000002E-3]
[{"$f":"'Hb reference spectrum'!A63","v":619.5},8.0000000000000002E-3,8.0000000000000002E-3]
[{"$f":"'Hb reference spectrum'!A64","v":619},8.0000000000000002E-3,8.0000000000000002E-3]
[{"$f":"'Hb reference spectrum'!A65","v":618.5},8.0000000000000002E-3,8.0000000000000002E-3]
[{"$f":"'Hb reference spectrum'!A66","v":618},8.0000000000000002E-3,8.0000000000000002E-3]
[{"$f":"'Hb reference spectrum'!A67","v":617.5},8.0000000000000002E-3,8.0000000000000002E-3]
[{"$f":"'Hb reference spectrum'!A68","v":617},8.0000000000000002E-3,8.0000000000000002E-3]
[{"$f":"'Hb reference spectrum'!A69","v":616.5},8.0000000000000002E-3,8.0000000000000002E-3]
[{"$f":"'Hb reference spectrum'!A70","v":616},8.0000000000000002E-3,8.9999999999999993E-3]
[{"$f":"'Hb reference spectrum'!A71","v":615.5},8.0000000000000002E-3,8.9999999999999993E-3]
[{"$f":"'Hb reference spectrum'!A72","v":615},8.0000000000000002E-3,8.9999999999999993E-3]
[{"$f":"'Hb reference spectrum'!A73","v":614.5},8.0000000000000002E-3,8.9999999999999993E-3]
[{"$f":"'Hb reference spectrum'!A74","v":614},8.0000000000000002E-3,8.9999999999999993E-3]
[{"$f":"'Hb reference spectrum'!A75","v":613.5},8.0000000000000002E-3,8.9999999999999993E-3]
[{"$f":"'Hb reference spectrum'!A76","v":613},8.0000000000000002E-3,8.9999999999999993E-3]
[{"$f":"'Hb reference spectrum'!A77","v":612.5},8.0000000000000002E-3,8.9999999999999993E-3]
[{"$f":"'Hb reference spectrum'!A78","v":612},8.0000000000000002E-3,8.9999999999999993E-3]
[{"$f":"'Hb reference spectrum'!A79","v":611.5},8.0000000000000002E-3,8.9999999999999993E-3]
[{"$f":"'Hb reference spectrum'!A80","v":611},8.0000000000000002E-3,8.9999999999999993E-3]
[{"$f":"'Hb reference spectrum'!A81","v":610.5},8.0000000000000002E-3,8.9999999999999993E-3]
[{"$f":"'Hb reference spectrum'!A82","v":610},8.9999999999999993E-3,8.9999999999999993E-3]
[{"$f":"'Hb reference spectrum'!A83","v":609.5},8.9999999999999993E-3,8.9999999999999993E-3]
[{"$f":"'Hb reference spectrum'!A84","v":609},8.9999999999999993E-3,0.01]
[{"$f":"'Hb reference spectrum'!A85","v":608.5},8.9999999999999993E-3,0.01]
[{"$f":"'Hb reference spectrum'!A86","v":608},8.9999999999999993E-3,0.01]
[{"$f":"'Hb reference spectrum'!A87","v":607.5},8.9999999999999993E-3,0.01]
[{"$f":"'Hb reference spectrum'!A88","v":607},8.9999999999999993E-3,0.01]
[{"$f":"'Hb reference spectrum'!A89","v":606.5},8.9999999999999993E-3,0.01]
[{"$f":"'Hb reference spectrum'!A90","v":606},8.9999999999999993E-3,0.01]
[{"$f":"'Hb reference spectrum'!A91","v":605.5},8.9999999999999993E-3,0.01]
[{"$f":"'Hb reference spectrum'!A92","v":605},8.9999999999999993E-3,1.0999999999999999E-2]
[{"$f":"'Hb reference spectrum'!A93","v":604.5},0.01,1.0999999999999999E-2]
[{"$f":"'Hb reference spectrum'!A94","v":604},0.01,1.0999999999999999E-2]
[{"$f":"'Hb reference spectrum'!A95","v":603.5},0.01,1.0999999999999999E-2]
[{"$f":"'Hb reference spectrum'!A96","v":603},0.01,1.0999999999999999E-2]
[{"$f":"'Hb reference spectrum'!A97","v":602.5},0.01,1.2E-2]
[{"$f":"'Hb reference spectrum'!A98","v":602},0.01,1.2E-2]
[{"$f":"'Hb reference spectrum'!A99","v":601.5},0.01,1.2E-2]
[{"$f":"'Hb reference spectrum'!A100","v":601},1.0999999999999999E-2,1.2E-2]
[{"$f":"'Hb reference spectrum'!A101","v":600.5},1.0999999999999999E-2,1.2999999999999999E-2]
[{"$f":"'Hb reference spectrum'!A102","v":600},1.0999999999999999E-2,1.2999999999999999E-2]
[{"$f":"'Hb reference spectrum'!A103","v":599.5},1.0999999999999999E-2,1.2999999999999999E-2]
[{"$f":"'Hb reference spectrum'!A104","v":599},1.0999999999999999E-2,1.4E-2]
[{"$f":"'Hb reference spectrum'!A105","v":598.5},1.2E-2,1.4E-2]
[{"$f":"'Hb reference spectrum'!A106","v":598},1.2E-2,1.4999999999999999E-2]
[{"$f":"'Hb reference spectrum'!A107","v":597.5},1.2E-2,1.4999999999999999E-2]
[{"$f":"'Hb reference spectrum'!A108","v":597},1.2999999999999999E-2,1.6E-2]
[{"$f":"'Hb reference spectrum'!A109","v":596.5},1.2999999999999999E-2,1.6E-2]
[{"$f":"'Hb reference spectrum'!A110","v":596},1.4E-2,1.7000000000000001E-2]
[{"$f":"'Hb reference spectrum'!A111","v":595.5},1.4E-2,1.7999999999999999E-2]
[{"$f":"'Hb reference spectrum'!A112","v":595},1.4999999999999999E-2,1.7999999999999999E-2]
[{"$f":"'Hb reference spectrum'!A113","v":594.5},1.4999999999999999E-2,1.9E-2]
[{"$f":"'Hb reference spectrum'!A114","v":594},1.6E-2,0.02]
[{"$f":"'Hb reference spectrum'!A115","v":593.5},1.6E-2,2.1000000000000001E-2]
[{"$f":"'Hb reference spectrum'!A116","v":593},1.7000000000000001E-2,2.1999999999999999E-2]
[{"$f":"'Hb reference spectrum'!A117","v":592.5},1.7999999999999999E-2,2.3E-2]
[{"$f":"'Hb reference spectrum'!A118","v":592},1.9E-2,2.4E-2]
[{"$f":"'Hb reference spectrum'!A119","v":591.5},0.02,2.5999999999999999E-2]
[{"$f":"'Hb reference spectrum'!A120","v":591},2.1000000000000001E-2,2.7E-2]
[{"$f":"'Hb reference spectrum'!A121","v":590.5},2.1999999999999999E-2,2.9000000000000001E-2]
[{"$f":"'Hb reference spectrum'!A122","v":590},2.3E-2,0.03]
[{"$f":"'Hb reference spectrum'!A123","v":589.5},2.4E-2,3.2000000000000001E-2]
[{"$f":"'Hb reference spectrum'!A124","v":589},2.5999999999999999E-2,3.4000000000000002E-2]
[{"$f":"'Hb reference spectrum'!A125","v":588.5},2.7E-2,3.5999999999999997E-2]
[{"$f":"'Hb reference spectrum'!A126","v":588},2.9000000000000001E-2,3.9E-2]
[{"$f":"'Hb reference spectrum'!A127","v":587.5},3.1E-2,4.1000000000000002E-2]
[{"$f":"'Hb reference spectrum'!A128","v":587},3.3000000000000002E-2,4.3999999999999997E-2]
[{"$f":"'Hb reference spectrum'!A129","v":586.5},3.5000000000000003E-2,4.5999999999999999E-2]
[{"$f":"'Hb reference spectrum'!A130","v":586},3.6999999999999998E-2,4.9000000000000002E-2]
[{"$f":"'Hb reference spectrum'!A131","v":585.5},3.9E-2,5.2999999999999999E-2]
[{"$f":"'Hb reference spectrum'!A132","v":585},4.2000000000000003E-2,5.6000000000000001E-2]
[{"$f":"'Hb reference spectrum'!A133","v":584.5},4.3999999999999997E-2,5.8999999999999997E-2]
[{"$f":"'Hb reference spectrum'!A134","v":584},4.7E-2,6.3E-2]
[{"$f":"'Hb reference spectrum'!A135","v":583.5},0.05,6.7000000000000004E-2]
[{"$f":"'Hb reference spectrum'!A136","v":583},5.1999999999999998E-2,7.0999999999999994E-2]
[{"$f":"'Hb reference spectrum'!A137","v":582.5},5.5E-2,7.4999999999999997E-2]
[{"$f":"'Hb reference spectrum'!A138","v":582},5.7000000000000002E-2,7.8E-2]
[{"$f":"'Hb reference spectrum'!A139","v":581.5},0.06,8.2000000000000003E-2]
[{"$f":"'Hb reference spectrum'!A140","v":581},6.2E-2,8.5999999999999993E-2]
[{"$f":"'Hb reference spectrum'!A141","v":580.5},6.4000000000000001E-2,8.8999999999999996E-2]
[{"$f":"'Hb reference spectrum'!A142","v":580},6.6000000000000003E-2,9.1999999999999998E-2]
[{"$f":"'Hb reference spectrum'!A143","v":579.5},6.8000000000000005E-2,9.5000000000000001E-2]
[{"$f":"'Hb reference spectrum'!A144","v":579},7.0000000000000007E-2,9.7000000000000003E-2]
[{"$f":"'Hb reference spectrum'!A145","v":578.5},7.0999999999999994E-2,9.9000000000000005E-2]
[{"$f":"'Hb reference spectrum'!A146","v":578},7.1999999999999995E-2,0.10100000000000001]
[{"$f":"'Hb reference spectrum'!A147","v":577.5},7.1999999999999995E-2,0.10199999999999999]
[{"$f":"'Hb reference spectrum'!A148","v":577},7.2999999999999995E-2,0.10299999999999999]
[{"$f":"'Hb reference spectrum'!A149","v":576.5},7.2999999999999995E-2,0.104]
[{"$f":"'Hb reference spectrum'!A150","v":576},7.2999999999999995E-2,0.104]
[{"$f":"'Hb reference spectrum'!A151","v":575.5},7.1999999999999995E-2,0.104]
[{"$f":"'Hb reference spectrum'!A152","v":575},7.0999999999999994E-2,0.10299999999999999]
[{"$f":"'Hb reference spectrum'!A153","v":574.5},7.0999999999999994E-2,0.10199999999999999]
[{"$f":"'Hb reference spectrum'!A154","v":574},7.0000000000000007E-2,0.10100000000000001]
[{"$f":"'Hb reference spectrum'!A155","v":573.5},6.9000000000000006E-2,0.1]
[{"$f":"'Hb reference spectrum'!A156","v":573},6.7000000000000004E-2,9.8000000000000004E-2]
[{"$f":"'Hb reference spectrum'!A157","v":572.5},6.6000000000000003E-2,9.6000000000000002E-2]
[{"$f":"'Hb reference spectrum'!A158","v":572},6.5000000000000002E-2,9.5000000000000001E-2]
[{"$f":"'Hb reference spectrum'!A159","v":571.5},6.3E-2,9.2999999999999999E-2]
[{"$f":"'Hb reference spectrum'!A160","v":571},6.2E-2,9.0999999999999998E-2]
[{"$f":"'Hb reference spectrum'!A161","v":570.5},6.0999999999999999E-2,8.8999999999999996E-2]
[{"$f":"'Hb reference spectrum'!A162","v":570},5.8999999999999997E-2,8.6999999999999994E-2]
[{"$f":"'Hb reference spectrum'!A163","v":569.5},5.8000000000000003E-2,8.5000000000000006E-2]
[{"$f":"'Hb reference spectrum'!A164","v":569},5.7000000000000002E-2,8.3000000000000004E-2]
[{"$f":"'Hb reference spectrum'!A165","v":568.5},5.5E-2,8.1000000000000003E-2]
[{"$f":"'Hb reference spectrum'!A166","v":568},5.3999999999999999E-2,7.9000000000000001E-2]
[{"$f":"'Hb reference spectrum'!A167","v":567.5},5.2999999999999999E-2,7.6999999999999999E-2]
[{"$f":"'Hb reference spectrum'!A168","v":567},5.1999999999999998E-2,7.5999999999999998E-2]
[{"$f":"'Hb reference spectrum'!A169","v":566.5},5.0999999999999997E-2,7.3999999999999996E-2]
[{"$f":"'Hb reference spectrum'!A170","v":566},0.05,7.2999999999999995E-2]
[{"$f":"'Hb reference spectrum'!A171","v":565.5},4.9000000000000002E-2,7.0999999999999994E-2]
[{"$f":"'Hb reference spectrum'!A172","v":565},4.8000000000000001E-2,7.0000000000000007E-2]
[{"$f":"'Hb reference spectrum'!A173","v":564.5},4.7E-2,6.9000000000000006E-2]
[{"$f":"'Hb reference spectrum'!A174","v":564},4.7E-2,6.8000000000000005E-2]
[{"$f":"'Hb reference spectrum'!A175","v":563.5},4.5999999999999999E-2,6.7000000000000004E-2]
[{"$f":"'Hb reference spectrum'!A176","v":563},4.5999999999999999E-2,6.7000000000000004E-2]
[{"$f":"'Hb reference spectrum'!A177","v":562.5},4.4999999999999998E-2,6.6000000000000003E-2]
[{"$f":"'Hb reference spectrum'!A178","v":562},4.4999999999999998E-2,6.5000000000000002E-2]
[{"$f":"'Hb reference spectrum'!A179","v":561.5},4.4999999999999998E-2,6.5000000000000002E-2]
[{"$f":"'Hb reference spectrum'!A180","v":561},4.4999999999999998E-2,6.5000000000000002E-2]
[{"$f":"'Hb reference spectrum'!A181","v":560.5},4.4999999999999998E-2,6.5000000000000002E-2]
[{"$f":"'Hb reference spectrum'!A182","v":560},4.4999999999999998E-2,6.5000000000000002E-2]
[{"$f":"'Hb reference spectrum'!A183","v":559.5},4.4999999999999998E-2,6.5000000000000002E-2]
[{"$f":"'Hb reference spectrum'!A184","v":559},4.4999999999999998E-2,6.5000000000000002E-2]
[{"$f":"'Hb reference spectrum'!A185","v":558.5},4.4999999999999998E-2,6.5000000000000002E-2]
[{"$f":"'Hb reference spectrum'!A186","v":558},4.5999999999999999E-2,6.6000000000000003E-2]
[{"$f":"'Hb reference spectrum'!A187","v":557.5},4.5999999999999999E-2,6.6000000000000003E-2]
[{"$f":"'Hb reference spectrum'!A188","v":557},4.5999999999999999E-2,6.7000000000000004E-2]
[{"$f":"'Hb reference spectrum'!A189","v":556.5},4.7E-2,6.8000000000000005E-2]
[{"$f":"'Hb reference spectrum'!A190","v":556},4.7E-2,6.8000000000000005E-2]
[{"$f":"'Hb reference spectrum'!A191","v":555.5},4.8000000000000001E-2,6.9000000000000006E-2]
[{"$f":"'Hb reference spectrum'!A192","v":555},4.9000000000000002E-2,7.0000000000000007E-2]
[{"$f":"'Hb reference spectrum'!A193","v":554.5},4.9000000000000002E-2,7.0999999999999994E-2]
[{"$f":"'Hb reference spectrum'!A194","v":554},0.05,7.1999999999999995E-2]
[{"$f":"'Hb reference spectrum'!A195","v":553.5},5.0999999999999997E-2,7.3999999999999996E-2]
[{"$f":"'Hb reference spectrum'!A196","v":553},5.1999999999999998E-2,7.4999999999999997E-2]
[{"$f":"'Hb reference spectrum'!A197","v":552.5},5.1999999999999998E-2,7.5999999999999998E-2]
[{"$f":"'Hb reference spectrum'!A198","v":552},5.2999999999999999E-2,7.8E-2]
[{"$f":"'Hb reference spectrum'!A199","v":551.5},5.3999999999999999E-2,7.9000000000000001E-2]
[{"$f":"'Hb reference spectrum'!A200","v":551},5.5E-2,8.1000000000000003E-2]
[{"$f":"'Hb reference spectrum'!A201","v":550.5},5.6000000000000001E-2,8.2000000000000003E-2]
[{"$f":"'Hb reference spectrum'!A202","v":550},5.7000000000000002E-2,8.4000000000000005E-2]
[{"$f":"'Hb reference spectrum'!A203","v":549.5},5.8000000000000003E-2,8.5000000000000006E-2]
[{"$f":"'Hb reference spectrum'!A204","v":549},5.8999999999999997E-2,8.6999999999999994E-2]
[{"$f":"'Hb reference spectrum'!A205","v":548.5},0.06,8.8999999999999996E-2]
[{"$f":"'Hb reference spectrum'!A206","v":548},6.0999999999999999E-2,0.09]
[{"$f":"'Hb reference spectrum'!A207","v":547.5},6.2E-2,9.1999999999999998E-2]
[{"$f":"'Hb reference spectrum'!A208","v":547},6.3E-2,9.4E-2]
[{"$f":"'Hb reference spectrum'!A209","v":546.5},6.4000000000000001E-2,9.5000000000000001E-2]
[{"$f":"'Hb reference spectrum'!A210","v":546},6.5000000000000002E-2,9.7000000000000003E-2]
[{"$f":"'Hb reference spectrum'!A211","v":545.5},6.6000000000000003E-2,9.8000000000000004E-2]
[{"$f":"'Hb reference spectrum'!A212","v":545},6.7000000000000004E-2,0.1]
[{"$f":"'Hb reference spectrum'!A213","v":544.5},6.8000000000000005E-2,0.10100000000000001]
[{"$f":"'Hb reference spectrum'!A214","v":544},6.8000000000000005E-2,0.10199999999999999]
[{"$f":"'Hb reference spectrum'!A215","v":543.5},6.9000000000000006E-2,0.10299999999999999]
[{"$f":"'Hb reference spectrum'!A216","v":543},6.9000000000000006E-2,0.104]
[{"$f":"'Hb reference spectrum'!A217","v":542.5},6.9000000000000006E-2,0.105]
[{"$f":"'Hb reference spectrum'!A218","v":542},6.9000000000000006E-2,0.106]
[{"$f":"'Hb reference spectrum'!A219","v":541.5},7.0000000000000007E-2,0.106]
[{"$f":"'Hb reference spectrum'!A220","v":541},7.0000000000000007E-2,0.107]
[{"$f":"'Hb reference spectrum'!A221","v":540.5},6.9000000000000006E-2,0.107]
[{"$f":"'Hb reference spectrum'!A222","v":540},6.9000000000000006E-2,0.107]
[{"$f":"'Hb reference spectrum'!A223","v":539.5},6.9000000000000006E-2,0.107]
[{"$f":"'Hb reference spectrum'!A224","v":539},6.9000000000000006E-2,0.107]
[{"$f":"'Hb reference spectrum'!A225","v":538.5},6.8000000000000005E-2,0.107]
[{"$f":"'Hb reference spectrum'!A226","v":538},6.8000000000000005E-2,0.107]
[{"$f":"'Hb reference spectrum'!A227","v":537.5},6.7000000000000004E-2,0.107]
[{"$f":"'Hb reference spectrum'!A228","v":537},6.7000000000000004E-2,0.106]
[{"$f":"'Hb reference spectrum'!A229","v":536.5},6.6000000000000003E-2,0.106]
[{"$f":"'Hb reference spectrum'!A230","v":536},6.6000000000000003E-2,0.105]
[{"$f":"'Hb reference spectrum'!A231","v":535.5},6.5000000000000002E-2,0.105]
[{"$f":"'Hb reference spectrum'!A232","v":535},6.4000000000000001E-2,0.104]
[{"$f":"'Hb reference spectrum'!A233","v":534.5},6.3E-2,0.104]
[{"$f":"'Hb reference spectrum'!A234","v":534},6.3E-2,0.10299999999999999]
[{"$f":"'Hb reference spectrum'!A235","v":533.5},6.2E-2,0.10299999999999999]
[{"$f":"'Hb reference spectrum'!A236","v":533},6.0999999999999999E-2,0.10199999999999999]
[{"$f":"'Hb reference spectrum'!A237","v":532.5},0.06,0.10100000000000001]
[{"$f":"'Hb reference spectrum'!A238","v":532},5.8999999999999997E-2,0.10100000000000001]
[{"$f":"'Hb reference spectrum'!A239","v":531.5},5.8000000000000003E-2,0.1]
[{"$f":"'Hb reference spectrum'!A240","v":531},5.7000000000000002E-2,9.9000000000000005E-2]
[{"$f":"'Hb reference spectrum'!A241","v":530.5},5.6000000000000001E-2,9.9000000000000005E-2]
[{"$f":"'Hb reference spectrum'!A242","v":530},5.5E-2,9.8000000000000004E-2]
[{"$f":"'Hb reference spectrum'!A243","v":529.5},5.3999999999999999E-2,9.7000000000000003E-2]
[{"$f":"'Hb reference spectrum'!A244","v":529},5.2999999999999999E-2,9.7000000000000003E-2]
[{"$f":"'Hb reference spectrum'!A245","v":528.5},5.1999999999999998E-2,9.6000000000000002E-2]
[{"$f":"'Hb reference spectrum'!A246","v":528},5.0999999999999997E-2,9.6000000000000002E-2]
[{"$f":"'Hb reference spectrum'!A247","v":527.5},0.05,9.5000000000000001E-2]
[{"$f":"'Hb reference spectrum'!A248","v":527},4.9000000000000002E-2,9.5000000000000001E-2]
[{"$f":"'Hb reference spectrum'!A249","v":526.5},4.8000000000000001E-2,9.4E-2]
[{"$f":"'Hb reference spectrum'!A250","v":526},4.7E-2,9.4E-2]
[{"$f":"'Hb reference spectrum'!A251","v":525.5},4.5999999999999999E-2,9.4E-2]
[{"$f":"'Hb reference spectrum'!A252","v":525},4.4999999999999998E-2,9.4E-2]
[{"$f":"'Hb reference spectrum'!A253","v":524.5},4.3999999999999997E-2,9.4E-2]
[{"$f":"'Hb reference spectrum'!A254","v":524},4.2999999999999997E-2,9.4E-2]
[{"$f":"'Hb reference spectrum'!A255","v":523.5},4.2999999999999997E-2,9.5000000000000001E-2]
[{"$f":"'Hb reference spectrum'!A256","v":523},4.2000000000000003E-2,9.5000000000000001E-2]
[{"$f":"'Hb reference spectrum'!A257","v":522.5},4.1000000000000002E-2,9.6000000000000002E-2]
[{"$f":"'Hb reference spectrum'!A258","v":522},4.1000000000000002E-2,9.7000000000000003E-2]
[{"$f":"'Hb reference spectrum'!A259","v":521.5},0.04,9.8000000000000004E-2]
[{"$f":"'Hb reference spectrum'!A260","v":521},3.9E-2,9.9000000000000005E-2]
[{"$f":"'Hb reference spectrum'!A261","v":520.5},3.9E-2,0.1]
[{"$f":"'Hb reference spectrum'!A262","v":520},3.9E-2,0.10199999999999999]
[{"$f":"'Hb reference spectrum'!A263","v":519.5},3.7999999999999999E-2,0.10299999999999999]
[{"$f":"'Hb reference spectrum'!A264","v":519},3.7999999999999999E-2,0.105]
[{"$f":"'Hb reference spectrum'!A265","v":518.5},3.7999999999999999E-2,0.107]
[{"$f":"'Hb reference spectrum'!A266","v":518},3.6999999999999998E-2,0.109]
[{"$f":"'Hb reference spectrum'!A267","v":517.5},3.6999999999999998E-2,0.112]
[{"$f":"'Hb reference spectrum'!A268","v":517},3.6999999999999998E-2,0.114]
[{"$f":"'Hb reference spectrum'!A269","v":516.5},3.6999999999999998E-2,0.11700000000000001]
[{"$f":"'Hb reference spectrum'!A270","v":516},3.6999999999999998E-2,0.12]
[{"$f":"'Hb reference spectrum'!A271","v":515.5},3.6999999999999998E-2,0.123]
[{"$f":"'Hb reference spectrum'!A272","v":515},3.6999999999999998E-2,0.126]
[{"$f":"'Hb reference spectrum'!A273","v":514.5},3.6999999999999998E-2,0.13]
[{"$f":"'Hb reference spectrum'!A274","v":514},3.6999999999999998E-2,0.13300000000000001]
[{"$f":"'Hb reference spectrum'!A275","v":513.5},3.6999999999999998E-2,0.13700000000000001]
[{"$f":"'Hb reference spectrum'!A276","v":513},3.6999999999999998E-2,0.14099999999999999]
[{"$f":"'Hb reference spectrum'!A277","v":512.5},3.6999999999999998E-2,0.14499999999999999]
[{"$f":"'Hb reference spectrum'!A278","v":512},3.6999999999999998E-2,0.14899999999999999]
[{"$f":"'Hb reference spectrum'!A279","v":511.5},3.7999999999999999E-2,0.154]
[{"$f":"'Hb reference spectrum'!A280","v":511},3.7999999999999999E-2,0.158]
[{"$f":"'Hb reference spectrum'!A281","v":510.5},3.7999999999999999E-2,0.16300000000000001]
[{"$f":"'Hb reference spectrum'!A282","v":510},3.7999999999999999E-2,0.16800000000000001]
[{"$f":"'Hb reference spectrum'!A283","v":509.5},3.9E-2,0.17299999999999999]
[{"$f":"'Hb reference spectrum'!A284","v":509},3.9E-2,0.17899999999999999]
[{"$f":"'Hb reference spectrum'!A285","v":508.5},3.9E-2,0.184]
[{"$f":"'Hb reference spectrum'!A286","v":508},0.04,0.19]
[{"$f":"'Hb reference spectrum'!A287","v":507.5},0.04,0.19600000000000001]
[{"$f":"'Hb reference spectrum'!A288","v":507},0.04,0.20200000000000001]
[{"$f":"'Hb reference spectrum'!A289","v":506.5},4.1000000000000002E-2,0.20899999999999999]
[{"$f":"'Hb reference spectrum'!A290","v":506},4.1000000000000002E-2,0.215]
[{"$f":"'Hb reference spectrum'!A291","v":505.5},4.2000000000000003E-2,0.222]
[{"$f":"'Hb reference spectrum'!A292","v":505},4.2000000000000003E-2,0.22900000000000001]
[{"$f":"'Hb reference spectrum'!A293","v":504.5},4.2999999999999997E-2,0.23699999999999999]
[{"$f":"'Hb reference spectrum'!A294","v":504},4.2999999999999997E-2,0.245]
[{"$f":"'Hb reference spectrum'!A295","v":503.5},4.3999999999999997E-2,0.253]
[{"$f":"'Hb reference spectrum'!A296","v":503},4.3999999999999997E-2,0.26100000000000001]
[{"$f":"'Hb reference spectrum'!A297","v":502.5},4.4999999999999998E-2,0.26900000000000002]
[{"$f":"'Hb reference spectrum'!A298","v":502},4.5999999999999999E-2,0.27800000000000002]
[{"$f":"'Hb reference spectrum'!A299","v":501.5},4.5999999999999999E-2,0.28699999999999998]
[{"$f":"'Hb reference spectrum'!A300","v":501},4.7E-2,0.29599999999999999]
[{"$f":"'Hb reference spectrum'!A301","v":500.5},4.7E-2,0.30499999999999999]
[{"$f":"'Hb reference spectrum'!A302","v":500},4.8000000000000001E-2,0.314]
[{"$f":"'Hb reference spectrum'!A303","v":499.5},4.9000000000000002E-2,0.32400000000000001]
[{"$f":"'Hb reference spectrum'!A304","v":499},4.9000000000000002E-2,0.33300000000000002]
[{"$f":"'Hb reference spectrum'!A305","v":498.5},0.05,0.34300000000000003]
[{"$f":"'Hb reference spectrum'!A306","v":498},5.0999999999999997E-2,0.35299999999999998]
[{"$f":"'Hb reference spectrum'!A307","v":497.5},5.1999999999999998E-2,0.36299999999999999]
[{"$f":"'Hb reference spectrum'!A308","v":497},5.1999999999999998E-2,0.374]
[{"$f":"'Hb reference spectrum'!A309","v":496.5},5.2999999999999999E-2,0.38400000000000001]
[{"$f":"'Hb reference spectrum'!A310","v":496},5.3999999999999999E-2,0.39500000000000002]
[{"$f":"'Hb reference spectrum'!A311","v":495.5},5.3999999999999999E-2,0.40500000000000003]
[{"$f":"'Hb reference spectrum'!A312","v":495},5.5E-2,0.41599999999999998]
[{"$f":"'Hb reference spectrum'!A313","v":494.5},5.6000000000000001E-2,0.42599999999999999]
[{"$f":"'Hb reference spectrum'!A314","v":494},5.7000000000000002E-2,0.437]
[{"$f":"'Hb reference spectrum'!A315","v":493.5},5.7000000000000002E-2,0.44800000000000001]
[{"$f":"'Hb reference spectrum'!A316","v":493},5.8000000000000003E-2,0.45800000000000002]
[{"$f":"'Hb reference spectrum'!A317","v":492.5},5.8999999999999997E-2,0.46899999999999997]
[{"$f":"'Hb reference spectrum'!A318","v":492},0.06,0.48]
[{"$f":"'Hb reference spectrum'!A319","v":491.5},6.0999999999999999E-2,0.49099999999999999]
[{"$f":"'Hb reference spectrum'!A320","v":491},6.0999999999999999E-2,0.502]
[{"$f":"'Hb reference spectrum'!A321","v":490.5},6.2E-2,0.51300000000000001]
[{"$f":"'Hb reference spectrum'!A322","v":490},6.3E-2,0.52400000000000002]
[{"$f":"'Hb reference spectrum'!A323","v":489.5},6.4000000000000001E-2,0.53500000000000003]
[{"$f":"'Hb reference spectrum'!A324","v":489},6.5000000000000002E-2,0.54600000000000004]
[{"$f":"'Hb reference spectrum'!A325","v":488.5},6.6000000000000003E-2,0.55700000000000005]
[{"$f":"'Hb reference spectrum'!A326","v":488},6.7000000000000004E-2,0.56799999999999995]
[{"$f":"'Hb reference spectrum'!A327","v":487.5},6.7000000000000004E-2,0.57899999999999996]
[{"$f":"'Hb reference spectrum'!A328","v":487},6.8000000000000005E-2,0.59]
[{"$f":"'Hb reference spectrum'!A329","v":486.5},6.9000000000000006E-2,0.60099999999999998]
[{"$f":"'Hb reference spectrum'!A330","v":486},7.0000000000000007E-2,0.61199999999999999]
[{"$f":"'Hb reference spectrum'!A331","v":485.5},7.0999999999999994E-2,0.624]
[{"$f":"'Hb reference spectrum'!A332","v":485},7.1999999999999995E-2,0.63500000000000001]
[{"$f":"'Hb reference spectrum'!A333","v":484.5},7.2999999999999995E-2,0.64600000000000002]
[{"$f":"'Hb reference spectrum'!A334","v":484},7.3999999999999996E-2,0.65800000000000003]
[{"$f":"'Hb reference spectrum'!A335","v":483.5},7.4999999999999997E-2,0.66900000000000004]
[{"$f":"'Hb reference spectrum'!A336","v":483},7.5999999999999998E-2,0.68100000000000005]
[{"$f":"'Hb reference spectrum'!A337","v":482.5},7.6999999999999999E-2,0.69199999999999995]
[{"$f":"'Hb reference spectrum'!A338","v":482},7.8E-2,0.70199999999999996]
[{"$f":"'Hb reference spectrum'!A339","v":481.5},7.9000000000000001E-2,0.71299999999999997]
[{"$f":"'Hb reference spectrum'!A340","v":481},0.08,0.72399999999999998]
[{"$f":"'Hb reference spectrum'!A341","v":480.5},8.1000000000000003E-2,0.73399999999999999]
[{"$f":"'Hb reference spectrum'!A342","v":480},8.2000000000000003E-2,0.745]
[{"$f":"'Hb reference spectrum'!A343","v":479.5},8.3000000000000004E-2,0.755]
[{"$f":"'Hb reference spectrum'!A344","v":479},8.4000000000000005E-2,0.76500000000000001]
[{"$f":"'Hb reference spectrum'!A345","v":478.5},8.5000000000000006E-2,0.77400000000000002]
[{"$f":"'Hb reference spectrum'!A346","v":478},8.5999999999999993E-2,0.78400000000000003]
[{"$f":"'Hb reference spectrum'!A347","v":477.5},8.6999999999999994E-2,0.79300000000000004]
[{"$f":"'Hb reference spectrum'!A348","v":477},8.7999999999999995E-2,0.80200000000000005]
[{"$f":"'Hb reference spectrum'!A349","v":476.5},8.8999999999999996E-2,0.81100000000000005]
[{"$f":"'Hb reference spectrum'!A350","v":476},0.09,0.82]
[{"$f":"'Hb reference spectrum'!A351","v":475.5},9.0999999999999998E-2,0.82799999999999996]
[{"$f":"'Hb reference spectrum'!A352","v":475},9.0999999999999998E-2,0.83599999999999997]
[{"$f":"'Hb reference spectrum'!A353","v":474.5},9.1999999999999998E-2,0.84399999999999997]
[{"$f":"'Hb reference spectrum'!A354","v":474},9.2999999999999999E-2,0.85199999999999998]
[{"$f":"'Hb reference spectrum'!A355","v":473.5},9.4E-2,0.85899999999999999]
[{"$f":"'Hb reference spectrum'!A356","v":473},9.5000000000000001E-2,0.86599999999999999]
[{"$f":"'Hb reference spectrum'!A357","v":472.5},9.6000000000000002E-2,0.873]
[{"$f":"'Hb reference spectrum'!A358","v":472},9.7000000000000003E-2,0.88]
[{"$f":"'Hb reference spectrum'!A359","v":471.5},9.8000000000000004E-2,0.88600000000000001]
[{"$f":"'Hb reference spectrum'!A360","v":471},9.9000000000000005E-2,0.89200000000000002]
[{"$f":"'Hb reference spectrum'!A361","v":470.5},0.1,0.89900000000000002]
[{"$f":"'Hb reference spectrum'!A362","v":470},0.10100000000000001,0.90400000000000003]
[{"$f":"'Hb reference spectrum'!A363","v":469.5},0.10199999999999999,0.91]
[{"$f":"'Hb reference spectrum'!A364","v":469},0.10199999999999999,0.91500000000000004]
[{"$f":"'Hb reference spectrum'!A365","v":468.5},0.10299999999999999,0.92100000000000004]
[{"$f":"'Hb reference spectrum'!A366","v":468},0.104,0.92600000000000005]
[{"$f":"'Hb reference spectrum'!A367","v":467.5},0.105,0.93100000000000005]
[{"$f":"'Hb reference spectrum'!A368","v":467},0.106,0.93500000000000005]
[{"$f":"'Hb reference spectrum'!A369","v":466.5},0.107,0.94]
[{"$f":"'Hb reference spectrum'!A370","v":466},0.108,0.94399999999999995]
[{"$f":"'Hb reference spectrum'!A371","v":465.5},0.109,0.94799999999999995]
[{"$f":"'Hb reference spectrum'!A372","v":465},0.11,0.95299999999999996]
[{"$f":"'Hb reference spectrum'!A373","v":464.5},0.111,0.95599999999999996]
[{"$f":"'Hb reference spectrum'!A374","v":464},0.112,0.96]
[{"$f":"'Hb reference spectrum'!A375","v":463.5},0.113,0.96399999999999997]
[{"$f":"'Hb reference spectrum'!A376","v":463},0.114,0.96699999999999997]
[{"$f":"'Hb reference spectrum'!A377","v":462.5},0.115,0.97]
[{"$f":"'Hb reference spectrum'!A378","v":462},0.11600000000000001,0.97299999999999998]
[{"$f":"'Hb reference spectrum'!A379","v":461.5},0.11700000000000001,0.97599999999999998]
[{"$f":"'Hb reference spectrum'!A380","v":461},0.11799999999999999,0.97899999999999998]
[{"$f":"'Hb reference spectrum'!A381","v":460.5},0.11899999999999999,0.98199999999999998]
[{"$f":"'Hb reference spectrum'!A382","v":460},0.12,0.98399999999999999]
[{"$f":"'Hb reference spectrum'!A383","v":459.5},0.121,0.98599999999999999]
[{"$f":"'Hb reference spectrum'!A384","v":459},0.122,0.98799999999999999]
[{"$f":"'Hb reference spectrum'!A385","v":458.5},0.123,0.99]
[{"$f":"'Hb reference spectrum'!A386","v":458},0.124,0.99199999999999999]
[{"$f":"'Hb reference spectrum'!A387","v":457.5},0.126,0.99299999999999999]
[{"$f":"'Hb reference spectrum'!A388","v":457},0.127,0.995]
[{"$f":"'Hb reference spectrum'!A389","v":456.5},0.128,0.996]
[{"$f":"'Hb reference spectrum'!A390","v":456},0.129,0.998]
[{"$f":"'Hb reference spectrum'!A391","v":455.5},0.13,0.999]
[{"$f":"'Hb reference spectrum'!A392","v":455},0.13100000000000001,1]
[{"$f":"'Hb reference spectrum'!A393","v":454.5},0.13300000000000001,1.0009999999999999]
[{"$f":"'Hb reference spectrum'!A394","v":454},0.13400000000000001,1.002]
[{"$f":"'Hb reference spectrum'!A395","v":453.5},0.13500000000000001,1.0029999999999999]
[{"$f":"'Hb reference spectrum'!A396","v":453},0.13600000000000001,1.004]
[{"$f":"'Hb reference spectrum'!A397","v":452.5},0.13800000000000001,1.0049999999999999]
[{"$f":"'Hb reference spectrum'!A398","v":452},0.13900000000000001,1.006]
[{"$f":"'Hb reference spectrum'!A399","v":451.5},0.14000000000000001,1.006]
[{"$f":"'Hb reference spectrum'!A400","v":451},0.14199999999999999,1.0069999999999999]
[{"$f":"'Hb reference spectrum'!A401","v":450.5},0.14299999999999999,1.008]
[{"$f":"'Hb reference spectrum'!A402","v":450},0.14499999999999999,1.0089999999999999]
[{"$f":"'Hb reference spectrum'!A403","v":449.5},0.14699999999999999,1.01]
[{"$f":"'Hb reference spectrum'!A404","v":449},0.14799999999999999,1.01]
[{"$f":"'Hb reference spectrum'!A405","v":448.5},0.15,1.0109999999999999]
[{"$f":"'Hb reference spectrum'!A406","v":448},0.152,1.012]
[{"$f":"'Hb reference spectrum'!A407","v":447.5},0.154,1.0129999999999999]
[{"$f":"'Hb reference spectrum'!A408","v":447},0.156,1.014]
[{"$f":"'Hb reference spectrum'!A409","v":446.5},0.158,1.0149999999999999]
[{"$f":"'Hb reference spectrum'!A410","v":446},0.16,1.0169999999999999]
[{"$f":"'Hb reference spectrum'!A411","v":445.5},0.16200000000000001,1.018]
[{"$f":"'Hb reference spectrum'!A412","v":445},0.16500000000000001,1.0189999999999999]
[{"$f":"'Hb reference spectrum'!A413","v":444.5},0.16700000000000001,1.0209999999999999]
[{"$f":"'Hb reference spectrum'!A414","v":444},0.17,1.0229999999999999]
[{"$f":"'Hb reference spectrum'!A415","v":443.5},0.17199999999999999,1.024]
[{"$f":"'Hb reference spectrum'!A416","v":443},0.17499999999999999,1.026]
[{"$f":"'Hb reference spectrum'!A417","v":442.5},0.17799999999999999,1.0289999999999999]
[{"$f":"'Hb reference spectrum'!A418","v":442},0.18099999999999999,1.0309999999999999]
[{"$f":"'Hb reference spectrum'!A419","v":441.5},0.185,1.034]
[{"$f":"'Hb reference spectrum'!A420","v":441},0.188,1.0369999999999999]
[{"$f":"'Hb reference spectrum'!A421","v":440.5},0.192,1.04]
[{"$f":"'Hb reference spectrum'!A422","v":440},0.19500000000000001,1.0429999999999999]
[{"$f":"'Hb reference spectrum'!A423","v":439.5},0.19900000000000001,1.0469999999999999]
[{"$f":"'Hb reference spectrum'!A424","v":439},0.20300000000000001,1.0509999999999999]
[{"$f":"'Hb reference spectrum'!A425","v":438.5},0.20699999999999999,1.0549999999999999]
[{"$f":"'Hb reference spectrum'!A426","v":438},0.21199999999999999,1.0589999999999999]
[{"$f":"'Hb reference spectrum'!A427","v":437.5},0.216,1.0640000000000001]
[{"$f":"'Hb reference spectrum'!A428","v":437},0.221,1.069]
[{"$f":"'Hb reference spectrum'!A429","v":436.5},0.22600000000000001,1.0740000000000001]
[{"$f":"'Hb reference spectrum'!A430","v":436},0.23100000000000001,1.08]
[{"$f":"'Hb reference spectrum'!A431","v":435.5},0.23699999999999999,1.0860000000000001]
[{"$f":"'Hb reference spectrum'!A432","v":435},0.24199999999999999,1.0920000000000001]
[{"$f":"'Hb reference spectrum'!A433","v":434.5},0.248,1.099]
[{"$f":"'Hb reference spectrum'!A434","v":434},0.254,1.107]
[{"$f":"'Hb reference spectrum'!A435","v":433.5},0.26100000000000001,1.115]
[{"$f":"'Hb reference spectrum'!A436","v":433},0.26700000000000002,1.123]
[{"$f":"'Hb reference spectrum'!A437","v":432.5},0.27400000000000002,1.131]
[{"$f":"'Hb reference spectrum'!A438","v":432},0.28100000000000003,1.1399999999999999]
[{"$f":"'Hb reference spectrum'!A439","v":431.5},0.28899999999999998,1.149]
[{"$f":"'Hb reference spectrum'!A440","v":431},0.29699999999999999,1.159]
[{"$f":"'Hb reference spectrum'!A441","v":430.5},0.30499999999999999,1.17]
[{"$f":"'Hb reference spectrum'!A442","v":430},0.314,1.18]
[{"$f":"'Hb reference spectrum'!A443","v":429.5},0.32300000000000001,1.1919999999999999]
[{"$f":"'Hb reference spectrum'!A444","v":429},0.33200000000000002,1.204]
[{"$f":"'Hb reference spectrum'!A445","v":428.5},0.34200000000000003,1.216]
[{"$f":"'Hb reference spectrum'!A446","v":428},0.35299999999999998,1.2290000000000001]
[{"$f":"'Hb reference spectrum'!A447","v":427.5},0.36399999999999999,1.2430000000000001]
[{"$f":"'Hb reference spectrum'!A448","v":427},0.376,1.2569999999999999]
[{"$f":"'Hb reference spectrum'!A449","v":426.5},0.38800000000000001,1.272]
[{"$f":"'Hb reference spectrum'!A450","v":426},0.4,1.2869999999999999]
[{"$f":"'Hb reference spectrum'!A451","v":425.5},0.41299999999999998,1.3029999999999999]
[{"$f":"'Hb reference spectrum'!A452","v":425},0.42599999999999999,1.319]
[{"$f":"'Hb reference spectrum'!A453","v":424.5},0.44,1.335]
[{"$f":"'Hb reference spectrum'!A454","v":424},0.45400000000000001,1.3520000000000001]
[{"$f":"'Hb reference spectrum'!A455","v":423.5},0.46700000000000003,1.369]
[{"$f":"'Hb reference spectrum'!A456","v":423},0.48199999999999998,1.3859999999999999]
[{"$f":"'Hb reference spectrum'!A457","v":422.5},0.495,1.403]
[{"$f":"'Hb reference spectrum'!A458","v":422},0.50900000000000001,1.419]
[{"$f":"'Hb reference spectrum'!A459","v":421.5},0.52300000000000002,1.4350000000000001]
[{"$f":"'Hb reference spectrum'!A460","v":421},0.53600000000000003,1.4510000000000001]
[{"$f":"'Hb reference spectrum'!A461","v":420.5},0.54800000000000004,1.466]
[{"$f":"'Hb reference spectrum'!A462","v":420},0.56000000000000005,1.4790000000000001]
[{"$f":"'Hb reference spectrum'!A463","v":419.5},0.57199999999999995,1.492]
[{"$f":"'Hb reference spectrum'!A464","v":419},0.58199999999999996,1.5029999999999999]
[{"$f":"'Hb reference spectrum'!A465","v":418.5},0.59199999999999997,1.514]
[{"$f":"'Hb reference spectrum'!A466","v":418},0.6,1.5229999999999999]
[{"$f":"'Hb reference spectrum'!A467","v":417.5},0.60799999999999998,1.53]
[{"$f":"'Hb reference spectrum'!A468","v":417},0.61399999999999999,1.536]
[{"$f":"'Hb reference spectrum'!A469","v":416.5},0.61899999999999999,1.5409999999999999]
[{"$f":"'Hb reference spectrum'!A470","v":416},0.624,1.544]
[{"$f":"'Hb reference spectrum'!A471","v":415.5},0.627,1.5449999999999999]
[{"$f":"'Hb reference spectrum'!A472","v":415},0.629,1.5449999999999999]
[{"$f":"'Hb reference spectrum'!A473","v":414.5},0.629,1.5429999999999999]
[{"$f":"'Hb reference spectrum'!A474","v":414},0.629,1.54]
[{"$f":"'Hb reference spectrum'!A475","v":413.5},0.628,1.5349999999999999]
[{"$f":"'Hb reference spectrum'!A476","v":413},0.625,1.5289999999999999]
[{"$f":"'Hb reference spectrum'!A477","v":412.5},0.622,1.522]
[{"$f":"'Hb reference spectrum'!A478","v":412},0.61799999999999999,1.5129999999999999]
[{"$f":"'Hb reference spectrum'!A479","v":411.5},0.61299999999999999,1.5029999999999999]
[{"$f":"'Hb reference spectrum'!A480","v":411},0.60699999999999998,1.492]
[{"$f":"'Hb reference spectrum'!A481","v":410.5},0.6,1.4790000000000001]
[{"$f":"'Hb reference spectrum'!A482","v":410},0.59299999999999997,1.466]
[{"$f":"'Hb reference spectrum'!A483","v":409.5},0.58499999999999996,1.452]
[{"$f":"'Hb reference spectrum'!A484","v":409},0.57599999999999996,1.4359999999999999]
[{"$f":"'Hb reference spectrum'!A485","v":408.5},0.56699999999999995,1.42]
[{"$f":"'Hb reference spectrum'!A486","v":408},0.55800000000000005,1.403]
[{"$f":"'Hb reference spectrum'!A487","v":407.5},0.54800000000000004,1.385]
[{"$f":"'Hb reference spectrum'!A488","v":407},0.53800000000000003,1.367]
[{"$f":"'Hb reference spectrum'!A489","v":406.5},0.52700000000000002,1.3480000000000001]
[{"$f":"'Hb reference spectrum'!A490","v":406},0.51700000000000002,1.3280000000000001]
[{"$f":"'Hb reference spectrum'!A491","v":405.5},0.50600000000000001,1.3080000000000001]
[{"$f":"'Hb reference spectrum'!A492","v":405},0.495,1.288]
[{"$f":"'Hb reference spectrum'!A493","v":404.5},0.48399999999999999,1.2669999999999999]
[{"$f":"'Hb reference spectrum'!A494","v":404},0.47299999999999998,1.246]
[{"$f":"'Hb reference spectrum'!A495","v":403.5},0.46200000000000002,1.2250000000000001]
[{"$f":"'Hb reference spectrum'!A496","v":403},0.45100000000000001,1.204]
[{"$f":"'Hb reference spectrum'!A497","v":402.5},0.44,1.1830000000000001]
[{"$f":"'Hb reference spectrum'!A498","v":402},0.43,1.1619999999999999]
[{"$f":"'Hb reference spectrum'!A499","v":401.5},0.42,1.141]
[{"$f":"'Hb reference spectrum'!A500","v":401},0.41,1.121]
[{"$f":"'Hb reference spectrum'!A501","v":400.5},0.4,1.101]
[{"$f":"'Hb reference spectrum'!A502","v":400},0.39100000000000001,1.081]
[{"$f":"'Hb reference spectrum'!A503","v":399.5},0.38100000000000001,1.0609999999999999]
[{"$f":"'Hb reference spectrum'!A504","v":399},0.372,1.042]
[{"$f":"'Hb reference spectrum'!A505","v":398.5},0.36399999999999999,1.0229999999999999]
[{"$f":"'Hb reference spectrum'!A506","v":398},0.35599999999999998,1.0049999999999999]
[{"$f":"'Hb reference spectrum'!A507","v":397.5},0.34799999999999998,0.98699999999999999]
[{"$f":"'Hb reference spectrum'!A508","v":397},0.34,0.97]
[{"$f":"'Hb reference spectrum'!A509","v":396.5},0.33300000000000002,0.95199999999999996]
[{"$f":"'Hb reference spectrum'!A510","v":396},0.32500000000000001,0.93500000000000005]
[{"$f":"'Hb reference spectrum'!A511","v":395.5},0.318,0.91900000000000004]
[{"$f":"'Hb reference spectrum'!A512","v":395},0.312,0.90300000000000002]
[{"$f":"'Hb reference spectrum'!A513","v":394.5},0.30499999999999999,0.88700000000000001]
[{"$f":"'Hb reference spectrum'!A514","v":394},0.29899999999999999,0.872]
[{"$f":"'Hb reference spectrum'!A515","v":393.5},0.29299999999999998,0.85699999999999998]
[{"$f":"'Hb reference spectrum'!A516","v":393},0.28699999999999998,0.84199999999999997]
[{"$f":"'Hb reference spectrum'!A517","v":392.5},0.28100000000000003,0.82799999999999996]
[{"$f":"'Hb reference spectrum'!A518","v":392},0.27500000000000002,0.81399999999999995]
[{"$f":"'Hb reference spectrum'!A519","v":391.5},0.27,0.8]
[{"$f":"'Hb reference spectrum'!A520","v":391},0.26500000000000001,0.78600000000000003]
[{"$f":"'Hb reference spectrum'!A521","v":390.5},0.25900000000000001,0.77300000000000002]
[{"$f":"'Hb reference spectrum'!A522","v":390},0.254,0.76]
[{"$f":"'Hb reference spectrum'!A523","v":389.5},0.249,0.747]
[{"$f":"'Hb reference spectrum'!A524","v":389},0.245,0.73399999999999999]
[{"$f":"'Hb reference spectrum'!A525","v":388.5},0.24,0.72099999999999997]
[{"$f":"'Hb reference spectrum'!A526","v":388},0.23499999999999999,0.70899999999999996]
[{"$f":"'Hb reference spectrum'!A527","v":387.5},0.23100000000000001,0.69699999999999995]
[{"$f":"'Hb reference spectrum'!A528","v":387},0.22700000000000001,0.68500000000000005]
[{"$f":"'Hb reference spectrum'!A529","v":386.5},0.222,0.67300000000000004]
[{"$f":"'Hb reference spectrum'!A530","v":386},0.218,0.66100000000000003]
[{"$f":"'Hb reference spectrum'!A531","v":385.5},0.214,0.65]
[{"$f":"'Hb reference spectrum'!A532","v":385},0.21,0.63800000000000001]
[{"$f":"'Hb reference spectrum'!A533","v":384.5},0.20599999999999999,0.626]
[{"$f":"'Hb reference spectrum'!A534","v":384},0.20300000000000001,0.61499999999999999]
[{"$f":"'Hb reference spectrum'!A535","v":383.5},0.19900000000000001,0.60499999999999998]
[{"$f":"'Hb reference spectrum'!A536","v":383},0.19600000000000001,0.59399999999999997]
[{"$f":"'Hb reference spectrum'!A537","v":382.5},0.193,0.58399999999999996]
[{"$f":"'Hb reference spectrum'!A538","v":382},0.19,0.57399999999999995]
[{"$f":"'Hb reference spectrum'!A539","v":381.5},0.187,0.56399999999999995]
[{"$f":"'Hb reference spectrum'!A540","v":381},0.185,0.55500000000000005]
[{"$f":"'Hb reference spectrum'!A541","v":380.5},0.182,0.54600000000000004]
[{"$f":"'Hb reference spectrum'!A542","v":380},0.18,0.53800000000000003]
[{"$f":"'Hb reference spectrum'!A543","v":379.5},0.17699999999999999,0.52800000000000002]
[{"$f":"'Hb reference spectrum'!A544","v":379},0.17399999999999999,0.51700000000000002]
[{"$f":"'Hb reference spectrum'!A545","v":378.5},0.17199999999999999,0.50800000000000001]
[{"$f":"'Hb reference spectrum'!A546","v":378},0.17,0.501]
[{"$f":"'Hb reference spectrum'!A547","v":377.5},0.16900000000000001,0.49399999999999999]
[{"$f":"'Hb reference spectrum'!A548","v":377},0.16700000000000001,0.48699999999999999]
[{"$f":"'Hb reference spectrum'!A549","v":376.5},0.16600000000000001,0.48]
[{"$f":"'Hb reference spectrum'!A550","v":376},0.16500000000000001,0.47399999999999998]
[{"$f":"'Hb reference spectrum'!A551","v":375.5},0.16400000000000001,0.46800000000000003]
[{"$f":"'Hb reference spectrum'!A552","v":375},0.16300000000000001,0.46200000000000002]
[{"$f":"'Hb reference spectrum'!A553","v":374.5},0.16200000000000001,0.45700000000000002]
[{"$f":"'Hb reference spectrum'!A554","v":374},0.161,0.45200000000000001]
[{"$f":"'Hb reference spectrum'!A555","v":373.5},0.16,0.44600000000000001]
[{"$f":"'Hb reference spectrum'!A556","v":373},0.159,0.442]
[{"$f":"'Hb reference spectrum'!A557","v":372.5},0.159,0.437]
[{"$f":"'Hb reference spectrum'!A558","v":372},0.158,0.432]
[{"$f":"'Hb reference spectrum'!A559","v":371.5},0.158,0.42799999999999999]
[{"$f":"'Hb reference spectrum'!A560","v":371},0.157,0.42399999999999999]
[{"$f":"'Hb reference spectrum'!A561","v":370.5},0.157,0.42]
[{"$f":"'Hb reference spectrum'!A562","v":370},0.157,0.41599999999999998]
[{"$f":"'Hb reference spectrum'!A563","v":369.5},0.157,0.41299999999999998]
[{"$f":"'Hb reference spectrum'!A564","v":369},0.157,0.40899999999999997]
[{"$f":"'Hb reference spectrum'!A565","v":368.5},0.156,0.40600000000000003]
[{"$f":"'Hb reference spectrum'!A566","v":368},0.156,0.40300000000000002]
[{"$f":"'Hb reference spectrum'!A567","v":367.5},0.157,0.4]
[{"$f":"'Hb reference spectrum'!A568","v":367},0.157,0.39700000000000002]
[{"$f":"'Hb reference spectrum'!A569","v":366.5},0.157,0.39400000000000002]
[{"$f":"'Hb reference spectrum'!A570","v":366},0.157,0.39100000000000001]
[{"$f":"'Hb reference spectrum'!A571","v":365.5},0.157,0.38900000000000001]
[{"$f":"'Hb reference spectrum'!A572","v":365},0.158,0.38600000000000001]
[{"$f":"'Hb reference spectrum'!A573","v":364.5},0.158,0.38400000000000001]
[{"$f":"'Hb reference spectrum'!A574","v":364},0.159,0.38200000000000001]
[{"$f":"'Hb reference spectrum'!A575","v":363.5},0.159,0.38]
[{"$f":"'Hb reference spectrum'!A576","v":363},0.16,0.378]
[{"$f":"'Hb reference spectrum'!A577","v":362.5},0.161,0.376]
[{"$f":"'Hb reference spectrum'!A578","v":362},0.161,0.374]
[{"$f":"'Hb reference spectrum'!A579","v":361.5},0.16200000000000001,0.373]
[{"$f":"'Hb reference spectrum'!A580","v":361},0.16300000000000001,0.372]
[{"$f":"'Hb reference spectrum'!A581","v":360.5},0.16400000000000001,0.37]
[{"$f":"'Hb reference spectrum'!A582","v":360},0.16400000000000001,0.36899999999999999]
[{"$f":"'Hb reference spectrum'!A583","v":359.5},0.16500000000000001,0.36799999999999999]
[{"$f":"'Hb reference spectrum'!A584","v":359},0.16600000000000001,0.36699999999999999]
[{"$f":"'Hb reference spectrum'!A585","v":358.5},0.16700000000000001,0.36599999999999999]
[{"$f":"'Hb reference spectrum'!A586","v":358},0.16800000000000001,0.36599999999999999]
[{"$f":"'Hb reference spectrum'!A587","v":357.5},0.16900000000000001,0.36499999999999999]
[{"$f":"'Hb reference spectrum'!A588","v":357},0.17,0.36499999999999999]
[{"$f":"'Hb reference spectrum'!A589","v":356.5},0.17100000000000001,0.36399999999999999]
[{"$f":"'Hb reference spectrum'!A590","v":356},0.17100000000000001,0.36399999999999999]
[{"$f":"'Hb reference spectrum'!A591","v":355.5},0.17199999999999999,0.36299999999999999]
[{"$f":"'Hb reference spectrum'!A592","v":355},0.17299999999999999,0.36299999999999999]
[{"$f":"'Hb reference spectrum'!A593","v":354.5},0.17399999999999999,0.36299999999999999]
[{"$f":"'Hb reference spectrum'!A594","v":354},0.17499999999999999,0.36299999999999999]
[{"$f":"'Hb reference spectrum'!A595","v":353.5},0.17599999999999999,0.36199999999999999]
[{"$f":"'Hb reference spectrum'!A596","v":353},0.17699999999999999,0.36199999999999999]
[{"$f":"'Hb reference spectrum'!A597","v":352.5},0.17699999999999999,0.36199999999999999]
[{"$f":"'Hb reference spectrum'!A598","v":352},0.17799999999999999,0.36199999999999999]
[{"$f":"'Hb reference spectrum'!A599","v":351.5},0.17899999999999999,0.36199999999999999]
[{"$f":"'Hb reference spectrum'!A600","v":351},0.18,0.36199999999999999]
[{"$f":"'Hb reference spectrum'!A601","v":350.5},0.18,0.36199999999999999]
[{"$f":"'Hb reference spectrum'!A602","v":350},0.18,0.36199999999999999]

{"sheet":"Hb reference spectrum","index":2,"n_rows":602,"n_cols":3,"rows_kept":602,"cut":false,"hidden":false,"merged":[]}
["Wavelength (nm)","Hb Absorbance","Normalized Hb Absorbance"]
[650,2.66666666666667E-3,{"$f":"B2/MAX(B$2:B$602)","v":3.6968576709796733E-3}]
[649.5,2.66666666666667E-3,{"$f":"B3/MAX(B$2:B$602)","v":3.6968576709796733E-3}]
[649,2.66666666666667E-3,3.6968576709796733E-3]
[648.5,2.66666666666667E-3,3.6968576709796733E-3]
[648,2.66666666666667E-3,3.6968576709796733E-3]
[647.5,2.66666666666667E-3,3.6968576709796733E-3]
[647,2.66666666666667E-3,3.6968576709796733E-3]
[646.5,2.66666666666667E-3,3.6968576709796733E-3]
[646,2.66666666666667E-3,3.6968576709796733E-3]
[645.5,2.66666666666667E-3,3.6968576709796733E-3]
[645,2.66666666666667E-3,3.6968576709796733E-3]
[644.5,2.66666666666667E-3,3.6968576709796733E-3]
[644,2.66666666666667E-3,3.6968576709796733E-3]
[643.5,2.66666666666667E-3,3.6968576709796733E-3]
[643,2.66666666666667E-3,3.6968576709796733E-3]
[642.5,2.66666666666667E-3,3.6968576709796733E-3]
[642,2.66666666666667E-3,3.6968576709796733E-3]
[641.5,2.66666666666667E-3,3.6968576709796733E-3]
[641,2.66666666666667E-3,3.6968576709796733E-3]
[640.5,2.66666666666667E-3,3.6968576709796733E-3]
[640,2.66666666666667E-3,3.6968576709796733E-3]
[639.5,2.66666666666667E-3,3.6968576709796733E-3]
[639,2.66666666666667E-3,3.6968576709796733E-3]
[638.5,2.66666666666667E-3,3.6968576709796733E-3]
[638,2.66666666666667E-3,3.6968576709796733E-3]
[637.5,2.66666666666667E-3,3.6968576709796733E-3]
[637,2.66666666666667E-3,3.6968576709796733E-3]
[636.5,2.66666666666667E-3,3.6968576709796733E-3]
[636,2.66666666666667E-3,3.6968576709796733E-3]
[635.5,2.66666666666667E-3,3.6968576709796733E-3]
[635,2.66666666666667E-3,3.6968576709796733E-3]
[634.5,2.66666666666667E-3,3.6968576709796733E-3]
[634,2.66666666666667E-3,3.6968576709796733E-3]
[633.5,2.66666666666667E-3,3.6968576709796733E-3]
[633,2.66666666666667E-3,3.6968576709796733E-3]
[632.5,2.66666666666667E-3,3.6968576709796733E-3]
[632,2.66666666666667E-3,3.6968576709796733E-3]
[631.5,2.66666666666667E-3,3.6968576709796733E-3]
[631,2.66666666666667E-3,3.6968576709796733E-3]
[630.5,2.66666666666667E-3,3.6968576709796733E-3]
[630,2.66666666666667E-3,3.6968576709796733E-3]
[629.5,2.66666666666667E-3,3.6968576709796733E-3]
[629,2.66666666666667E-3,3.6968576709796733E-3]
[628.5,2.66666666666667E-3,3.6968576709796733E-3]
[628,3.0000000000000001E-3,4.1589648798521272E-3]
[627.5,3.0000000000000001E-3,4.1589648798521272E-3]
[627,3.0000000000000001E-3,4.1589648798521272E-3]
[626.5,3.3333333333333301E-3,4.621072088724581E-3]
[626,3.3333333333333301E-3,4.621072088724581E-3]
[625.5,3.3333333333333301E-3,4.621072088724581E-3]
[625,3.3333333333333301E-3,4.621072088724581E-3]
[624.5,3.3333333333333301E-3,4.621072088724581E-3]
[624,3.3333333333333301E-3,4.621072088724581E-3]
[623.5,3.3333333333333301E-3,4.621072088724581E-3]
[623,3.3333333333333301E-3,4.621072088724581E-3]
[622.5,3.3333333333333301E-3,4.621072088724581E-3]
[622,3.6666666666666701E-3,5.0831792975970496E-3]
[621.5,3.6666666666666701E-3,5.0831792975970496E-3]
[621,3.6666666666666701E-3,5.0831792975970496E-3]
[620.5,3.6666666666666701E-3,5.0831792975970496E-3]
[620,3.6666666666666701E-3,5.0831792975970496E-3]
[619.5,3.6666666666666701E-3,5.0831792975970496E-3]
[619,3.6666666666666701E-3,5.0831792975970496E-3]
[618.5,3.6666666666666701E-3,5.0831792975970496E-3]
[618,3.6666666666666701E-3,5.0831792975970496E-3]
[617.5,3.6666666666666701E-3,{"$f":"B67/MAX(B$2:B$602)","v":5.0831792975970496E-3}]
[617,3.6666666666666701E-3,5.0831792975970496E-3]
[616.5,3.6666666666666701E-3,5.0831792975970496E-3]
[616,3.6666666666666701E-3,5.0831792975970496E-3]
[615.5,3.6666666666666701E-3,5.0831792975970496E-3]
[615,3.6666666666666701E-3,5.0831792975970496E-3]
[614.5,3.6666666666666701E-3,5.0831792975970496E-3]
[614,3.6666666666666701E-3,5.0831792975970496E-3]
[613.5,3.6666666666666701E-3,5.0831792975970496E-3]
[613,3.6666666666666701E-3,5.0831792975970496E-3]
[612.5,3.6666666666666701E-3,5.0831792975970496E-3]
[612,4.0000000000000001E-3,5.5452865064695035E-3]
[611.5,4.3333333333333297E-3,6.0073937153419564E-3]
[611,4.3333333333333297E-3,6.0073937153419564E-3]
[610.5,4.3333333333333297E-3,6.0073937153419564E-3]
[610,4.6666666666666697E-3,6.4695009242144242E-3]
[609.5,4.6666666666666697E-3,6.4695009242144242E-3]
[609,4.6666666666666697E-3,6.4695009242144242E-3]
[608.5,4.6666666666666697E-3,6.4695009242144242E-3]
[608,4.6666666666666697E-3,6.4695009242144242E-3]
[607.5,4.6666666666666697E-3,6.4695009242144242E-3]
[607,4.6666666666666697E-3,6.4695009242144242E-3]
[606.5,4.6666666666666697E-3,6.4695009242144242E-3]
[606,5.0000000000000001E-3,6.9316081330868789E-3]
[605.5,5.3333333333333297E-3,7.3937153419593327E-3]
[605,5.3333333333333297E-3,7.3937153419593327E-3]
[604.5,5.6666666666666697E-3,7.8558225508318005E-3]
[604,5.6666666666666697E-3,7.8558225508318005E-3]
[603.5,5.6666666666666697E-3,7.8558225508318005E-3]
[603,5.6666666666666697E-3,7.8558225508318005E-3]
[602.5,6.0000000000000001E-3,8.3179297597042543E-3]
[602,6.3333333333333297E-3,8.7800369685767082E-3]
[601.5,6.6666666666666697E-3,9.2421441774491759E-3]
[601,6.6666666666666697E-3,9.2421441774491759E-3]
[600.5,7.0000000000000001E-3,9.7042513863216315E-3]
[600,7.3333333333333297E-3,1.0166358595194084E-2]
[599.5,7.6666666666666697E-3,1.0628465804066551E-2]
[599,8.0000000000000002E-3,1.1090573012939007E-2]
[598.5,8.3333333333333297E-3,1.1552680221811459E-2]
[598,8.6666666666666697E-3,1.2014787430683928E-2]
[597.5,8.9999999999999993E-3,1.2476894639556381E-2]
[597,9.6666666666666706E-3,1.3401109057301304E-2]
[596.5,0.01,1.3863216266173758E-2]
[596,1.0999999999999999E-2,1.5249537892791133E-2]
[595.5,1.1333333333333299E-2,1.5711645101663545E-2]
[595,1.2E-2,1.6635859519408509E-2]
[594.5,1.2999999999999999E-2,1.8022181146025884E-2]
[594,1.3333333333333299E-2,1.8484288354898296E-2]
[593.5,1.43333333333333E-2,1.9870609981515675E-2]
[593,1.53333333333333E-2,2.1256931608133047E-2]
[592.5,1.63333333333333E-2,2.2643253234750426E-2]
[592,1.7666666666666699E-2,2.4491682070240349E-2]
[591.5,1.9E-2,2.634011090573014E-2]
[591,0.02,2.7726432532347516E-2]
[590.5,2.1666666666666699E-2,3.0036968576709854E-2]
[590,2.3E-2,3.1885397412199645E-2]
[589.5,2.5000000000000001E-2,3.4658040665434396E-2]
[589,2.7E-2,3.7430683918669147E-2]
[588.5,2.8666666666666701E-2,3.9741219963031489E-2]
[588,3.1E-2,4.2975970425138649E-2]
[587.5,3.3000000000000002E-2,4.57486136783734E-2]
[587,3.5666666666666701E-2,4.9445471349353114E-2]
[586.5,3.7999999999999999E-2,5.268022181146028E-2]
[586,4.0666666666666698E-2,5.6377079482439994E-2]
[585.5,4.3666666666666701E-2,{"$f":"B131/MAX(B$2:B$602)","v":6.0536044362292124E-2}]
[585,4.6666666666666697E-2,6.4695009242144247E-2]
[584.5,0.05,6.9316081330868792E-2]
[584,5.2999999999999999E-2,7.3475046210720915E-2]
[583.5,5.6666666666666698E-2,7.8558225508318008E-2]
[583,5.9666666666666701E-2,8.2717190388170131E-2]
[582.5,6.3E-2,8.7338262476894676E-2]
[582,6.6666666666666693E-2,9.2421441774491755E-2]
[581.5,6.9666666666666696E-2,9.6580406654343892E-2]
[581,7.2999999999999995E-2,0.10120147874306842]
[580.5,7.5666666666666701E-2,0.10489833641404815]
[580,7.8E-2,0.1081330868761553]
[579.5,8.0666666666666706E-2,0.11182994454713503]
[579,8.2666666666666694E-2,0.11460258780036976]
[578.5,8.4000000000000005E-2,0.11645101663585958]
[578,8.5000000000000006E-2,0.11783733826247694]
[577.5,8.5999999999999993E-2,0.11922365988909431]
[577,8.6999999999999994E-2,0.12060998151571169]
[576.5,8.6999999999999994E-2,0.12060998151571169]
[576,8.6999999999999994E-2,0.12060998151571169]
[575.5,8.6333333333333304E-2,0.11968576709796673]
[575,8.5999999999999993E-2,0.11922365988909431]
[574.5,8.5000000000000006E-2,0.11783733826247694]
[574,8.4000000000000005E-2,0.11645101663585958]
[573.5,8.2000000000000003E-2,0.11367837338262482]
[573,8.1000000000000003E-2,0.11229205175600744]
[572.5,7.9000000000000001E-2,0.10951940850277268]
[572,7.7333333333333296E-2,0.10720887245841035]
[571.5,7.5999999999999998E-2,0.10536044362292056]
[571,7.3999999999999996E-2,0.1025878003696858]
[570.5,7.1999999999999995E-2,9.9815157116451045E-2]
[570,7.0333333333333303E-2,9.7504621072088724E-2]
[569.5,6.8333333333333302E-2,9.4731977818853966E-2]
[569,6.6666666666666693E-2,9.2421441774491755E-2]
[568.5,6.5000000000000002E-2,9.0110905730129434E-2]
[568,6.3666666666666705E-2,8.8262476894639647E-2]
[567.5,6.2E-2,8.5951940850277297E-2]
[567,6.0666666666666702E-2,8.410351201478751E-2]
[566.5,5.93333333333333E-2,8.2255083179297583E-2]
[566,5.8000000000000003E-2,8.0406654343807796E-2]
[565.5,5.6666666666666698E-2,7.8558225508318008E-2]
[565,5.5666666666666698E-2,7.7171903881700629E-2]
[564.5,5.4666666666666697E-2,7.578558225508325E-2]
[564,5.3999999999999999E-2,7.4861367837338294E-2]
[563.5,5.2999999999999999E-2,7.3475046210720915E-2]
[563,5.2666666666666702E-2,7.3012939001848506E-2]
[562.5,5.1999999999999998E-2,7.2088724584103536E-2]
[562,5.1666666666666701E-2,7.1626617375231127E-2]
[561.5,5.0999999999999997E-2,7.0702402957486157E-2]
[561,5.0999999999999997E-2,7.0702402957486157E-2]
[560.5,5.0999999999999997E-2,7.0702402957486157E-2]
[560,5.0999999999999997E-2,7.0702402957486157E-2]
[559.5,5.0999999999999997E-2,7.0702402957486157E-2]
[559,5.0999999999999997E-2,7.0702402957486157E-2]
[558.5,5.13333333333333E-2,7.116451016635858E-2]
[558,5.1666666666666701E-2,7.1626617375231127E-2]
[557.5,5.1999999999999998E-2,7.2088724584103536E-2]
[557,5.2666666666666702E-2,7.3012939001848506E-2]
[556.5,5.2999999999999999E-2,7.3475046210720915E-2]
[556,5.3999999999999999E-2,7.4861367837338294E-2]
[555.5,5.4666666666666697E-2,7.578558225508325E-2]
[555,5.5333333333333297E-2,7.6709796672828082E-2]
[554.5,5.6000000000000001E-2,7.7634011090573052E-2]
[554,5.7000000000000002E-2,7.9020332717190417E-2]
[553.5,5.8000000000000003E-2,{"$f":"B195/MAX(B$2:B$602)","v":8.0406654343807796E-2}]
[553,5.8999999999999997E-2,8.1792975970425161E-2]
[552.5,0.06,8.317929759704254E-2]
[552,6.1333333333333302E-2,8.5027726432532341E-2]
[551.5,6.2666666666666704E-2,8.6876155268022268E-2]
[551,6.4000000000000001E-2,8.8724584103512055E-2]
[550.5,6.5000000000000002E-2,9.0110905730129434E-2]
[550,6.63333333333333E-2,9.1959334565619208E-2]
[549.5,6.8000000000000005E-2,9.4269870609981557E-2]
[549,6.9000000000000006E-2,9.5656192236598936E-2]
[548.5,7.0333333333333303E-2,9.7504621072088724E-2]
[548,7.1333333333333401E-2,9.8890942698706227E-2]
[547.5,7.2999999999999995E-2,0.10120147874306842]
[547,7.3999999999999996E-2,0.1025878003696858]
[546.5,7.5333333333333294E-2,0.10443622920517559]
[546,7.6333333333333295E-2,0.10582255083179297]
[545.5,7.7333333333333296E-2,0.10720887245841035]
[545,7.8333333333333297E-2,0.10859519408502771]
[544.5,7.9333333333333297E-2,0.10998151571164509]
[544,0.08,0.11090573012939006]
[543.5,8.1000000000000003E-2,0.11229205175600744]
[543,8.1000000000000003E-2,0.11229205175600744]
[542.5,8.1333333333333299E-2,0.11275415896487985]
[542,8.2000000000000003E-2,0.11367837338262482]
[541.5,8.2000000000000003E-2,0.11367837338262482]
[541,8.2000000000000003E-2,0.11367837338262482]
[540.5,8.2000000000000003E-2,0.11367837338262482]
[540,8.1333333333333299E-2,0.11275415896487985]
[539.5,8.1000000000000003E-2,0.11229205175600744]
[539,8.1000000000000003E-2,0.11229205175600744]
[538.5,0.08,0.11090573012939006]
[538,7.9333333333333297E-2,0.10998151571164509]
[537.5,7.9000000000000001E-2,0.10951940850277268]
[537,7.8E-2,0.1081330868761553]
[536.5,7.6999999999999999E-2,0.10674676524953794]
[536,7.5999999999999998E-2,0.10536044362292056]
[535.5,7.4999999999999997E-2,0.10397412199630318]
[535,7.3999999999999996E-2,0.1025878003696858]
[534.5,7.2999999999999995E-2,0.10120147874306842]
[534,7.1999999999999995E-2,9.9815157116451045E-2]
[533.5,7.0999999999999994E-2,9.8428835489833666E-2]
[533,6.9333333333333302E-2,9.6118299445471345E-2]
[532.5,6.8000000000000005E-2,9.4269870609981557E-2]
[532,6.7000000000000004E-2,9.2883548983364178E-2]
[531.5,6.6000000000000003E-2,9.1497227356746799E-2]
[531,6.4000000000000001E-2,8.8724584103512055E-2]
[530.5,6.3E-2,8.7338262476894676E-2]
[530,6.0999999999999999E-2,8.4565619223659919E-2]
[529.5,0.06,8.317929759704254E-2]
[529,5.83333333333333E-2,8.0868761552680204E-2]
[528.5,5.7000000000000002E-2,7.9020332717190417E-2]
[528,5.6000000000000001E-2,7.7634011090573052E-2]
[527.5,5.3999999999999999E-2,7.4861367837338294E-2]
[527,5.2999999999999999E-2,7.3475046210720915E-2]
[526.5,5.0999999999999997E-2,7.0702402957486157E-2]
[526,0.05,6.9316081330868792E-2]
[525.5,4.8333333333333298E-2,6.7005545286506443E-2]
[525,4.7E-2,6.5157116451016656E-2]
[524.5,4.5999999999999999E-2,6.3770794824399291E-2]
[524,4.4333333333333301E-2,6.1460258780036948E-2]
[523.5,4.2999999999999997E-2,5.9611829944547154E-2]
[523,4.2000000000000003E-2,5.8225508317929789E-2]
[522.5,4.1000000000000002E-2,5.683918669131241E-2]
[522,0.04,5.5452865064695031E-2]
[521.5,3.9E-2,{"$f":"B259/MAX(B$2:B$602)","v":5.4066543438077652E-2}]
[521,3.7999999999999999E-2,5.268022181146028E-2]
[520.5,3.6999999999999998E-2,5.1293900184842901E-2]
[520,3.6333333333333301E-2,5.0369685767097938E-2]
[519.5,3.5999999999999997E-2,4.9907578558225522E-2]
[519,3.5000000000000003E-2,4.8521256931608157E-2]
[518.5,3.4000000000000002E-2,4.7134935304990778E-2]
[518,3.4000000000000002E-2,4.7134935304990778E-2]
[517.5,3.3000000000000002E-2,4.57486136783734E-2]
[517,3.3000000000000002E-2,4.57486136783734E-2]
[516.5,3.2000000000000001E-2,4.4362292051756028E-2]
[516,3.2000000000000001E-2,4.4362292051756028E-2]
[515.5,3.1666666666666697E-2,4.3900184842883612E-2]
[515,3.1E-2,4.2975970425138649E-2]
[514.5,3.1E-2,4.2975970425138649E-2]
[514,3.06666666666667E-2,4.2513863216266233E-2]
[513.5,3.06666666666667E-2,4.2513863216266233E-2]
[513,0.03,4.158964879852127E-2]
[512.5,0.03,4.158964879852127E-2]
[512,0.03,4.158964879852127E-2]
[511.5,0.03,4.158964879852127E-2]
[511,0.03,4.158964879852127E-2]
[510.5,2.9666666666666699E-2,4.1127541589648861E-2]
[510,2.9666666666666699E-2,4.1127541589648861E-2]
[509.5,2.9666666666666699E-2,4.1127541589648861E-2]
[509,2.9666666666666699E-2,4.1127541589648861E-2]
[508.5,2.9666666666666699E-2,4.1127541589648861E-2]
[508,2.9666666666666699E-2,4.1127541589648861E-2]
[507.5,2.9666666666666699E-2,4.1127541589648861E-2]
[507,2.9666666666666699E-2,4.1127541589648861E-2]
[506.5,2.9666666666666699E-2,4.1127541589648861E-2]
[506,2.9666666666666699E-2,4.1127541589648861E-2]
[505.5,2.9666666666666699E-2,4.1127541589648861E-2]
[505,0.03,4.158964879852127E-2]
[504.5,0.03,4.158964879852127E-2]
[504,0.03,4.158964879852127E-2]
[503.5,0.03,4.158964879852127E-2]
[503,0.03,4.158964879852127E-2]
[502.5,0.03,4.158964879852127E-2]
[502,3.06666666666667E-2,4.2513863216266233E-2]
[501.5,3.06666666666667E-2,4.2513863216266233E-2]
[501,3.06666666666667E-2,4.2513863216266233E-2]
[500.5,3.06666666666667E-2,4.2513863216266233E-2]
[500,3.06666666666667E-2,4.2513863216266233E-2]
[499.5,3.1E-2,4.2975970425138649E-2]
[499,3.1E-2,4.2975970425138649E-2]
[498.5,3.1E-2,4.2975970425138649E-2]
[498,3.1E-2,4.2975970425138649E-2]
[497.5,3.1666666666666697E-2,4.3900184842883612E-2]
[497,3.1666666666666697E-2,4.3900184842883612E-2]
[496.5,3.1666666666666697E-2,4.3900184842883612E-2]
[496,3.1666666666666697E-2,4.3900184842883612E-2]
[495.5,3.2000000000000001E-2,4.4362292051756028E-2]
[495,3.2000000000000001E-2,4.4362292051756028E-2]
[494.5,3.2000000000000001E-2,4.4362292051756028E-2]
[494,3.2666666666666698E-2,4.5286506469500984E-2]
[493.5,3.2666666666666698E-2,4.5286506469500984E-2]
[493,3.2666666666666698E-2,4.5286506469500984E-2]
[492.5,3.2666666666666698E-2,4.5286506469500984E-2]
[492,3.3000000000000002E-2,4.57486136783734E-2]
[491.5,3.3000000000000002E-2,4.57486136783734E-2]
[491,3.3666666666666699E-2,4.6672828096118363E-2]
[490.5,3.3666666666666699E-2,4.6672828096118363E-2]
[490,3.3666666666666699E-2,4.6672828096118363E-2]
[489.5,3.4000000000000002E-2,{"$f":"B323/MAX(B$2:B$602)","v":4.7134935304990778E-2}]
[489,3.4000000000000002E-2,4.7134935304990778E-2]
[488.5,3.4333333333333299E-2,4.7597042513863187E-2]
[488,3.46666666666667E-2,4.8059149722735742E-2]
[487.5,3.46666666666667E-2,4.8059149722735742E-2]
[487,3.5000000000000003E-2,4.8521256931608157E-2]
[486.5,3.5000000000000003E-2,4.8521256931608157E-2]
[486,3.5666666666666701E-2,4.9445471349353114E-2]
[485.5,3.5666666666666701E-2,4.9445471349353114E-2]
[485,3.5666666666666701E-2,4.9445471349353114E-2]
[484.5,3.5999999999999997E-2,4.9907578558225522E-2]
[484,3.6666666666666702E-2,5.0831792975970493E-2]
[483.5,3.6666666666666702E-2,5.0831792975970493E-2]
[483,3.6999999999999998E-2,5.1293900184842901E-2]
[482.5,3.6999999999999998E-2,5.1293900184842901E-2]
[482,3.7666666666666702E-2,5.2218114602587871E-2]
[481.5,3.7666666666666702E-2,5.2218114602587871E-2]
[481,3.7999999999999999E-2,5.268022181146028E-2]
[480.5,3.8666666666666703E-2,5.360443622920525E-2]
[480,3.8666666666666703E-2,5.360443622920525E-2]
[479.5,3.9E-2,5.4066543438077652E-2]
[479,3.9666666666666697E-2,5.4990757855822615E-2]
[478.5,0.04,5.5452865064695031E-2]
[478,4.0333333333333297E-2,5.591497227356744E-2]
[477.5,4.0666666666666698E-2,5.6377079482439994E-2]
[477,4.1000000000000002E-2,5.683918669131241E-2]
[476.5,4.1666666666666699E-2,5.7763401109057366E-2]
[476,4.2000000000000003E-2,5.8225508317929789E-2]
[475.5,4.26666666666667E-2,5.9149722735674745E-2]
[475,4.26666666666667E-2,5.9149722735674745E-2]
[474.5,4.33333333333333E-2,6.007393715341957E-2]
[474,4.3666666666666701E-2,6.0536044362292124E-2]
[473.5,4.3999999999999997E-2,6.0998151571164533E-2]
[473,4.4666666666666702E-2,6.1922365988909503E-2]
[472.5,4.4999999999999998E-2,6.2384473197781905E-2]
[472,4.5666666666666703E-2,6.3308687615526882E-2]
[471.5,4.5999999999999999E-2,6.3770794824399291E-2]
[471,4.6666666666666697E-2,6.4695009242144247E-2]
[470.5,4.7333333333333297E-2,6.5619223659889064E-2]
[470,4.7666666666666697E-2,6.6081330868761626E-2]
[469.5,4.8333333333333298E-2,6.7005545286506443E-2]
[469,4.8666666666666698E-2,6.7467652495379005E-2]
[468.5,4.9333333333333299E-2,6.8391866913123822E-2]
[468,0.05,6.9316081330868792E-2]
[467.5,5.06666666666667E-2,7.0240295748613749E-2]
[467,5.13333333333333E-2,7.116451016635858E-2]
[466.5,5.1666666666666701E-2,7.1626617375231127E-2]
[466,5.2666666666666702E-2,7.3012939001848506E-2]
[465.5,5.3333333333333302E-2,7.3937153419593338E-2]
[465,5.4333333333333303E-2,7.5323475046210703E-2]
[464.5,5.4666666666666697E-2,7.578558225508325E-2]
[464,5.5666666666666698E-2,7.7171903881700629E-2]
[463.5,5.6666666666666698E-2,7.8558225508318008E-2]
[463,5.7333333333333299E-2,7.9482439926062826E-2]
[462.5,5.83333333333333E-2,8.0868761552680204E-2]
[462,5.93333333333333E-2,8.2255083179297583E-2]
[461.5,6.0333333333333301E-2,8.3641404805914962E-2]
[461,6.1333333333333302E-2,8.5027726432532341E-2]
[460.5,6.2333333333333303E-2,8.641404805914972E-2]
[460,6.3333333333333297E-2,8.7800369685767085E-2]
[459.5,6.4333333333333298E-2,8.9186691312384464E-2]
[459,6.5333333333333299E-2,9.0573012939001843E-2]
[458.5,6.63333333333333E-2,9.1959334565619208E-2]
[458,6.7666666666666694E-2,9.3807763401109134E-2]
[457.5,6.8666666666666695E-2,{"$f":"B387/MAX(B$2:B$602)","v":9.5194085027726513E-2}]
[457,6.9666666666666696E-2,9.6580406654343892E-2]
[456.5,7.1333333333333401E-2,9.8890942698706227E-2]
[456,7.2333333333333305E-2,0.10027726432532348]
[455.5,7.36666666666667E-2,0.10212569316081339]
[455,7.5333333333333294E-2,0.10443622920517559]
[454.5,7.6333333333333295E-2,0.10582255083179297]
[454,7.8E-2,0.1081330868761553]
[453.5,7.9333333333333297E-2,0.10998151571164509]
[453,8.1000000000000003E-2,0.11229205175600744]
[452.5,8.23333333333333E-2,0.11414048059149723]
[452,8.4000000000000005E-2,0.11645101663585958]
[451.5,8.5999999999999993E-2,0.11922365988909431]
[451,8.7333333333333305E-2,0.12107208872458411]
[450.5,8.9333333333333306E-2,0.12384473197781887]
[450,9.1333333333333294E-2,0.1266173752310536]
[449.5,9.3333333333333296E-2,0.12939001848428835]
[449,9.5333333333333298E-2,0.13216266173752311]
[448.5,9.73333333333333E-2,0.13493530499075787]
[448,9.9666666666666695E-2,0.13817005545286515]
[447.5,0.10199999999999999,0.14140480591497231]
[447,0.104333333333333,0.14463955637707906]
[446.5,0.107,0.1483364140480592]
[446,0.109666666666667,0.15203327171903933]
[445.5,0.112666666666667,0.15619223659889148]
[445,0.115666666666667,0.1603512014787436]
[444.5,0.118666666666667,0.16451016635859572]
[444,0.122,0.16913123844731984]
[443.5,0.12566666666666701,0.17421441774491736]
[443,0.12933333333333299,0.17929759704251347]
[442.5,0.13266666666666699,0.18391866913123897]
[442,0.13700000000000001,0.18992606284658051]
[441.5,0.14133333333333301,0.19593345656192199]
[441,0.145666666666667,0.20194085027726486]
[440.5,0.15,0.20794824399260636]
[440,0.155,0.21487985212569324]
[439.5,0.16,0.22181146025878012]
[439,0.16500000000000001,0.228743068391867]
[438.5,0.170333333333333,0.23613678373382588]
[438,0.17633333333333301,0.24445471349353015]
[437.5,0.18233333333333299,0.2527726432532344]
[437,0.18866666666666701,0.26155268022181205]
[436.5,0.19466666666666699,0.26987060998151624]
[436,0.20166666666666699,0.27957486136783788]
[435.5,0.208666666666667,0.28927911275415952]
[435,0.216,0.29944547134935318]
[434.5,0.224,0.31053604436229221]
[434,0.23200000000000001,0.32162661737523118]
[433.5,0.24033333333333301,0.33317929759704218]
[433,0.24933333333333299,0.34565619223659855]
[432.5,0.25866666666666699,0.35859519408502832]
[432,0.26800000000000002,0.37153419593345671]
[431.5,0.27833333333333299,0.38585951940850244]
[431,0.288333333333333,0.3997227356746762]
[430.5,0.29966666666666703,0.41543438077634076]
[430,0.31133333333333302,0.4316081330868759]
[429.5,0.32333333333333297,0.44824399260628434]
[429,0.33633333333333298,0.46626617375231022]
[428.5,0.349333333333333,0.48428835489833616]
[428,0.36266666666666703,0.50277264325323545]
[427.5,0.37766666666666698,0.52356746765249607]
[427,0.392666666666667,0.54436229205175668]
[426.5,0.40866666666666701,0.56654343807763474]
[426,0.42499999999999999,0.58918669131238466]
[425.5,0.44233333333333302,{"$f":"B451/MAX(B$2:B$602)","v":0.61321626617375213}]
[425,0.459666666666667,0.63724584103512083]
[424.5,0.47799999999999998,0.66266173752310564]
[424,0.49633333333333302,0.68807763401109046]
[423.5,0.51466666666666705,0.7134935304990766]
[423,0.53300000000000003,0.7389094269870613]
[422.5,0.55166666666666697,0.76478743068391941]
[422,0.56999999999999995,0.79020332717190411]
[421.5,0.587666666666667,0.814695009242145]
[421,0.60499999999999998,0.83872458410351236]
[420.5,0.62133333333333296,0.86136783733826228]
[420,0.63666666666666705,0.88262476894639641]
[419.5,0.65133333333333299,0.90295748613678362]
[419,0.66466666666666696,0.92144177449168285]
[418.5,0.67700000000000005,0.93853974121996342]
[418,0.68799999999999994,0.95378927911275446]
[417.5,0.69733333333333303,0.96672828096118291]
[417,0.70499999999999996,0.97735674676524986]
[416.5,0.71133333333333304,0.98613678373382618]
[416,0.71599999999999997,0.99260628465804102]
[415.5,0.71933333333333305,0.99722735674676521]
[415,0.72066666666666701,0.99907578558225596]
[414.5,0.72133333333333305,1]
[414,0.72,0.99815157116451048]
[413.5,0.71733333333333305,0.99445471349353054]
[413,0.71399999999999997,0.98983364140480623]
[412.5,0.70899999999999996,0.98290203327171932]
[412,0.70266666666666699,0.97412199630314322]
[411.5,0.69499999999999995,0.96349353049907605]
[411,0.68733333333333402,0.95286506469501053]
[410.5,0.67800000000000005,0.93992606284658087]
[410,0.668333333333333,0.92652495378927902]
[409.5,0.65800000000000003,0.91219963031423335]
[409,0.64666666666666694,0.89648798521257]
[408.5,0.63500000000000001,0.88031423290203359]
[408,0.623,0.8636783733826251]
[407.5,0.61,0.84565619223659916]
[407,0.59699999999999998,0.82763401109057333]
[406.5,0.583666666666667,0.80914972273567543]
[406,0.56999999999999995,0.79020332717190411]
[405.5,0.55600000000000005,0.77079482439926095]
[405,0.54200000000000004,0.75138632162661767]
[404.5,0.52800000000000002,0.73197781885397439]
[404,0.51400000000000001,0.71256931608133112]
[403.5,0.50033333333333296,0.6936229205175598]
[403,0.48666666666666702,0.67467652495379005]
[402.5,0.473333333333333,0.6561922365988907]
[402,0.46033333333333298,0.63817005545286487]
[401.5,0.44733333333333303,0.62014787430683904]
[401,0.43533333333333302,0.60351201478743044]
[400.5,0.42333333333333301,0.58687615526802195]
[400,0.41166666666666701,0.57070240295748687]
[399.5,0.400666666666667,0.55545286506469571]
[399,0.38933333333333298,0.53974121996303115]
[398.5,0.37866666666666698,0.5249537892791134]
[398,0.36866666666666698,0.51109057301293959]
[397.5,0.35866666666666702,0.49722735674676594]
[397,0.34899999999999998,0.48382624768946414]
[396.5,0.34,0.47134935304990777]
[396,0.331666666666667,0.45979667282809678]
[395.5,0.32266666666666699,0.44731977818854035]
[395,0.31466666666666698,0.43622920517560138]
[394.5,0.30666666666666698,0.42513863216266234]
[394,0.29866666666666702,0.41404805914972337]
[393.5,0.291333333333333,{"$f":"B515/MAX(B$2:B$602)","v":0.40388170055452832}]
[393,0.28366666666666701,0.39325323475046275]
[392.5,0.276666666666667,0.38354898336414112]
[392,0.27,0.3743068391866915]
[391.5,0.26366666666666699,0.36552680221811518]
[391,0.25700000000000001,0.35628465804066556]
[390.5,0.25066666666666698,0.34750462107208929]
[390,0.244666666666667,0.3391866913123851]
[389.5,0.238666666666667,0.3308687615526808]
[389,0.23266666666666699,0.32255083179297656]
[388.5,0.227333333333333,0.31515711645101629]
[388,0.22166666666666701,0.30730129390018546]
[387.5,0.21633333333333299,0.29990757855822514]
[387,0.21133333333333301,0.29297597042513829]
[386.5,0.20633333333333301,0.28604436229205144]
[386,0.201333333333333,0.27911275415896453]
[385.5,0.196333333333333,0.27218114602587767]
[385,0.19133333333333299,0.26524953789279077]
[384.5,0.18733333333333299,0.25970425138632125]
[384,0.18333333333333299,0.25415896487985173]
[383.5,0.17899999999999999,0.24815157116451025]
[383,0.17533333333333301,0.24306839186691276]
[382.5,0.171333333333333,0.23752310536044327]
[382,0.167333333333333,0.23197781885397376]
[381.5,0.164333333333333,0.22781885397412163]
[381,0.161333333333333,0.22365988909426948]
[380.5,0.15833333333333299,0.21950092421441736]
[380,0.15533333333333299,0.21534195933456524]
[379.5,0.15266666666666701,0.21164510166358649]
[379,0.14933333333333301,0.20702402957486102]
[378.5,0.146666666666667,0.20332717190388225]
[378,0.144666666666667,0.20055452865064749]
[377.5,0.14299999999999999,0.19824399260628472]
[377,0.14133333333333301,0.19593345656192199]
[376.5,0.13966666666666699,0.19362292051756061]
[376,0.138333333333333,0.19177449168206986]
[375.5,0.13666666666666699,0.18946395563770849]
[375,0.13566666666666699,0.18807763401109109]
[374.5,0.134333333333333,0.18622920517560035]
[374,0.133333333333333,0.18484288354898298]
[373.5,0.13266666666666699,0.18391866913123897]
[373,0.13166666666666699,0.18253234750462158]
[372.5,0.13066666666666699,0.18114602587800421]
[372,0.130333333333333,0.18068391866913083]
[371.5,0.12966666666666701,0.17975970425138688]
[371,0.12933333333333299,0.17929759704251347]
[370.5,0.12866666666666701,0.17837338262476948]
[370,0.12866666666666701,0.17837338262476948]
[369.5,0.12866666666666701,0.17837338262476948]
[369,0.12866666666666701,0.17837338262476948]
[368.5,0.12833333333333299,0.17791127541589608]
[368,0.12833333333333299,0.17791127541589608]
[367.5,0.12833333333333299,0.17791127541589608]
[367,0.12866666666666701,0.17837338262476948]
[366.5,0.12866666666666701,0.17837338262476948]
[366,0.12866666666666701,0.17837338262476948]
[365.5,0.12966666666666701,0.17975970425138688]
[365,0.12966666666666701,0.17975970425138688]
[364.5,0.130333333333333,0.18068391866913083]
[364,0.13066666666666699,0.18114602587800421]
[363.5,0.13166666666666699,0.18253234750462158]
[363,0.13166666666666699,0.18253234750462158]
[362.5,0.13266666666666699,0.18391866913123897]
[362,0.13366666666666699,0.18530499075785634]
[361.5,0.134333333333333,{"$f":"B579/MAX(B$2:B$602)","v":0.18622920517560035}]
[361,0.135333333333333,0.18761552680221771]
[360.5,0.13566666666666699,0.18807763401109109]
[360,0.13666666666666699,0.18946395563770849]
[359.5,0.13766666666666699,0.19085027726432585]
[359,0.13866666666666699,0.19223659889094322]
[358.5,0.13966666666666699,0.19362292051756061]
[358,0.140666666666667,0.19500924214417797]
[357.5,0.141666666666667,0.19639556377079537]
[357,0.142666666666667,0.19778188539741273]
[356.5,0.143666666666667,0.19916820702403012]
[356,0.144666666666667,0.20055452865064749]
[355.5,0.145666666666667,0.20194085027726486]
[355,0.146666666666667,0.20332717190388225]
[354.5,0.147666666666667,0.20471349353049961]
[354,0.14833333333333301,0.20563770794824363]
[353.5,0.14933333333333301,0.20702402957486102]
[353,0.15,0.20794824399260636]
[352.5,0.151,0.20933456561922373]
[352,0.152,0.21072088724584112]
[351.5,0.15266666666666701,0.21164510166358649]
[351,0.15333333333333299,0.21256931608133048]
[350.5,0.154,0.21349353049907588]
[350,0.15433333333333299,0.21395563770794784]

{"sheet":"Temporary","index":3,"n_rows":602,"n_cols":9,"rows_kept":602,"cut":false,"hidden":true,"merged":[]}
[{"$f":"'Hb reference spectrum'!A1","v":"Wavelength (nm)"},"Input spectrum","Residuum","2nd deriv","Squares",null,"Sum squares","Hb","Bilirubin"]
[{"$f":"'Hb reference spectrum'!A2","v":650},6.0000000000000001E-3,{"$f":"B2-$H$2*'Hb reference spectrum'!C2","v":3.0215312124471289E-3},null,{"$f":"D2^2","v":0},null,{"$f":"IF(OR(B602< B402,B602>0.5),SUM(E72:E258),SUM(E72:E542))*1000000000","v":111.41023384351743},0.80567580703305031,{"$f":"(AVERAGE(C379:C385)-4.01*C2)","v":0.90071645470513495}]
[{"$f":"'Hb reference spectrum'!A3","v":649.5},6.0000000000000001E-3,{"$f":"B3-$H$2*'Hb reference spectrum'!C3","v":3.0215312124471289E-3},null,0]
[{"$f":"'Hb reference spectrum'!A4","v":649},6.0000000000000001E-3,{"$f":"B4-$H$2*'Hb reference spectrum'!C4","v":3.0215312124471289E-3},null,0,null,"Solver"]
[{"$f":"'Hb reference spectrum'!A5","v":648.5},6.0000000000000001E-3,{"$f":"B5-$H$2*'Hb reference spectrum'!C5","v":3.0215312124471289E-3},null,0,null,{"$f":"MIN($G$2)","v":111.41023384351743}]
[{"$f":"'Hb reference spectrum'!A6","v":648},6.0000000000000001E-3,{"$f":"B6-$H$2*'Hb reference spectrum'!C6","v":3.0215312124471289E-3},null,0,null,{"$f":"COUNT($H$2)","v":1}]
[{"$f":"'Hb reference spectrum'!A7","v":647.5},6.0000000000000001E-3,{"$f":"B7-$H$2*'Hb reference spectrum'!C7","v":3.0215312124471289E-3},null,0,null,{"$f":"{32767;32767;0.0001;0.01;FALSE;FALSE;FALSE;1;2;1;0.0001;TRUE}","v":32767}]
[{"$f":"'Hb reference spectrum'!A8","v":647},6.0000000000000001E-3,{"$f":"B8-$H$2*'Hb reference spectrum'!C8","v":3.0215312124471289E-3},null,0,null,{"$f":"{0;0;1;100;0;FALSE;FALSE;0.075;0;0;FALSE;30}","v":0}]
[{"$f":"'Hb reference spectrum'!A9","v":646.5},6.0000000000000001E-3,{"$f":"B9-$H$2*'Hb reference spectrum'!C9","v":3.0215312124471289E-3},null,0]
[{"$f":"'Hb reference spectrum'!A10","v":646},6.0000000000000001E-3,{"$f":"B10-$H$2*'Hb reference spectrum'!C10","v":3.0215312124471289E-3},null,0]
[{"$f":"'Hb reference spectrum'!A11","v":645.5},6.0000000000000001E-3,{"$f":"B11-$H$2*'Hb reference spectrum'!C11","v":3.0215312124471289E-3},null,0]
[{"$f":"'Hb reference spectrum'!A12","v":645},6.0000000000000001E-3,{"$f":"B12-$H$2*'Hb reference spectrum'!C12","v":3.0215312124471289E-3},null,0]
[{"$f":"'Hb reference spectrum'!A13","v":644.5},6.0000000000000001E-3,{"$f":"B13-$H$2*'Hb reference spectrum'!C13","v":3.0215312124471289E-3},null,0]
[{"$f":"'Hb reference spectrum'!A14","v":644},6.0000000000000001E-3,{"$f":"B14-$H$2*'Hb reference spectrum'!C14","v":3.0215312124471289E-3},null,0]
[{"$f":"'Hb reference spectrum'!A15","v":643.5},6.0000000000000001E-3,{"$f":"B15-$H$2*'Hb reference spectrum'!C15","v":3.0215312124471289E-3},null,0]
[{"$f":"'Hb reference spectrum'!A16","v":643},6.0000000000000001E-3,{"$f":"B16-$H$2*'Hb reference spectrum'!C16","v":3.0215312124471289E-3},{"$f":"SUMPRODUCT(C2:C30,{126;99;74;51;30;11;-6;-21;-34;-45;-54;-61;-66;-69;-70;-69;-66;-61;-54;-45;-34;-21;-6;11;30;51;74;99;126})/56637","v":6.7976764306019097E-6},4.6208404855160718E-11]
[{"$f":"'Hb reference spectrum'!A17","v":642.5},6.0000000000000001E-3,{"$f":"B17-$H$2*'Hb reference spectrum'!C17","v":3.0215312124471289E-3},{"$f":"SUMPRODUCT(C3:C31,{126;99;74;51;30;11;-6;-21;-34;-45;-54;-61;-66;-69;-70;-69;-66;-61;-54;-45;-34;-21;-6;11;30;51;74;99;126})/56637","v":6.426894079841803E-6},4.1304967513505614E-11]
[{"$f":"'Hb reference spectrum'!A18","v":642},6.0000000000000001E-3,{"$f":"B18-$H$2*'Hb reference spectrum'!C18","v":3.0215312124471289E-3},{"$f":"SUMPRODUCT(C4:C32,{126;99;74;51;30;11;-6;-21;-34;-45;-54;-61;-66;-69;-70;-69;-66;-61;-54;-45;-34;-21;-6;11;30;51;74;99;126})/56637","v":5.8265797976587779E-6},3.3949032138485402E-11]
[{"$f":"'Hb reference spectrum'!A19","v":641.5},6.0000000000000001E-3,{"$f":"B19-$H$2*'Hb reference spectrum'!C19","v":3.0215312124471289E-3},{"$f":"SUMPRODUCT(C5:C33,{126;99;74;51;30;11;-6;-21;-34;-45;-54;-61;-66;-69;-70;-69;-66;-61;-54;-45;-34;-21;-6;11;30;51;74;99;126})/56637","v":5.0320461888871278E-6},2.5321488847093466E-11]
[{"$f":"'Hb reference spectrum'!A20","v":641},6.0000000000000001E-3,{"$f":"B20-$H$2*'Hb reference spectrum'!C20","v":3.0215312124471289E-3},{"$f":"SUMPRODUCT(C6:C34,{126;99;74;51;30;11;-6;-21;-34;-45;-54;-61;-66;-69;-70;-69;-66;-61;-54;-45;-34;-21;-6;11;30;51;74;99;126})/56637","v":4.0786058583611453E-6},1.6635025747857854E-11]
[{"$f":"'Hb reference spectrum'!A21","v":640.5},6.0000000000000001E-3,{"$f":"B21-$H$2*'Hb reference spectrum'!C21","v":3.0215312124471289E-3},{"$f":"SUMPRODUCT(C7:C35,{126;99;74;51;30;11;-6;-21;-34;-45;-54;-61;-66;-69;-70;-69;-66;-61;-54;-45;-34;-21;-6;11;30;51;74;99;126})/56637","v":3.0015714109151268E-6},9.0094309348230251E-12]
[{"$f":"'Hb reference spectrum'!A22","v":640},6.0000000000000001E-3,{"$f":"B22-$H$2*'Hb reference spectrum'!C22","v":3.0215312124471289E-3},{"$f":"SUMPRODUCT(C8:C36,{126;99;74;51;30;11;-6;-21;-34;-45;-54;-61;-66;-69;-70;-69;-66;-61;-54;-45;-34;-21;-6;11;30;51;74;99;126})/56637","v":1.8362554513833749E-6},3.3718340827351619E-12]
[{"$f":"'Hb reference spectrum'!A23","v":639.5},6.0000000000000001E-3,{"$f":"B23-$H$2*'Hb reference spectrum'!C23","v":3.0215312124471289E-3},{"$f":"SUMPRODUCT(C9:C37,{126;99;74;51;30;11;-6;-21;-34;-45;-54;-61;-66;-69;-70;-69;-66;-61;-54;-45;-34;-21;-6;11;30;51;74;99;126})/56637","v":6.1797058460017755E-7},3.8188764343108522E-13]
[{"$f":"'Hb reference spectrum'!A24","v":639},7.0000000000000001E-3,{"$f":"B24-$H$2*'Hb reference spectrum'!C24","v":4.0215312124471294E-3},{"$f":"SUMPRODUCT(C10:C38,{126;99;74;51;30;11;-6;-21;-34;-45;-54;-61;-66;-69;-70;-69;-66;-61;-54;-45;-34;-21;-6;11;30;51;74;99;126})/56637","v":-6.1797058460016961E-7},3.8188764343107538E-13]
[{"$f":"'Hb reference spectrum'!A25","v":638.5},7.0000000000000001E-3,{"$f":"B25-$H$2*'Hb reference spectrum'!C25","v":4.0215312124471294E-3},{"$f":"SUMPRODUCT(C11:C39,{126;99;74;51;30;11;-6;-21;-34;-45;-54;-61;-66;-69;-70;-69;-66;-61;-54;-45;-34;-21;-6;11;30;51;74;99;126})/56637","v":-1.836255451383369E-6},3.3718340827351401E-12]
[{"$f":"'Hb reference spectrum'!A26","v":638},7.0000000000000001E-3,{"$f":"B26-$H$2*'Hb reference spectrum'!C26","v":4.0215312124471294E-3},{"$f":"SUMPRODUCT(C12:C40,{126;99;74;51;30;11;-6;-21;-34;-45;-54;-61;-66;-69;-70;-69;-66;-61;-54;-45;-34;-21;-6;11;30;51;74;99;126})/56637","v":-3.0015714109151209E-6},9.0094309348229895E-12]
[{"$f":"'Hb reference spectrum'!A27","v":637.5},7.0000000000000001E-3,{"$f":"B27-$H$2*'Hb reference spectrum'!C27","v":4.0215312124471294E-3},{"$f":"SUMPRODUCT(C13:C41,{126;99;74;51;30;11;-6;-21;-34;-45;-54;-61;-66;-69;-70;-69;-66;-61;-54;-45;-34;-21;-6;11;30;51;74;99;126})/56637","v":-4.078605858361136E-6},1.663502574785778E-11]
[{"$f":"'Hb reference spectrum'!A28","v":637},7.0000000000000001E-3,{"$f":"B28-$H$2*'Hb reference spectrum'!C28","v":4.0215312124471294E-3},{"$f":"SUMPRODUCT(C14:C42,{126;99;74;51;30;11;-6;-21;-34;-45;-54;-61;-66;-69;-70;-69;-66;-61;-54;-45;-34;-21;-6;11;30;51;74;99;126})/56637","v":-5.0320461888871219E-6},2.5321488847093408E-11]
[{"$f":"'Hb reference spectrum'!A29","v":636.5},7.0000000000000001E-3,{"$f":"B29-$H$2*'Hb reference spectrum'!C29","v":4.0215312124471294E-3},{"$f":"SUMPRODUCT(C15:C43,{126;99;74;51;30;11;-6;-21;-34;-45;-54;-61;-66;-69;-70;-69;-66;-61;-54;-45;-34;-21;-6;11;30;51;74;99;126})/56637","v":-5.826579797658772E-6},3.3949032138485337E-11]
[{"$f":"'Hb reference spectrum'!A30","v":636},7.0000000000000001E-3,{"$f":"B30-$H$2*'Hb reference spectrum'!C30","v":4.0215312124471294E-3},{"$f":"SUMPRODUCT(C16:C44,{126;99;74;51;30;11;-6;-21;-34;-45;-54;-61;-66;-69;-70;-69;-66;-61;-54;-45;-34;-21;-6;11;30;51;74;99;126})/56637","v":-6.4268940798418013E-6},4.1304967513505595E-11]
[{"$f":"'Hb reference spectrum'!A31","v":635.5},7.0000000000000001E-3,{"$f":"B31-$H$2*'Hb reference spectrum'!C31","v":4.0215312124471294E-3},{"$f":"SUMPRODUCT(C17:C45,{126;99;74;51;30;11;-6;-21;-34;-45;-54;-61;-66;-69;-70;-69;-66;-61;-54;-45;-34;-21;-6;11;30;51;74;99;126})/56637","v":-6.7976764306019037E-6},4.6208404855160641E-11]
[{"$f":"'Hb reference spectrum'!A32","v":635},7.0000000000000001E-3,{"$f":"B32-$H$2*'Hb reference spectrum'!C32","v":4.0215312124471294E-3},{"$f":"SUMPRODUCT(C18:C46,{126;99;74;51;30;11;-6;-21;-34;-45;-54;-61;-66;-69;-70;-69;-66;-61;-54;-45;-34;-21;-6;11;30;51;74;99;126})/56637","v":-7.7318869891406233E-6},5.9782076412842053E-11]
[{"$f":"'Hb reference spectrum'!A33","v":634.5},7.0000000000000001E-3,{"$f":"B33-$H$2*'Hb reference spectrum'!C33","v":4.0215312124471294E-3},{"$f":"SUMPRODUCT(C19:C47,{126;99;74;51;30;11;-6;-21;-34;-45;-54;-61;-66;-69;-70;-69;-66;-61;-54;-45;-34;-21;-6;11;30;51;74;99;126})/56637","v":-8.188453390008717E-6},6.7050768920345249E-11]
[{"$f":"'Hb reference spectrum'!A34","v":634},7.0000000000000001E-3,{"$f":"B34-$H$2*'Hb reference spectrum'!C34","v":4.0215312124471294E-3},{"$f":"SUMPRODUCT(C20:C48,{126;99;74;51;30;11;-6;-21;-34;-45;-54;-61;-66;-69;-70;-69;-66;-61;-54;-45;-34;-21;-6;11;30;51;74;99;126})/56637","v":-8.1452102147851618E-6},6.6344449443040537E-11]
[{"$f":"'Hb reference spectrum'!A35","v":633.5},7.0000000000000001E-3,{"$f":"B35-$H$2*'Hb reference spectrum'!C35","v":4.0215312124471294E-3},{"$f":"SUMPRODUCT(C21:C49,{126;99;74;51;30;11;-6;-21;-34;-45;-54;-61;-66;-69;-70;-69;-66;-61;-54;-45;-34;-21;-6;11;30;51;74;99;126})/56637","v":-6.183570684524141E-6},3.8236546410506356E-11]
[{"$f":"'Hb reference spectrum'!A36","v":633},7.0000000000000001E-3,{"$f":"B36-$H$2*'Hb reference spectrum'!C36","v":4.0215312124471294E-3},{"$f":"SUMPRODUCT(C22:C50,{126;99;74;51;30;11;-6;-21;-34;-45;-54;-61;-66;-69;-70;-69;-66;-61;-54;-45;-34;-21;-6;11;30;51;74;99;126})/56637","v":-3.9770238900132978E-6},1.5816719021736503E-11]
[{"$f":"'Hb reference spectrum'!A37","v":632.5},7.0000000000000001E-3,{"$f":"B37-$H$2*'Hb reference spectrum'!C37","v":4.0215312124471294E-3},{"$f":"SUMPRODUCT(C23:C51,{126;99;74;51;30;11;-6;-21;-34;-45;-54;-61;-66;-69;-70;-69;-66;-61;-54;-45;-34;-21;-6;11;30;51;74;99;126})/56637","v":-1.4812389944105849E-6},2.1940689585624809E-12]
[{"$f":"'Hb reference spectrum'!A38","v":632},7.0000000000000001E-3,{"$f":"B38-$H$2*'Hb reference spectrum'!C38","v":4.0215312124471294E-3},{"$f":"SUMPRODUCT(C24:C52,{126;99;74;51;30;11;-6;-21;-34;-45;-54;-61;-66;-69;-70;-69;-66;-61;-54;-45;-34;-21;-6;11;30;51;74;99;126})/56637","v":1.348114839126066E-6},1.817413619471899E-12]
[{"$f":"'Hb reference spectrum'!A39","v":631.5},7.0000000000000001E-3,{"$f":"B39-$H$2*'Hb reference spectrum'!C39","v":4.0215312124471294E-3},{"$f":"SUMPRODUCT(C25:C53,{126;99;74;51;30;11;-6;-21;-34;-45;-54;-61;-66;-69;-70;-69;-66;-61;-54;-45;-34;-21;-6;11;30;51;74;99;126})/56637","v":1.8186415727807997E-6},3.3074571702466209E-12]
[{"$f":"'Hb reference spectrum'!A40","v":631},7.0000000000000001E-3,{"$f":"B40-$H$2*'Hb reference spectrum'!C40","v":4.0215312124471294E-3},{"$f":"SUMPRODUCT(C26:C54,{126;99;74;51;30;11;-6;-21;-34;-45;-54;-61;-66;-69;-70;-69;-66;-61;-54;-45;-34;-21;-6;11;30;51;74;99;126})/56637","v":2.1640535431219989E-6},4.6831277374988771E-12]
[{"$f":"'Hb reference spectrum'!A41","v":630.5},7.0000000000000001E-3,{"$f":"B41-$H$2*'Hb reference spectrum'!C41","v":4.0215312124471294E-3},{"$f":"SUMPRODUCT(C27:C55,{126;99;74;51;30;11;-6;-21;-34;-45;-54;-61;-66;-69;-70;-69;-66;-61;-54;-45;-34;-21;-6;11;30;51;74;99;126})/56637","v":2.3933689821574242E-6},5.7282150847532644E-12]
[{"$f":"'Hb reference spectrum'!A42","v":630},7.0000000000000001E-3,{"$f":"B42-$H$2*'Hb reference spectrum'!C42","v":4.0215312124471294E-3},{"$f":"SUMPRODUCT(C28:C56,{126;99;74;51;30;11;-6;-21;-34;-45;-54;-61;-66;-69;-70;-69;-66;-61;-54;-45;-34;-21;-6;11;30;51;74;99;126})/56637","v":2.5156061218948363E-6},6.3282741605147779E-12]
[{"$f":"'Hb reference spectrum'!A43","v":629.5},7.0000000000000001E-3,{"$f":"B43-$H$2*'Hb reference spectrum'!C43","v":4.0215312124471294E-3},{"$f":"SUMPRODUCT(C29:C57,{126;99;74;51;30;11;-6;-21;-34;-45;-54;-61;-66;-69;-70;-69;-66;-61;-54;-45;-34;-21;-6;11;30;51;74;99;126})/56637","v":2.5397831943419998E-6},6.450498674262052E-12]
[{"$f":"'Hb reference spectrum'!A44","v":629},7.0000000000000001E-3,{"$f":"B44-$H$2*'Hb reference spectrum'!C44","v":4.0215312124471294E-3},{"$f":"SUMPRODUCT(C30:C58,{126;99;74;51;30;11;-6;-21;-34;-45;-54;-61;-66;-69;-70;-69;-66;-61;-54;-45;-34;-21;-6;11;30;51;74;99;126})/56637","v":1.6466456874708212E-6},2.7114420200662533E-12]
[{"$f":"'Hb reference spectrum'!A45","v":628.5},7.0000000000000001E-3,{"$f":"B45-$H$2*'Hb reference spectrum'!C45","v":4.0215312124471294E-3},{"$f":"SUMPRODUCT(C31:C59,{126;99;74;51;30;11;-6;-21;-34;-45;-54;-61;-66;-69;-70;-69;-66;-61;-54;-45;-34;-21;-6;11;30;51;74;99;126})/56637","v":8.5097159390402255E-7},7.2415265363155272E-13]
[{"$f":"'Hb reference spectrum'!A46","v":628},7.0000000000000001E-3,{"$f":"B46-$H$2*'Hb reference spectrum'!C46","v":3.6492226140030243E-3},{"$f":"SUMPRODUCT(C32:C60,{126;99;74;51;30;11;-6;-21;-34;-45;-54;-61;-66;-69;-70;-69;-66;-61;-54;-45;-34;-21;-6;11;30;51;74;99;126})/56637","v":1.4863195923610669E-7},2.2091459306363681E-14]
[{"$f":"'Hb reference spectrum'!A47","v":627.5},7.0000000000000001E-3,{"$f":"B47-$H$2*'Hb reference spectrum'!C47","v":3.6492226140030243E-3},{"$f":"SUMPRODUCT(C33:C61,{126;99;74;51;30;11;-6;-21;-34;-45;-54;-61;-66;-69;-70;-69;-66;-61;-54;-45;-34;-21;-6;11;30;51;74;99;126})/56637","v":-4.6450217093843807E-7},2.1576226680652194E-13]
[{"$f":"'Hb reference spectrum'!A48","v":627},7.0000000000000001E-3,{"$f":"B48-$H$2*'Hb reference spectrum'!C48","v":3.6492226140030243E-3},{"$f":"SUMPRODUCT(C34:C62,{126;99;74;51;30;11;-6;-21;-34;-45;-54;-61;-66;-69;-70;-69;-66;-61;-54;-45;-34;-21;-6;11;30;51;74;99;126})/56637","v":-9.9255975102511859E-7},9.8517485935504549E-13]
[{"$f":"'Hb reference spectrum'!A49","v":626.5},8.0000000000000002E-3,{"$f":"B49-$H$2*'Hb reference spectrum'!C49","v":4.2769140155589202E-3},{"$f":"SUMPRODUCT(C35:C63,{126;99;74;51;30;11;-6;-21;-34;-45;-54;-61;-66;-69;-70;-69;-66;-61;-54;-45;-34;-21;-6;11;30;51;74;99;126})/56637","v":-1.4396697354294438E-6},2.0726489471114848E-12]
[{"$f":"'Hb reference spectrum'!A50","v":626},8.0000000000000002E-3,{"$f":"B50-$H$2*'Hb reference spectrum'!C50","v":4.2769140155589202E-3},{"$f":"SUMPRODUCT(C36:C64,{126;99;74;51;30;11;-6;-21;-34;-45;-54;-61;-66;-69;-70;-69;-66;-61;-54;-45;-34;-21;-6;11;30;51;74;99;126})/56637","v":-1.8099610785569027E-6},3.2759591058908665E-12]
[{"$f":"'Hb reference spectrum'!A51","v":625.5},8.0000000000000002E-3,{"$f":"B51-$H$2*'Hb reference spectrum'!C51","v":4.2769140155589202E-3},{"$f":"SUMPRODUCT(C37:C65,{126;99;74;51;30;11;-6;-21;-34;-45;-54;-61;-66;-69;-70;-69;-66;-61;-54;-45;-34;-21;-6;11;30;51;74;99;126})/56637","v":-2.1075627348130276E-6},4.4418206811725685E-12]
[{"$f":"'Hb reference spectrum'!A52","v":625},8.0000000000000002E-3,{"$f":"B52-$H$2*'Hb reference spectrum'!C52","v":4.2769140155589202E-3},{"$f":"SUMPRODUCT(C38:C66,{126;99;74;51;30;11;-6;-21;-34;-45;-54;-61;-66;-69;-70;-69;-66;-61;-54;-45;-34;-21;-6;11;30;51;74;99;126})/56637","v":-2.336603658603304E-6},5.4597166573983456E-12]
[{"$f":"'Hb reference spectrum'!A53","v":624.5},8.0000000000000002E-3,{"$f":"B53-$H$2*'Hb reference spectrum'!C53","v":4.2769140155589202E-3},{"$f":"SUMPRODUCT(C39:C67,{126;99;74;51;30;11;-6;-21;-34;-45;-54;-61;-66;-69;-70;-69;-66;-61;-54;-45;-34;-21;-6;11;30;51;74;99;126})/56637","v":-2.5012128043332564E-6},6.2560654925606323E-12]
[{"$f":"'Hb reference spectrum'!A54","v":624},8.0000000000000002E-3,{"$f":"B54-$H$2*'Hb reference spectrum'!C54","v":4.2769140155589202E-3},{"$f":"SUMPRODUCT(C40:C68,{126;99;74;51;30;11;-6;-21;-34;-45;-54;-61;-66;-69;-70;-69;-66;-61;-54;-45;-34;-21;-6;11;30;51;74;99;126})/56637","v":-2.6055191264083694E-6},6.7887299180798323E-12]
[{"$f":"'Hb reference spectrum'!A55","v":623.5},8.0000000000000002E-3,{"$f":"B55-$H$2*'Hb reference spectrum'!C55","v":4.2769140155589202E-3},{"$f":"SUMPRODUCT(C41:C69,{126;99;74;51;30;11;-6;-21;-34;-45;-54;-61;-66;-69;-70;-69;-66;-61;-54;-45;-34;-21;-6;11;30;51;74;99;126})/56637","v":-2.6536515792341685E-6},7.0418667039719968E-12]
[{"$f":"'Hb reference spectrum'!A56","v":623},8.0000000000000002E-3,{"$f":"B56-$H$2*'Hb reference spectrum'!C56","v":4.2769140155589202E-3},{"$f":"SUMPRODUCT(C42:C70,{126;99;74;51;30;11;-6;-21;-34;-45;-54;-61;-66;-69;-70;-69;-66;-61;-54;-45;-34;-21;-6;11;30;51;74;99;126})/56637","v":-4.2504501265552523E-7},1.8066326278333559E-13]
[{"$f":"'Hb reference spectrum'!A57","v":622.5},8.0000000000000002E-3,{"$f":"B57-$H$2*'Hb reference spectrum'!C57","v":4.2769140155589202E-3},{"$f":"SUMPRODUCT(C43:C71,{126;99;74;51;30;11;-6;-21;-34;-45;-54;-61;-66;-69;-70;-69;-66;-61;-54;-45;-34;-21;-6;11;30;51;74;99;126})/56637","v":1.3747573490984415E-6},1.889957768900174E-12]
[{"$f":"'Hb reference spectrum'!A58","v":622},8.0000000000000002E-3,{"$f":"B58-$H$2*'Hb reference spectrum'!C58","v":3.9046054171148039E-3},{"$f":"SUMPRODUCT(C44:C72,{126;99;74;51;30;11;-6;-21;-34;-45;-54;-61;-66;-69;-70;-69;-66;-61;-54;-45;-34;-21;-6;11;30;51;74;99;126})/56637","v":2.7769391564565133E-6},7.7113910786614109E-12]
[{"$f":"'Hb reference spectrum'!A59","v":621.5},8.0000000000000002E-3,{"$f":"B59-$H$2*'Hb reference spectrum'!C59","v":3.9046054171148039E-3},{"$f":"SUMPRODUCT(C45:C73,{126;99;74;51;30;11;-6;-21;-34;-45;-54;-61;-66;-69;-70;-69;-66;-61;-54;-45;-34;-21;-6;11;30;51;74;99;126})/56637","v":3.8126840598474753E-6},1.4536559740215027E-11]
[{"$f":"'Hb reference spectrum'!A60","v":621},8.0000000000000002E-3,{"$f":"B60-$H$2*'Hb reference spectrum'!C60","v":3.9046054171148039E-3},{"$f":"SUMPRODUCT(C46:C74,{126;99;74;51;30;11;-6;-21;-34;-45;-54;-61;-66;-69;-70;-69;-66;-61;-54;-45;-34;-21;-6;11;30;51;74;99;126})/56637","v":4.5131757097001415E-6},2.0368754986627377E-11]
[{"$f":"'Hb reference spectrum'!A61","v":620.5},8.0000000000000002E-3,{"$f":"B61-$H$2*'Hb reference spectrum'!C61","v":3.9046054171148039E-3},{"$f":"SUMPRODUCT(C47:C75,{126;99;74;51;30;11;-6;-21;-34;-45;-54;-61;-66;-69;-70;-69;-66;-61;-54;-45;-34;-21;-6;11;30;51;74;99;126})/56637","v":5.9285047034714838E-6},3.5147168019083505E-11]
[{"$f":"'Hb reference spectrum'!A62","v":620},8.0000000000000002E-3,{"$f":"B62-$H$2*'Hb reference spectrum'!C62","v":3.9046054171148039E-3},{"$f":"SUMPRODUCT(C48:C76,{126;99;74;51;30;11;-6;-21;-34;-45;-54;-61;-66;-69;-70;-69;-66;-61;-54;-45;-34;-21;-6;11;30;51;74;99;126})/56637","v":7.2747291339677247E-6},5.2921683972598802E-11]
[{"$f":"'Hb reference spectrum'!A63","v":619.5},8.0000000000000002E-3,{"$f":"B63-$H$2*'Hb reference spectrum'!C63","v":3.9046054171148039E-3},{"$f":"SUMPRODUCT(C49:C77,{126;99;74;51;30;11;-6;-21;-34;-45;-54;-61;-66;-69;-70;-69;-66;-61;-54;-45;-34;-21;-6;11;30;51;74;99;126})/56637","v":8.5961798380309369E-6},7.389430780776958E-11]
[{"$f":"'Hb reference spectrum'!A64","v":619},8.0000000000000002E-3,{"$f":"B64-$H$2*'Hb reference spectrum'!C64","v":3.9046054171148039E-3},{"$f":"SUMPRODUCT(C50:C78,{126;99;74;51;30;11;-6;-21;-34;-45;-54;-61;-66;-69;-70;-69;-66;-61;-54;-45;-34;-21;-6;11;30;51;74;99;126})/56637","v":7.3910949808376278E-6},5.4628285015763175E-11]
[{"$f":"'Hb reference spectrum'!A65","v":618.5},8.0000000000000002E-3,{"$f":"B65-$H$2*'Hb reference spectrum'!C65","v":3.9046054171148039E-3},{"$f":"SUMPRODUCT(C51:C79,{126;99;74;51;30;11;-6;-21;-34;-45;-54;-61;-66;-69;-70;-69;-66;-61;-54;-45;-34;-21;-6;11;30;51;74;99;126})/56637","v":5.2555483579127406E-6},2.7620788542359302E-11]
[{"$f":"'Hb reference spectrum'!A66","v":618},8.0000000000000002E-3,{"$f":"B66-$H$2*'Hb reference spectrum'!C66","v":3.9046054171148039E-3},{"$f":"SUMPRODUCT(C52:C80,{126;99;74;51;30;11;-6;-21;-34;-45;-54;-61;-66;-69;-70;-69;-66;-61;-54;-45;-34;-21;-6;11;30;51;74;99;126})/56637","v":3.2043179618789583E-6},{"$f":"D66^2","v":1.026765360082012E-11}]
[{"$f":"'Hb reference spectrum'!A67","v":617.5},8.0000000000000002E-3,{"$f":"B67-$H$2*'Hb reference spectrum'!C67","v":3.9046054171148039E-3},{"$f":"SUMPRODUCT(C53:C81,{126;99;74;51;30;11;-6;-21;-34;-45;-54;-61;-66;-69;-70;-69;-66;-61;-54;-45;-34;-21;-6;11;30;51;74;99;126})/56637","v":1.2332748383307836E-6},1.5209668268598204E-12]
[{"$f":"'Hb reference spectrum'!A68","v":617},8.0000000000000002E-3,{"$f":"B68-$H$2*'Hb reference spectrum'!C68","v":3.9046054171148039E-3},{"$f":"SUMPRODUCT(C54:C82,{126;99;74;51;30;11;-6;-21;-34;-45;-54;-61;-66;-69;-70;-69;-66;-61;-54;-45;-34;-21;-6;11;30;51;74;99;126})/56637","v":-1.4899827111731564E-6},2.2200484795949095E-12]
[{"$f":"'Hb reference spectrum'!A69","v":616.5},8.0000000000000002E-3,{"$f":"B69-$H$2*'Hb reference spectrum'!C69","v":3.9046054171148039E-3},{"$f":"SUMPRODUCT(C55:C83,{126;99;74;51;30;11;-6;-21;-34;-45;-54;-61;-66;-69;-70;-69;-66;-61;-54;-45;-34;-21;-6;11;30;51;74;99;126})/56637","v":-3.963823880423388E-6},1.5711899755014724E-11]
[{"$f":"'Hb reference spectrum'!A70","v":616},8.9999999999999993E-3,{"$f":"B70-$H$2*'Hb reference spectrum'!C70","v":4.904605417114803E-3},{"$f":"SUMPRODUCT(C56:C84,{126;99;74;51;30;11;-6;-21;-34;-45;-54;-61;-66;-69;-70;-69;-66;-61;-54;-45;-34;-21;-6;11;30;51;74;99;126})/56637","v":-3.9808307056780676E-6},1.5847013107269341E-11]
[{"$f":"'Hb reference spectrum'!A71","v":615.5},8.9999999999999993E-3,{"$f":"B71-$H$2*'Hb reference spectrum'!C71","v":4.904605417114803E-3},{"$f":"SUMPRODUCT(C57:C85,{126;99;74;51;30;11;-6;-21;-34;-45;-54;-61;-66;-69;-70;-69;-66;-61;-54;-45;-34;-21;-6;11;30;51;74;99;126})/56637","v":-4.2596935975795946E-6},1.8144989545260589E-11]
[{"$f":"'Hb reference spectrum'!A72","v":615},8.9999999999999993E-3,{"$f":"B72-$H$2*'Hb reference spectrum'!C72","v":4.904605417114803E-3},{"$f":"SUMPRODUCT(C58:C86,{126;99;74;51;30;11;-6;-21;-34;-45;-54;-61;-66;-69;-70;-69;-66;-61;-54;-45;-34;-21;-6;11;30;51;74;99;126})/56637","v":-4.7823760921124219E-6},2.2871121086408481E-11]
[{"$f":"'Hb reference spectrum'!A73","v":614.5},8.9999999999999993E-3,{"$f":"B73-$H$2*'Hb reference spectrum'!C73","v":4.904605417114803E-3},{"$f":"SUMPRODUCT(C59:C87,{126;99;74;51;30;11;-6;-21;-34;-45;-54;-61;-66;-69;-70;-69;-66;-61;-54;-45;-34;-21;-6;11;30;51;74;99;126})/56637","v":-4.5119347782328245E-6},2.0357555443026887E-11]
[{"$f":"'Hb reference spectrum'!A74","v":614},8.9999999999999993E-3,{"$f":"B74-$H$2*'Hb reference spectrum'!C74","v":4.904605417114803E-3},{"$f":"SUMPRODUCT(C60:C88,{126;99;74;51;30;11;-6;-21;-34;-45;-54;-61;-66;-69;-70;-69;-66;-61;-54;-45;-34;-21;-6;11;30;51;74;99;126})/56637","v":-4.2454587495478478E-6},1.8023919994112375E-11]
[{"$f":"'Hb reference spectrum'!A75","v":613.5},8.9999999999999993E-3,{"$f":"B75-$H$2*'Hb reference spectrum'!C75","v":4.904605417114803E-3},{"$f":"SUMPRODUCT(C61:C89,{126;99;74;51;30;11;-6;-21;-34;-45;-54;-61;-66;-69;-70;-69;-66;-61;-54;-45;-34;-21;-6;11;30;51;74;99;126})/56637","v":-3.9517643556287038E-6},1.5616441522417545E-11]
[{"$f":"'Hb reference spectrum'!A76","v":613},8.9999999999999993E-3,{"$f":"B76-$H$2*'Hb reference spectrum'!C76","v":4.904605417114803E-3},{"$f":"SUMPRODUCT(C62:C90,{126;99;74;51;30;11;-6;-21;-34;-45;-54;-61;-66;-69;-70;-69;-66;-61;-54;-45;-34;-21;-6;11;30;51;74;99;126})/56637","v":-4.4279406900824345E-6},1.9606658754887706E-11]
[{"$f":"'Hb reference spectrum'!A77","v":612.5},8.9999999999999993E-3,{"$f":"B77-$H$2*'Hb reference spectrum'!C77","v":4.904605417114803E-3},{"$f":"SUMPRODUCT(C63:C91,{126;99;74;51;30;11;-6;-21;-34;-45;-54;-61;-66;-69;-70;-69;-66;-61;-54;-45;-34;-21;-6;11;30;51;74;99;126})/56637","v":-5.4653170859011423E-6},2.9869690849442955E-11]
[{"$f":"'Hb reference spectrum'!A78","v":612},8.9999999999999993E-3,{"$f":"B78-$H$2*'Hb reference spectrum'!C78","v":4.532296818670698E-3},{"$f":"SUMPRODUCT(C64:C92,{126;99;74;51;30;11;-6;-21;-34;-45;-54;-61;-66;-69;-70;-69;-66;-61;-54;-45;-34;-21;-6;11;30;51;74;99;126})/56637","v":-3.8154032138937574E-6},1.4557301684590813E-11]
[{"$f":"'Hb reference spectrum'!A79","v":611.5},8.9999999999999993E-3,{"$f":"B79-$H$2*'Hb reference spectrum'!C79","v":4.1599882202265938E-3},{"$f":"SUMPRODUCT(C65:C93,{126;99;74;51;30;11;-6;-21;-34;-45;-54;-61;-66;-69;-70;-69;-66;-61;-54;-45;-34;-21;-6;11;30;51;74;99;126})/56637","v":-3.0029968103174654E-6},9.017989842776871E-12]
[{"$f":"'Hb reference spectrum'!A80","v":611},8.9999999999999993E-3,{"$f":"B80-$H$2*'Hb reference spectrum'!C80","v":4.1599882202265938E-3},{"$f":"SUMPRODUCT(C66:C94,{126;99;74;51;30;11;-6;-21;-34;-45;-54;-61;-66;-69;-70;-69;-66;-61;-54;-45;-34;-21;-6;11;30;51;74;99;126})/56637","v":-1.9821362321207905E-6},3.9288640426860042E-12]
[{"$f":"'Hb reference spectrum'!A81","v":610.5},8.9999999999999993E-3,{"$f":"B81-$H$2*'Hb reference spectrum'!C81","v":4.1599882202265938E-3},{"$f":"SUMPRODUCT(C67:C95,{126;99;74;51;30;11;-6;-21;-34;-45;-54;-61;-66;-69;-70;-69;-66;-61;-54;-45;-34;-21;-6;11;30;51;74;99;126})/56637","v":-7.2576678328041703E-7},5.2673742371320379E-13]
[{"$f":"'Hb reference spectrum'!A82","v":610},8.9999999999999993E-3,{"$f":"B82-$H$2*'Hb reference spectrum'!C82","v":3.7876796217824783E-3},{"$f":"SUMPRODUCT(C68:C96,{126;99;74;51;30;11;-6;-21;-34;-45;-54;-61;-66;-69;-70;-69;-66;-61;-54;-45;-34;-21;-6;11;30;51;74;99;126})/56637","v":7.9316623222693071E-7},6.2911267194506535E-13]
[{"$f":"'Hb reference spectrum'!A83","v":609.5},8.9999999999999993E-3,{"$f":"B83-$H$2*'Hb reference spectrum'!C83","v":3.7876796217824783E-3},{"$f":"SUMPRODUCT(C69:C97,{126;99;74;51;30;11;-6;-21;-34;-45;-54;-61;-66;-69;-70;-69;-66;-61;-54;-45;-34;-21;-6;11;30;51;74;99;126})/56637","v":3.9981388709493194E-6},1.59851144313959E-11]
[{"$f":"'Hb reference spectrum'!A84","v":609},0.01,{"$f":"B84-$H$2*'Hb reference spectrum'!C84","v":4.7876796217824792E-3},{"$f":"SUMPRODUCT(C70:C98,{126;99;74;51;30;11;-6;-21;-34;-45;-54;-61;-66;-69;-70;-69;-66;-61;-54;-45;-34;-21;-6;11;30;51;74;99;126})/56637","v":6.3922785756655507E-6},4.0861225388912799E-11]
[{"$f":"'Hb reference spectrum'!A85","v":608.5},0.01,{"$f":"B85-$H$2*'Hb reference spectrum'!C85","v":4.7876796217824792E-3},{"$f":"SUMPRODUCT(C71:C99,{126;99;74;51;30;11;-6;-21;-34;-45;-54;-61;-66;-69;-70;-69;-66;-61;-54;-45;-34;-21;-6;11;30;51;74;99;126})/56637","v":5.4655656027410744E-6},2.9872407357866402E-11]
[{"$f":"'Hb reference spectrum'!A86","v":608},0.01,{"$f":"B86-$H$2*'Hb reference spectrum'!C86","v":4.7876796217824792E-3},{"$f":"SUMPRODUCT(C72:C100,{126;99;74;51;30;11;-6;-21;-34;-45;-54;-61;-66;-69;-70;-69;-66;-61;-54;-45;-34;-21;-6;11;30;51;74;99;126})/56637","v":4.4492141405482562E-6},1.9795506468454559E-11]
[{"$f":"'Hb reference spectrum'!A87","v":607.5},0.01,{"$f":"B87-$H$2*'Hb reference spectrum'!C87","v":4.7876796217824792E-3},{"$f":"SUMPRODUCT(C73:C101,{126;99;74;51;30;11;-6;-21;-34;-45;-54;-61;-66;-69;-70;-69;-66;-61;-54;-45;-34;-21;-6;11;30;51;74;99;126})/56637","v":4.7272586863953525E-6},2.2346974688100313E-11]
[{"$f":"'Hb reference spectrum'!A88","v":607},0.01,{"$f":"B88-$H$2*'Hb reference spectrum'!C88","v":4.7876796217824792E-3},{"$f":"SUMPRODUCT(C74:C102,{126;99;74;51;30;11;-6;-21;-34;-45;-54;-61;-66;-69;-70;-69;-66;-61;-54;-45;-34;-21;-6;11;30;51;74;99;126})/56637","v":3.7633851238213579E-6},1.4163067590199896E-11]
[{"$f":"'Hb reference spectrum'!A89","v":606.5},0.01,{"$f":"B89-$H$2*'Hb reference spectrum'!C89","v":4.7876796217824792E-3},{"$f":"SUMPRODUCT(C75:C103,{126;99;74;51;30;11;-6;-21;-34;-45;-54;-61;-66;-69;-70;-69;-66;-61;-54;-45;-34;-21;-6;11;30;51;74;99;126})/56637","v":1.7448590246098506E-6},3.0445330157624394E-12]
[{"$f":"'Hb reference spectrum'!A90","v":606},0.01,{"$f":"B90-$H$2*'Hb reference spectrum'!C90","v":4.4153710233383742E-3},{"$f":"SUMPRODUCT(C76:C104,{126;99;74;51;30;11;-6;-21;-34;-45;-54;-61;-66;-69;-70;-69;-66;-61;-54;-45;-34;-21;-6;11;30;51;74;99;126})/56637","v":1.0704928786918279E-6},1.1459550033299166E-12]
[{"$f":"'Hb reference spectrum'!A91","v":605.5},0.01,{"$f":"B91-$H$2*'Hb reference spectrum'!C91","v":4.0430624248942691E-3},{"$f":"SUMPRODUCT(C77:C105,{126;99;74;51;30;11;-6;-21;-34;-45;-54;-61;-66;-69;-70;-69;-66;-61;-54;-45;-34;-21;-6;11;30;51;74;99;126})/56637","v":-8.0015638479922455E-7},6.4025024013496472E-13]
[{"$f":"'Hb reference spectrum'!A92","v":605},1.0999999999999999E-2,{"$f":"B92-$H$2*'Hb reference spectrum'!C92","v":5.0430624248942683E-3},{"$f":"SUMPRODUCT(C78:C106,{126;99;74;51;30;11;-6;-21;-34;-45;-54;-61;-66;-69;-70;-69;-66;-61;-54;-45;-34;-21;-6;11;30;51;74;99;126})/56637","v":-1.4592580439246249E-6},2.1294340387587226E-12]
[{"$f":"'Hb reference spectrum'!A93","v":604.5},1.0999999999999999E-2,{"$f":"B93-$H$2*'Hb reference spectrum'!C93","v":4.6707538264501528E-3},{"$f":"SUMPRODUCT(C79:C107,{126;99;74;51;30;11;-6;-21;-34;-45;-54;-61;-66;-69;-70;-69;-66;-61;-54;-45;-34;-21;-6;11;30;51;74;99;126})/56637","v":-2.4193299905148923E-6},5.8531576030047884E-12]
[{"$f":"'Hb reference spectrum'!A94","v":604},1.0999999999999999E-2,{"$f":"B94-$H$2*'Hb reference spectrum'!C94","v":4.6707538264501528E-3},{"$f":"SUMPRODUCT(C80:C108,{126;99;74;51;30;11;-6;-21;-34;-45;-54;-61;-66;-69;-70;-69;-66;-61;-54;-45;-34;-21;-6;11;30;51;74;99;126})/56637","v":-1.888014625253759E-6},3.5645992251720919E-12]
[{"$f":"'Hb reference spectrum'!A95","v":603.5},1.0999999999999999E-2,{"$f":"B95-$H$2*'Hb reference spectrum'!C95","v":4.6707538264501528E-3},{"$f":"SUMPRODUCT(C81:C109,{126;99;74;51;30;11;-6;-21;-34;-45;-54;-61;-66;-69;-70;-69;-66;-61;-54;-45;-34;-21;-6;11;30;51;74;99;126})/56637","v":-2.1839371655865483E-6},4.7695815432302061E-12]
[{"$f":"'Hb reference spectrum'!A96","v":603},1.0999999999999999E-2,{"$f":"B96-$H$2*'Hb reference spectrum'!C96","v":4.6707538264501528E-3},{"$f":"SUMPRODUCT(C82:C110,{126;99;74;51;30;11;-6;-21;-34;-45;-54;-61;-66;-69;-70;-69;-66;-61;-54;-45;-34;-21;-6;11;30;51;74;99;126})/56637","v":-2.52462872721743E-6},6.3737502102915006E-12]
[{"$f":"'Hb reference spectrum'!A97","v":602.5},1.2E-2,{"$f":"B97-$H$2*'Hb reference spectrum'!C97","v":5.2984452280060487E-3},{"$f":"SUMPRODUCT(C83:C111,{126;99;74;51;30;11;-6;-21;-34;-45;-54;-61;-66;-69;-70;-69;-66;-61;-54;-45;-34;-21;-6;11;30;51;74;99;126})/56637","v":-1.5520992575755582E-7},2.4090121053665988E-14]
[{"$f":"'Hb reference spectrum'!A98","v":602},1.2E-2,{"$f":"B98-$H$2*'Hb reference spectrum'!C98","v":4.9261366295619445E-3},{"$f":"SUMPRODUCT(C84:C112,{126;99;74;51;30;11;-6;-21;-34;-45;-54;-61;-66;-69;-70;-69;-66;-61;-54;-45;-34;-21;-6;11;30;51;74;99;126})/56637","v":7.7655079429898635E-7},6.0303113612638658E-13]
[{"$f":"'Hb reference spectrum'!A99","v":601.5},1.2E-2,{"$f":"B99-$H$2*'Hb reference spectrum'!C99","v":4.5538280311178281E-3},{"$f":"SUMPRODUCT(C85:C113,{126;99;74;51;30;11;-6;-21;-34;-45;-54;-61;-66;-69;-70;-69;-66;-61;-54;-45;-34;-21;-6;11;30;51;74;99;126})/56637","v":-6.5980833277931093E-7},4.3534703600501394E-13]
[{"$f":"'Hb reference spectrum'!A100","v":601},1.2E-2,{"$f":"B100-$H$2*'Hb reference spectrum'!C100","v":4.5538280311178281E-3},{"$f":"SUMPRODUCT(C86:C114,{126;99;74;51;30;11;-6;-21;-34;-45;-54;-61;-66;-69;-70;-69;-66;-61;-54;-45;-34;-21;-6;11;30;51;74;99;126})/56637","v":-5.3404409230322875E-7},2.852030925239795E-13]
[{"$f":"'Hb reference spectrum'!A101","v":600.5},1.2999999999999999E-2,{"$f":"B101-$H$2*'Hb reference spectrum'!C101","v":5.1815194326737223E-3},{"$f":"SUMPRODUCT(C87:C115,{126;99;74;51;30;11;-6;-21;-34;-45;-54;-61;-66;-69;-70;-69;-66;-61;-54;-45;-34;-21;-6;11;30;51;74;99;126})/56637","v":-8.1280133785145674E-7},6.6064601481311793E-13]
[{"$f":"'Hb reference spectrum'!A102","v":600},1.2999999999999999E-2,{"$f":"B102-$H$2*'Hb reference spectrum'!C102","v":4.8092108342296189E-3},{"$f":"SUMPRODUCT(C88:C116,{126;99;74;51;30;11;-6;-21;-34;-45;-54;-61;-66;-69;-70;-69;-66;-61;-54;-45;-34;-21;-6;11;30;51;74;99;126})/56637","v":-1.4290399833516384E-6},2.0421552740176511E-12]
[{"$f":"'Hb reference spectrum'!A103","v":599.5},1.2999999999999999E-2,{"$f":"B103-$H$2*'Hb reference spectrum'!C103","v":4.4369022357855035E-3},{"$f":"SUMPRODUCT(C89:C117,{126;99;74;51;30;11;-6;-21;-34;-45;-54;-61;-66;-69;-70;-69;-66;-61;-54;-45;-34;-21;-6;11;30;51;74;99;126})/56637","v":-2.319848897136961E-6},5.3816989055475742E-12]
[{"$f":"'Hb reference spectrum'!A104","v":599},1.4E-2,{"$f":"B104-$H$2*'Hb reference spectrum'!C104","v":5.0645936373413976E-3},{"$f":"SUMPRODUCT(C90:C118,{126;99;74;51;30;11;-6;-21;-34;-45;-54;-61;-66;-69;-70;-69;-66;-61;-54;-45;-34;-21;-6;11;30;51;74;99;126})/56637","v":-4.2547186459820609E-6},1.8102630756467421E-11]
[{"$f":"'Hb reference spectrum'!A105","v":598.5},1.4E-2,{"$f":"B105-$H$2*'Hb reference spectrum'!C105","v":4.6922850388972943E-3},{"$f":"SUMPRODUCT(C91:C119,{126;99;74;51;30;11;-6;-21;-34;-45;-54;-61;-66;-69;-70;-69;-66;-61;-54;-45;-34;-21;-6;11;30;51;74;99;126})/56637","v":-3.757907938862918E-6},1.4121872076968945E-11]
[{"$f":"'Hb reference spectrum'!A106","v":598},1.4999999999999999E-2,{"$f":"B106-$H$2*'Hb reference spectrum'!C106","v":5.3199764404531762E-3},{"$f":"SUMPRODUCT(C92:C120,{126;99;74;51;30;11;-6;-21;-34;-45;-54;-61;-66;-69;-70;-69;-66;-61;-54;-45;-34;-21;-6;11;30;51;74;99;126})/56637","v":-2.2839128135456422E-6},5.2162577398779715E-12]
[{"$f":"'Hb reference spectrum'!A107","v":597.5},1.4999999999999999E-2,{"$f":"B107-$H$2*'Hb reference spectrum'!C107","v":4.9476678420090729E-3},{"$f":"SUMPRODUCT(C93:C121,{126;99;74;51;30;11;-6;-21;-34;-45;-54;-61;-66;-69;-70;-69;-66;-61;-54;-45;-34;-21;-6;11;30;51;74;99;126})/56637","v":-2.7478763533559572E-6},7.5508244533328335E-12]
[{"$f":"'Hb reference spectrum'!A108","v":597},1.6E-2,{"$f":"B108-$H$2*'Hb reference spectrum'!C108","v":5.2030506451208516E-3},{"$f":"SUMPRODUCT(C94:C122,{126;99;74;51;30;11;-6;-21;-34;-45;-54;-61;-66;-69;-70;-69;-66;-61;-54;-45;-34;-21;-6;11;30;51;74;99;126})/56637","v":-3.3820986396951113E-6},1.1438591208627522E-11]
[{"$f":"'Hb reference spectrum'!A109","v":596.5},1.6E-2,{"$f":"B109-$H$2*'Hb reference spectrum'!C109","v":4.8307420466767483E-3},{"$f":"SUMPRODUCT(C95:C123,{126;99;74;51;30;11;-6;-21;-34;-45;-54;-61;-66;-69;-70;-69;-66;-61;-54;-45;-34;-21;-6;11;30;51;74;99;126})/56637","v":-4.2089139598761539E-6},1.7714956721640368E-11]
[{"$f":"'Hb reference spectrum'!A110","v":596},1.7000000000000001E-2,{"$f":"B110-$H$2*'Hb reference spectrum'!C110","v":4.7138162513444236E-3},{"$f":"SUMPRODUCT(C96:C124,{126;99;74;51;30;11;-6;-21;-34;-45;-54;-61;-66;-69;-70;-69;-66;-61;-54;-45;-34;-21;-6;11;30;51;74;99;126})/56637","v":-5.1295547465887073E-6},2.6312331898250739E-11]
[{"$f":"'Hb reference spectrum'!A111","v":595.5},1.7999999999999999E-2,{"$f":"B111-$H$2*'Hb reference spectrum'!C111","v":5.3415076529003507E-3},{"$f":"SUMPRODUCT(C97:C125,{126;99;74;51;30;11;-6;-21;-34;-45;-54;-61;-66;-69;-70;-69;-66;-61;-54;-45;-34;-21;-6;11;30;51;74;99;126})/56637","v":-5.2252385972976632E-6},2.7303118398689251E-11]
[{"$f":"'Hb reference spectrum'!A112","v":595},1.7999999999999999E-2,{"$f":"B112-$H$2*'Hb reference spectrum'!C112","v":4.5968904560120954E-3},{"$f":"SUMPRODUCT(C98:C126,{126;99;74;51;30;11;-6;-21;-34;-45;-54;-61;-66;-69;-70;-69;-66;-61;-54;-45;-34;-21;-6;11;30;51;74;99;126})/56637","v":-5.7408720900343223E-6},3.2957612354135052E-11]
[{"$f":"'Hb reference spectrum'!A113","v":594.5},1.9E-2,{"$f":"B113-$H$2*'Hb reference spectrum'!C113","v":4.4799646606797725E-3},{"$f":"SUMPRODUCT(C99:C127,{126;99;74;51;30;11;-6;-21;-34;-45;-54;-61;-66;-69;-70;-69;-66;-61;-54;-45;-34;-21;-6;11;30;51;74;99;126})/56637","v":-5.8918058175848393E-6},3.4713375792126558E-11]
[{"$f":"'Hb reference spectrum'!A114","v":594},0.02,{"$f":"B114-$H$2*'Hb reference spectrum'!C114","v":5.1076560622357013E-3},{"$f":"SUMPRODUCT(C100:C128,{126;99;74;51;30;11;-6;-21;-34;-45;-54;-61;-66;-69;-70;-69;-66;-61;-54;-45;-34;-21;-6;11;30;51;74;99;126})/56637","v":-4.8272266555751412E-6},2.3302117184295162E-11]
[{"$f":"'Hb reference spectrum'!A115","v":593.5},2.1000000000000001E-2,{"$f":"B115-$H$2*'Hb reference spectrum'!C115","v":4.9907302669033732E-3},{"$f":"SUMPRODUCT(C101:C129,{126;99;74;51;30;11;-6;-21;-34;-45;-54;-61;-66;-69;-70;-69;-66;-61;-54;-45;-34;-21;-6;11;30;51;74;99;126})/56637","v":-4.7966552581752912E-6},2.3007901665780669E-11]
[{"$f":"'Hb reference spectrum'!A116","v":593},2.1999999999999999E-2,{"$f":"B116-$H$2*'Hb reference spectrum'!C116","v":4.8738044715710485E-3},{"$f":"SUMPRODUCT(C102:C130,{126;99;74;51;30;11;-6;-21;-34;-45;-54;-61;-66;-69;-70;-69;-66;-61;-54;-45;-34;-21;-6;11;30;51;74;99;126})/56637","v":-5.8463232702194258E-6},3.4179495779909158E-11]
[{"$f":"'Hb reference spectrum'!A117","v":592.5},2.3E-2,{"$f":"B117-$H$2*'Hb reference spectrum'!C117","v":4.7568786762387238E-3},{"$f":"SUMPRODUCT(C103:C131,{126;99;74;51;30;11;-6;-21;-34;-45;-54;-61;-66;-69;-70;-69;-66;-61;-54;-45;-34;-21;-6;11;30;51;74;99;126})/56637","v":-4.2321177636878787E-6},1.791082076572249E-11]
[{"$f":"'Hb reference spectrum'!A118","v":592},2.4E-2,{"$f":"B118-$H$2*'Hb reference spectrum'!C118","v":4.2676442824622178E-3},{"$f":"SUMPRODUCT(C104:C132,{126;99;74;51;30;11;-6;-21;-34;-45;-54;-61;-66;-69;-70;-69;-66;-61;-54;-45;-34;-21;-6;11;30;51;74;99;126})/56637","v":-2.3410610192809185E-6},5.4805666959966131E-12]
[{"$f":"'Hb reference spectrum'!A119","v":591.5},2.5999999999999999E-2,{"$f":"B119-$H$2*'Hb reference spectrum'!C119","v":4.7784098886858202E-3},{"$f":"SUMPRODUCT(C105:C133,{126;99;74;51;30;11;-6;-21;-34;-45;-54;-61;-66;-69;-70;-69;-66;-61;-54;-45;-34;-21;-6;11;30;51;74;99;126})/56637","v":-3.3876877385379315E-6},1.1476428213840245E-11]
[{"$f":"'Hb reference spectrum'!A120","v":591},2.7E-2,{"$f":"B120-$H$2*'Hb reference spectrum'!C120","v":4.6614840933534955E-3},{"$f":"SUMPRODUCT(C106:C134,{126;99;74;51;30;11;-6;-21;-34;-45;-54;-61;-66;-69;-70;-69;-66;-61;-54;-45;-34;-21;-6;11;30;51;74;99;126})/56637","v":-1.6009373162060317E-6},2.5630002904209715E-12]
[{"$f":"'Hb reference spectrum'!A121","v":590.5},2.9000000000000001E-2,{"$f":"B121-$H$2*'Hb reference spectrum'!C121","v":4.7999411011329166E-3},{"$f":"SUMPRODUCT(C107:C135,{126;99;74;51;30;11;-6;-21;-34;-45;-54;-61;-66;-69;-70;-69;-66;-61;-54;-45;-34;-21;-6;11;30;51;74;99;126})/56637","v":-1.5472765079775571E-6},2.3940645921392233E-12]
[{"$f":"'Hb reference spectrum'!A122","v":590},0.03,{"$f":"B122-$H$2*'Hb reference spectrum'!C122","v":4.3107067073565146E-3},{"$f":"SUMPRODUCT(C108:C136,{126;99;74;51;30;11;-6;-21;-34;-45;-54;-61;-66;-69;-70;-69;-66;-61;-54;-45;-34;-21;-6;11;30;51;74;99;126})/56637","v":8.3707424217206823E-7},7.0069328690794234E-13]
[{"$f":"'Hb reference spectrum'!A123","v":589.5},3.2000000000000001E-2,{"$f":"B123-$H$2*'Hb reference spectrum'!C123","v":4.0768551166918687E-3},{"$f":"SUMPRODUCT(C109:C137,{126;99;74;51;30;11;-6;-21;-34;-45;-54;-61;-66;-69;-70;-69;-66;-61;-54;-45;-34;-21;-6;11;30;51;74;99;126})/56637","v":2.843366748015985E-6},8.084734463722998E-12]
[{"$f":"'Hb reference spectrum'!A124","v":589},3.4000000000000002E-2,{"$f":"B124-$H$2*'Hb reference spectrum'!C124","v":3.8430035260272194E-3},{"$f":"SUMPRODUCT(C110:C138,{126;99;74;51;30;11;-6;-21;-34;-45;-54;-61;-66;-69;-70;-69;-66;-61;-54;-45;-34;-21;-6;11;30;51;74;99;126})/56637","v":2.843794533109984E-6},8.0871673465462312E-12]
[{"$f":"'Hb reference spectrum'!A125","v":588.5},3.5999999999999997E-2,{"$f":"B125-$H$2*'Hb reference spectrum'!C125","v":3.98146053380663E-3},{"$f":"SUMPRODUCT(C111:C139,{126;99;74;51;30;11;-6;-21;-34;-45;-54;-61;-66;-69;-70;-69;-66;-61;-54;-45;-34;-21;-6;11;30;51;74;99;126})/56637","v":4.7265561445724748E-6},2.2340332987795818E-11]
[{"$f":"'Hb reference spectrum'!A126","v":588},3.9E-2,{"$f":"B126-$H$2*'Hb reference spectrum'!C126","v":4.3753003446979147E-3},{"$f":"SUMPRODUCT(C112:C140,{126;99;74;51;30;11;-6;-21;-34;-45;-54;-61;-66;-69;-70;-69;-66;-61;-54;-45;-34;-21;-6;11;30;51;74;99;126})/56637","v":5.3344260352274434E-6},2.8456101125312382E-11]
[{"$f":"'Hb reference spectrum'!A127","v":587.5},4.1000000000000002E-2,{"$f":"B127-$H$2*'Hb reference spectrum'!C127","v":4.1414487540332723E-3},{"$f":"SUMPRODUCT(C113:C141,{126;99;74;51;30;11;-6;-21;-34;-45;-54;-61;-66;-69;-70;-69;-66;-61;-54;-45;-34;-21;-6;11;30;51;74;99;126})/56637","v":7.3607294349794186E-6},5.418033781497243E-11]
[{"$f":"'Hb reference spectrum'!A128","v":587},4.3999999999999997E-2,{"$f":"B128-$H$2*'Hb reference spectrum'!C128","v":4.1629799664803582E-3},{"$f":"SUMPRODUCT(C114:C142,{126;99;74;51;30;11;-6;-21;-34;-45;-54;-61;-66;-69;-70;-69;-66;-61;-54;-45;-34;-21;-6;11;30;51;74;99;126})/56637","v":1.0282245218167516E-5},1.0572456672652874E-10]
[{"$f":"'Hb reference spectrum'!A129","v":586.5},4.5999999999999999E-2,{"$f":"B129-$H$2*'Hb reference spectrum'!C129","v":3.556819777371642E-3},{"$f":"SUMPRODUCT(C115:C143,{126;99;74;51;30;11;-6;-21;-34;-45;-54;-61;-66;-69;-70;-69;-66;-61;-54;-45;-34;-21;-6;11;30;51;74;99;126})/56637","v":1.1105216498550224E-5},1.2332583347967208E-10]
[{"$f":"'Hb reference spectrum'!A130","v":586},4.9000000000000002E-2,{"$f":"B130-$H$2*'Hb reference spectrum'!C130","v":3.5783509898187349E-3},{"$f":"SUMPRODUCT(C116:C144,{126;99;74;51;30;11;-6;-21;-34;-45;-54;-61;-66;-69;-70;-69;-66;-61;-54;-45;-34;-21;-6;11;30;51;74;99;126})/56637","v":1.0959599007329642E-5},{"$f":"D130^2","v":1.2011281040146088E-10}]
[{"$f":"'Hb reference spectrum'!A131","v":585.5},5.2999999999999999E-2,{"$f":"B131-$H$2*'Hb reference spectrum'!C131","v":4.2275736038217548E-3},{"$f":"SUMPRODUCT(C117:C145,{126;99;74;51;30;11;-6;-21;-34;-45;-54;-61;-66;-69;-70;-69;-66;-61;-54;-45;-34;-21;-6;11;30;51;74;99;126})/56637","v":1.1670132501903633E-5},1.3619199261198754E-10]
[{"$f":"'Hb reference spectrum'!A132","v":585},5.6000000000000001E-2,{"$f":"B132-$H$2*'Hb reference spectrum'!C132","v":3.8767962178247878E-3},{"$f":"SUMPRODUCT(C118:C146,{126;99;74;51;30;11;-6;-21;-34;-45;-54;-61;-66;-69;-70;-69;-66;-61;-54;-45;-34;-21;-6;11;30;51;74;99;126})/56637","v":1.3874181008070503E-5},1.9249289864470424E-10]
[{"$f":"'Hb reference spectrum'!A133","v":584.5},5.8999999999999997E-2,{"$f":"B133-$H$2*'Hb reference spectrum'!C133","v":3.153710233383733E-3},{"$f":"SUMPRODUCT(C119:C147,{126;99;74;51;30;11;-6;-21;-34;-45;-54;-61;-66;-69;-70;-69;-66;-61;-54;-45;-34;-21;-6;11;30;51;74;99;126})/56637","v":1.601972705190237E-5},2.5663165481745261E-10]
[{"$f":"'Hb reference spectrum'!A134","v":584},6.3E-2,{"$f":"B134-$H$2*'Hb reference spectrum'!C134","v":3.8029328473867599E-3},{"$f":"SUMPRODUCT(C120:C148,{126;99;74;51;30;11;-6;-21;-34;-45;-54;-61;-66;-69;-70;-69;-66;-61;-54;-45;-34;-21;-6;11;30;51;74;99;126})/56637","v":1.5739627601848444E-5},2.4773587704486941E-10]
[{"$f":"'Hb reference spectrum'!A135","v":583.5},6.7000000000000004E-2,{"$f":"B135-$H$2*'Hb reference spectrum'!C135","v":3.7075382645015281E-3},{"$f":"SUMPRODUCT(C121:C149,{126;99;74;51;30;11;-6;-21;-34;-45;-54;-61;-66;-69;-70;-69;-66;-61;-54;-45;-34;-21;-6;11;30;51;74;99;126})/56637","v":1.7071906472234981E-5},2.9144999059673866E-10]
[{"$f":"'Hb reference spectrum'!A136","v":583},7.0999999999999994E-2,{"$f":"B136-$H$2*'Hb reference spectrum'!C136","v":4.3567608785045481E-3},{"$f":"SUMPRODUCT(C122:C150,{126;99;74;51;30;11;-6;-21;-34;-45;-54;-61;-66;-69;-70;-69;-66;-61;-54;-45;-34;-21;-6;11;30;51;74;99;126})/56637","v":1.6717279749856604E-5},2.794674422349657E-10]
[{"$f":"'Hb reference spectrum'!A137","v":582.5},7.4999999999999997E-2,{"$f":"B137-$H$2*'Hb reference spectrum'!C137","v":4.6336748940635081E-3},{"$f":"SUMPRODUCT(C123:C151,{126;99;74;51;30;11;-6;-21;-34;-45;-54;-61;-66;-69;-70;-69;-66;-61;-54;-45;-34;-21;-6;11;30;51;74;99;126})/56637","v":1.8050815150753644E-5},3.258319276066773E-10]
[{"$f":"'Hb reference spectrum'!A138","v":582},7.8E-2,{"$f":"B138-$H$2*'Hb reference spectrum'!C138","v":3.5382803111782823E-3},{"$f":"SUMPRODUCT(C124:C152,{126;99;74;51;30;11;-6;-21;-34;-45;-54;-61;-66;-69;-70;-69;-66;-61;-54;-45;-34;-21;-6;11;30;51;74;99;126})/56637","v":1.7305035820832609E-5},2.9946426476029975E-10]
[{"$f":"'Hb reference spectrum'!A139","v":581.5},8.2000000000000003E-2,{"$f":"B139-$H$2*'Hb reference spectrum'!C139","v":4.1875029251813023E-3},{"$f":"SUMPRODUCT(C125:C153,{126;99;74;51;30;11;-6;-21;-34;-45;-54;-61;-66;-69;-70;-69;-66;-61;-54;-45;-34;-21;-6;11;30;51;74;99;126})/56637","v":1.6678885322636973E-5},2.7818521560567507E-10]
[{"$f":"'Hb reference spectrum'!A140","v":581},8.5999999999999993E-2,{"$f":"B140-$H$2*'Hb reference spectrum'!C140","v":4.4644169407402484E-3},{"$f":"SUMPRODUCT(C126:C154,{126;99;74;51;30;11;-6;-21;-34;-45;-54;-61;-66;-69;-70;-69;-66;-61;-54;-45;-34;-21;-6;11;30;51;74;99;126})/56637","v":1.5326973240842109E-5},2.3491610872549008E-10]
[{"$f":"'Hb reference spectrum'!A141","v":580.5},8.8999999999999996E-2,{"$f":"B141-$H$2*'Hb reference spectrum'!C141","v":4.4859481531873413E-3},{"$f":"SUMPRODUCT(C127:C155,{126;99;74;51;30;11;-6;-21;-34;-45;-54;-61;-66;-69;-70;-69;-66;-61;-54;-45;-34;-21;-6;11;30;51;74;99;126})/56637","v":1.5017326832468094E-5},2.2552010519316621E-10]
[{"$f":"'Hb reference spectrum'!A142","v":580},9.1999999999999998E-2,{"$f":"B142-$H$2*'Hb reference spectrum'!C142","v":4.8797879640786329E-3},{"$f":"SUMPRODUCT(C128:C156,{126;99;74;51;30;11;-6;-21;-34;-45;-54;-61;-66;-69;-70;-69;-66;-61;-54;-45;-34;-21;-6;11;30;51;74;99;126})/56637","v":1.2067371724936556E-5},1.4562146034779827E-10]
[{"$f":"'Hb reference spectrum'!A143","v":579.5},9.5000000000000001E-2,{"$f":"B143-$H$2*'Hb reference spectrum'!C143","v":4.9013191765257258E-3},{"$f":"SUMPRODUCT(C129:C157,{126;99;74;51;30;11;-6;-21;-34;-45;-54;-61;-66;-69;-70;-69;-66;-61;-54;-45;-34;-21;-6;11;30;51;74;99;126})/56637","v":8.9545394107751334E-6},8.018377605912507E-11]
[{"$f":"'Hb reference spectrum'!A144","v":579},9.7000000000000003E-2,{"$f":"B144-$H$2*'Hb reference spectrum'!C144","v":4.6674675858610903E-3},{"$f":"SUMPRODUCT(C130:C158,{126;99;74;51;30;11;-6;-21;-34;-45;-54;-61;-66;-69;-70;-69;-66;-61;-54;-45;-34;-21;-6;11;30;51;74;99;126})/56637","v":8.789428031684244E-6},7.7254045124156767E-11]
[{"$f":"'Hb reference spectrum'!A145","v":578.5},9.9000000000000005E-2,{"$f":"B145-$H$2*'Hb reference spectrum'!C145","v":5.1782331920846719E-3},{"$f":"SUMPRODUCT(C131:C159,{126;99;74;51;30;11;-6;-21;-34;-45;-54;-61;-66;-69;-70;-69;-66;-61;-54;-45;-34;-21;-6;11;30;51;74;99;126})/56637","v":6.8494360874402252E-6},4.6914774715928458E-11]
[{"$f":"'Hb reference spectrum'!A146","v":578},0.10100000000000001,{"$f":"B146-$H$2*'Hb reference spectrum'!C146","v":6.0613073967523551E-3},{"$f":"SUMPRODUCT(C132:C160,{126;99;74;51;30;11;-6;-21;-34;-45;-54;-61;-66;-69;-70;-69;-66;-61;-54;-45;-34;-21;-6;11;30;51;74;99;126})/56637","v":3.4839460332599017E-6},1.2137879962667404E-11]
[{"$f":"'Hb reference spectrum'!A147","v":577.5},0.10199999999999999,{"$f":"B147-$H$2*'Hb reference spectrum'!C147","v":5.9443816014200235E-3},{"$f":"SUMPRODUCT(C133:C161,{126;99;74;51;30;11;-6;-21;-34;-45;-54;-61;-66;-69;-70;-69;-66;-61;-54;-45;-34;-21;-6;11;30;51;74;99;126})/56637","v":1.1230068326796634E-6},1.2611443462452094E-12]
[{"$f":"'Hb reference spectrum'!A148","v":577},0.10299999999999999,{"$f":"B148-$H$2*'Hb reference spectrum'!C148","v":5.8274558060877057E-3},{"$f":"SUMPRODUCT(C134:C162,{126;99;74;51;30;11;-6;-21;-34;-45;-54;-61;-66;-69;-70;-69;-66;-61;-54;-45;-34;-21;-6;11;30;51;74;99;126})/56637","v":1.8325231969510705E-7},3.3581412673637722E-14]
[{"$f":"'Hb reference spectrum'!A149","v":576.5},0.104,{"$f":"B149-$H$2*'Hb reference spectrum'!C149","v":6.8274558060877066E-3},{"$f":"SUMPRODUCT(C135:C163,{126;99;74;51;30;11;-6;-21;-34;-45;-54;-61;-66;-69;-70;-69;-66;-61;-54;-45;-34;-21;-6;11;30;51;74;99;126})/56637","v":-1.6347657743283783E-6},2.6724591369154624E-12]
[{"$f":"'Hb reference spectrum'!A150","v":576},0.104,{"$f":"B150-$H$2*'Hb reference spectrum'!C150","v":6.8274558060877066E-3},{"$f":"SUMPRODUCT(C136:C164,{126;99;74;51;30;11;-6;-21;-34;-45;-54;-61;-66;-69;-70;-69;-66;-61;-54;-45;-34;-21;-6;11;30;51;74;99;126})/56637","v":-3.4015624992436145E-6},1.1570627436260464E-11]
[{"$f":"'Hb reference spectrum'!A151","v":575.5},0.104,{"$f":"B151-$H$2*'Hb reference spectrum'!C151","v":7.5720730029759514E-3},{"$f":"SUMPRODUCT(C137:C165,{126;99;74;51;30;11;-6;-21;-34;-45;-54;-61;-66;-69;-70;-69;-66;-61;-54;-45;-34;-21;-6;11;30;51;74;99;126})/56637","v":-6.8646259863964007E-6},4.7123089933108755E-11]
[{"$f":"'Hb reference spectrum'!A152","v":575},0.10299999999999999,{"$f":"B152-$H$2*'Hb reference spectrum'!C152","v":6.9443816014200244E-3},{"$f":"SUMPRODUCT(C138:C166,{126;99;74;51;30;11;-6;-21;-34;-45;-54;-61;-66;-69;-70;-69;-66;-61;-54;-45;-34;-21;-6;11;30;51;74;99;126})/56637","v":-1.1952079695289047E-5},1.4285220904254074E-10]
[{"$f":"'Hb reference spectrum'!A153","v":574.5},0.10199999999999999,{"$f":"B153-$H$2*'Hb reference spectrum'!C153","v":7.0613073967523421E-3},{"$f":"SUMPRODUCT(C139:C167,{126;99;74;51;30;11;-6;-21;-34;-45;-54;-61;-66;-69;-70;-69;-66;-61;-54;-45;-34;-21;-6;11;30;51;74;99;126})/56637","v":-1.3845321335928893E-5},1.9169292289512782E-10]
[{"$f":"'Hb reference spectrum'!A154","v":574},0.10100000000000001,{"$f":"B154-$H$2*'Hb reference spectrum'!C154","v":7.1782331920846737E-3},{"$f":"SUMPRODUCT(C140:C168,{126;99;74;51;30;11;-6;-21;-34;-45;-54;-61;-66;-69;-70;-69;-66;-61;-54;-45;-34;-21;-6;11;30;51;74;99;126})/56637","v":-1.5141949863697352E-5},2.2927864567472427E-10]
[{"$f":"'Hb reference spectrum'!A155","v":573.5},0.1,{"$f":"B155-$H$2*'Hb reference spectrum'!C155","v":8.4120847827493239E-3},{"$f":"SUMPRODUCT(C141:C169,{126;99;74;51;30;11;-6;-21;-34;-45;-54;-61;-66;-69;-70;-69;-66;-61;-54;-45;-34;-21;-6;11;30;51;74;99;126})/56637","v":-1.7487581327304159E-5},3.0581550067907707E-10]
[{"$f":"'Hb reference spectrum'!A156","v":573},9.8000000000000004E-2,{"$f":"B156-$H$2*'Hb reference spectrum'!C156","v":7.5290105780816546E-3},{"$f":"SUMPRODUCT(C142:C170,{126;99;74;51;30;11;-6;-21;-34;-45;-54;-61;-66;-69;-70;-69;-66;-61;-54;-45;-34;-21;-6;11;30;51;74;99;126})/56637","v":-1.7723585578895306E-5},3.1412548577242568E-10]
[{"$f":"'Hb reference spectrum'!A157","v":572.5},9.6000000000000002E-2,{"$f":"B157-$H$2*'Hb reference spectrum'!C157","v":7.762862168746304E-3},{"$f":"SUMPRODUCT(C143:C171,{126;99;74;51;30;11;-6;-21;-34;-45;-54;-61;-66;-69;-70;-69;-66;-61;-54;-45;-34;-21;-6;11;30;51;74;99;126})/56637","v":-1.9223293195730388E-5},3.6953500128901422E-10]
[{"$f":"'Hb reference spectrum'!A158","v":572},9.5000000000000001E-2,{"$f":"B158-$H$2*'Hb reference spectrum'!C158","v":8.6244051609668804E-3},{"$f":"SUMPRODUCT(C144:C172,{126;99;74;51;30;11;-6;-21;-34;-45;-54;-61;-66;-69;-70;-69;-66;-61;-54;-45;-34;-21;-6;11;30;51;74;99;126})/56637","v":-1.9411650802447317E-5},3.7681218687615355E-10]
[{"$f":"'Hb reference spectrum'!A159","v":571.5},9.2999999999999999E-2,{"$f":"B159-$H$2*'Hb reference spectrum'!C159","v":8.1136395547432849E-3},{"$f":"SUMPRODUCT(C145:C173,{126;99;74;51;30;11;-6;-21;-34;-45;-54;-61;-66;-69;-70;-69;-66;-61;-54;-45;-34;-21;-6;11;30;51;74;99;126})/56637","v":-1.7557416083539867E-5},3.082628595305444E-10]
[{"$f":"'Hb reference spectrum'!A160","v":571},9.0999999999999998E-2,{"$f":"B160-$H$2*'Hb reference spectrum'!C160","v":8.3474911454079342E-3},{"$f":"SUMPRODUCT(C146:C174,{126;99;74;51;30;11;-6;-21;-34;-45;-54;-61;-66;-69;-70;-69;-66;-61;-54;-45;-34;-21;-6;11;30;51;74;99;126})/56637","v":-1.6351195114866182E-5},2.6736158168442371E-10]
[{"$f":"'Hb reference spectrum'!A161","v":570.5},8.8999999999999996E-2,{"$f":"B161-$H$2*'Hb reference spectrum'!C161","v":8.5813427360725836E-3},{"$f":"SUMPRODUCT(C147:C175,{126;99;74;51;30;11;-6;-21;-34;-45;-54;-61;-66;-69;-70;-69;-66;-61;-54;-45;-34;-21;-6;11;30;51;74;99;126})/56637","v":-1.6025830436200382E-5},2.5682724116984653E-10]
[{"$f":"'Hb reference spectrum'!A162","v":570},8.6999999999999994E-2,{"$f":"B162-$H$2*'Hb reference spectrum'!C162","v":8.4428857282931452E-3},{"$f":"SUMPRODUCT(C148:C176,{126;99;74;51;30;11;-6;-21;-34;-45;-54;-61;-66;-69;-70;-69;-66;-61;-54;-45;-34;-21;-6;11;30;51;74;99;126})/56637","v":-1.3726977995185379E-5},1.884299248803036E-10]
[{"$f":"'Hb reference spectrum'!A163","v":569.5},8.5000000000000006E-2,{"$f":"B163-$H$2*'Hb reference spectrum'!C163","v":8.6767373189578223E-3},{"$f":"SUMPRODUCT(C149:C177,{126;99;74;51;30;11;-6;-21;-34;-45;-54;-61;-66;-69;-70;-69;-66;-61;-54;-45;-34;-21;-6;11;30;51;74;99;126})/56637","v":-1.0903046044331869E-5},1.1887641304482083E-10]
[{"$f":"'Hb reference spectrum'!A164","v":569},8.3000000000000004E-2,{"$f":"B164-$H$2*'Hb reference spectrum'!C164","v":8.5382803111782868E-3},{"$f":"SUMPRODUCT(C150:C178,{126;99;74;51;30;11;-6;-21;-34;-45;-54;-61;-66;-69;-70;-69;-66;-61;-54;-45;-34;-21;-6;11;30;51;74;99;126})/56637","v":-1.117450577124409E-5},1.2486957923156745E-10]
[{"$f":"'Hb reference spectrum'!A165","v":568.5},8.1000000000000003E-2,{"$f":"B165-$H$2*'Hb reference spectrum'!C165","v":8.3998233033988484E-3},{"$f":"SUMPRODUCT(C151:C179,{126;99;74;51;30;11;-6;-21;-34;-45;-54;-61;-66;-69;-70;-69;-66;-61;-54;-45;-34;-21;-6;11;30;51;74;99;126})/56637","v":-8.925887484391022E-6},7.9671467384008293E-11]
[{"$f":"'Hb reference spectrum'!A166","v":568},7.9000000000000001E-2,{"$f":"B166-$H$2*'Hb reference spectrum'!C166","v":7.889057697175253E-3},{"$f":"SUMPRODUCT(C152:C180,{126;99;74;51;30;11;-6;-21;-34;-45;-54;-61;-66;-69;-70;-69;-66;-61;-54;-45;-34;-21;-6;11;30;51;74;99;126})/56637","v":-8.1901144277903712E-6},6.7077974340299994E-11]
[{"$f":"'Hb reference spectrum'!A167","v":567.5},7.6999999999999999E-2,{"$f":"B167-$H$2*'Hb reference spectrum'!C167","v":7.7506006893958285E-3},{"$f":"SUMPRODUCT(C153:C181,{126;99;74;51;30;11;-6;-21;-34;-45;-54;-61;-66;-69;-70;-69;-66;-61;-54;-45;-34;-21;-6;11;30;51;74;99;126})/56637","v":-5.5764110144717372E-6},3.1096359802321709E-11]
[{"$f":"'Hb reference spectrum'!A168","v":567},7.5999999999999998E-2,{"$f":"B168-$H$2*'Hb reference spectrum'!C168","v":8.2398350831722339E-3},{"$f":"SUMPRODUCT(C154:C182,{126;99;74;51;30;11;-6;-21;-34;-45;-54;-61;-66;-69;-70;-69;-66;-61;-54;-45;-34;-21;-6;11;30;51;74;99;126})/56637","v":-2.7626169816970074E-6},7.6320525875606829E-12]
[{"$f":"'Hb reference spectrum'!A169","v":566.5},7.3999999999999996E-2,{"$f":"B169-$H$2*'Hb reference spectrum'!C169","v":7.7290694769487356E-3},{"$f":"SUMPRODUCT(C155:C183,{126;99;74;51;30;11;-6;-21;-34;-45;-54;-61;-66;-69;-70;-69;-66;-61;-54;-45;-34;-21;-6;11;30;51;74;99;126})/56637","v":2.2584446693842327E-7},5.1005723246700561E-14]
[{"$f":"'Hb reference spectrum'!A170","v":566},7.2999999999999995E-2,{"$f":"B170-$H$2*'Hb reference spectrum'!C170","v":8.2183038707251271E-3},{"$f":"SUMPRODUCT(C156:C184,{126;99;74;51;30;11;-6;-21;-34;-45;-54;-61;-66;-69;-70;-69;-66;-61;-54;-45;-34;-21;-6;11;30;51;74;99;126})/56637","v":3.0270033234882565E-7},9.1627491204089512E-14]
[{"$f":"'Hb reference spectrum'!A171","v":565.5},7.0999999999999994E-2,{"$f":"B171-$H$2*'Hb reference spectrum'!C171","v":7.7075382645015178E-3},{"$f":"SUMPRODUCT(C157:C185,{126;99;74;51;30;11;-6;-21;-34;-45;-54;-61;-66;-69;-70;-69;-66;-61;-54;-45;-34;-21;-6;11;30;51;74;99;126})/56637","v":1.7881003056175044E-6},3.1973027029494127E-12]
[{"$f":"'Hb reference spectrum'!A172","v":565},7.0000000000000007E-2,{"$f":"B172-$H$2*'Hb reference spectrum'!C172","v":7.8244640598338633E-3},{"$f":"SUMPRODUCT(C158:C186,{126;99;74;51;30;11;-6;-21;-34;-45;-54;-61;-66;-69;-70;-69;-66;-61;-54;-45;-34;-21;-6;11;30;51;74;99;126})/56637","v":4.4975984156790703E-6},2.0228391508718884E-11]
[{"$f":"'Hb reference spectrum'!A173","v":564.5},6.9000000000000006E-2,{"$f":"B173-$H$2*'Hb reference spectrum'!C173","v":7.9413898551661949E-3},{"$f":"SUMPRODUCT(C159:C187,{126;99;74;51;30;11;-6;-21;-34;-45;-54;-61;-66;-69;-70;-69;-66;-61;-54;-45;-34;-21;-6;11;30;51;74;99;126})/56637","v":4.0662335263379111E-6},1.6534255090714443E-11]
[{"$f":"'Hb reference spectrum'!A174","v":564},6.8000000000000005E-2,{"$f":"B174-$H$2*'Hb reference spectrum'!C174","v":7.6860070520544388E-3},{"$f":"SUMPRODUCT(C160:C188,{126;99;74;51;30;11;-6;-21;-34;-45;-54;-61;-66;-69;-70;-69;-66;-61;-54;-45;-34;-21;-6;11;30;51;74;99;126})/56637","v":5.3706774051463328E-6},2.8844175790149346E-11]
[{"$f":"'Hb reference spectrum'!A175","v":563.5},6.7000000000000004E-2,{"$f":"B175-$H$2*'Hb reference spectrum'!C175","v":7.8029328473867635E-3},{"$f":"SUMPRODUCT(C161:C189,{126;99;74;51;30;11;-6;-21;-34;-45;-54;-61;-66;-69;-70;-69;-66;-61;-54;-45;-34;-21;-6;11;30;51;74;99;126})/56637","v":7.3343285894334577E-6},5.3792375857780974E-11]
[{"$f":"'Hb reference spectrum'!A176","v":563},6.7000000000000004E-2,{"$f":"B176-$H$2*'Hb reference spectrum'!C176","v":8.1752414458308373E-3},{"$f":"SUMPRODUCT(C162:C190,{126;99;74;51;30;11;-6;-21;-34;-45;-54;-61;-66;-69;-70;-69;-66;-61;-54;-45;-34;-21;-6;11;30;51;74;99;126})/56637","v":5.6508920745493866E-6},3.1932581238205072E-11]
[{"$f":"'Hb reference spectrum'!A177","v":562.5},6.6000000000000003E-2,{"$f":"B177-$H$2*'Hb reference spectrum'!C177","v":7.9198586427190951E-3},{"$f":"SUMPRODUCT(C163:C191,{126;99;74;51;30;11;-6;-21;-34;-45;-54;-61;-66;-69;-70;-69;-66;-61;-54;-45;-34;-21;-6;11;30;51;74;99;126})/56637","v":4.8127879521322915E-6},2.3162927872189736E-11]
[{"$f":"'Hb reference spectrum'!A178","v":562},6.5000000000000002E-2,{"$f":"B178-$H$2*'Hb reference spectrum'!C178","v":7.2921672411631611E-3},{"$f":"SUMPRODUCT(C164:C192,{126;99;74;51;30;11;-6;-21;-34;-45;-54;-61;-66;-69;-70;-69;-66;-61;-54;-45;-34;-21;-6;11;30;51;74;99;126})/56637","v":3.7235303106805652E-6},1.3864677974556907E-11]
[{"$f":"'Hb reference spectrum'!A179","v":561.5},6.5000000000000002E-2,{"$f":"B179-$H$2*'Hb reference spectrum'!C179","v":8.0367844380514197E-3},{"$f":"SUMPRODUCT(C165:C193,{126;99;74;51;30;11;-6;-21;-34;-45;-54;-61;-66;-69;-70;-69;-66;-61;-54;-45;-34;-21;-6;11;30;51;74;99;126})/56637","v":3.1345732529531996E-6},9.8255494781296043E-12]
[{"$f":"'Hb reference spectrum'!A180","v":561},6.5000000000000002E-2,{"$f":"B180-$H$2*'Hb reference spectrum'!C180","v":8.0367844380514197E-3},{"$f":"SUMPRODUCT(C166:C194,{126;99;74;51;30;11;-6;-21;-34;-45;-54;-61;-66;-69;-70;-69;-66;-61;-54;-45;-34;-21;-6;11;30;51;74;99;126})/56637","v":2.1547329032474225E-6},4.6428738843370663E-12]
[{"$f":"'Hb reference spectrum'!A181","v":560.5},6.5000000000000002E-2,{"$f":"B181-$H$2*'Hb reference spectrum'!C181","v":8.0367844380514197E-3},{"$f":"SUMPRODUCT(C167:C195,{126;99;74;51;30;11;-6;-21;-34;-45;-54;-61;-66;-69;-70;-69;-66;-61;-54;-45;-34;-21;-6;11;30;51;74;99;126})/56637","v":4.1560937076744441E-6},1.7273114906971107E-11]
[{"$f":"'Hb reference spectrum'!A182","v":560},6.5000000000000002E-2,{"$f":"B182-$H$2*'Hb reference spectrum'!C182","v":8.0367844380514197E-3},{"$f":"SUMPRODUCT(C168:C196,{126;99;74;51;30;11;-6;-21;-34;-45;-54;-61;-66;-69;-70;-69;-66;-61;-54;-45;-34;-21;-6;11;30;51;74;99;126})/56637","v":5.7513595565070228E-6},3.307813674822466E-11]
[{"$f":"'Hb reference spectrum'!A183","v":559.5},6.5000000000000002E-2,{"$f":"B183-$H$2*'Hb reference spectrum'!C183","v":8.0367844380514197E-3},{"$f":"SUMPRODUCT(C169:C197,{126;99;74;51;30;11;-6;-21;-34;-45;-54;-61;-66;-69;-70;-69;-66;-61;-54;-45;-34;-21;-6;11;30;51;74;99;126})/56637","v":5.4011743542789517E-6},2.9172684405320652E-11]
[{"$f":"'Hb reference spectrum'!A184","v":559},6.5000000000000002E-2,{"$f":"B184-$H$2*'Hb reference spectrum'!C184","v":8.0367844380514197E-3},{"$f":"SUMPRODUCT(C170:C198,{126;99;74;51;30;11;-6;-21;-34;-45;-54;-61;-66;-69;-70;-69;-66;-61;-54;-45;-34;-21;-6;11;30;51;74;99;126})/56637","v":7.0743465060068433E-6},5.0046378487051228E-11]
[{"$f":"'Hb reference spectrum'!A185","v":558.5},6.5000000000000002E-2,{"$f":"B185-$H$2*'Hb reference spectrum'!C185","v":7.664475839607339E-3},{"$f":"SUMPRODUCT(C171:C199,{126;99;74;51;30;11;-6;-21;-34;-45;-54;-61;-66;-69;-70;-69;-66;-61;-54;-45;-34;-21;-6;11;30;51;74;99;126})/56637","v":5.8718223333298201E-6},3.4478297514190855E-11]
[{"$f":"'Hb reference spectrum'!A186","v":558},6.6000000000000003E-2,{"$f":"B186-$H$2*'Hb reference spectrum'!C186","v":8.292167241163162E-3},{"$f":"SUMPRODUCT(C172:C200,{126;99;74;51;30;11;-6;-21;-34;-45;-54;-61;-66;-69;-70;-69;-66;-61;-54;-45;-34;-21;-6;11;30;51;74;99;126})/56637","v":6.7828378346867391E-6},4.6006889091657892E-11]
[{"$f":"'Hb reference spectrum'!A187","v":557.5},6.6000000000000003E-2,{"$f":"B187-$H$2*'Hb reference spectrum'!C187","v":7.9198586427190951E-3},{"$f":"SUMPRODUCT(C173:C201,{126;99;74;51;30;11;-6;-21;-34;-45;-54;-61;-66;-69;-70;-69;-66;-61;-54;-45;-34;-21;-6;11;30;51;74;99;126})/56637","v":6.7570396691739201E-6},4.5657585090790002E-11]
[{"$f":"'Hb reference spectrum'!A188","v":557},6.7000000000000004E-2,{"$f":"B188-$H$2*'Hb reference spectrum'!C188","v":8.1752414458308373E-3},{"$f":"SUMPRODUCT(C174:C202,{126;99;74;51;30;11;-6;-21;-34;-45;-54;-61;-66;-69;-70;-69;-66;-61;-54;-45;-34;-21;-6;11;30;51;74;99;126})/56637","v":7.2464792357563786E-6},5.2511461314248349E-11]
[{"$f":"'Hb reference spectrum'!A189","v":556.5},6.8000000000000005E-2,{"$f":"B189-$H$2*'Hb reference spectrum'!C189","v":8.8029328473867643E-3},{"$f":"SUMPRODUCT(C175:C203,{126;99;74;51;30;11;-6;-21;-34;-45;-54;-61;-66;-69;-70;-69;-66;-61;-54;-45;-34;-21;-6;11;30;51;74;99;126})/56637","v":5.9652356138107651E-6},3.5584035928276298E-11]
[{"$f":"'Hb reference spectrum'!A190","v":556},6.8000000000000005E-2,{"$f":"B190-$H$2*'Hb reference spectrum'!C190","v":7.6860070520544388E-3},{"$f":"SUMPRODUCT(C176:C204,{126;99;74;51;30;11;-6;-21;-34;-45;-54;-61;-66;-69;-70;-69;-66;-61;-54;-45;-34;-21;-6;11;30;51;74;99;126})/56637","v":6.3956765107442219E-6},4.0904678030085387E-11]
[{"$f":"'Hb reference spectrum'!A191","v":555.5},6.9000000000000006E-2,{"$f":"B191-$H$2*'Hb reference spectrum'!C191","v":7.9413898551661949E-3},{"$f":"SUMPRODUCT(C177:C205,{126;99;74;51;30;11;-6;-21;-34;-45;-54;-61;-66;-69;-70;-69;-66;-61;-54;-45;-34;-21;-6;11;30;51;74;99;126})/56637","v":6.5737705806713804E-6},4.3214459647300541E-11]
[{"$f":"'Hb reference spectrum'!A192","v":555},7.0000000000000007E-2,{"$f":"B192-$H$2*'Hb reference spectrum'!C192","v":8.1967726582780481E-3},{"$f":"SUMPRODUCT(C178:C206,{126;99;74;51;30;11;-6;-21;-34;-45;-54;-61;-66;-69;-70;-69;-66;-61;-54;-45;-34;-21;-6;11;30;51;74;99;126})/56637","v":6.4488298859306036E-6},4.158740689767172E-11]
[{"$f":"'Hb reference spectrum'!A193","v":554.5},7.0999999999999994E-2,{"$f":"B193-$H$2*'Hb reference spectrum'!C193","v":8.4521554613897765E-3},{"$f":"SUMPRODUCT(C179:C207,{126;99;74;51;30;11;-6;-21;-34;-45;-54;-61;-66;-69;-70;-69;-66;-61;-54;-45;-34;-21;-6;11;30;51;74;99;126})/56637","v":7.8835098970856518E-6},6.2149728297447425E-11]
[{"$f":"'Hb reference spectrum'!A194","v":554},7.1999999999999995E-2,{"$f":"B194-$H$2*'Hb reference spectrum'!C194","v":8.3352296660574587E-3},{"$f":"SUMPRODUCT(C180:C208,{126;99;74;51;30;11;-6;-21;-34;-45;-54;-61;-66;-69;-70;-69;-66;-61;-54;-45;-34;-21;-6;11;30;51;74;99;126})/56637","v":9.1412467224707713E-6},{"$f":"D194^2","v":8.3562391641082614E-11}]
[{"$f":"'Hb reference spectrum'!A195","v":553.5},7.3999999999999996E-2,{"$f":"B195-$H$2*'Hb reference spectrum'!C195","v":9.218303870725128E-3},{"$f":"SUMPRODUCT(C181:C209,{126;99;74;51;30;11;-6;-21;-34;-45;-54;-61;-66;-69;-70;-69;-66;-61;-54;-45;-34;-21;-6;11;30;51;74;99;126})/56637","v":8.4903657480230172E-6},7.2086310535202448E-11]
[{"$f":"'Hb reference spectrum'!A196","v":553},7.4999999999999997E-2,{"$f":"B196-$H$2*'Hb reference spectrum'!C196","v":9.1013780753928103E-3},{"$f":"SUMPRODUCT(C182:C210,{126;99;74;51;30;11;-6;-21;-34;-45;-54;-61;-66;-69;-70;-69;-66;-61;-54;-45;-34;-21;-6;11;30;51;74;99;126})/56637","v":9.3339714010712963E-6},8.7123022116016855E-11]
[{"$f":"'Hb reference spectrum'!A197","v":552.5},7.5999999999999998E-2,{"$f":"B197-$H$2*'Hb reference spectrum'!C197","v":8.9844522800604926E-3},{"$f":"SUMPRODUCT(C183:C211,{126;99;74;51;30;11;-6;-21;-34;-45;-54;-61;-66;-69;-70;-69;-66;-61;-54;-45;-34;-21;-6;11;30;51;74;99;126})/56637","v":9.1260238331266974E-6},8.32843110027965E-11]
[{"$f":"'Hb reference spectrum'!A198","v":552},7.8E-2,{"$f":"B198-$H$2*'Hb reference spectrum'!C198","v":9.495217886284088E-3},{"$f":"SUMPRODUCT(C184:C212,{126;99;74;51;30;11;-6;-21;-34;-45;-54;-61;-66;-69;-70;-69;-66;-61;-54;-45;-34;-21;-6;11;30;51;74;99;126})/56637","v":1.0277775220513385E-5},1.0563266348339895E-10]
[{"$f":"'Hb reference spectrum'!A199","v":551.5},7.9000000000000001E-2,{"$f":"B199-$H$2*'Hb reference spectrum'!C199","v":9.0059834925075716E-3},{"$f":"SUMPRODUCT(C185:C213,{126;99;74;51;30;11;-6;-21;-34;-45;-54;-61;-66;-69;-70;-69;-66;-61;-54;-45;-34;-21;-6;11;30;51;74;99;126})/56637","v":1.0270240410765688E-5},1.0547783809492457E-10]
[{"$f":"'Hb reference spectrum'!A200","v":551},8.1000000000000003E-2,{"$f":"B200-$H$2*'Hb reference spectrum'!C200","v":9.5167490987311809E-3},{"$f":"SUMPRODUCT(C186:C214,{126;99;74;51;30;11;-6;-21;-34;-45;-54;-61;-66;-69;-70;-69;-66;-61;-54;-45;-34;-21;-6;11;30;51;74;99;126})/56637","v":1.1164211862734181E-5},1.246396265160146E-10]
[{"$f":"'Hb reference spectrum'!A201","v":550.5},8.2000000000000003E-2,{"$f":"B201-$H$2*'Hb reference spectrum'!C201","v":9.3998233033988493E-3},{"$f":"SUMPRODUCT(C187:C215,{126;99;74;51;30;11;-6;-21;-34;-45;-54;-61;-66;-69;-70;-69;-66;-61;-54;-45;-34;-21;-6;11;30;51;74;99;126})/56637","v":9.6304681439333267E-6},9.2745916671314618E-11]
[{"$f":"'Hb reference spectrum'!A202","v":550},8.4000000000000005E-2,{"$f":"B202-$H$2*'Hb reference spectrum'!C202","v":9.9105889096224725E-3},{"$f":"SUMPRODUCT(C188:C216,{126;99;74;51;30;11;-6;-21;-34;-45;-54;-61;-66;-69;-70;-69;-66;-61;-54;-45;-34;-21;-6;11;30;51;74;99;126})/56637","v":1.0778639607404632E-5},1.1617907178631187E-10]
[{"$f":"'Hb reference spectrum'!A203","v":549.5},8.5000000000000006E-2,{"$f":"B203-$H$2*'Hb reference spectrum'!C203","v":9.0490459174018822E-3},{"$f":"SUMPRODUCT(C189:C217,{126;99;74;51;30;11;-6;-21;-34;-45;-54;-61;-66;-69;-70;-69;-66;-61;-54;-45;-34;-21;-6;11;30;51;74;99;126})/56637","v":1.1939308780126927E-5},1.4254709414721595E-10]
[{"$f":"'Hb reference spectrum'!A204","v":549},8.6999999999999994E-2,{"$f":"B204-$H$2*'Hb reference spectrum'!C204","v":9.9321201220695515E-3},{"$f":"SUMPRODUCT(C190:C218,{126;99;74;51;30;11;-6;-21;-34;-45;-54;-61;-66;-69;-70;-69;-66;-61;-54;-45;-34;-21;-6;11;30;51;74;99;126})/56637","v":1.1024353991980571E-5},1.2153638094049795E-10]
[{"$f":"'Hb reference spectrum'!A205","v":548.5},8.8999999999999996E-2,{"$f":"B205-$H$2*'Hb reference spectrum'!C205","v":1.0442885728293147E-2},{"$f":"SUMPRODUCT(C191:C219,{126;99;74;51;30;11;-6;-21;-34;-45;-54;-61;-66;-69;-70;-69;-66;-61;-54;-45;-34;-21;-6;11;30;51;74;99;126})/56637","v":1.1986078229722711E-5},1.4366607132903272E-10]
[{"$f":"'Hb reference spectrum'!A206","v":548},0.09,{"$f":"B206-$H$2*'Hb reference spectrum'!C206","v":1.0325959932960718E-2},{"$f":"SUMPRODUCT(C192:C220,{126;99;74;51;30;11;-6;-21;-34;-45;-54;-61;-66;-69;-70;-69;-66;-61;-54;-45;-34;-21;-6;11;30;51;74;99;126})/56637","v":1.4102959710193807E-5},1.9889347258734979E-10]
[{"$f":"'Hb reference spectrum'!A207","v":547.5},9.1999999999999998E-2,{"$f":"B207-$H$2*'Hb reference spectrum'!C207","v":1.0464416940740254E-2},{"$f":"SUMPRODUCT(C193:C221,{126;99;74;51;30;11;-6;-21;-34;-45;-54;-61;-66;-69;-70;-69;-66;-61;-54;-45;-34;-21;-6;11;30;51;74;99;126})/56637","v":1.4771316892438478E-5},2.1819180273683834E-10]
[{"$f":"'Hb reference spectrum'!A208","v":547},9.4E-2,{"$f":"B208-$H$2*'Hb reference spectrum'!C208","v":1.1347491145407937E-2},{"$f":"SUMPRODUCT(C194:C222,{126;99;74;51;30;11;-6;-21;-34;-45;-54;-61;-66;-69;-70;-69;-66;-61;-54;-45;-34;-21;-6;11;30;51;74;99;126})/56637","v":1.5771722366223813E-5},2.4874722639724448E-10]
[{"$f":"'Hb reference spectrum'!A209","v":546.5},9.5000000000000001E-2,{"$f":"B209-$H$2*'Hb reference spectrum'!C209","v":1.0858256751631545E-2},{"$f":"SUMPRODUCT(C195:C223,{126;99;74;51;30;11;-6;-21;-34;-45;-54;-61;-66;-69;-70;-69;-66;-61;-54;-45;-34;-21;-6;11;30;51;74;99;126})/56637","v":1.7054845171070922E-5},2.9086774380920117E-10]
[{"$f":"'Hb reference spectrum'!A210","v":546},9.7000000000000003E-2,{"$f":"B210-$H$2*'Hb reference spectrum'!C210","v":1.1741330956299215E-2},{"$f":"SUMPRODUCT(C196:C224,{126;99;74;51;30;11;-6;-21;-34;-45;-54;-61;-66;-69;-70;-69;-66;-61;-54;-45;-34;-21;-6;11;30;51;74;99;126})/56637","v":1.5214265071618709E-5},2.3147386166947705E-10]
[{"$f":"'Hb reference spectrum'!A211","v":545.5},9.8000000000000004E-2,{"$f":"B211-$H$2*'Hb reference spectrum'!C211","v":1.1624405160966883E-2},{"$f":"SUMPRODUCT(C197:C225,{126;99;74;51;30;11;-6;-21;-34;-45;-54;-61;-66;-69;-70;-69;-66;-61;-54;-45;-34;-21;-6;11;30;51;74;99;126})/56637","v":1.5277524340431476E-5},2.3340274997247617E-10]
[{"$f":"'Hb reference spectrum'!A212","v":545},0.1,{"$f":"B212-$H$2*'Hb reference spectrum'!C212","v":1.2507479365634566E-2},{"$f":"SUMPRODUCT(C198:C226,{126;99;74;51;30;11;-6;-21;-34;-45;-54;-61;-66;-69;-70;-69;-66;-61;-54;-45;-34;-21;-6;11;30;51;74;99;126})/56637","v":1.6206048074037857E-5},2.6263599417802616E-10]
[{"$f":"'Hb reference spectrum'!A213","v":544.5},0.10100000000000001,{"$f":"B213-$H$2*'Hb reference spectrum'!C213","v":1.2390553570302248E-2},{"$f":"SUMPRODUCT(C199:C227,{126;99;74;51;30;11;-6;-21;-34;-45;-54;-61;-66;-69;-70;-69;-66;-61;-54;-45;-34;-21;-6;11;30;51;74;99;126})/56637","v":1.5464498971560626E-5},2.3915072844139966E-10]
[{"$f":"'Hb reference spectrum'!A214","v":544},0.10199999999999999,{"$f":"B214-$H$2*'Hb reference spectrum'!C214","v":1.2645936373413977E-2},{"$f":"SUMPRODUCT(C200:C228,{126;99;74;51;30;11;-6;-21;-34;-45;-54;-61;-66;-69;-70;-69;-66;-61;-54;-45;-34;-21;-6;11;30;51;74;99;126})/56637","v":1.5096557020243243E-5},2.2790603386545555E-10]
[{"$f":"'Hb reference spectrum'!A215","v":543.5},0.10299999999999999,{"$f":"B215-$H$2*'Hb reference spectrum'!C215","v":1.2529010578081645E-2},{"$f":"SUMPRODUCT(C201:C229,{126;99;74;51;30;11;-6;-21;-34;-45;-54;-61;-66;-69;-70;-69;-66;-61;-54;-45;-34;-21;-6;11;30;51;74;99;126})/56637","v":1.5129493408496149E-5},2.2890157079772843E-10]
[{"$f":"'Hb reference spectrum'!A216","v":543},0.104,{"$f":"B216-$H$2*'Hb reference spectrum'!C216","v":1.3529010578081646E-2},{"$f":"SUMPRODUCT(C202:C230,{126;99;74;51;30;11;-6;-21;-34;-45;-54;-61;-66;-69;-70;-69;-66;-61;-54;-45;-34;-21;-6;11;30;51;74;99;126})/56637","v":1.4593077472926336E-5},2.1295791013083009E-10]
[{"$f":"'Hb reference spectrum'!A217","v":542.5},0.105,{"$f":"B217-$H$2*'Hb reference spectrum'!C217","v":1.4156701979637573E-2},{"$f":"SUMPRODUCT(C203:C231,{126;99;74;51;30;11;-6;-21;-34;-45;-54;-61;-66;-69;-70;-69;-66;-61;-54;-45;-34;-21;-6;11;30;51;74;99;126})/56637","v":1.4372516150015543E-5},2.065692204824576E-10]
[{"$f":"'Hb reference spectrum'!A218","v":542},0.106,{"$f":"B218-$H$2*'Hb reference spectrum'!C218","v":1.4412084782749315E-2},{"$f":"SUMPRODUCT(C204:C232,{126;99;74;51;30;11;-6;-21;-34;-45;-54;-61;-66;-69;-70;-69;-66;-61;-54;-45;-34;-21;-6;11;30;51;74;99;126})/56637","v":1.5565055674462542E-5},2.4227095814911857E-10]
[{"$f":"'Hb reference spectrum'!A219","v":541.5},0.106,{"$f":"B219-$H$2*'Hb reference spectrum'!C219","v":1.4412084782749315E-2},{"$f":"SUMPRODUCT(C205:C233,{126;99;74;51;30;11;-6;-21;-34;-45;-54;-61;-66;-69;-70;-69;-66;-61;-54;-45;-34;-21;-6;11;30;51;74;99;126})/56637","v":1.6436407924511034E-5},2.7015550546092909E-10]
[{"$f":"'Hb reference spectrum'!A220","v":541},0.107,{"$f":"B220-$H$2*'Hb reference spectrum'!C220","v":1.5412084782749316E-2},{"$f":"SUMPRODUCT(C206:C234,{126;99;74;51;30;11;-6;-21;-34;-45;-54;-61;-66;-69;-70;-69;-66;-61;-54;-45;-34;-21;-6;11;30;51;74;99;126})/56637","v":1.5199268247657849E-5},2.3101775526426011E-10]
[{"$f":"'Hb reference spectrum'!A221","v":540.5},0.107,{"$f":"B221-$H$2*'Hb reference spectrum'!C221","v":1.5412084782749316E-2},{"$f":"SUMPRODUCT(C207:C235,{126;99;74;51;30;11;-6;-21;-34;-45;-54;-61;-66;-69;-70;-69;-66;-61;-54;-45;-34;-21;-6;11;30;51;74;99;126})/56637","v":1.5903392644602629E-5},2.5291789760840102E-10]
[{"$f":"'Hb reference spectrum'!A222","v":540},0.107,{"$f":"B222-$H$2*'Hb reference spectrum'!C222","v":1.6156701979637575E-2},{"$f":"SUMPRODUCT(C208:C236,{126;99;74;51;30;11;-6;-21;-34;-45;-54;-61;-66;-69;-70;-69;-66;-61;-54;-45;-34;-21;-6;11;30;51;74;99;126})/56637","v":1.724189779741618E-5},2.9728303965654492E-10]
[{"$f":"'Hb reference spectrum'!A223","v":539.5},0.107,{"$f":"B223-$H$2*'Hb reference spectrum'!C223","v":1.6529010578081649E-2},{"$f":"SUMPRODUCT(C209:C237,{126;99;74;51;30;11;-6;-21;-34;-45;-54;-61;-66;-69;-70;-69;-66;-61;-54;-45;-34;-21;-6;11;30;51;74;99;126})/56637","v":1.6334409396797966E-5},2.6681293034220173E-10]
[{"$f":"'Hb reference spectrum'!A224","v":539},0.107,{"$f":"B224-$H$2*'Hb reference spectrum'!C224","v":1.6529010578081649E-2},{"$f":"SUMPRODUCT(C210:C238,{126;99;74;51;30;11;-6;-21;-34;-45;-54;-61;-66;-69;-70;-69;-66;-61;-54;-45;-34;-21;-6;11;30;51;74;99;126})/56637","v":1.8114153241148093E-5},3.2812254764379597E-10]
[{"$f":"'Hb reference spectrum'!A225","v":538.5},0.107,{"$f":"B225-$H$2*'Hb reference spectrum'!C225","v":1.7645936373413981E-2},{"$f":"SUMPRODUCT(C211:C239,{126;99;74;51;30;11;-6;-21;-34;-45;-54;-61;-66;-69;-70;-69;-66;-61;-54;-45;-34;-21;-6;11;30;51;74;99;126})/56637","v":1.6819958126452546E-5},2.8291099137561705E-10]
[{"$f":"'Hb reference spectrum'!A226","v":538},0.107,{"$f":"B226-$H$2*'Hb reference spectrum'!C226","v":1.839055357030224E-2},{"$f":"SUMPRODUCT(C212:C240,{126;99;74;51;30;11;-6;-21;-34;-45;-54;-61;-66;-69;-70;-69;-66;-61;-54;-45;-34;-21;-6;11;30;51;74;99;126})/56637","v":1.7674836982693531E-5},3.1239986236479095E-10]
[{"$f":"'Hb reference spectrum'!A227","v":537.5},0.107,{"$f":"B227-$H$2*'Hb reference spectrum'!C227","v":1.87628621687463E-2},{"$f":"SUMPRODUCT(C213:C241,{126;99;74;51;30;11;-6;-21;-34;-45;-54;-61;-66;-69;-70;-69;-66;-61;-54;-45;-34;-21;-6;11;30;51;74;99;126})/56637","v":1.7671236260054063E-5},3.122725909586495E-10]
[{"$f":"'Hb reference spectrum'!A228","v":537},0.106,{"$f":"B228-$H$2*'Hb reference spectrum'!C228","v":1.8879787964078631E-2},{"$f":"SUMPRODUCT(C214:C242,{126;99;74;51;30;11;-6;-21;-34;-45;-54;-61;-66;-69;-70;-69;-66;-61;-54;-45;-34;-21;-6;11;30;51;74;99;126})/56637","v":1.9351399390720425E-5},3.7447665837917484E-10]
[{"$f":"'Hb reference spectrum'!A229","v":536.5},0.106,{"$f":"B229-$H$2*'Hb reference spectrum'!C229","v":1.999671375941095E-2},{"$f":"SUMPRODUCT(C215:C243,{126;99;74;51;30;11;-6;-21;-34;-45;-54;-61;-66;-69;-70;-69;-66;-61;-54;-45;-34;-21;-6;11;30;51;74;99;126})/56637","v":1.9256856024806625E-5},3.7082650396013124E-10]
[{"$f":"'Hb reference spectrum'!A230","v":536},0.105,{"$f":"B230-$H$2*'Hb reference spectrum'!C230","v":2.0113639554743282E-2},{"$f":"SUMPRODUCT(C216:C244,{126;99;74;51;30;11;-6;-21;-34;-45;-54;-61;-66;-69;-70;-69;-66;-61;-54;-45;-34;-21;-6;11;30;51;74;99;126})/56637","v":2.2709386659605442E-5},5.1571624245546565E-10]
[{"$f":"'Hb reference spectrum'!A231","v":535.5},0.105,{"$f":"B231-$H$2*'Hb reference spectrum'!C231","v":2.12305653500756E-2},{"$f":"SUMPRODUCT(C217:C245,{126;99;74;51;30;11;-6;-21;-34;-45;-54;-61;-66;-69;-70;-69;-66;-61;-54;-45;-34;-21;-6;11;30;51;74;99;126})/56637","v":2.3388135476449991E-5},5.4700488106477863E-10]
[{"$f":"'Hb reference spectrum'!A232","v":535},0.104,{"$f":"B232-$H$2*'Hb reference spectrum'!C232","v":2.1347491145407932E-2},{"$f":"SUMPRODUCT(C218:C246,{126;99;74;51;30;11;-6;-21;-34;-45;-54;-61;-66;-69;-70;-69;-66;-61;-54;-45;-34;-21;-6;11;30;51;74;99;126})/56637","v":2.3609990554004601E-5},5.5743165396018655E-10]
[{"$f":"'Hb reference spectrum'!A233","v":534.5},0.104,{"$f":"B233-$H$2*'Hb reference spectrum'!C233","v":2.2464416940740251E-2},{"$f":"SUMPRODUCT(C219:C247,{126;99;74;51;30;11;-6;-21;-34;-45;-54;-61;-66;-69;-70;-69;-66;-61;-54;-45;-34;-21;-6;11;30;51;74;99;126})/56637","v":2.4442054514662028E-5},5.9741402889771046E-10]
[{"$f":"'Hb reference spectrum'!A234","v":534},0.10299999999999999,{"$f":"B234-$H$2*'Hb reference spectrum'!C234","v":2.2581342736072582E-2},{"$f":"SUMPRODUCT(C220:C248,{126;99;74;51;30;11;-6;-21;-34;-45;-54;-61;-66;-69;-70;-69;-66;-61;-54;-45;-34;-21;-6;11;30;51;74;99;126})/56637","v":2.6276504405044653E-5},6.9045468374833099E-10]
[{"$f":"'Hb reference spectrum'!A235","v":533.5},0.10299999999999999,{"$f":"B235-$H$2*'Hb reference spectrum'!C235","v":2.3698268531404915E-2},{"$f":"SUMPRODUCT(C221:C249,{126;99;74;51;30;11;-6;-21;-34;-45;-54;-61;-66;-69;-70;-69;-66;-61;-54;-45;-34;-21;-6;11;30;51;74;99;126})/56637","v":2.6820201433841223E-5},7.1932320495181876E-10]
[{"$f":"'Hb reference spectrum'!A236","v":533},0.10199999999999999,{"$f":"B236-$H$2*'Hb reference spectrum'!C236","v":2.4559811523625477E-2},{"$f":"SUMPRODUCT(C222:C250,{126;99;74;51;30;11;-6;-21;-34;-45;-54;-61;-66;-69;-70;-69;-66;-61;-54;-45;-34;-21;-6;11;30;51;74;99;126})/56637","v":2.8169567603796691E-5},7.9352453898487209E-10]
[{"$f":"'Hb reference spectrum'!A237","v":532.5},0.10100000000000001,{"$f":"B237-$H$2*'Hb reference spectrum'!C237","v":2.5049045917401883E-2},{"$f":"SUMPRODUCT(C223:C251,{126;99;74;51;30;11;-6;-21;-34;-45;-54;-61;-66;-69;-70;-69;-66;-61;-54;-45;-34;-21;-6;11;30;51;74;99;126})/56637","v":3.0174497932776912E-5},9.1050032549515818E-10]
[{"$f":"'Hb reference spectrum'!A238","v":532},0.10100000000000001,{"$f":"B238-$H$2*'Hb reference spectrum'!C238","v":2.6165971712734215E-2},{"$f":"SUMPRODUCT(C224:C252,{126;99;74;51;30;11;-6;-21;-34;-45;-54;-61;-66;-69;-70;-69;-66;-61;-54;-45;-34;-21;-6;11;30;51;74;99;126})/56637","v":3.2533694794895108E-5},1.0584412970073852E-9]
[{"$f":"'Hb reference spectrum'!A239","v":531.5},0.1,{"$f":"B239-$H$2*'Hb reference spectrum'!C239","v":2.6282897508066547E-2},{"$f":"SUMPRODUCT(C225:C253,{126;99;74;51;30;11;-6;-21;-34;-45;-54;-61;-66;-69;-70;-69;-66;-61;-54;-45;-34;-21;-6;11;30;51;74;99;126})/56637","v":3.5366570529489287E-5},1.2507943110173401E-9]
[{"$f":"'Hb reference spectrum'!A240","v":531},9.9000000000000005E-2,{"$f":"B240-$H$2*'Hb reference spectrum'!C240","v":2.7516749098731183E-2},{"$f":"SUMPRODUCT(C226:C254,{126;99;74;51;30;11;-6;-21;-34;-45;-54;-61;-66;-69;-70;-69;-66;-61;-54;-45;-34;-21;-6;11;30;51;74;99;126})/56637","v":3.7622437885116608E-5},1.4154478324194573E-9]
[{"$f":"'Hb reference spectrum'!A241","v":530.5},9.9000000000000005E-2,{"$f":"B241-$H$2*'Hb reference spectrum'!C241","v":2.8633674894063516E-2},{"$f":"SUMPRODUCT(C227:C255,{126;99;74;51;30;11;-6;-21;-34;-45;-54;-61;-66;-69;-70;-69;-66;-61;-54;-45;-34;-21;-6;11;30;51;74;99;126})/56637","v":4.1139236628764774E-5},1.6924367903975012E-9]
[{"$f":"'Hb reference spectrum'!A242","v":530},9.8000000000000004E-2,{"$f":"B242-$H$2*'Hb reference spectrum'!C242","v":2.9867526484728166E-2},{"$f":"SUMPRODUCT(C228:C256,{126;99;74;51;30;11;-6;-21;-34;-45;-54;-61;-66;-69;-70;-69;-66;-61;-54;-45;-34;-21;-6;11;30;51;74;99;126})/56637","v":4.3236360931848547E-5},1.8693829066290793E-9]
[{"$f":"'Hb reference spectrum'!A243","v":529.5},9.7000000000000003E-2,{"$f":"B243-$H$2*'Hb reference spectrum'!C243","v":2.9984452280060497E-2},{"$f":"SUMPRODUCT(C229:C257,{126;99;74;51;30;11;-6;-21;-34;-45;-54;-61;-66;-69;-70;-69;-66;-61;-54;-45;-34;-21;-6;11;30;51;74;99;126})/56637","v":4.7110467501421826E-5},2.2193961482025221E-9]
[{"$f":"'Hb reference spectrum'!A244","v":529},9.7000000000000003E-2,{"$f":"B244-$H$2*'Hb reference spectrum'!C244","v":3.1845995272281075E-2},{"$f":"SUMPRODUCT(C230:C258,{126;99;74;51;30;11;-6;-21;-34;-45;-54;-61;-66;-69;-70;-69;-66;-61;-54;-45;-34;-21;-6;11;30;51;74;99;126})/56637","v":4.9987235888402101E-5},2.4987237517627552E-9]
[{"$f":"'Hb reference spectrum'!A245","v":528.5},9.6000000000000002E-2,{"$f":"B245-$H$2*'Hb reference spectrum'!C245","v":3.2335229666057466E-2},{"$f":"SUMPRODUCT(C231:C259,{126;99;74;51;30;11;-6;-21;-34;-45;-54;-61;-66;-69;-70;-69;-66;-61;-54;-45;-34;-21;-6;11;30;51;74;99;126})/56637","v":5.4089079227759549E-5},2.9256284917068496E-9]
[{"$f":"'Hb reference spectrum'!A246","v":528},9.6000000000000002E-2,{"$f":"B246-$H$2*'Hb reference spectrum'!C246","v":3.3452155461389785E-2},{"$f":"SUMPRODUCT(C232:C260,{126;99;74;51;30;11;-6;-21;-34;-45;-54;-61;-66;-69;-70;-69;-66;-61;-54;-45;-34;-21;-6;11;30;51;74;99;126})/56637","v":5.6747614884914921E-5},3.2202917951266175E-9]
[{"$f":"'Hb reference spectrum'!A247","v":527.5},9.5000000000000001E-2,{"$f":"B247-$H$2*'Hb reference spectrum'!C247","v":3.4686007052054435E-2},{"$f":"SUMPRODUCT(C233:C261,{126;99;74;51;30;11;-6;-21;-34;-45;-54;-61;-66;-69;-70;-69;-66;-61;-54;-45;-34;-21;-6;11;30;51;74;99;126})/56637","v":6.0291193809341252E-5},3.6350280509555489E-9]
[{"$f":"'Hb reference spectrum'!A248","v":527},9.5000000000000001E-2,{"$f":"B248-$H$2*'Hb reference spectrum'!C248","v":3.5802932847386761E-2},{"$f":"SUMPRODUCT(C234:C262,{126;99;74;51;30;11;-6;-21;-34;-45;-54;-61;-66;-69;-70;-69;-66;-61;-54;-45;-34;-21;-6;11;30;51;74;99;126})/56637","v":6.3553792541486858E-5},4.0390845464063505E-9]
[{"$f":"'Hb reference spectrum'!A249","v":526.5},9.4E-2,{"$f":"B249-$H$2*'Hb reference spectrum'!C249","v":3.7036784438051418E-2},{"$f":"SUMPRODUCT(C235:C263,{126;99;74;51;30;11;-6;-21;-34;-45;-54;-61;-66;-69;-70;-69;-66;-61;-54;-45;-34;-21;-6;11;30;51;74;99;126})/56637","v":6.5617499848047249E-5},4.3056562863084811E-9]
[{"$f":"'Hb reference spectrum'!A250","v":526},9.4E-2,{"$f":"B250-$H$2*'Hb reference spectrum'!C250","v":3.8153710233383736E-2},{"$f":"SUMPRODUCT(C236:C264,{126;99;74;51;30;11;-6;-21;-34;-45;-54;-61;-66;-69;-70;-69;-66;-61;-54;-45;-34;-21;-6;11;30;51;74;99;126})/56637","v":6.8284187767660455E-5},4.6627302990891097E-9]
[{"$f":"'Hb reference spectrum'!A251","v":525.5},9.4E-2,{"$f":"B251-$H$2*'Hb reference spectrum'!C251","v":4.0015253225604321E-2},{"$f":"SUMPRODUCT(C237:C265,{126;99;74;51;30;11;-6;-21;-34;-45;-54;-61;-66;-69;-70;-69;-66;-61;-54;-45;-34;-21;-6;11;30;51;74;99;126})/56637","v":7.1575419865080114E-5},5.1230407288625049E-9]
[{"$f":"'Hb reference spectrum'!A252","v":525},9.4E-2,{"$f":"B252-$H$2*'Hb reference spectrum'!C252","v":4.150448761938072E-2},{"$f":"SUMPRODUCT(C238:C266,{126;99;74;51;30;11;-6;-21;-34;-45;-54;-61;-66;-69;-70;-69;-66;-61;-54;-45;-34;-21;-6;11;30;51;74;99;126})/56637","v":7.3558343245169134E-5},5.41082986097412E-9]
[{"$f":"'Hb reference spectrum'!A253","v":524.5},9.4E-2,{"$f":"B253-$H$2*'Hb reference spectrum'!C253","v":4.2621413414713032E-2},{"$f":"SUMPRODUCT(C239:C267,{126;99;74;51;30;11;-6;-21;-34;-45;-54;-61;-66;-69;-70;-69;-66;-61;-54;-45;-34;-21;-6;11;30;51;74;99;126})/56637","v":7.7573594587726329E-5},6.0176625772609237E-9]
[{"$f":"'Hb reference spectrum'!A254","v":524},9.4E-2,{"$f":"B254-$H$2*'Hb reference spectrum'!C254","v":4.4482956406933616E-2},{"$f":"SUMPRODUCT(C240:C268,{126;99;74;51;30;11;-6;-21;-34;-45;-54;-61;-66;-69;-70;-69;-66;-61;-54;-45;-34;-21;-6;11;30;51;74;99;126})/56637","v":8.0697936569826145E-5},6.5121569666276838E-9]
[{"$f":"'Hb reference spectrum'!A255","v":523.5},9.5000000000000001E-2,{"$f":"B255-$H$2*'Hb reference spectrum'!C255","v":4.6972190800710016E-2},{"$f":"SUMPRODUCT(C241:C269,{126;99;74;51;30;11;-6;-21;-34;-45;-54;-61;-66;-69;-70;-69;-66;-61;-54;-45;-34;-21;-6;11;30;51;74;99;126})/56637","v":8.5296173230571128E-5},7.2754371677795989E-9]
[{"$f":"'Hb reference spectrum'!A256","v":523},9.5000000000000001E-2,{"$f":"B256-$H$2*'Hb reference spectrum'!C256","v":4.8089116596042335E-2},{"$f":"SUMPRODUCT(C242:C270,{126;99;74;51;30;11;-6;-21;-34;-45;-54;-61;-66;-69;-70;-69;-66;-61;-54;-45;-34;-21;-6;11;30;51;74;99;126})/56637","v":8.8361463719845268E-5},7.8077482707135318E-9]
[{"$f":"'Hb reference spectrum'!A257","v":522.5},9.6000000000000002E-2,{"$f":"B257-$H$2*'Hb reference spectrum'!C257","v":5.0206042391374661E-2},{"$f":"SUMPRODUCT(C243:C271,{126;99;74;51;30;11;-6;-21;-34;-45;-54;-61;-66;-69;-70;-69;-66;-61;-54;-45;-34;-21;-6;11;30;51;74;99;126})/56637","v":9.0258338933943129E-5},8.1465677471145546E-9]
[{"$f":"'Hb reference spectrum'!A258","v":522},9.7000000000000003E-2,{"$f":"B258-$H$2*'Hb reference spectrum'!C258","v":5.2322968186706995E-2},{"$f":"SUMPRODUCT(C244:C272,{126;99;74;51;30;11;-6;-21;-34;-45;-54;-61;-66;-69;-70;-69;-66;-61;-54;-45;-34;-21;-6;11;30;51;74;99;126})/56637","v":9.455305502206873E-5},{"$f":"D258^2","v":8.9402802140063574E-9}]
[{"$f":"'Hb reference spectrum'!A259","v":521.5},9.8000000000000004E-2,{"$f":"B259-$H$2*'Hb reference spectrum'!C259","v":5.4439893982039321E-2},{"$f":"SUMPRODUCT(C245:C273,{126;99;74;51;30;11;-6;-21;-34;-45;-54;-61;-66;-69;-70;-69;-66;-61;-54;-45;-34;-21;-6;11;30;51;74;99;126})/56637","v":9.7229854034989132E-5},9.4536445156652927E-9]
[{"$f":"'Hb reference spectrum'!A260","v":521},9.9000000000000005E-2,{"$f":"B260-$H$2*'Hb reference spectrum'!C260","v":5.6556819777371647E-2},{"$f":"SUMPRODUCT(C246:C274,{126;99;74;51;30;11;-6;-21;-34;-45;-54;-61;-66;-69;-70;-69;-66;-61;-54;-45;-34;-21;-6;11;30;51;74;99;126})/56637","v":9.9890031583934152E-5},9.9780184098393623E-9]
[{"$f":"'Hb reference spectrum'!A261","v":520.5},0.1,{"$f":"B261-$H$2*'Hb reference spectrum'!C261","v":5.8673745572703974E-2},{"$f":"SUMPRODUCT(C247:C275,{126;99;74;51;30;11;-6;-21;-34;-45;-54;-61;-66;-69;-70;-69;-66;-61;-54;-45;-34;-21;-6;11;30;51;74;99;126})/56637","v":1.025801466521599E-4},1.0522686487178631E-8]
[{"$f":"'Hb reference spectrum'!A262","v":520},0.10199999999999999,{"$f":"B262-$H$2*'Hb reference spectrum'!C262","v":6.1418362769592214E-2},{"$f":"SUMPRODUCT(C248:C276,{126;99;74;51;30;11;-6;-21;-34;-45;-54;-61;-66;-69;-70;-69;-66;-61;-54;-45;-34;-21;-6;11;30;51;74;99;126})/56637","v":1.0646372003755912E-4},1.1334523684235766E-8]
[{"$f":"'Hb reference spectrum'!A263","v":519.5},0.10299999999999999,{"$f":"B263-$H$2*'Hb reference spectrum'!C263","v":6.2790671368036288E-2},{"$f":"SUMPRODUCT(C249:C277,{126;99;74;51;30;11;-6;-21;-34;-45;-54;-61;-66;-69;-70;-69;-66;-61;-54;-45;-34;-21;-6;11;30;51;74;99;126})/56637","v":1.09714005528389E-4},1.2037163009083372E-8]
[{"$f":"'Hb reference spectrum'!A264","v":519},0.105,{"$f":"B264-$H$2*'Hb reference spectrum'!C264","v":6.5907597163368609E-2},{"$f":"SUMPRODUCT(C250:C278,{126;99;74;51;30;11;-6;-21;-34;-45;-54;-61;-66;-69;-70;-69;-66;-61;-54;-45;-34;-21;-6;11;30;51;74;99;126})/56637","v":1.1206376157308663E-4},1.2558286657909607E-8]
[{"$f":"'Hb reference spectrum'!A265","v":518.5},0.107,{"$f":"B265-$H$2*'Hb reference spectrum'!C265","v":6.9024522958700929E-2},{"$f":"SUMPRODUCT(C251:C279,{126;99;74;51;30;11;-6;-21;-34;-45;-54;-61;-66;-69;-70;-69;-66;-61;-54;-45;-34;-21;-6;11;30;51;74;99;126})/56637","v":1.1614823872431504E-4},1.3490413358760477E-8]
[{"$f":"'Hb reference spectrum'!A266","v":518},0.109,{"$f":"B266-$H$2*'Hb reference spectrum'!C266","v":7.1024522958700931E-2},{"$f":"SUMPRODUCT(C252:C280,{126;99;74;51;30;11;-6;-21;-34;-45;-54;-61;-66;-69;-70;-69;-66;-61;-54;-45;-34;-21;-6;11;30;51;74;99;126})/56637","v":1.1748044999884833E-4},1.3801656131931903E-8]
[{"$f":"'Hb reference spectrum'!A267","v":517.5},0.112,{"$f":"B267-$H$2*'Hb reference spectrum'!C267","v":7.514144875403328E-2},{"$f":"SUMPRODUCT(C253:C281,{126;99;74;51;30;11;-6;-21;-34;-45;-54;-61;-66;-69;-70;-69;-66;-61;-54;-45;-34;-21;-6;11;30;51;74;99;126})/56637","v":1.2011406905908383E-4},1.442738958593036E-8]
[{"$f":"'Hb reference spectrum'!A268","v":517},0.114,{"$f":"B268-$H$2*'Hb reference spectrum'!C268","v":7.7141448754033282E-2},{"$f":"SUMPRODUCT(C254:C282,{126;99;74;51;30;11;-6;-21;-34;-45;-54;-61;-66;-69;-70;-69;-66;-61;-54;-45;-34;-21;-6;11;30;51;74;99;126})/56637","v":1.2384661866962198E-4},1.533798495589876E-8]
[{"$f":"'Hb reference spectrum'!A269","v":516.5},0.11700000000000001,{"$f":"B269-$H$2*'Hb reference spectrum'!C269","v":8.1258374549365603E-2},{"$f":"SUMPRODUCT(C255:C283,{126;99;74;51;30;11;-6;-21;-34;-45;-54;-61;-66;-69;-70;-69;-66;-61;-54;-45;-34;-21;-6;11;30;51;74;99;126})/56637","v":1.2676556336893154E-4},1.6069508056242597E-8]
[{"$f":"'Hb reference spectrum'!A270","v":516},0.12,{"$f":"B270-$H$2*'Hb reference spectrum'!C270","v":8.4258374549365578E-2},{"$f":"SUMPRODUCT(C256:C284,{126;99;74;51;30;11;-6;-21;-34;-45;-54;-61;-66;-69;-70;-69;-66;-61;-54;-45;-34;-21;-6;11;30;51;74;99;126})/56637","v":1.2923261445258765E-4},1.6701068638251165E-8]
[{"$f":"'Hb reference spectrum'!A271","v":515.5},0.123,{"$f":"B271-$H$2*'Hb reference spectrum'!C271","v":8.7630683147809668E-2},{"$f":"SUMPRODUCT(C257:C285,{126;99;74;51;30;11;-6;-21;-34;-45;-54;-61;-66;-69;-70;-69;-66;-61;-54;-45;-34;-21;-6;11;30;51;74;99;126})/56637","v":1.3192409169767694E-4},1.7403965970257074E-8]
[{"$f":"'Hb reference spectrum'!A272","v":515},0.126,{"$f":"B272-$H$2*'Hb reference spectrum'!C272","v":9.1375300344697916E-2},{"$f":"SUMPRODUCT(C258:C286,{126;99;74;51;30;11;-6;-21;-34;-45;-54;-61;-66;-69;-70;-69;-66;-61;-54;-45;-34;-21;-6;11;30;51;74;99;126})/56637","v":1.3482516360218156E-4},1.8177824740355023E-8]
[{"$f":"'Hb reference spectrum'!A273","v":514.5},0.13,{"$f":"B273-$H$2*'Hb reference spectrum'!C273","v":9.5375300344697919E-2},{"$f":"SUMPRODUCT(C259:C287,{126;99;74;51;30;11;-6;-21;-34;-45;-54;-61;-66;-69;-70;-69;-66;-61;-54;-45;-34;-21;-6;11;30;51;74;99;126})/56637","v":1.3754608735891844E-4},1.8918926147747224E-8]
[{"$f":"'Hb reference spectrum'!A274","v":514},0.13300000000000001,{"$f":"B274-$H$2*'Hb reference spectrum'!C274","v":9.8747608943141996E-2},{"$f":"SUMPRODUCT(C260:C288,{126;99;74;51;30;11;-6;-21;-34;-45;-54;-61;-66;-69;-70;-69;-66;-61;-54;-45;-34;-21;-6;11;30;51;74;99;126})/56637","v":1.3983424162563652E-4},1.9553615131016896E-8]
[{"$f":"'Hb reference spectrum'!A275","v":513.5},0.13700000000000001,{"$f":"B275-$H$2*'Hb reference spectrum'!C275","v":0.102747608943142},{"$f":"SUMPRODUCT(C261:C289,{126;99;74;51;30;11;-6;-21;-34;-45;-54;-61;-66;-69;-70;-69;-66;-61;-54;-45;-34;-21;-6;11;30;51;74;99;126})/56637","v":1.4379882062957587E-4},2.0678100814456934E-8]
[{"$f":"'Hb reference spectrum'!A276","v":513},0.14099999999999999,{"$f":"B276-$H$2*'Hb reference spectrum'!C276","v":0.10749222614003023},{"$f":"SUMPRODUCT(C262:C290,{126;99;74;51;30;11;-6;-21;-34;-45;-54;-61;-66;-69;-70;-69;-66;-61;-54;-45;-34;-21;-6;11;30;51;74;99;126})/56637","v":1.4676003168852432E-4},2.1538506901216662E-8]
[{"$f":"'Hb reference spectrum'!A277","v":512.5},0.14499999999999999,{"$f":"B277-$H$2*'Hb reference spectrum'!C277","v":0.11149222614003024},{"$f":"SUMPRODUCT(C263:C291,{126;99;74;51;30;11;-6;-21;-34;-45;-54;-61;-66;-69;-70;-69;-66;-61;-54;-45;-34;-21;-6;11;30;51;74;99;126})/56637","v":1.4941880463679156E-4},2.2325979179087684E-8]
[{"$f":"'Hb reference spectrum'!A278","v":512},0.14899999999999999,{"$f":"B278-$H$2*'Hb reference spectrum'!C278","v":0.11549222614003024},{"$f":"SUMPRODUCT(C264:C292,{126;99;74;51;30;11;-6;-21;-34;-45;-54;-61;-66;-69;-70;-69;-66;-61;-54;-45;-34;-21;-6;11;30;51;74;99;126})/56637","v":1.5421339352354746E-4},2.3781770742048508E-8]
[{"$f":"'Hb reference spectrum'!A279","v":511.5},0.154,{"$f":"B279-$H$2*'Hb reference spectrum'!C279","v":0.12049222614003025},{"$f":"SUMPRODUCT(C265:C293,{126;99;74;51;30;11;-6;-21;-34;-45;-54;-61;-66;-69;-70;-69;-66;-61;-54;-45;-34;-21;-6;11;30;51;74;99;126})/56637","v":1.6001199983245662E-4},2.5603840090382099E-8]
[{"$f":"'Hb reference spectrum'!A280","v":511},0.158,{"$f":"B280-$H$2*'Hb reference spectrum'!C280","v":0.12449222614003025},{"$f":"SUMPRODUCT(C266:C294,{126;99;74;51;30;11;-6;-21;-34;-45;-54;-61;-66;-69;-70;-69;-66;-61;-54;-45;-34;-21;-6;11;30;51;74;99;126})/56637","v":1.6598086488789473E-4},2.7549647508933567E-8]
[{"$f":"'Hb reference spectrum'!A281","v":510.5},0.16300000000000001,{"$f":"B281-$H$2*'Hb reference spectrum'!C281","v":0.12986453473847431},{"$f":"SUMPRODUCT(C267:C295,{126;99;74;51;30;11;-6;-21;-34;-45;-54;-61;-66;-69;-70;-69;-66;-61;-54;-45;-34;-21;-6;11;30;51;74;99;126})/56637","v":1.7451538492508769E-4},3.0455619575551522E-8]
[{"$f":"'Hb reference spectrum'!A282","v":510},0.16800000000000001,{"$f":"B282-$H$2*'Hb reference spectrum'!C282","v":0.13486453473847432},{"$f":"SUMPRODUCT(C268:C296,{126;99;74;51;30;11;-6;-21;-34;-45;-54;-61;-66;-69;-70;-69;-66;-61;-54;-45;-34;-21;-6;11;30;51;74;99;126})/56637","v":1.7994456586041955E-4},3.238004678269487E-8]
[{"$f":"'Hb reference spectrum'!A283","v":509.5},0.17299999999999999,{"$f":"B283-$H$2*'Hb reference spectrum'!C283","v":0.13986453473847429},{"$f":"SUMPRODUCT(C269:C297,{126;99;74;51;30;11;-6;-21;-34;-45;-54;-61;-66;-69;-70;-69;-66;-61;-54;-45;-34;-21;-6;11;30;51;74;99;126})/56637","v":1.872374951276138E-4},3.5057879581663202E-8]
[{"$f":"'Hb reference spectrum'!A284","v":509},0.17899999999999999,{"$f":"B284-$H$2*'Hb reference spectrum'!C284","v":0.1458645347384743},{"$f":"SUMPRODUCT(C270:C298,{126;99;74;51;30;11;-6;-21;-34;-45;-54;-61;-66;-69;-70;-69;-66;-61;-54;-45;-34;-21;-6;11;30;51;74;99;126})/56637","v":1.9164032435347935E-4},3.6726013918306774E-8]
[{"$f":"'Hb reference spectrum'!A285","v":508.5},0.184,{"$f":"B285-$H$2*'Hb reference spectrum'!C285","v":0.1508645347384743},{"$f":"SUMPRODUCT(C271:C299,{126;99;74;51;30;11;-6;-21;-34;-45;-54;-61;-66;-69;-70;-69;-66;-61;-54;-45;-34;-21;-6;11;30;51;74;99;126})/56637","v":1.9726921054698726E-4},3.8915141429831591E-8]
[{"$f":"'Hb reference spectrum'!A286","v":508},0.19,{"$f":"B286-$H$2*'Hb reference spectrum'!C286","v":0.15686453473847431},{"$f":"SUMPRODUCT(C272:C300,{126;99;74;51;30;11;-6;-21;-34;-45;-54;-61;-66;-69;-70;-69;-66;-61;-54;-45;-34;-21;-6;11;30;51;74;99;126})/56637","v":2.0291064727292265E-4},4.1172730776716429E-8]
[{"$f":"'Hb reference spectrum'!A287","v":507.5},0.19600000000000001,{"$f":"B287-$H$2*'Hb reference spectrum'!C287","v":0.16286453473847431},{"$f":"SUMPRODUCT(C273:C301,{126;99;74;51;30;11;-6;-21;-34;-45;-54;-61;-66;-69;-70;-69;-66;-61;-54;-45;-34;-21;-6;11;30;51;74;99;126})/56637","v":2.0735922233567001E-4},4.2997847087653828E-8]
[{"$f":"'Hb reference spectrum'!A288","v":507},0.20200000000000001,{"$f":"B288-$H$2*'Hb reference spectrum'!C288","v":0.16886453473847432},{"$f":"SUMPRODUCT(C274:C302,{126;99;74;51;30;11;-6;-21;-34;-45;-54;-61;-66;-69;-70;-69;-66;-61;-54;-45;-34;-21;-6;11;30;51;74;99;126})/56637","v":2.0972446455922925E-4},4.3984351034655401E-8]
[{"$f":"'Hb reference spectrum'!A289","v":506.5},0.20899999999999999,{"$f":"B289-$H$2*'Hb reference spectrum'!C289","v":0.1758645347384743},{"$f":"SUMPRODUCT(C275:C303,{126;99;74;51;30;11;-6;-21;-34;-45;-54;-61;-66;-69;-70;-69;-66;-61;-54;-45;-34;-21;-6;11;30;51;74;99;126})/56637","v":2.1297485569641241E-4},4.5358289158907687E-8]
[{"$f":"'Hb reference spectrum'!A290","v":506},0.215,{"$f":"B290-$H$2*'Hb reference spectrum'!C290","v":0.1818645347384743},{"$f":"SUMPRODUCT(C276:C304,{126;99;74;51;30;11;-6;-21;-34;-45;-54;-61;-66;-69;-70;-69;-66;-61;-54;-45;-34;-21;-6;11;30;51;74;99;126})/56637","v":2.1407128878473775E-4},4.5826516681958582E-8]
[{"$f":"'Hb reference spectrum'!A291","v":505.5},0.222,{"$f":"B291-$H$2*'Hb reference spectrum'!C291","v":0.18886453473847431},{"$f":"SUMPRODUCT(C277:C305,{126;99;74;51;30;11;-6;-21;-34;-45;-54;-61;-66;-69;-70;-69;-66;-61;-54;-45;-34;-21;-6;11;30;51;74;99;126})/56637","v":2.1345234138455351E-4},4.5561902042547977E-8]
[{"$f":"'Hb reference spectrum'!A292","v":505},0.22900000000000001,{"$f":"B292-$H$2*'Hb reference spectrum'!C292","v":0.19549222614003026},{"$f":"SUMPRODUCT(C278:C306,{126;99;74;51;30;11;-6;-21;-34;-45;-54;-61;-66;-69;-70;-69;-66;-61;-54;-45;-34;-21;-6;11;30;51;74;99;126})/56637","v":2.126998048198566E-4},4.524120697040509E-8]
[{"$f":"'Hb reference spectrum'!A293","v":504.5},0.23699999999999999,{"$f":"B293-$H$2*'Hb reference spectrum'!C293","v":0.20349222614003024},{"$f":"SUMPRODUCT(C279:C307,{126;99;74;51;30;11;-6;-21;-34;-45;-54;-61;-66;-69;-70;-69;-66;-61;-54;-45;-34;-21;-6;11;30;51;74;99;126})/56637","v":2.1029425506750816E-4},4.422367371439818E-8]
[{"$f":"'Hb reference spectrum'!A294","v":504},0.245,{"$f":"B294-$H$2*'Hb reference spectrum'!C294","v":0.21149222614003024},{"$f":"SUMPRODUCT(C280:C308,{126;99;74;51;30;11;-6;-21;-34;-45;-54;-61;-66;-69;-70;-69;-66;-61;-54;-45;-34;-21;-6;11;30;51;74;99;126})/56637","v":2.0808417597257704E-4},4.3299024290186411E-8]
[{"$f":"'Hb reference spectrum'!A295","v":503.5},0.253,{"$f":"B295-$H$2*'Hb reference spectrum'!C295","v":0.21949222614003025},{"$f":"SUMPRODUCT(C281:C309,{126;99;74;51;30;11;-6;-21;-34;-45;-54;-61;-66;-69;-70;-69;-66;-61;-54;-45;-34;-21;-6;11;30;51;74;99;126})/56637","v":2.0609211311508398E-4},4.2473959088240568E-8]
[{"$f":"'Hb reference spectrum'!A296","v":503},0.26100000000000001,{"$f":"B296-$H$2*'Hb reference spectrum'!C296","v":0.22749222614003026},{"$f":"SUMPRODUCT(C282:C310,{126;99;74;51;30;11;-6;-21;-34;-45;-54;-61;-66;-69;-70;-69;-66;-61;-54;-45;-34;-21;-6;11;30;51;74;99;126})/56637","v":2.0353358075702585E-4},4.1425918495776765E-8]
[{"$f":"'Hb reference spectrum'!A297","v":502.5},0.26900000000000002,{"$f":"B297-$H$2*'Hb reference spectrum'!C297","v":0.23549222614003026},{"$f":"SUMPRODUCT(C283:C311,{126;99;74;51;30;11;-6;-21;-34;-45;-54;-61;-66;-69;-70;-69;-66;-61;-54;-45;-34;-21;-6;11;30;51;74;99;126})/56637","v":1.981050016753606E-4},3.9245591688794624E-8]
[{"$f":"'Hb reference spectrum'!A298","v":502},0.27800000000000002,{"$f":"B298-$H$2*'Hb reference spectrum'!C298","v":0.24374760894314201},{"$f":"SUMPRODUCT(C284:C312,{126;99;74;51;30;11;-6;-21;-34;-45;-54;-61;-66;-69;-70;-69;-66;-61;-54;-45;-34;-21;-6;11;30;51;74;99;126})/56637","v":1.9364654241105515E-4},3.7498983387756584E-8]
[{"$f":"'Hb reference spectrum'!A299","v":501.5},0.28699999999999998,{"$f":"B299-$H$2*'Hb reference spectrum'!C299","v":0.25274760894314197},{"$f":"SUMPRODUCT(C285:C313,{126;99;74;51;30;11;-6;-21;-34;-45;-54;-61;-66;-69;-70;-69;-66;-61;-54;-45;-34;-21;-6;11;30;51;74;99;126})/56637","v":1.8549319033317431E-4},3.4407723659979228E-8]
[{"$f":"'Hb reference spectrum'!A300","v":501},0.29599999999999999,{"$f":"B300-$H$2*'Hb reference spectrum'!C300","v":0.26174760894314197},{"$f":"SUMPRODUCT(C286:C314,{126;99;74;51;30;11;-6;-21;-34;-45;-54;-61;-66;-69;-70;-69;-66;-61;-54;-45;-34;-21;-6;11;30;51;74;99;126})/56637","v":1.7738747970048597E-4},3.1466317954490323E-8]
[{"$f":"'Hb reference spectrum'!A301","v":500.5},0.30499999999999999,{"$f":"B301-$H$2*'Hb reference spectrum'!C301","v":0.27074760894314198},{"$f":"SUMPRODUCT(C287:C315,{126;99;74;51;30;11;-6;-21;-34;-45;-54;-61;-66;-69;-70;-69;-66;-61;-54;-45;-34;-21;-6;11;30;51;74;99;126})/56637","v":1.6925373755619137E-4},2.8646827676740106E-8]
[{"$f":"'Hb reference spectrum'!A302","v":500},0.314,{"$f":"B302-$H$2*'Hb reference spectrum'!C302","v":0.27974760894314199},{"$f":"SUMPRODUCT(C288:C316,{126;99;74;51;30;11;-6;-21;-34;-45;-54;-61;-66;-69;-70;-69;-66;-61;-54;-45;-34;-21;-6;11;30;51;74;99;126})/56637","v":1.5915504007360374E-4},2.5330326780830411E-8]
[{"$f":"'Hb reference spectrum'!A303","v":499.5},0.32400000000000001,{"$f":"B303-$H$2*'Hb reference spectrum'!C303","v":0.28937530034469794},{"$f":"SUMPRODUCT(C289:C317,{126;99;74;51;30;11;-6;-21;-34;-45;-54;-61;-66;-69;-70;-69;-66;-61;-54;-45;-34;-21;-6;11;30;51;74;99;126})/56637","v":1.5025713482459126E-4},2.2577206565695398E-8]
[{"$f":"'Hb reference spectrum'!A304","v":499},0.33300000000000002,{"$f":"B304-$H$2*'Hb reference spectrum'!C304","v":0.29837530034469795},{"$f":"SUMPRODUCT(C290:C318,{126;99;74;51;30;11;-6;-21;-34;-45;-54;-61;-66;-69;-70;-69;-66;-61;-54;-45;-34;-21;-6;11;30;51;74;99;126})/56637","v":1.3960060591184677E-4},1.9488329170954748E-8]
[{"$f":"'Hb reference spectrum'!A305","v":498.5},0.34300000000000003,{"$f":"B305-$H$2*'Hb reference spectrum'!C305","v":0.30837530034469796},{"$f":"SUMPRODUCT(C291:C319,{126;99;74;51;30;11;-6;-21;-34;-45;-54;-61;-66;-69;-70;-69;-66;-61;-54;-45;-34;-21;-6;11;30;51;74;99;126})/56637","v":1.3116274134126639E-4},1.7203664716155949E-8]
[{"$f":"'Hb reference spectrum'!A306","v":498},0.35299999999999998,{"$f":"B306-$H$2*'Hb reference spectrum'!C306","v":0.31837530034469791},{"$f":"SUMPRODUCT(C292:C320,{126;99;74;51;30;11;-6;-21;-34;-45;-54;-61;-66;-69;-70;-69;-66;-61;-54;-45;-34;-21;-6;11;30;51;74;99;126})/56637","v":1.2146051872859673E-4},1.4752657609819797E-8]
[{"$f":"'Hb reference spectrum'!A307","v":497.5},0.36299999999999999,{"$f":"B307-$H$2*'Hb reference spectrum'!C307","v":0.32763068314780963},{"$f":"SUMPRODUCT(C293:C321,{126;99;74;51;30;11;-6;-21;-34;-45;-54;-61;-66;-69;-70;-69;-66;-61;-54;-45;-34;-21;-6;11;30;51;74;99;126})/56637","v":1.1406383216981912E-4},1.3010557809264664E-8]
[{"$f":"'Hb reference spectrum'!A308","v":497},0.374,{"$f":"B308-$H$2*'Hb reference spectrum'!C308","v":0.33863068314780964},{"$f":"SUMPRODUCT(C294:C322,{126;99;74;51;30;11;-6;-21;-34;-45;-54;-61;-66;-69;-70;-69;-66;-61;-54;-45;-34;-21;-6;11;30;51;74;99;126})/56637","v":1.0607525290687841E-4},1.1251959279258217E-8]
[{"$f":"'Hb reference spectrum'!A309","v":496.5},0.38400000000000001,{"$f":"B309-$H$2*'Hb reference spectrum'!C309","v":0.34863068314780965},{"$f":"SUMPRODUCT(C295:C323,{126;99;74;51;30;11;-6;-21;-34;-45;-54;-61;-66;-69;-70;-69;-66;-61;-54;-45;-34;-21;-6;11;30;51;74;99;126})/56637","v":9.6927984100790836E-5},9.3950341018431619E-9]
[{"$f":"'Hb reference spectrum'!A310","v":496},0.39500000000000002,{"$f":"B310-$H$2*'Hb reference spectrum'!C310","v":0.35963068314780966},{"$f":"SUMPRODUCT(C296:C324,{126;99;74;51;30;11;-6;-21;-34;-45;-54;-61;-66;-69;-70;-69;-66;-61;-54;-45;-34;-21;-6;11;30;51;74;99;126})/56637","v":8.7995199231718675E-5},7.7431550878298621E-9]
[{"$f":"'Hb reference spectrum'!A311","v":495.5},0.40500000000000003,{"$f":"B311-$H$2*'Hb reference spectrum'!C311","v":0.36925837454936561},{"$f":"SUMPRODUCT(C297:C325,{126;99;74;51;30;11;-6;-21;-34;-45;-54;-61;-66;-69;-70;-69;-66;-61;-54;-45;-34;-21;-6;11;30;51;74;99;126})/56637","v":7.8908829903270465E-5},6.2266034367032713E-9]
[{"$f":"'Hb reference spectrum'!A312","v":495},0.41599999999999998,{"$f":"B312-$H$2*'Hb reference spectrum'!C312","v":0.38025837454936556},{"$f":"SUMPRODUCT(C298:C326,{126;99;74;51;30;11;-6;-21;-34;-45;-54;-61;-66;-69;-70;-69;-66;-61;-54;-45;-34;-21;-6;11;30;51;74;99;126})/56637","v":7.0412505294169288E-5},4.9579209018014183E-9]
[{"$f":"'Hb reference spectrum'!A313","v":494.5},0.42599999999999999,{"$f":"B313-$H$2*'Hb reference spectrum'!C313","v":0.39025837454936557},{"$f":"SUMPRODUCT(C299:C327,{126;99;74;51;30;11;-6;-21;-34;-45;-54;-61;-66;-69;-70;-69;-66;-61;-54;-45;-34;-21;-6;11;30;51;74;99;126})/56637","v":6.347200497466031E-5},4.0286954155033033E-9]
[{"$f":"'Hb reference spectrum'!A314","v":494},0.437,{"$f":"B314-$H$2*'Hb reference spectrum'!C314","v":0.40051375735247735},{"$f":"SUMPRODUCT(C300:C328,{126;99;74;51;30;11;-6;-21;-34;-45;-54;-61;-66;-69;-70;-69;-66;-61;-54;-45;-34;-21;-6;11;30;51;74;99;126})/56637","v":5.5833183128853728E-5},3.1173443383001163E-9]
[{"$f":"'Hb reference spectrum'!A315","v":493.5},0.44800000000000001,{"$f":"B315-$H$2*'Hb reference spectrum'!C315","v":0.41151375735247736},{"$f":"SUMPRODUCT(C301:C329,{126;99;74;51;30;11;-6;-21;-34;-45;-54;-61;-66;-69;-70;-69;-66;-61;-54;-45;-34;-21;-6;11;30;51;74;99;126})/56637","v":4.8803097143252691E-5},2.381742290773759E-9]
[{"$f":"'Hb reference spectrum'!A316","v":493},0.45800000000000002,{"$f":"B316-$H$2*'Hb reference spectrum'!C316","v":0.42151375735247737},{"$f":"SUMPRODUCT(C302:C330,{126;99;74;51;30;11;-6;-21;-34;-45;-54;-61;-66;-69;-70;-69;-66;-61;-54;-45;-34;-21;-6;11;30;51;74;99;126})/56637","v":4.1083977178927042E-5},1.6878931808385979E-9]
[{"$f":"'Hb reference spectrum'!A317","v":492.5},0.46899999999999997,{"$f":"B317-$H$2*'Hb reference spectrum'!C317","v":0.43251375735247732},{"$f":"SUMPRODUCT(C303:C331,{126;99;74;51;30;11;-6;-21;-34;-45;-54;-61;-66;-69;-70;-69;-66;-61;-54;-45;-34;-21;-6;11;30;51;74;99;126})/56637","v":3.7341437720477473E-5},1.3943829710322977E-9]
[{"$f":"'Hb reference spectrum'!A318","v":492},0.48,{"$f":"B318-$H$2*'Hb reference spectrum'!C318","v":0.44314144875403327},{"$f":"SUMPRODUCT(C304:C332,{126;99;74;51;30;11;-6;-21;-34;-45;-54;-61;-66;-69;-70;-69;-66;-61;-54;-45;-34;-21;-6;11;30;51;74;99;126})/56637","v":3.3629976266103535E-5},1.130975303658687E-9]
[{"$f":"'Hb reference spectrum'!A319","v":491.5},0.49099999999999999,{"$f":"B319-$H$2*'Hb reference spectrum'!C319","v":0.45414144875403328},{"$f":"SUMPRODUCT(C305:C333,{126;99;74;51;30;11;-6;-21;-34;-45;-54;-61;-66;-69;-70;-69;-66;-61;-54;-45;-34;-21;-6;11;30;51;74;99;126})/56637","v":3.107524552402831E-5},9.6567088437864152E-10]
[{"$f":"'Hb reference spectrum'!A320","v":491},0.502,{"$f":"B320-$H$2*'Hb reference spectrum'!C320","v":0.46439683155714501},{"$f":"SUMPRODUCT(C306:C334,{126;99;74;51;30;11;-6;-21;-34;-45;-54;-61;-66;-69;-70;-69;-66;-61;-54;-45;-34;-21;-6;11;30;51;74;99;126})/56637","v":2.9142556298100375E-5},8.4928858758794981E-10]
[{"$f":"'Hb reference spectrum'!A321","v":490.5},0.51300000000000001,{"$f":"B321-$H$2*'Hb reference spectrum'!C321","v":0.47539683155714502},{"$f":"SUMPRODUCT(C307:C335,{126;99;74;51;30;11;-6;-21;-34;-45;-54;-61;-66;-69;-70;-69;-66;-61;-54;-45;-34;-21;-6;11;30;51;74;99;126})/56637","v":2.7280275789456799E-5},7.4421344714882281E-10]
[{"$f":"'Hb reference spectrum'!A322","v":490},0.52400000000000002,{"$f":"B322-$H$2*'Hb reference spectrum'!C322","v":0.48639683155714503},{"$f":"SUMPRODUCT(C308:C336,{126;99;74;51;30;11;-6;-21;-34;-45;-54;-61;-66;-69;-70;-69;-66;-61;-54;-45;-34;-21;-6;11;30;51;74;99;126})/56637","v":2.9105232039242465E-5},{"$f":"D322^2","v":8.4711453205814613E-10}]
[{"$f":"'Hb reference spectrum'!A323","v":489.5},0.53500000000000003,{"$f":"B323-$H$2*'Hb reference spectrum'!C323","v":0.49702452295870098},{"$f":"SUMPRODUCT(C309:C337,{126;99;74;51;30;11;-6;-21;-34;-45;-54;-61;-66;-69;-70;-69;-66;-61;-54;-45;-34;-21;-6;11;30;51;74;99;126})/56637","v":2.8772697939750917E-5},8.2786814673214667E-10]
[{"$f":"'Hb reference spectrum'!A324","v":489},0.54600000000000004,{"$f":"B324-$H$2*'Hb reference spectrum'!C324","v":0.50802452295870093},{"$f":"SUMPRODUCT(C310:C338,{126;99;74;51;30;11;-6;-21;-34;-45;-54;-61;-66;-69;-70;-69;-66;-61;-54;-45;-34;-21;-6;11;30;51;74;99;126})/56637","v":2.4892493185559335E-5},6.1963621699311788E-10]
[{"$f":"'Hb reference spectrum'!A325","v":488.5},0.55700000000000005,{"$f":"B325-$H$2*'Hb reference spectrum'!C325","v":0.51865221436025688},{"$f":"SUMPRODUCT(C311:C339,{126;99;74;51;30;11;-6;-21;-34;-45;-54;-61;-66;-69;-70;-69;-66;-61;-54;-45;-34;-21;-6;11;30;51;74;99;126})/56637","v":1.974250248055112E-5},3.8976640419456716E-10]
[{"$f":"'Hb reference spectrum'!A326","v":488},0.56799999999999995,{"$f":"B326-$H$2*'Hb reference spectrum'!C326","v":0.52927990576181261},{"$f":"SUMPRODUCT(C312:C340,{126;99;74;51;30;11;-6;-21;-34;-45;-54;-61;-66;-69;-70;-69;-66;-61;-54;-45;-34;-21;-6;11;30;51;74;99;126})/56637","v":1.59781249421019E-5},2.5530047666541886E-10]
[{"$f":"'Hb reference spectrum'!A327","v":487.5},0.57899999999999996,{"$f":"B327-$H$2*'Hb reference spectrum'!C327","v":0.54027990576181262},{"$f":"SUMPRODUCT(C313:C341,{126;99;74;51;30;11;-6;-21;-34;-45;-54;-61;-66;-69;-70;-69;-66;-61;-54;-45;-34;-21;-6;11;30;51;74;99;126})/56637","v":7.4474117205749213E-6},5.546394133575671E-11]
[{"$f":"'Hb reference spectrum'!A328","v":487},0.59,{"$f":"B328-$H$2*'Hb reference spectrum'!C328","v":0.55090759716336857},{"$f":"SUMPRODUCT(C314:C342,{126;99;74;51;30;11;-6;-21;-34;-45;-54;-61;-66;-69;-70;-69;-66;-61;-54;-45;-34;-21;-6;11;30;51;74;99;126})/56637","v":1.3633741262367138E-6},1.8587890080917229E-12]
[{"$f":"'Hb reference spectrum'!A329","v":486.5},0.60099999999999998,{"$f":"B329-$H$2*'Hb reference spectrum'!C329","v":0.56190759716336858},{"$f":"SUMPRODUCT(C315:C343,{126;99;74;51;30;11;-6;-21;-34;-45;-54;-61;-66;-69;-70;-69;-66;-61;-54;-45;-34;-21;-6;11;30;51;74;99;126})/56637","v":-5.7767786282699539E-6},3.337117132003649E-11]
[{"$f":"'Hb reference spectrum'!A330","v":486},0.61199999999999999,{"$f":"B330-$H$2*'Hb reference spectrum'!C330","v":0.57216297996648036},{"$f":"SUMPRODUCT(C316:C344,{126;99;74;51;30;11;-6;-21;-34;-45;-54;-61;-66;-69;-70;-69;-66;-61;-54;-45;-34;-21;-6;11;30;51;74;99;126})/56637","v":-1.604030694865895E-5},2.5729144700719659E-10]
[{"$f":"'Hb reference spectrum'!A331","v":485.5},0.624,{"$f":"B331-$H$2*'Hb reference spectrum'!C331","v":0.58416297996648037},{"$f":"SUMPRODUCT(C317:C345,{126;99;74;51;30;11;-6;-21;-34;-45;-54;-61;-66;-69;-70;-69;-66;-61;-54;-45;-34;-21;-6;11;30;51;74;99;126})/56637","v":-2.754032026905331E-5},7.5846924052202861E-10]
[{"$f":"'Hb reference spectrum'!A332","v":485},0.63500000000000001,{"$f":"B332-$H$2*'Hb reference spectrum'!C332","v":0.59516297996648038},{"$f":"SUMPRODUCT(C318:C346,{126;99;74;51;30;11;-6;-21;-34;-45;-54;-61;-66;-69;-70;-69;-66;-61;-54;-45;-34;-21;-6;11;30;51;74;99;126})/56637","v":-3.9457294761869547E-5},1.556878109925058E-9]
[{"$f":"'Hb reference spectrum'!A333","v":484.5},0.64600000000000002,{"$f":"B333-$H$2*'Hb reference spectrum'!C333","v":0.60579067136803633},{"$f":"SUMPRODUCT(C319:C347,{126;99;74;51;30;11;-6;-21;-34;-45;-54;-61;-66;-69;-70;-69;-66;-61;-54;-45;-34;-21;-6;11;30;51;74;99;126})/56637","v":-5.2737986318385296E-5},2.7812952009181945E-9]
[{"$f":"'Hb reference spectrum'!A334","v":484},0.65800000000000003,{"$f":"B334-$H$2*'Hb reference spectrum'!C334","v":0.61704605417114811},{"$f":"SUMPRODUCT(C320:C348,{126;99;74;51;30;11;-6;-21;-34;-45;-54;-61;-66;-69;-70;-69;-66;-61;-54;-45;-34;-21;-6;11;30;51;74;99;126})/56637","v":-6.7510228855963432E-5},4.5576310001845572E-9]
[{"$f":"'Hb reference spectrum'!A335","v":483.5},0.66900000000000004,{"$f":"B335-$H$2*'Hb reference spectrum'!C335","v":0.62804605417114812},{"$f":"SUMPRODUCT(C321:C349,{126;99;74;51;30;11;-6;-21;-34;-45;-54;-61;-66;-69;-70;-69;-66;-61;-54;-45;-34;-21;-6;11;30;51;74;99;126})/56637","v":-8.194781479398881E-5},6.7154443495098916E-9]
[{"$f":"'Hb reference spectrum'!A336","v":483},0.68100000000000005,{"$f":"B336-$H$2*'Hb reference spectrum'!C336","v":0.63967374557270407},{"$f":"SUMPRODUCT(C322:C350,{126;99;74;51;30;11;-6;-21;-34;-45;-54;-61;-66;-69;-70;-69;-66;-61;-54;-45;-34;-21;-6;11;30;51;74;99;126})/56637","v":-9.6142341452581449E-5},9.2433498199847608E-9]
[{"$f":"'Hb reference spectrum'!A337","v":482.5},0.69199999999999995,{"$f":"B337-$H$2*'Hb reference spectrum'!C337","v":0.65067374557270397},{"$f":"SUMPRODUCT(C323:C351,{126;99;74;51;30;11;-6;-21;-34;-45;-54;-61;-66;-69;-70;-69;-66;-61;-54;-45;-34;-21;-6;11;30;51;74;99;126})/56637","v":-1.1268450685549144E-4},1.2697798085265297E-8]
[{"$f":"'Hb reference spectrum'!A338","v":482},0.70199999999999996,{"$f":"B338-$H$2*'Hb reference spectrum'!C338","v":0.65992912837581563},{"$f":"SUMPRODUCT(C324:C352,{126;99;74;51;30;11;-6;-21;-34;-45;-54;-61;-66;-69;-70;-69;-66;-61;-54;-45;-34;-21;-6;11;30;51;74;99;126})/56637","v":-1.278661549570151E-4},1.6349753583491396E-8]
[{"$f":"'Hb reference spectrum'!A339","v":481.5},0.71299999999999997,{"$f":"B339-$H$2*'Hb reference spectrum'!C339","v":0.67092912837581564},{"$f":"SUMPRODUCT(C325:C353,{126;99;74;51;30;11;-6;-21;-34;-45;-54;-61;-66;-69;-70;-69;-66;-61;-54;-45;-34;-21;-6;11;30;51;74;99;126})/56637","v":-1.4361345941273231E-4},2.062482572449251E-8]
[{"$f":"'Hb reference spectrum'!A340","v":481},0.72399999999999998,{"$f":"B340-$H$2*'Hb reference spectrum'!C340","v":0.68155681977737159},{"$f":"SUMPRODUCT(C326:C354,{126;99;74;51;30;11;-6;-21;-34;-45;-54;-61;-66;-69;-70;-69;-66;-61;-54;-45;-34;-21;-6;11;30;51;74;99;126})/56637","v":-1.5727155973639399E-4},2.4734343501918143E-8]
[{"$f":"'Hb reference spectrum'!A341","v":480.5},0.73399999999999999,{"$f":"B341-$H$2*'Hb reference spectrum'!C341","v":0.69081220258048337},{"$f":"SUMPRODUCT(C327:C355,{126;99;74;51;30;11;-6;-21;-34;-45;-54;-61;-66;-69;-70;-69;-66;-61;-54;-45;-34;-21;-6;11;30;51;74;99;126})/56637","v":-1.7036340705187399E-4},2.9023690462322507E-8]
[{"$f":"'Hb reference spectrum'!A342","v":480},0.745,{"$f":"B342-$H$2*'Hb reference spectrum'!C342","v":0.70181220258048338},{"$f":"SUMPRODUCT(C328:C356,{126;99;74;51;30;11;-6;-21;-34;-45;-54;-61;-66;-69;-70;-69;-66;-61;-54;-45;-34;-21;-6;11;30;51;74;99;126})/56637","v":-1.8366365571879993E-4},3.3732338431993873E-8]
[{"$f":"'Hb reference spectrum'!A343","v":479.5},0.755,{"$f":"B343-$H$2*'Hb reference spectrum'!C343","v":0.71143989398203933},{"$f":"SUMPRODUCT(C329:C357,{126;99;74;51;30;11;-6;-21;-34;-45;-54;-61;-66;-69;-70;-69;-66;-61;-54;-45;-34;-21;-6;11;30;51;74;99;126})/56637","v":-1.9442014550682829E-4},3.7799192978896285E-8]
[{"$f":"'Hb reference spectrum'!A344","v":479},0.76500000000000001,{"$f":"B344-$H$2*'Hb reference spectrum'!C344","v":0.72069527678515111},{"$f":"SUMPRODUCT(C330:C358,{126;99;74;51;30;11;-6;-21;-34;-45;-54;-61;-66;-69;-70;-69;-66;-61;-54;-45;-34;-21;-6;11;30;51;74;99;126})/56637","v":-2.0371632598707476E-4},4.1500341473672114E-8]
[{"$f":"'Hb reference spectrum'!A345","v":478.5},0.77400000000000002,{"$f":"B345-$H$2*'Hb reference spectrum'!C345","v":0.72932296818670705},{"$f":"SUMPRODUCT(C331:C359,{126;99;74;51;30;11;-6;-21;-34;-45;-54;-61;-66;-69;-70;-69;-66;-61;-54;-45;-34;-21;-6;11;30;51;74;99;126})/56637","v":-2.1031461929824256E-4},4.4232239090564705E-8]
[{"$f":"'Hb reference spectrum'!A346","v":478},0.78400000000000003,{"$f":"B346-$H$2*'Hb reference spectrum'!C346","v":0.73895065958826289},{"$f":"SUMPRODUCT(C332:C360,{126;99;74;51;30;11;-6;-21;-34;-45;-54;-61;-66;-69;-70;-69;-66;-61;-54;-45;-34;-21;-6;11;30;51;74;99;126})/56637","v":-2.1868240248996556E-4},4.7821993158783292E-8]
[{"$f":"'Hb reference spectrum'!A347","v":477.5},0.79300000000000004,{"$f":"B347-$H$2*'Hb reference spectrum'!C347","v":0.74757835098981873},{"$f":"SUMPRODUCT(C333:C361,{126;99;74;51;30;11;-6;-21;-34;-45;-54;-61;-66;-69;-70;-69;-66;-61;-54;-45;-34;-21;-6;11;30;51;74;99;126})/56637","v":-2.2366365509483629E-4},5.0025430610381886E-8]
[{"$f":"'Hb reference spectrum'!A348","v":477},0.80200000000000005,{"$f":"B348-$H$2*'Hb reference spectrum'!C348","v":0.75620604239137468},{"$f":"SUMPRODUCT(C334:C362,{126;99;74;51;30;11;-6;-21;-34;-45;-54;-61;-66;-69;-70;-69;-66;-61;-54;-45;-34;-21;-6;11;30;51;74;99;126})/56637","v":-2.2783353093489402E-4},5.1908117818261308E-8]
[{"$f":"'Hb reference spectrum'!A349","v":476.5},0.81100000000000005,{"$f":"B349-$H$2*'Hb reference spectrum'!C349","v":0.76446142519448645},{"$f":"SUMPRODUCT(C335:C363,{126;99;74;51;30;11;-6;-21;-34;-45;-54;-61;-66;-69;-70;-69;-66;-61;-54;-45;-34;-21;-6;11;30;51;74;99;126})/56637","v":-2.3067418397002963E-4},5.3210579150239075E-8]
[{"$f":"'Hb reference spectrum'!A350","v":476},0.82,{"$f":"B350-$H$2*'Hb reference spectrum'!C350","v":0.77308911659604229},{"$f":"SUMPRODUCT(C336:C364,{126;99;74;51;30;11;-6;-21;-34;-45;-54;-61;-66;-69;-70;-69;-66;-61;-54;-45;-34;-21;-6;11;30;51;74;99;126})/56637","v":-2.3289855073616752E-4},5.4241734935007197E-8]
[{"$f":"'Hb reference spectrum'!A351","v":475.5},0.82799999999999996,{"$f":"B351-$H$2*'Hb reference spectrum'!C351","v":0.78034449939915407},{"$f":"SUMPRODUCT(C337:C365,{126;99;74;51;30;11;-6;-21;-34;-45;-54;-61;-66;-69;-70;-69;-66;-61;-54;-45;-34;-21;-6;11;30;51;74;99;126})/56637","v":-2.3461631784062157E-4},5.5044816597091565E-8]
[{"$f":"'Hb reference spectrum'!A352","v":475},0.83599999999999997,{"$f":"B352-$H$2*'Hb reference spectrum'!C352","v":0.78834449939915408},{"$f":"SUMPRODUCT(C338:C366,{126;99;74;51;30;11;-6;-21;-34;-45;-54;-61;-66;-69;-70;-69;-66;-61;-54;-45;-34;-21;-6;11;30;51;74;99;126})/56637","v":-2.3699046745015244E-4},5.6164481662241768E-8]
[{"$f":"'Hb reference spectrum'!A353","v":474.5},0.84399999999999997,{"$f":"B353-$H$2*'Hb reference spectrum'!C353","v":0.79559988220226596},{"$f":"SUMPRODUCT(C339:C367,{126;99;74;51;30;11;-6;-21;-34;-45;-54;-61;-66;-69;-70;-69;-66;-61;-54;-45;-34;-21;-6;11;30;51;74;99;126})/56637","v":-2.3530730545051455E-4},5.5369527998381751E-8]
[{"$f":"'Hb reference spectrum'!A354","v":474},0.85199999999999998,{"$f":"B354-$H$2*'Hb reference spectrum'!C354","v":0.80322757360382169},{"$f":"SUMPRODUCT(C340:C368,{126;99;74;51;30;11;-6;-21;-34;-45;-54;-61;-66;-69;-70;-69;-66;-61;-54;-45;-34;-21;-6;11;30;51;74;99;126})/56637","v":-2.3591017521753155E-4},5.5653610771166434E-8]
[{"$f":"'Hb reference spectrum'!A355","v":473.5},0.85899999999999999,{"$f":"B355-$H$2*'Hb reference spectrum'!C355","v":0.80985526500537763},{"$f":"SUMPRODUCT(C341:C369,{126;99;74;51;30;11;-6;-21;-34;-45;-54;-61;-66;-69;-70;-69;-66;-61;-54;-45;-34;-21;-6;11;30;51;74;99;126})/56637","v":-2.347260624707883E-4},5.5096324403040408E-8]
[{"$f":"'Hb reference spectrum'!A356","v":473},0.86599999999999999,{"$f":"B356-$H$2*'Hb reference spectrum'!C356","v":0.81611064780848941},{"$f":"SUMPRODUCT(C342:C370,{126;99;74;51;30;11;-6;-21;-34;-45;-54;-61;-66;-69;-70;-69;-66;-61;-54;-45;-34;-21;-6;11;30;51;74;99;126})/56637","v":-2.3260334089553663E-4},5.4104314195765223E-8]
[{"$f":"'Hb reference spectrum'!A357","v":472.5},0.873,{"$f":"B357-$H$2*'Hb reference spectrum'!C357","v":0.82273833921004536},{"$f":"SUMPRODUCT(C343:C371,{126;99;74;51;30;11;-6;-21;-34;-45;-54;-61;-66;-69;-70;-69;-66;-61;-54;-45;-34;-21;-6;11;30;51;74;99;126})/56637","v":-2.3284010109700842E-4},5.4214512678865106E-8]
[{"$f":"'Hb reference spectrum'!A358","v":472},0.88,{"$f":"B358-$H$2*'Hb reference spectrum'!C358","v":0.82899372201315713},{"$f":"SUMPRODUCT(C344:C372,{126;99;74;51;30;11;-6;-21;-34;-45;-54;-61;-66;-69;-70;-69;-66;-61;-54;-45;-34;-21;-6;11;30;51;74;99;126})/56637","v":-2.3099352845929458E-4},5.3358010190074938E-8]
[{"$f":"'Hb reference spectrum'!A359","v":471.5},0.88600000000000001,{"$f":"B359-$H$2*'Hb reference spectrum'!C359","v":0.83462141341471308},{"$f":"SUMPRODUCT(C345:C373,{126;99;74;51;30;11;-6;-21;-34;-45;-54;-61;-66;-69;-70;-69;-66;-61;-54;-45;-34;-21;-6;11;30;51;74;99;126})/56637","v":-2.2936838831372279E-4},5.2609857557634721E-8]
[{"$f":"'Hb reference spectrum'!A360","v":471},0.89200000000000002,{"$f":"B360-$H$2*'Hb reference spectrum'!C360","v":0.83987679621782485},{"$f":"SUMPRODUCT(C346:C374,{126;99;74;51;30;11;-6;-21;-34;-45;-54;-61;-66;-69;-70;-69;-66;-61;-54;-45;-34;-21;-6;11;30;51;74;99;126})/56637","v":-2.2561015138370378E-4},5.0899940407377736E-8]
[{"$f":"'Hb reference spectrum'!A361","v":470.5},0.89900000000000002,{"$f":"B361-$H$2*'Hb reference spectrum'!C361","v":0.84613217902093663},{"$f":"SUMPRODUCT(C347:C375,{126;99;74;51;30;11;-6;-21;-34;-45;-54;-61;-66;-69;-70;-69;-66;-61;-54;-45;-34;-21;-6;11;30;51;74;99;126})/56637","v":-2.2239920700544078E-4},4.9461407276648898E-8]
[{"$f":"'Hb reference spectrum'!A362","v":470},0.90400000000000003,{"$f":"B362-$H$2*'Hb reference spectrum'!C362","v":0.85075987042249246},{"$f":"SUMPRODUCT(C348:C376,{126;99;74;51;30;11;-6;-21;-34;-45;-54;-61;-66;-69;-70;-69;-66;-61;-54;-45;-34;-21;-6;11;30;51;74;99;126})/56637","v":-2.1908911489826983E-4},4.8000040266907281E-8]
[{"$f":"'Hb reference spectrum'!A363","v":469.5},0.91,{"$f":"B363-$H$2*'Hb reference spectrum'!C363","v":0.85601525322560434},{"$f":"SUMPRODUCT(C349:C377,{126;99;74;51;30;11;-6;-21;-34;-45;-54;-61;-66;-69;-70;-69;-66;-61;-54;-45;-34;-21;-6;11;30;51;74;99;126})/56637","v":-2.1659360451791452E-4},4.6912789518062761E-8]
[{"$f":"'Hb reference spectrum'!A364","v":469},0.91500000000000004,{"$f":"B364-$H$2*'Hb reference spectrum'!C364","v":0.86064294462716018},{"$f":"SUMPRODUCT(C350:C378,{126;99;74;51;30;11;-6;-21;-34;-45;-54;-61;-66;-69;-70;-69;-66;-61;-54;-45;-34;-21;-6;11;30;51;74;99;126})/56637","v":-2.1402676142786669E-4},4.5807454607300965E-8]
[{"$f":"'Hb reference spectrum'!A365","v":468.5},0.92100000000000004,{"$f":"B365-$H$2*'Hb reference spectrum'!C365","v":0.86589832743027206},{"$f":"SUMPRODUCT(C351:C379,{126;99;74;51;30;11;-6;-21;-34;-45;-54;-61;-66;-69;-70;-69;-66;-61;-54;-45;-34;-21;-6;11;30;51;74;99;126})/56637","v":-2.1257487369811002E-4},4.5188076927767428E-8]
[{"$f":"'Hb reference spectrum'!A366","v":468},0.92600000000000005,{"$f":"B366-$H$2*'Hb reference spectrum'!C366","v":0.87015371023338384},{"$f":"SUMPRODUCT(C352:C380,{126;99;74;51;30;11;-6;-21;-34;-45;-54;-61;-66;-69;-70;-69;-66;-61;-54;-45;-34;-21;-6;11;30;51;74;99;126})/56637","v":-2.0907849283474198E-4},4.3713816166047255E-8]
[{"$f":"'Hb reference spectrum'!A367","v":467.5},0.93100000000000005,{"$f":"B367-$H$2*'Hb reference spectrum'!C367","v":0.8744090930364955},{"$f":"SUMPRODUCT(C353:C381,{126;99;74;51;30;11;-6;-21;-34;-45;-54;-61;-66;-69;-70;-69;-66;-61;-54;-45;-34;-21;-6;11;30;51;74;99;126})/56637","v":-2.0565866129708144E-4},4.2295484966507664E-8]
[{"$f":"'Hb reference spectrum'!A368","v":467},0.93500000000000005,{"$f":"B368-$H$2*'Hb reference spectrum'!C368","v":0.87766447583960738},{"$f":"SUMPRODUCT(C354:C382,{126;99;74;51;30;11;-6;-21;-34;-45;-54;-61;-66;-69;-70;-69;-66;-61;-54;-45;-34;-21;-6;11;30;51;74;99;126})/56637","v":-2.0318276085031176E-4},4.1283234306754982E-8]
[{"$f":"'Hb reference spectrum'!A369","v":466.5},0.94,{"$f":"B369-$H$2*'Hb reference spectrum'!C369","v":0.88229216724116311},{"$f":"SUMPRODUCT(C355:C383,{126;99;74;51;30;11;-6;-21;-34;-45;-54;-61;-66;-69;-70;-69;-66;-61;-54;-45;-34;-21;-6;11;30;51;74;99;126})/56637","v":-2.0268192163545965E-4},4.1079961357842607E-8]
[{"$f":"'Hb reference spectrum'!A370","v":466},0.94399999999999995,{"$f":"B370-$H$2*'Hb reference spectrum'!C370","v":0.88517524144583082},{"$f":"SUMPRODUCT(C356:C384,{126;99;74;51;30;11;-6;-21;-34;-45;-54;-61;-66;-69;-70;-69;-66;-61;-54;-45;-34;-21;-6;11;30;51;74;99;126})/56637","v":-2.0186044417669648E-4},4.0747638923213197E-8]
[{"$f":"'Hb reference spectrum'!A371","v":465.5},0.94799999999999995,{"$f":"B371-$H$2*'Hb reference spectrum'!C371","v":0.88843062424894259},{"$f":"SUMPRODUCT(C357:C385,{126;99;74;51;30;11;-6;-21;-34;-45;-54;-61;-66;-69;-70;-69;-66;-61;-54;-45;-34;-21;-6;11;30;51;74;99;126})/56637","v":-1.9983127355273399E-4},3.9932537889707604E-8]
[{"$f":"'Hb reference spectrum'!A372","v":465},0.95299999999999996,{"$f":"B372-$H$2*'Hb reference spectrum'!C372","v":0.8923136984536103},{"$f":"SUMPRODUCT(C358:C386,{126;99;74;51;30;11;-6;-21;-34;-45;-54;-61;-66;-69;-70;-69;-66;-61;-54;-45;-34;-21;-6;11;30;51;74;99;126})/56637","v":-1.9857251748794954E-4},3.9431044701502025E-8]
[{"$f":"'Hb reference spectrum'!A373","v":464.5},0.95599999999999996,{"$f":"B373-$H$2*'Hb reference spectrum'!C373","v":0.89494138985516614},{"$f":"SUMPRODUCT(C359:C387,{126;99;74;51;30;11;-6;-21;-34;-45;-54;-61;-66;-69;-70;-69;-66;-61;-54;-45;-34;-21;-6;11;30;51;74;99;126})/56637","v":-1.9880862301257791E-4},3.9524868584157327E-8]
[{"$f":"'Hb reference spectrum'!A374","v":464},0.96,{"$f":"B374-$H$2*'Hb reference spectrum'!C374","v":0.89782446405983385},{"$f":"SUMPRODUCT(C360:C388,{126;99;74;51;30;11;-6;-21;-34;-45;-54;-61;-66;-69;-70;-69;-66;-61;-54;-45;-34;-21;-6;11;30;51;74;99;126})/56637","v":-1.9665699875648474E-4},3.8673975159908043E-8]
[{"$f":"'Hb reference spectrum'!A375","v":463.5},0.96399999999999997,{"$f":"B375-$H$2*'Hb reference spectrum'!C375","v":0.90070753826450145},{"$f":"SUMPRODUCT(C361:C389,{126;99;74;51;30;11;-6;-21;-34;-45;-54;-61;-66;-69;-70;-69;-66;-61;-54;-45;-34;-21;-6;11;30;51;74;99;126})/56637","v":-1.9539807902249441E-4},3.8180409285680969E-8]
[{"$f":"'Hb reference spectrum'!A376","v":463},0.96699999999999997,{"$f":"B376-$H$2*'Hb reference spectrum'!C376","v":0.90296292106761333},{"$f":"SUMPRODUCT(C362:C390,{126;99;74;51;30;11;-6;-21;-34;-45;-54;-61;-66;-69;-70;-69;-66;-61;-54;-45;-34;-21;-6;11;30;51;74;99;126})/56637","v":-1.9343752195416985E-4},3.7418074899769942E-8]
[{"$f":"'Hb reference spectrum'!A377","v":462.5},0.97,{"$f":"B377-$H$2*'Hb reference spectrum'!C377","v":0.90484599527228105},{"$f":"SUMPRODUCT(C363:C391,{126;99;74;51;30;11;-6;-21;-34;-45;-54;-61;-66;-69;-70;-69;-66;-61;-54;-45;-34;-21;-6;11;30;51;74;99;126})/56637","v":-1.9051896261613736E-4},3.6297475116329149E-8]
[{"$f":"'Hb reference spectrum'!A378","v":462},0.97299999999999998,{"$f":"B378-$H$2*'Hb reference spectrum'!C378","v":0.90672906947694876},{"$f":"SUMPRODUCT(C364:C392,{126;99;74;51;30;11;-6;-21;-34;-45;-54;-61;-66;-69;-70;-69;-66;-61;-54;-45;-34;-21;-6;11;30;51;74;99;126})/56637","v":-1.8897830236666628E-4},3.5712798765387149E-8]
[{"$f":"'Hb reference spectrum'!A379","v":461.5},0.97599999999999998,{"$f":"B379-$H$2*'Hb reference spectrum'!C379","v":0.90861214368161636},{"$f":"SUMPRODUCT(C365:C393,{126;99;74;51;30;11;-6;-21;-34;-45;-54;-61;-66;-69;-70;-69;-66;-61;-54;-45;-34;-21;-6;11;30;51;74;99;126})/56637","v":-1.8557775342417483E-4},3.4439102565963832E-8]
[{"$f":"'Hb reference spectrum'!A380","v":461},0.97899999999999998,{"$f":"B380-$H$2*'Hb reference spectrum'!C380","v":0.91049521788628407},{"$f":"SUMPRODUCT(C366:C394,{126;99;74;51;30;11;-6;-21;-34;-45;-54;-61;-66;-69;-70;-69;-66;-61;-54;-45;-34;-21;-6;11;30;51;74;99;126})/56637","v":-1.8405567346952713E-4},3.3876490936321194E-8]
[{"$f":"'Hb reference spectrum'!A381","v":460.5},0.98199999999999998,{"$f":"B381-$H$2*'Hb reference spectrum'!C381","v":0.91237829209095178},{"$f":"SUMPRODUCT(C367:C395,{126;99;74;51;30;11;-6;-21;-34;-45;-54;-61;-66;-69;-70;-69;-66;-61;-54;-45;-34;-21;-6;11;30;51;74;99;126})/56637","v":-1.8136718989372858E-4},3.2894057569947802E-8]
[{"$f":"'Hb reference spectrum'!A382","v":460},0.98399999999999999,{"$f":"B382-$H$2*'Hb reference spectrum'!C382","v":0.91326136629561938},{"$f":"SUMPRODUCT(C368:C396,{126;99;74;51;30;11;-6;-21;-34;-45;-54;-61;-66;-69;-70;-69;-66;-61;-54;-45;-34;-21;-6;11;30;51;74;99;126})/56637","v":-1.7870684867557154E-4},3.1936137763553625E-8]
[{"$f":"'Hb reference spectrum'!A383","v":459.5},0.98599999999999999,{"$f":"B383-$H$2*'Hb reference spectrum'!C383","v":0.91414444050028709},{"$f":"SUMPRODUCT(C369:C397,{126;99;74;51;30;11;-6;-21;-34;-45;-54;-61;-66;-69;-70;-69;-66;-61;-54;-45;-34;-21;-6;11;30;51;74;99;126})/56637","v":-1.7286598120670607E-4},2.9882647458557261E-8]
[{"$f":"'Hb reference spectrum'!A384","v":459},0.98799999999999999,{"$f":"B384-$H$2*'Hb reference spectrum'!C384","v":0.9150275147049548},{"$f":"SUMPRODUCT(C370:C398,{126;99;74;51;30;11;-6;-21;-34;-45;-54;-61;-66;-69;-70;-69;-66;-61;-54;-45;-34;-21;-6;11;30;51;74;99;126})/56637","v":-1.6859565868341367E-4},2.8424496126894121E-8]
[{"$f":"'Hb reference spectrum'!A385","v":458.5},0.99,{"$f":"B385-$H$2*'Hb reference spectrum'!C385","v":0.9159105889096224},{"$f":"SUMPRODUCT(C371:C399,{126;99;74;51;30;11;-6;-21;-34;-45;-54;-61;-66;-69;-70;-69;-66;-61;-54;-45;-34;-21;-6;11;30;51;74;99;126})/56637","v":-1.6504734375123305E-4},2.7240625679337687E-8]
[{"$f":"'Hb reference spectrum'!A386","v":458},0.99199999999999999,{"$f":"B386-$H$2*'Hb reference spectrum'!C386","v":0.91642135451584594},{"$f":"SUMPRODUCT(C372:C400,{126;99;74;51;30;11;-6;-21;-34;-45;-54;-61;-66;-69;-70;-69;-66;-61;-54;-45;-34;-21;-6;11;30;51;74;99;126})/56637","v":-1.5881646415961937E-4},{"$f":"D386^2","v":2.5222669288163663E-8}]
[{"$f":"'Hb reference spectrum'!A387","v":457.5},0.99299999999999999,{"$f":"B387-$H$2*'Hb reference spectrum'!C387","v":0.91630442872051365},{"$f":"SUMPRODUCT(C373:C401,{126;99;74;51;30;11;-6;-21;-34;-45;-54;-61;-66;-69;-70;-69;-66;-61;-54;-45;-34;-21;-6;11;30;51;74;99;126})/56637","v":-1.5395131328573415E-4},2.3701006862402264E-8]
[{"$f":"'Hb reference spectrum'!A388","v":457},0.995,{"$f":"B388-$H$2*'Hb reference spectrum'!C388","v":0.91718750292518125},{"$f":"SUMPRODUCT(C374:C402,{126;99;74;51;30;11;-6;-21;-34;-45;-54;-61;-66;-69;-70;-69;-66;-61;-54;-45;-34;-21;-6;11;30;51;74;99;126})/56637","v":-1.4781100137547495E-4},2.1848092127620659E-8]
[{"$f":"'Hb reference spectrum'!A389","v":456.5},0.996,{"$f":"B389-$H$2*'Hb reference spectrum'!C389","v":0.91632595993296073},{"$f":"SUMPRODUCT(C375:C403,{126;99;74;51;30;11;-6;-21;-34;-45;-54;-61;-66;-69;-70;-69;-66;-61;-54;-45;-34;-21;-6;11;30;51;74;99;126})/56637","v":-1.4138275551813369E-4},1.9989083557900363E-8]
[{"$f":"'Hb reference spectrum'!A390","v":456},0.998,{"$f":"B390-$H$2*'Hb reference spectrum'!C390","v":0.91720903413762844},{"$f":"SUMPRODUCT(C376:C404,{126;99;74;51;30;11;-6;-21;-34;-45;-54;-61;-66;-69;-70;-69;-66;-61;-54;-45;-34;-21;-6;11;30;51;74;99;126})/56637","v":-1.374557276648038E-4},1.8894077067860708E-8]
[{"$f":"'Hb reference spectrum'!A391","v":455.5},0.999,{"$f":"B391-$H$2*'Hb reference spectrum'!C391","v":0.91671979974385198},{"$f":"SUMPRODUCT(C377:C405,{126;99;74;51;30;11;-6;-21;-34;-45;-54;-61;-66;-69;-70;-69;-66;-61;-54;-45;-34;-21;-6;11;30;51;74;99;126})/56637","v":-1.3232052083831769E-4},1.7508720234923666E-8]
[{"$f":"'Hb reference spectrum'!A392","v":455},1,{"$f":"B392-$H$2*'Hb reference spectrum'!C392","v":0.91585825675163157},{"$f":"SUMPRODUCT(C378:C406,{126;99;74;51;30;11;-6;-21;-34;-45;-54;-61;-66;-69;-70;-69;-66;-61;-54;-45;-34;-21;-6;11;30;51;74;99;126})/56637","v":-1.2633346604901311E-4},1.596014464395715E-8]
[{"$f":"'Hb reference spectrum'!A393","v":454.5},1.0009999999999999,{"$f":"B393-$H$2*'Hb reference spectrum'!C393","v":0.91574133095629906},{"$f":"SUMPRODUCT(C379:C407,{126;99;74;51;30;11;-6;-21;-34;-45;-54;-61;-66;-69;-70;-69;-66;-61;-54;-45;-34;-21;-6;11;30;51;74;99;126})/56637","v":-1.1978347405956577E-4},1.4348080657778666E-8]
[{"$f":"'Hb reference spectrum'!A394","v":454},1.002,{"$f":"B394-$H$2*'Hb reference spectrum'!C394","v":0.91487978796407865},{"$f":"SUMPRODUCT(C380:C408,{126;99;74;51;30;11;-6;-21;-34;-45;-54;-61;-66;-69;-70;-69;-66;-61;-54;-45;-34;-21;-6;11;30;51;74;99;126})/56637","v":-1.1308266958796418E-4},1.2787690161140678E-8]
[{"$f":"'Hb reference spectrum'!A395","v":453.5},1.0029999999999999,{"$f":"B395-$H$2*'Hb reference spectrum'!C395","v":0.91439055357030208},{"$f":"SUMPRODUCT(C381:C409,{126;99;74;51;30;11;-6;-21;-34;-45;-54;-61;-66;-69;-70;-69;-66;-61;-54;-45;-34;-21;-6;11;30;51;74;99;126})/56637","v":-1.0759466405155902E-4},1.1576611732367847E-8]
[{"$f":"'Hb reference spectrum'!A396","v":453},1.004,{"$f":"B396-$H$2*'Hb reference spectrum'!C396","v":0.91352901057808167},{"$f":"SUMPRODUCT(C382:C410,{126;99;74;51;30;11;-6;-21;-34;-45;-54;-61;-66;-69;-70;-69;-66;-61;-54;-45;-34;-21;-6;11;30;51;74;99;126})/56637","v":-1.0157582895783966E-4},1.0317649028472297E-8]
[{"$f":"'Hb reference spectrum'!A397","v":452.5},1.0049999999999999,{"$f":"B397-$H$2*'Hb reference spectrum'!C397","v":0.91303977618430521},{"$f":"SUMPRODUCT(C383:C411,{126;99;74;51;30;11;-6;-21;-34;-45;-54;-61;-66;-69;-70;-69;-66;-61;-54;-45;-34;-21;-6;11;30;51;74;99;126})/56637","v":-9.6436551199809899E-5},9.3000084073135554E-9]
[{"$f":"'Hb reference spectrum'!A398","v":452},1.006,{"$f":"B398-$H$2*'Hb reference spectrum'!C398","v":0.91217823319208469},{"$f":"SUMPRODUCT(C384:C412,{126;99;74;51;30;11;-6;-21;-34;-45;-54;-61;-66;-69;-70;-69;-66;-61;-54;-45;-34;-21;-6;11;30;51;74;99;126})/56637","v":-9.2170473676638149E-5},8.4953962177758465E-9]
[{"$f":"'Hb reference spectrum'!A399","v":451.5},1.006,{"$f":"B399-$H$2*'Hb reference spectrum'!C399","v":0.90994438160141999},{"$f":"SUMPRODUCT(C385:C413,{126;99;74;51;30;11;-6;-21;-34;-45;-54;-61;-66;-69;-70;-69;-66;-61;-54;-45;-34;-21;-6;11;30;51;74;99;126})/56637","v":-8.6660740906267328E-5},7.5100840144231954E-9]
[{"$f":"'Hb reference spectrum'!A400","v":451},1.0069999999999999,{"$f":"B400-$H$2*'Hb reference spectrum'!C400","v":0.90945514720764353},{"$f":"SUMPRODUCT(C386:C414,{126;99;74;51;30;11;-6;-21;-34;-45;-54;-61;-66;-69;-70;-69;-66;-61;-54;-45;-34;-21;-6;11;30;51;74;99;126})/56637","v":-8.1434380143800451E-5},6.6315582694050013E-9]
[{"$f":"'Hb reference spectrum'!A401","v":450.5},1.008,{"$f":"B401-$H$2*'Hb reference spectrum'!C401","v":0.90822129561697895},{"$f":"SUMPRODUCT(C387:C415,{126;99;74;51;30;11;-6;-21;-34;-45;-54;-61;-66;-69;-70;-69;-66;-61;-54;-45;-34;-21;-6;11;30;51;74;99;126})/56637","v":-7.9125601903780478E-5},6.2608608766355492E-9]
[{"$f":"'Hb reference spectrum'!A402","v":450},1.0089999999999999,{"$f":"B402-$H$2*'Hb reference spectrum'!C402","v":0.90698744402631426},{"$f":"SUMPRODUCT(C388:C416,{126;99;74;51;30;11;-6;-21;-34;-45;-54;-61;-66;-69;-70;-69;-66;-61;-54;-45;-34;-21;-6;11;30;51;74;99;126})/56637","v":-7.5626084500626952E-5},5.7193046568959683E-9]
[{"$f":"'Hb reference spectrum'!A403","v":449.5},1.01,{"$f":"B403-$H$2*'Hb reference spectrum'!C403","v":0.90575359243564968},{"$f":"SUMPRODUCT(C389:C417,{126;99;74;51;30;11;-6;-21;-34;-45;-54;-61;-66;-69;-70;-69;-66;-61;-54;-45;-34;-21;-6;11;30;51;74;99;126})/56637","v":-7.0714279396496228E-5},5.0005093105657313E-9]
[{"$f":"'Hb reference spectrum'!A404","v":449},1.01,{"$f":"B404-$H$2*'Hb reference spectrum'!C404","v":0.9035197408449851},{"$f":"SUMPRODUCT(C390:C418,{126;99;74;51;30;11;-6;-21;-34;-45;-54;-61;-66;-69;-70;-69;-66;-61;-54;-45;-34;-21;-6;11;30;51;74;99;126})/56637","v":-6.5691267038659867E-5},4.3153425651445199E-9]
[{"$f":"'Hb reference spectrum'!A405","v":448.5},1.0109999999999999,{"$f":"B405-$H$2*'Hb reference spectrum'!C405","v":0.90228588925432029},{"$f":"SUMPRODUCT(C391:C419,{126;99;74;51;30;11;-6;-21;-34;-45;-54;-61;-66;-69;-70;-69;-66;-61;-54;-45;-34;-21;-6;11;30;51;74;99;126})/56637","v":-6.2565631301911471E-5},3.9144582202067245E-9]
[{"$f":"'Hb reference spectrum'!A406","v":448},1.012,{"$f":"B406-$H$2*'Hb reference spectrum'!C406","v":0.90067972906521154},{"$f":"SUMPRODUCT(C392:C420,{126;99;74;51;30;11;-6;-21;-34;-45;-54;-61;-66;-69;-70;-69;-66;-61;-54;-45;-34;-21;-6;11;30;51;74;99;126})/56637","v":-5.8541968780699156E-5},3.4271621087203546E-9]
[{"$f":"'Hb reference spectrum'!A407","v":447.5},1.0129999999999999,{"$f":"B407-$H$2*'Hb reference spectrum'!C407","v":0.89907356887610268},{"$f":"SUMPRODUCT(C393:C421,{126;99;74;51;30;11;-6;-21;-34;-45;-54;-61;-66;-69;-70;-69;-66;-61;-54;-45;-34;-21;-6;11;30;51;74;99;126})/56637","v":-5.2906635439061664E-5},2.7991120734817754E-9]
[{"$f":"'Hb reference spectrum'!A408","v":447},1.014,{"$f":"B408-$H$2*'Hb reference spectrum'!C408","v":0.89746740868699448},{"$f":"SUMPRODUCT(C394:C422,{126;99;74;51;30;11;-6;-21;-34;-45;-54;-61;-66;-69;-70;-69;-66;-61;-54;-45;-34;-21;-6;11;30;51;74;99;126})/56637","v":-4.9503171648856726E-5},2.4505640032961724E-9]
[{"$f":"'Hb reference spectrum'!A409","v":446.5},1.0149999999999999,{"$f":"B409-$H$2*'Hb reference spectrum'!C409","v":0.89548893989944112},{"$f":"SUMPRODUCT(C395:C423,{126;99;74;51;30;11;-6;-21;-34;-45;-54;-61;-66;-69;-70;-69;-66;-61;-54;-45;-34;-21;-6;11;30;51;74;99;126})/56637","v":-4.4305391428488435E-5},1.9629677096315765E-9]
[{"$f":"'Hb reference spectrum'!A410","v":446},1.0169999999999999,{"$f":"B410-$H$2*'Hb reference spectrum'!C410","v":0.89451047111188786},{"$f":"SUMPRODUCT(C396:C424,{126;99;74;51;30;11;-6;-21;-34;-45;-54;-61;-66;-69;-70;-69;-66;-61;-54;-45;-34;-21;-6;11;30;51;74;99;126})/56637","v":-3.8724822155739007E-5},1.4996118509936147E-9]
[{"$f":"'Hb reference spectrum'!A411","v":445.5},1.018,{"$f":"B411-$H$2*'Hb reference spectrum'!C411","v":0.89215969372589099},{"$f":"SUMPRODUCT(C397:C425,{126;99;74;51;30;11;-6;-21;-34;-45;-54;-61;-66;-69;-70;-69;-66;-61;-54;-45;-34;-21;-6;11;30;51;74;99;126})/56637","v":-3.3192765497416462E-5},1.1017596813664808E-9]
[{"$f":"'Hb reference spectrum'!A412","v":445},1.0189999999999999,{"$f":"B412-$H$2*'Hb reference spectrum'!C412","v":0.8898089163398939},{"$f":"SUMPRODUCT(C398:C426,{126;99;74;51;30;11;-6;-21;-34;-45;-54;-61;-66;-69;-70;-69;-66;-61;-54;-45;-34;-21;-6;11;30;51;74;99;126})/56637","v":-3.0664022588468771E-5},9.4028228130612295E-10]
[{"$f":"'Hb reference spectrum'!A413","v":444.5},1.0209999999999999,{"$f":"B413-$H$2*'Hb reference spectrum'!C413","v":0.88845813895389691},{"$f":"SUMPRODUCT(C399:C427,{126;99;74;51;30;11;-6;-21;-34;-45;-54;-61;-66;-69;-70;-69;-66;-61;-54;-45;-34;-21;-6;11;30;51;74;99;126})/56637","v":-2.8061829669454799E-5},7.874662843974937E-10]
[{"$f":"'Hb reference spectrum'!A414","v":444},1.0229999999999999,{"$f":"B414-$H$2*'Hb reference spectrum'!C414","v":0.88673505296945621},{"$f":"SUMPRODUCT(C400:C428,{126;99;74;51;30;11;-6;-21;-34;-45;-54;-61;-66;-69;-70;-69;-66;-61;-54;-45;-34;-21;-6;11;30;51;74;99;126})/56637","v":-2.2976724526007937E-5},5.2792986994405467E-10]
[{"$f":"'Hb reference spectrum'!A415","v":443.5},1.024,{"$f":"B415-$H$2*'Hb reference spectrum'!C415","v":0.88363965838657077},{"$f":"SUMPRODUCT(C401:C429,{126;99;74;51;30;11;-6;-21;-34;-45;-54;-61;-66;-69;-70;-69;-66;-61;-54;-45;-34;-21;-6;11;30;51;74;99;126})/56637","v":-1.8973923269204182E-5},3.6000976422564792E-10]
[{"$f":"'Hb reference spectrum'!A416","v":443},1.026,{"$f":"B416-$H$2*'Hb reference spectrum'!C416","v":0.88154426380368633},{"$f":"SUMPRODUCT(C402:C430,{126;99;74;51;30;11;-6;-21;-34;-45;-54;-61;-66;-69;-70;-69;-66;-61;-54;-45;-34;-21;-6;11;30;51;74;99;126})/56637","v":-1.5021429788467938E-5},2.2564335288987194E-10]
[{"$f":"'Hb reference spectrum'!A417","v":442.5},1.0289999999999999,{"$f":"B417-$H$2*'Hb reference spectrum'!C417","v":0.88082117781924441},{"$f":"SUMPRODUCT(C403:C431,{126;99;74;51;30;11;-6;-21;-34;-45;-54;-61;-66;-69;-70;-69;-66;-61;-54;-45;-34;-21;-6;11;30;51;74;99;126})/56637","v":-1.1444444266878369E-5},1.3097530457768518E-10]
[{"$f":"'Hb reference spectrum'!A418","v":442},1.0309999999999999,{"$f":"B418-$H$2*'Hb reference spectrum'!C418","v":0.87798116603947129},{"$f":"SUMPRODUCT(C404:C432,{126;99;74;51;30;11;-6;-21;-34;-45;-54;-61;-66;-69;-70;-69;-66;-61;-54;-45;-34;-21;-6;11;30;51;74;99;126})/56637","v":-9.4170844035967147E-6},8.868147866446449E-11]
[{"$f":"'Hb reference spectrum'!A419","v":441.5},1.034,{"$f":"B419-$H$2*'Hb reference spectrum'!C419","v":0.87614115425969841},{"$f":"SUMPRODUCT(C405:C433,{126;99;74;51;30;11;-6;-21;-34;-45;-54;-61;-66;-69;-70;-69;-66;-61;-54;-45;-34;-21;-6;11;30;51;74;99;126})/56637","v":-5.8234774180338147E-6},3.3912889238349783E-11]
[{"$f":"'Hb reference spectrum'!A420","v":441},1.0369999999999999,{"$f":"B420-$H$2*'Hb reference spectrum'!C420","v":0.87430114247992419},{"$f":"SUMPRODUCT(C406:C434,{126;99;74;51;30;11;-6;-21;-34;-45;-54;-61;-66;-69;-70;-69;-66;-61;-54;-45;-34;-21;-6;11;30;51;74;99;126})/56637","v":-9.7285150646852367E-7},9.4644005363807603E-13]
[{"$f":"'Hb reference spectrum'!A421","v":440.5},1.04,{"$f":"B421-$H$2*'Hb reference spectrum'!C421","v":0.8724611307001513},{"$f":"SUMPRODUCT(C407:C435,{126;99;74;51;30;11;-6;-21;-34;-45;-54;-61;-66;-69;-70;-69;-66;-61;-54;-45;-34;-21;-6;11;30;51;74;99;126})/56637","v":4.5147054461215075E-6},2.0382565265239201E-11]
[{"$f":"'Hb reference spectrum'!A422","v":440},1.0429999999999999,{"$f":"B422-$H$2*'Hb reference spectrum'!C422","v":0.86987650172348951},{"$f":"SUMPRODUCT(C408:C436,{126;99;74;51;30;11;-6;-21;-34;-45;-54;-61;-66;-69;-70;-69;-66;-61;-54;-45;-34;-21;-6;11;30;51;74;99;126})/56637","v":8.5637331480777672E-6},7.3337525431485947E-11]
[{"$f":"'Hb reference spectrum'!A423","v":439.5},1.0469999999999999,{"$f":"B423-$H$2*'Hb reference spectrum'!C423","v":0.86829187274682784},{"$f":"SUMPRODUCT(C409:C437,{126;99;74;51;30;11;-6;-21;-34;-45;-54;-61;-66;-69;-70;-69;-66;-61;-54;-45;-34;-21;-6;11;30;51;74;99;126})/56637","v":1.0292556963333881E-5},1.0593672884347276E-10]
[{"$f":"'Hb reference spectrum'!A424","v":439},1.0509999999999999,{"$f":"B424-$H$2*'Hb reference spectrum'!C424","v":0.86670724377016628},{"$f":"SUMPRODUCT(C410:C438,{126;99;74;51;30;11;-6;-21;-34;-45;-54;-61;-66;-69;-70;-69;-66;-61;-54;-45;-34;-21;-6;11;30;51;74;99;126})/56637","v":1.3053107573612377E-5},1.7038361732829679E-10]
[{"$f":"'Hb reference spectrum'!A425","v":438.5},1.0549999999999999,{"$f":"B425-$H$2*'Hb reference spectrum'!C425","v":0.86475030619506088},{"$f":"SUMPRODUCT(C411:C439,{126;99;74;51;30;11;-6;-21;-34;-45;-54;-61;-66;-69;-70;-69;-66;-61;-54;-45;-34;-21;-6;11;30;51;74;99;126})/56637","v":1.1430328045573555E-5},1.3065239922942537E-10]
[{"$f":"'Hb reference spectrum'!A426","v":438},1.0589999999999999,{"$f":"B426-$H$2*'Hb reference spectrum'!C426","v":0.86204875142306692},{"$f":"SUMPRODUCT(C412:C440,{126;99;74;51;30;11;-6;-21;-34;-45;-54;-61;-66;-69;-70;-69;-66;-61;-54;-45;-34;-21;-6;11;30;51;74;99;126})/56637","v":1.2043980008154219E-5},1.450574544368185E-10]
[{"$f":"'Hb reference spectrum'!A427","v":437.5},1.0640000000000001,{"$f":"B427-$H$2*'Hb reference spectrum'!C427","v":0.86034719665107318},{"$f":"SUMPRODUCT(C413:C441,{126;99;74;51;30;11;-6;-21;-34;-45;-54;-61;-66;-69;-70;-69;-66;-61;-54;-45;-34;-21;-6;11;30;51;74;99;126})/56637","v":1.365855007724087E-5},1.8655599021249657E-10]
[{"$f":"'Hb reference spectrum'!A428","v":437},1.069,{"$f":"B428-$H$2*'Hb reference spectrum'!C428","v":0.85827333328063415},{"$f":"SUMPRODUCT(C414:C442,{126;99;74;51;30;11;-6;-21;-34;-45;-54;-61;-66;-69;-70;-69;-66;-61;-54;-45;-34;-21;-6;11;30;51;74;99;126})/56637","v":1.0612178446942748E-5},1.126183313897562E-10]
[{"$f":"'Hb reference spectrum'!A429","v":436.5},1.0740000000000001,{"$f":"B429-$H$2*'Hb reference spectrum'!C429","v":0.85657177850864041},{"$f":"SUMPRODUCT(C415:C443,{126;99;74;51;30;11;-6;-21;-34;-45;-54;-61;-66;-69;-70;-69;-66;-61;-54;-45;-34;-21;-6;11;30;51;74;99;126})/56637","v":7.8040296416520447E-6},6.0902878647783748E-11]
[{"$f":"'Hb reference spectrum'!A430","v":436},1.08,{"$f":"B430-$H$2*'Hb reference spectrum'!C430","v":0.85475329794131416},{"$f":"SUMPRODUCT(C416:C444,{126;99;74;51;30;11;-6;-21;-34;-45;-54;-61;-66;-69;-70;-69;-66;-61;-54;-45;-34;-21;-6;11;30;51;74;99;126})/56637","v":6.1325634306206406E-6},3.7608334230585599E-11]
[{"$f":"'Hb reference spectrum'!A431","v":435.5},1.0860000000000001,{"$f":"B431-$H$2*'Hb reference spectrum'!C431","v":0.85293481737398791},{"$f":"SUMPRODUCT(C417:C445,{126;99;74;51;30;11;-6;-21;-34;-45;-54;-61;-66;-69;-70;-69;-66;-61;-54;-45;-34;-21;-6;11;30;51;74;99;126})/56637","v":3.7835841345295535E-6},1.431550890306375E-11]
[{"$f":"'Hb reference spectrum'!A432","v":435},1.0920000000000001,{"$f":"B432-$H$2*'Hb reference spectrum'!C432","v":0.85074402820821782},{"$f":"SUMPRODUCT(C418:C446,{126;99;74;51;30;11;-6;-21;-34;-45;-54;-61;-66;-69;-70;-69;-66;-61;-54;-45;-34;-21;-6;11;30;51;74;99;126})/56637","v":-1.2066174537656984E-6},1.4559256797320173E-12]
[{"$f":"'Hb reference spectrum'!A433","v":434.5},1.099,{"$f":"B433-$H$2*'Hb reference spectrum'!C433","v":0.84880862184555905},{"$f":"SUMPRODUCT(C419:C447,{126;99;74;51;30;11;-6;-21;-34;-45;-54;-61;-66;-69;-70;-69;-66;-61;-54;-45;-34;-21;-6;11;30;51;74;99;126})/56637","v":-5.6311150643733744E-6},3.1709456868212754E-11]
[{"$f":"'Hb reference spectrum'!A434","v":434},1.107,{"$f":"B434-$H$2*'Hb reference spectrum'!C434","v":0.84787321548290051},{"$f":"SUMPRODUCT(C420:C448,{126;99;74;51;30;11;-6;-21;-34;-45;-54;-61;-66;-69;-70;-69;-66;-61;-54;-45;-34;-21;-6;11;30;51;74;99;126})/56637","v":-1.1368372485460589E-5},1.2923989296817737E-10]
[{"$f":"'Hb reference spectrum'!A435","v":433.5},1.115,{"$f":"B435-$H$2*'Hb reference spectrum'!C435","v":0.84656550052179824},{"$f":"SUMPRODUCT(C421:C449,{126;99;74;51;30;11;-6;-21;-34;-45;-54;-61;-66;-69;-70;-69;-66;-61;-54;-45;-34;-21;-6;11;30;51;74;99;126})/56637","v":-1.8364554840221811E-5},3.3725687447951435E-10]
[{"$f":"'Hb reference spectrum'!A436","v":433},1.123,{"$f":"B436-$H$2*'Hb reference spectrum'!C436","v":0.8445131683638073},{"$f":"SUMPRODUCT(C422:C450,{126;99;74;51;30;11;-6;-21;-34;-45;-54;-61;-66;-69;-70;-69;-66;-61;-54;-45;-34;-21;-6;11;30;51;74;99;126})/56637","v":-2.711050629591484E-5},7.3497955162083822E-10]
[{"$f":"'Hb reference spectrum'!A437","v":432.5},1.131,{"$f":"B437-$H$2*'Hb reference spectrum'!C437","v":0.84208852760737152},{"$f":"SUMPRODUCT(C423:C451,{126;99;74;51;30;11;-6;-21;-34;-45;-54;-61;-66;-69;-70;-69;-66;-61;-54;-45;-34;-21;-6;11;30;51;74;99;126})/56637","v":-3.5350021759136463E-5},1.2496240383714215E-9]
[{"$f":"'Hb reference spectrum'!A438","v":432},1.1399999999999999,{"$f":"B438-$H$2*'Hb reference spectrum'!C438","v":0.84066388685093674},{"$f":"SUMPRODUCT(C424:C452,{126;99;74;51;30;11;-6;-21;-34;-45;-54;-61;-66;-69;-70;-69;-66;-61;-54;-45;-34;-21;-6;11;30;51;74;99;126})/56637","v":-4.4927556567218703E-5},2.0184853391006363E-9]
[{"$f":"'Hb reference spectrum'!A439","v":431.5},1.149,{"$f":"B439-$H$2*'Hb reference spectrum'!C439","v":0.83812232029916989},{"$f":"SUMPRODUCT(C425:C453,{126;99;74;51;30;11;-6;-21;-34;-45;-54;-61;-66;-69;-70;-69;-66;-61;-54;-45;-34;-21;-6;11;30;51;74;99;126})/56637","v":-5.8010384824327151E-5},3.3652047474665259E-9]
[{"$f":"'Hb reference spectrum'!A440","v":431},1.159,{"$f":"B440-$H$2*'Hb reference spectrum'!C440","v":0.83695306234584665},{"$f":"SUMPRODUCT(C426:C454,{126;99;74;51;30;11;-6;-21;-34;-45;-54;-61;-66;-69;-70;-69;-66;-61;-54;-45;-34;-21;-6;11;30;51;74;99;126})/56637","v":-7.0567594940467555E-5},4.979785455681902E-9]
[{"$f":"'Hb reference spectrum'!A441","v":430.5},1.17,{"$f":"B441-$H$2*'Hb reference spectrum'!C441","v":0.83529456999874607},{"$f":"SUMPRODUCT(C427:C455,{126;99;74;51;30;11;-6;-21;-34;-45;-54;-61;-66;-69;-70;-69;-66;-61;-54;-45;-34;-21;-6;11;30;51;74;99;126})/56637","v":-8.0149137457560994E-5},6.4238842351910066E-9]
[{"$f":"'Hb reference spectrum'!A442","v":430},1.18,{"$f":"B442-$H$2*'Hb reference spectrum'!C442","v":0.8322637690532031},{"$f":"SUMPRODUCT(C428:C456,{126;99;74;51;30;11;-6;-21;-34;-45;-54;-61;-66;-69;-70;-69;-66;-61;-54;-45;-34;-21;-6;11;30;51;74;99;126})/56637","v":-8.8725617314696704E-5},7.8722351678740072E-9]
[{"$f":"'Hb reference spectrum'!A443","v":429.5},1.1919999999999999,{"$f":"B443-$H$2*'Hb reference spectrum'!C443","v":0.83086065950921517},{"$f":"SUMPRODUCT(C429:C457,{126;99;74;51;30;11;-6;-21;-34;-45;-54;-61;-66;-69;-70;-69;-66;-61;-54;-45;-34;-21;-6;11;30;51;74;99;126})/56637","v":-9.5915005782693042E-5},9.1996883342940392E-9]
[{"$f":"'Hb reference spectrum'!A444","v":429},1.204,{"$f":"B444-$H$2*'Hb reference spectrum'!C444","v":0.82834062416989496},{"$f":"SUMPRODUCT(C430:C458,{126;99;74;51;30;11;-6;-21;-34;-45;-54;-61;-66;-69;-70;-69;-66;-61;-54;-45;-34;-21;-6;11;30;51;74;99;126})/56637","v":-1.0362266287621032E-4},1.0737656261556736E-8]
[{"$f":"'Hb reference spectrum'!A445","v":428.5},1.216,{"$f":"B445-$H$2*'Hb reference spectrum'!C445","v":0.82582058883057474},{"$f":"SUMPRODUCT(C431:C459,{126;99;74;51;30;11;-6;-21;-34;-45;-54;-61;-66;-69;-70;-69;-66;-61;-54;-45;-34;-21;-6;11;30;51;74;99;126})/56637","v":-1.093293237278544E-4},1.1952901026789987E-8]
[{"$f":"'Hb reference spectrum'!A446","v":428},1.2290000000000001,{"$f":"B446-$H$2*'Hb reference spectrum'!C446","v":0.8239282448928098},{"$f":"SUMPRODUCT(C432:C460,{126;99;74;51;30;11;-6;-21;-34;-45;-54;-61;-66;-69;-70;-69;-66;-61;-54;-45;-34;-21;-6;11;30;51;74;99;126})/56637","v":-1.1205297266468055E-4},1.2555868682991646E-8]
[{"$f":"'Hb reference spectrum'!A447","v":427.5},1.2430000000000001,{"$f":"B447-$H$2*'Hb reference spectrum'!C447","v":0.8211743579628249},{"$f":"SUMPRODUCT(C433:C461,{126;99;74;51;30;11;-6;-21;-34;-45;-54;-61;-66;-69;-70;-69;-66;-61;-54;-45;-34;-21;-6;11;30;51;74;99;126})/56637","v":-1.1060590661667529E-4},1.2233666578496694E-8]
[{"$f":"'Hb reference spectrum'!A448","v":427},1.2569999999999999,{"$f":"B448-$H$2*'Hb reference spectrum'!C448","v":0.81842047103283977},{"$f":"SUMPRODUCT(C434:C462,{126;99;74;51;30;11;-6;-21;-34;-45;-54;-61;-66;-69;-70;-69;-66;-61;-54;-45;-34;-21;-6;11;30;51;74;99;126})/56637","v":-1.0764933277153946E-4},1.158837884615764E-8]
[{"$f":"'Hb reference spectrum'!A449","v":426.5},1.272,{"$f":"B449-$H$2*'Hb reference spectrum'!C449","v":0.81554965830752268},{"$f":"SUMPRODUCT(C435:C463,{126;99;74;51;30;11;-6;-21;-34;-45;-54;-61;-66;-69;-70;-69;-66;-61;-54;-45;-34;-21;-6;11;30;51;74;99;126})/56637","v":-1.0401712065093113E-4},1.0819561388510363E-8]
[{"$f":"'Hb reference spectrum'!A450","v":426},1.2869999999999999,{"$f":"B450-$H$2*'Hb reference spectrum'!C450","v":0.81230653698376165},{"$f":"SUMPRODUCT(C436:C464,{126;99;74;51;30;11;-6;-21;-34;-45;-54;-61;-66;-69;-70;-69;-66;-61;-54;-45;-34;-21;-6;11;30;51;74;99;126})/56637","v":-1.0056003055605446E-4},{"$f":"D450^2","v":1.0112319745434607E-8}]
[{"$f":"'Hb reference spectrum'!A451","v":425.5},1.3029999999999999,{"$f":"B451-$H$2*'Hb reference spectrum'!C451","v":0.80894648986466833},{"$f":"SUMPRODUCT(C437:C465,{126;99;74;51;30;11;-6;-21;-34;-45;-54;-61;-66;-69;-70;-69;-66;-61;-54;-45;-34;-21;-6;11;30;51;74;99;126})/56637","v":-9.3127907426463537E-5},8.6728071416319629E-9]
[{"$f":"'Hb reference spectrum'!A452","v":425},1.319,{"$f":"B452-$H$2*'Hb reference spectrum'!C452","v":0.80558644274557412},{"$f":"SUMPRODUCT(C438:C466,{126;99;74;51;30;11;-6;-21;-34;-45;-54;-61;-66;-69;-70;-69;-66;-61;-54;-45;-34;-21;-6;11;30;51;74;99;126})/56637","v":-8.2426786866456067E-5},6.7941751931281746E-9]
[{"$f":"'Hb reference spectrum'!A453","v":424.5},1.335,{"$f":"B453-$H$2*'Hb reference spectrum'!C453","v":0.8011094698311485},{"$f":"SUMPRODUCT(C439:C467,{126;99;74;51;30;11;-6;-21;-34;-45;-54;-61;-66;-69;-70;-69;-66;-61;-54;-45;-34;-21;-6;11;30;51;74;99;126})/56637","v":-7.1668325953998783E-5},5.136348945048616E-9]
[{"$f":"'Hb reference spectrum'!A454","v":424},1.3520000000000001,{"$f":"B454-$H$2*'Hb reference spectrum'!C454","v":0.797632496916723},{"$f":"SUMPRODUCT(C440:C468,{126;99;74;51;30;11;-6;-21;-34;-45;-54;-61;-66;-69;-70;-69;-66;-61;-54;-45;-34;-21;-6;11;30;51;74;99;126})/56637","v":-5.6557803401289364E-5},3.1987851255788986E-9]
[{"$f":"'Hb reference spectrum'!A455","v":423.5},1.369,{"$f":"B455-$H$2*'Hb reference spectrum'!C455","v":0.79415552400229616},{"$f":"SUMPRODUCT(C441:C469,{126;99;74;51;30;11;-6;-21;-34;-45;-54;-61;-66;-69;-70;-69;-66;-61;-54;-45;-34;-21;-6;11;30;51;74;99;126})/56637","v":-4.0311121286406171E-5},1.6249864993673488E-9]
[{"$f":"'Hb reference spectrum'!A456","v":423},1.3859999999999999,{"$f":"B456-$H$2*'Hb reference spectrum'!C456","v":0.79067855108787055},{"$f":"SUMPRODUCT(C442:C470,{126;99;74;51;30;11;-6;-21;-34;-45;-54;-61;-66;-69;-70;-69;-66;-61;-54;-45;-34;-21;-6;11;30;51;74;99;126})/56637","v":-2.3431183301404948E-5},5.4902035090403814E-10]
[{"$f":"'Hb reference spectrum'!A457","v":422.5},1.403,{"$f":"B457-$H$2*'Hb reference spectrum'!C457","v":0.78682926957500021},{"$f":"SUMPRODUCT(C443:C471,{126;99;74;51;30;11;-6;-21;-34;-45;-54;-61;-66;-69;-70;-69;-66;-61;-54;-45;-34;-21;-6;11;30;51;74;99;126})/56637","v":-4.5305915174521469E-6},2.0526259498009346E-11]
[{"$f":"'Hb reference spectrum'!A458","v":422},1.419,{"$f":"B458-$H$2*'Hb reference spectrum'!C458","v":0.78235229666057471},{"$f":"SUMPRODUCT(C444:C472,{126;99;74;51;30;11;-6;-21;-34;-45;-54;-61;-66;-69;-70;-69;-66;-61;-54;-45;-34;-21;-6;11;30;51;74;99;126})/56637","v":1.4424172881084559E-5},2.0805676330341523E-10]
[{"$f":"'Hb reference spectrum'!A459","v":421.5},1.4350000000000001,{"$f":"B459-$H$2*'Hb reference spectrum'!C459","v":0.77861994094303655},{"$f":"SUMPRODUCT(C445:C473,{126;99;74;51;30;11;-6;-21;-34;-45;-54;-61;-66;-69;-70;-69;-66;-61;-54;-45;-34;-21;-6;11;30;51;74;99;126})/56637","v":3.1971866194661614E-5},1.0222002279693461E-9]
[{"$f":"'Hb reference spectrum'!A460","v":421},1.4510000000000001,{"$f":"B460-$H$2*'Hb reference spectrum'!C460","v":0.77525989382394322},{"$f":"SUMPRODUCT(C446:C474,{126;99;74;51;30;11;-6;-21;-34;-45;-54;-61;-66;-69;-70;-69;-66;-61;-54;-45;-34;-21;-6;11;30;51;74;99;126})/56637","v":5.0339078136149278E-5},2.5340227875973424E-9]
[{"$f":"'Hb reference spectrum'!A461","v":420.5},1.466,{"$f":"B461-$H$2*'Hb reference spectrum'!C461","v":0.7720167725001823},{"$f":"SUMPRODUCT(C447:C475,{126;99;74;51;30;11;-6;-21;-34;-45;-54;-61;-66;-69;-70;-69;-66;-61;-54;-45;-34;-21;-6;11;30;51;74;99;126})/56637","v":6.5557206393561431E-5},4.2977473101280114E-9]
[{"$f":"'Hb reference spectrum'!A462","v":420},1.4790000000000001,{"$f":"B462-$H$2*'Hb reference spectrum'!C462","v":0.76789057697175256},{"$f":"SUMPRODUCT(C448:C476,{126;99;74;51;30;11;-6;-21;-34;-45;-54;-61;-66;-69;-70;-69;-66;-61;-54;-45;-34;-21;-6;11;30;51;74;99;126})/56637","v":7.8236993281438126E-5},6.1210271177197946E-9]
[{"$f":"'Hb reference spectrum'!A463","v":419.5},1.492,{"$f":"B463-$H$2*'Hb reference spectrum'!C463","v":0.76450899864021249},{"$f":"SUMPRODUCT(C449:C477,{126;99;74;51;30;11;-6;-21;-34;-45;-54;-61;-66;-69;-70;-69;-66;-61;-54;-45;-34;-21;-6;11;30;51;74;99;126})/56637","v":8.9704937250982073E-5},8.0469757672026309E-9]
[{"$f":"'Hb reference spectrum'!A464","v":419},1.5029999999999999,{"$f":"B464-$H$2*'Hb reference spectrum'!C464","v":0.76061665470244733},{"$f":"SUMPRODUCT(C450:C478,{126;99;74;51;30;11;-6;-21;-34;-45;-54;-61;-66;-69;-70;-69;-66;-61;-54;-45;-34;-21;-6;11;30;51;74;99;126})/56637","v":9.8160692109625682E-5},9.6355214754407304E-9]
[{"$f":"'Hb reference spectrum'!A465","v":418.5},1.514,{"$f":"B465-$H$2*'Hb reference spectrum'!C465","v":0.75784123656001579},{"$f":"SUMPRODUCT(C451:C479,{126;99;74;51;30;11;-6;-21;-34;-45;-54;-61;-66;-69;-70;-69;-66;-61;-54;-45;-34;-21;-6;11;30;51;74;99;126})/56637","v":1.0508227629074348E-4},1.1042284790444149E-8]
[{"$f":"'Hb reference spectrum'!A466","v":418},1.5229999999999999,{"$f":"B466-$H$2*'Hb reference spectrum'!C466","v":0.75455505281136015},{"$f":"SUMPRODUCT(C452:C480,{126;99;74;51;30;11;-6;-21;-34;-45;-54;-61;-66;-69;-70;-69;-66;-61;-54;-45;-34;-21;-6;11;30;51;74;99;126})/56637","v":1.0793961673297157E-4},1.1650960860460797E-8]
[{"$f":"'Hb reference spectrum'!A467","v":417.5},1.53,{"$f":"B467-$H$2*'Hb reference spectrum'!C467","v":0.75113041205492559},{"$f":"SUMPRODUCT(C453:C481,{126;99;74;51;30;11;-6;-21;-34;-45;-54;-61;-66;-69;-70;-69;-66;-61;-54;-45;-34;-21;-6;11;30;51;74;99;126})/56637","v":1.064038172835987E-4},1.1321772332521457E-8]
[{"$f":"'Hb reference spectrum'!A468","v":417},1.536,{"$f":"B468-$H$2*'Hb reference spectrum'!C468","v":0.74856731429071077},{"$f":"SUMPRODUCT(C454:C482,{126;99;74;51;30;11;-6;-21;-34;-45;-54;-61;-66;-69;-70;-69;-66;-61;-54;-45;-34;-21;-6;11;30;51;74;99;126})/56637","v":1.044376037620621E-4},1.0907213079561488E-8]
[{"$f":"'Hb reference spectrum'!A469","v":416.5},1.5409999999999999,{"$f":"B469-$H$2*'Hb reference spectrum'!C469","v":0.74649345092027297},{"$f":"SUMPRODUCT(C455:C483,{126;99;74;51;30;11;-6;-21;-34;-45;-54;-61;-66;-69;-70;-69;-66;-61;-54;-45;-34;-21;-6;11;30;51;74;99;126})/56637","v":9.9275399436045533E-5},9.8556049331863891E-9]
[{"$f":"'Hb reference spectrum'!A470","v":416},1.544,{"$f":"B470-$H$2*'Hb reference spectrum'!C470","v":0.74428113054205514},{"$f":"SUMPRODUCT(C456:C484,{126;99;74;51;30;11;-6;-21;-34;-45;-54;-61;-66;-69;-70;-69;-66;-61;-54;-45;-34;-21;-6;11;30;51;74;99;126})/56637","v":8.9146631963049887E-5},7.9471219903554686E-9]
[{"$f":"'Hb reference spectrum'!A471","v":415.5},1.5449999999999999,{"$f":"B471-$H$2*'Hb reference spectrum'!C471","v":0.74155804455761432},{"$f":"SUMPRODUCT(C457:C485,{126;99;74;51;30;11;-6;-21;-34;-45;-54;-61;-66;-69;-70;-69;-66;-61;-54;-45;-34;-21;-6;11;30;51;74;99;126})/56637","v":7.5530518284105253E-5},5.7048591922655579E-9]
[{"$f":"'Hb reference spectrum'!A472","v":415},1.5449999999999999,{"$f":"B472-$H$2*'Hb reference spectrum'!C472","v":0.74006881016383719},{"$f":"SUMPRODUCT(C458:C486,{126;99;74;51;30;11;-6;-21;-34;-45;-54;-61;-66;-69;-70;-69;-66;-61;-54;-45;-34;-21;-6;11;30;51;74;99;126})/56637","v":5.8527784797364333E-5},3.4255015932865917E-9]
[{"$f":"'Hb reference spectrum'!A473","v":414.5},1.5429999999999999,{"$f":"B473-$H$2*'Hb reference spectrum'!C473","v":0.73732419296694962},{"$f":"SUMPRODUCT(C459:C487,{126;99;74;51;30;11;-6;-21;-34;-45;-54;-61;-66;-69;-70;-69;-66;-61;-54;-45;-34;-21;-6;11;30;51;74;99;126})/56637","v":4.1115561725421293E-5},1.6904894159969284E-9]
[{"$f":"'Hb reference spectrum'!A474","v":414},1.54,{"$f":"B474-$H$2*'Hb reference spectrum'!C474","v":0.73581342736072586},{"$f":"SUMPRODUCT(C460:C488,{126;99;74;51;30;11;-6;-21;-34;-45;-54;-61;-66;-69;-70;-69;-66;-61;-54;-45;-34;-21;-6;11;30;51;74;99;126})/56637","v":2.2551957028319777E-5},5.0859076580718176E-10]
[{"$f":"'Hb reference spectrum'!A475","v":413.5},1.5349999999999999,{"$f":"B475-$H$2*'Hb reference spectrum'!C475","v":0.73379189614827889},{"$f":"SUMPRODUCT(C461:C489,{126;99;74;51;30;11;-6;-21;-34;-45;-54;-61;-66;-69;-70;-69;-66;-61;-54;-45;-34;-21;-6;11;30;51;74;99;126})/56637","v":1.3452084323027619E-6},1.8095857263384543E-12]
[{"$f":"'Hb reference spectrum'!A476","v":413},1.5289999999999999,{"$f":"B476-$H$2*'Hb reference spectrum'!C476","v":0.7315149821327197},{"$f":"SUMPRODUCT(C462:C490,{126;99;74;51;30;11;-6;-21;-34;-45;-54;-61;-66;-69;-70;-69;-66;-61;-54;-45;-34;-21;-6;11;30;51;74;99;126})/56637","v":-2.3193169010867804E-5},5.3792308876667862E-10]
[{"$f":"'Hb reference spectrum'!A477","v":412.5},1.522,{"$f":"B477-$H$2*'Hb reference spectrum'!C477","v":0.73009961110938149},{"$f":"SUMPRODUCT(C463:C491,{126;99;74;51;30;11;-6;-21;-34;-45;-54;-61;-66;-69;-70;-69;-66;-61;-54;-45;-34;-21;-6;11;30;51;74;99;126})/56637","v":-4.6581404933989497E-5},2.1698272856243013E-9]
[{"$f":"'Hb reference spectrum'!A478","v":412},1.5129999999999999,{"$f":"B478-$H$2*'Hb reference spectrum'!C478","v":0.72817347447981895},{"$f":"SUMPRODUCT(C464:C492,{126;99;74;51;30;11;-6;-21;-34;-45;-54;-61;-66;-69;-70;-69;-66;-61;-54;-45;-34;-21;-6;11;30;51;74;99;126})/56637","v":-6.9367383343123997E-5},4.8118338718719163E-9]
[{"$f":"'Hb reference spectrum'!A479","v":411.5},1.5029999999999999,{"$f":"B479-$H$2*'Hb reference spectrum'!C479","v":0.72673657224403398},{"$f":"SUMPRODUCT(C465:C493,{126;99;74;51;30;11;-6;-21;-34;-45;-54;-61;-66;-69;-70;-69;-66;-61;-54;-45;-34;-21;-6;11;30;51;74;99;126})/56637","v":-9.1303968827601467E-5},8.3364147236716203E-9]
[{"$f":"'Hb reference spectrum'!A480","v":411},1.492,{"$f":"B480-$H$2*'Hb reference spectrum'!C480","v":0.72429967000824769},{"$f":"SUMPRODUCT(C466:C494,{126;99;74;51;30;11;-6;-21;-34;-45;-54;-61;-66;-69;-70;-69;-66;-61;-54;-45;-34;-21;-6;11;30;51;74;99;126})/56637","v":-1.1365225124497848E-4},1.2916834213051712E-8]
[{"$f":"'Hb reference spectrum'!A481","v":410.5},1.4790000000000001,{"$f":"B481-$H$2*'Hb reference spectrum'!C481","v":0.72172431076468346},{"$f":"SUMPRODUCT(C467:C495,{126;99;74;51;30;11;-6;-21;-34;-45;-54;-61;-66;-69;-70;-69;-66;-61;-54;-45;-34;-21;-6;11;30;51;74;99;126})/56637","v":-1.3471032463157858E-4},1.8146871562345285E-8]
[{"$f":"'Hb reference spectrum'!A482","v":410},1.466,{"$f":"B482-$H$2*'Hb reference spectrum'!C482","v":0.71952126011956297},{"$f":"SUMPRODUCT(C468:C496,{126;99;74;51;30;11;-6;-21;-34;-45;-54;-61;-66;-69;-70;-69;-66;-61;-54;-45;-34;-21;-6;11;30;51;74;99;126})/56637","v":-1.526012406459505E-4},2.3287138646683294E-8]
[{"$f":"'Hb reference spectrum'!A483","v":409.5},1.452,{"$f":"B483-$H$2*'Hb reference spectrum'!C483","v":0.71706282667132981},{"$f":"SUMPRODUCT(C469:C497,{126;99;74;51;30;11;-6;-21;-34;-45;-54;-61;-66;-69;-70;-69;-66;-61;-54;-45;-34;-21;-6;11;30;51;74;99;126})/56637","v":-1.6902375311294399E-4},2.8569029116385446E-8]
[{"$f":"'Hb reference spectrum'!A484","v":409},1.4359999999999999,{"$f":"B484-$H$2*'Hb reference spectrum'!C484","v":0.71372131901842939},{"$f":"SUMPRODUCT(C470:C498,{126;99;74;51;30;11;-6;-21;-34;-45;-54;-61;-66;-69;-70;-69;-66;-61;-54;-45;-34;-21;-6;11;30;51;74;99;126})/56637","v":-1.8503338053875218E-4},3.4237351913598673E-8]
[{"$f":"'Hb reference spectrum'!A485","v":408.5},1.42,{"$f":"B485-$H$2*'Hb reference spectrum'!C485","v":0.71075211996397336},{"$f":"SUMPRODUCT(C471:C499,{126;99;74;51;30;11;-6;-21;-34;-45;-54;-61;-66;-69;-70;-69;-66;-61;-54;-45;-34;-21;-6;11;30;51;74;99;126})/56637","v":-1.9935500951049392E-4},3.9742419816929122E-8]
[{"$f":"'Hb reference spectrum'!A486","v":408},1.403,{"$f":"B486-$H$2*'Hb reference spectrum'!C486","v":0.70715522950796139},{"$f":"SUMPRODUCT(C472:C500,{126;99;74;51;30;11;-6;-21;-34;-45;-54;-61;-66;-69;-70;-69;-66;-61;-54;-45;-34;-21;-6;11;30;51;74;99;126})/56637","v":-2.1003455090670266E-4},4.4114512574580272E-8]
[{"$f":"'Hb reference spectrum'!A487","v":407.5},1.385,{"$f":"B487-$H$2*'Hb reference spectrum'!C487","v":0.7036752648472816},{"$f":"SUMPRODUCT(C473:C501,{126;99;74;51;30;11;-6;-21;-34;-45;-54;-61;-66;-69;-70;-69;-66;-61;-54;-45;-34;-21;-6;11;30;51;74;99;126})/56637","v":-2.1944772780647568E-4},4.815730523942504E-8]
[{"$f":"'Hb reference spectrum'!A488","v":407},1.367,{"$f":"B488-$H$2*'Hb reference spectrum'!C488","v":0.70019530018660181},{"$f":"SUMPRODUCT(C474:C502,{126;99;74;51;30;11;-6;-21;-34;-45;-54;-61;-66;-69;-70;-69;-66;-61;-54;-45;-34;-21;-6;11;30;51;74;99;126})/56637","v":-2.2479831845820356E-4},5.0534283981635901E-8]
[{"$f":"'Hb reference spectrum'!A489","v":406.5},1.3480000000000001,{"$f":"B489-$H$2*'Hb reference spectrum'!C489","v":0.69608764412436586},{"$f":"SUMPRODUCT(C475:C503,{126;99;74;51;30;11;-6;-21;-34;-45;-54;-61;-66;-69;-70;-69;-66;-61;-54;-45;-34;-21;-6;11;30;51;74;99;126})/56637","v":-2.302464781695858E-4},5.3013440709497548E-8]
[{"$f":"'Hb reference spectrum'!A490","v":406},1.3280000000000001,{"$f":"B490-$H$2*'Hb reference spectrum'!C490","v":0.69135229666057474},{"$f":"SUMPRODUCT(C476:C504,{126;99;74;51;30;11;-6;-21;-34;-45;-54;-61;-66;-69;-70;-69;-66;-61;-54;-45;-34;-21;-6;11;30;51;74;99;126})/56637","v":-2.3093785906102025E-4},5.3332294747687654E-8]
[{"$f":"'Hb reference spectrum'!A491","v":405.5},1.3080000000000001,{"$f":"B491-$H$2*'Hb reference spectrum'!C491","v":0.68698925779522724},{"$f":"SUMPRODUCT(C477:C505,{126;99;74;51;30;11;-6;-21;-34;-45;-54;-61;-66;-69;-70;-69;-66;-61;-54;-45;-34;-21;-6;11;30;51;74;99;126})/56637","v":-2.2802022643598235E-4},5.1993223663916662E-8]
[{"$f":"'Hb reference spectrum'!A492","v":405},1.288,{"$f":"B492-$H$2*'Hb reference spectrum'!C492","v":0.68262621892987974},{"$f":"SUMPRODUCT(C478:C506,{126;99;74;51;30;11;-6;-21;-34;-45;-54;-61;-66;-69;-70;-69;-66;-61;-54;-45;-34;-21;-6;11;30;51;74;99;126})/56637","v":-2.2313116532611546E-4},4.9787516939790268E-8]
[{"$f":"'Hb reference spectrum'!A493","v":404.5},1.2669999999999999,{"$f":"B493-$H$2*'Hb reference spectrum'!C493","v":0.67726318006453223},{"$f":"SUMPRODUCT(C479:C507,{126;99;74;51;30;11;-6;-21;-34;-45;-54;-61;-66;-69;-70;-69;-66;-61;-54;-45;-34;-21;-6;11;30;51;74;99;126})/56637","v":-2.1548390902382863E-4},4.6433315048189657E-8]
[{"$f":"'Hb reference spectrum'!A494","v":404},1.246,{"$f":"B494-$H$2*'Hb reference spectrum'!C494","v":0.67190014119918484},{"$f":"SUMPRODUCT(C480:C508,{126;99;74;51;30;11;-6;-21;-34;-45;-54;-61;-66;-69;-70;-69;-66;-61;-54;-45;-34;-21;-6;11;30;51;74;99;126})/56637","v":-2.0554366200039792E-4},4.2248196988533823E-8]
[{"$f":"'Hb reference spectrum'!A495","v":403.5},1.2250000000000001,{"$f":"B495-$H$2*'Hb reference spectrum'!C495","v":0.66616479373539383},{"$f":"SUMPRODUCT(C481:C509,{126;99;74;51;30;11;-6;-21;-34;-45;-54;-61;-66;-69;-70;-69;-66;-61;-54;-45;-34;-21;-6;11;30;51;74;99;126})/56637","v":-1.9571786961648026E-4},3.830548448721357E-8]
[{"$f":"'Hb reference spectrum'!A496","v":403},1.204,{"$f":"B496-$H$2*'Hb reference spectrum'!C496","v":0.66042944627160127},{"$f":"SUMPRODUCT(C482:C510,{126;99;74;51;30;11;-6;-21;-34;-45;-54;-61;-66;-69;-70;-69;-66;-61;-54;-45;-34;-21;-6;11;30;51;74;99;126})/56637","v":-1.8511166242610882E-4},3.4266327566157668E-8]
[{"$f":"'Hb reference spectrum'!A497","v":402.5},1.1830000000000001,{"$f":"B497-$H$2*'Hb reference spectrum'!C497","v":0.65432179020936654},{"$f":"SUMPRODUCT(C483:C511,{126;99;74;51;30;11;-6;-21;-34;-45;-54;-61;-66;-69;-70;-69;-66;-61;-54;-45;-34;-21;-6;11;30;51;74;99;126})/56637","v":-1.7115546778582994E-4},2.929419415298627E-8]
[{"$f":"'Hb reference spectrum'!A498","v":402},1.1619999999999999,{"$f":"B498-$H$2*'Hb reference spectrum'!C498","v":0.64784182554868652},{"$f":"SUMPRODUCT(C484:C512,{126;99;74;51;30;11;-6;-21;-34;-45;-54;-61;-66;-69;-70;-69;-66;-61;-54;-45;-34;-21;-6;11;30;51;74;99;126})/56637","v":-1.5714411851569816E-4},2.4694273984075791E-8]
[{"$f":"'Hb reference spectrum'!A499","v":401.5},1.141,{"$f":"B499-$H$2*'Hb reference spectrum'!C499","v":0.64136186088800684},{"$f":"SUMPRODUCT(C485:C513,{126;99;74;51;30;11;-6;-21;-34;-45;-54;-61;-66;-69;-70;-69;-66;-61;-54;-45;-34;-21;-6;11;30;51;74;99;126})/56637","v":-1.4162979781750875E-4},2.0058999629828405E-8]
[{"$f":"'Hb reference spectrum'!A500","v":401},1.121,{"$f":"B500-$H$2*'Hb reference spectrum'!C500","v":0.63476497043199487},{"$f":"SUMPRODUCT(C486:C514,{126;99;74;51;30;11;-6;-21;-34;-45;-54;-61;-66;-69;-70;-69;-66;-61;-54;-45;-34;-21;-6;11;30;51;74;99;126})/56637","v":-1.2405494357667224E-4},1.5389629025811332E-8]
[{"$f":"'Hb reference spectrum'!A501","v":400.5},1.101,{"$f":"B501-$H$2*'Hb reference spectrum'!C501","v":0.62816807997598267},{"$f":"SUMPRODUCT(C487:C515,{126;99;74;51;30;11;-6;-21;-34;-45;-54;-61;-66;-69;-70;-69;-66;-61;-54;-45;-34;-21;-6;11;30;51;74;99;126})/56637","v":-1.0581847981536773E-4},1.1197550670435388E-8]
[{"$f":"'Hb reference spectrum'!A502","v":400},1.081,{"$f":"B502-$H$2*'Hb reference spectrum'!C502","v":0.62119888092152564},{"$f":"SUMPRODUCT(C488:C516,{126;99;74;51;30;11;-6;-21;-34;-45;-54;-61;-66;-69;-70;-69;-66;-61;-54;-45;-34;-21;-6;11;30;51;74;99;126})/56637","v":-8.7283094644760044E-5},7.618338610766139E-9]
[{"$f":"'Hb reference spectrum'!A503","v":399.5},1.0609999999999999,{"$f":"B503-$H$2*'Hb reference spectrum'!C503","v":0.61348506467018127},{"$f":"SUMPRODUCT(C489:C517,{126;99;74;51;30;11;-6;-21;-34;-45;-54;-61;-66;-69;-70;-69;-66;-61;-54;-45;-34;-21;-6;11;30;51;74;99;126})/56637","v":-6.9106527547110311E-5},4.7757121496195161E-9]
[{"$f":"'Hb reference spectrum'!A504","v":399},1.042,{"$f":"B504-$H$2*'Hb reference spectrum'!C504","v":0.60714355701728184},{"$f":"SUMPRODUCT(C490:C518,{126;99;74;51;30;11;-6;-21;-34;-45;-54;-61;-66;-69;-70;-69;-66;-61;-54;-45;-34;-21;-6;11;30;51;74;99;126})/56637","v":-5.1851282737783912E-5},2.6885555215536077E-9]
[{"$f":"'Hb reference spectrum'!A505","v":398.5},1.0229999999999999,{"$f":"B505-$H$2*'Hb reference spectrum'!C505","v":0.60005743216749241},{"$f":"SUMPRODUCT(C491:C519,{126;99;74;51;30;11;-6;-21;-34;-45;-54;-61;-66;-69;-70;-69;-66;-61;-54;-45;-34;-21;-6;11;30;51;74;99;126})/56637","v":-3.5654212366155837E-5},1.2712228594509398E-9]
[{"$f":"'Hb reference spectrum'!A506","v":398},1.0049999999999999,{"$f":"B506-$H$2*'Hb reference spectrum'!C506","v":0.59322669012081564},{"$f":"SUMPRODUCT(C492:C520,{126;99;74;51;30;11;-6;-21;-34;-45;-54;-61;-66;-69;-70;-69;-66;-61;-54;-45;-34;-21;-6;11;30;51;74;99;126})/56637","v":-2.1297679670164093E-5},4.535911593329209E-10]
[{"$f":"'Hb reference spectrum'!A507","v":397.5},0.98699999999999999,{"$f":"B507-$H$2*'Hb reference spectrum'!C507","v":0.58639594807413897},{"$f":"SUMPRODUCT(C493:C521,{126;99;74;51;30;11;-6;-21;-34;-45;-54;-61;-66;-69;-70;-69;-66;-61;-54;-45;-34;-21;-6;11;30;51;74;99;126})/56637","v":-8.4356232023077722E-6},7.115973881131324E-11]
[{"$f":"'Hb reference spectrum'!A508","v":397},0.97,{"$f":"B508-$H$2*'Hb reference spectrum'!C508","v":0.58019289742901847},{"$f":"SUMPRODUCT(C494:C522,{126;99;74;51;30;11;-6;-21;-34;-45;-54;-61;-66;-69;-70;-69;-66;-61;-54;-45;-34;-21;-6;11;30;51;74;99;126})/56637","v":3.413455634246627E-6},1.1651679366970043E-11]
[{"$f":"'Hb reference spectrum'!A509","v":396.5},0.95199999999999996,{"$f":"B509-$H$2*'Hb reference spectrum'!C509","v":0.5722452295870093},{"$f":"SUMPRODUCT(C495:C523,{126;99;74;51;30;11;-6;-21;-34;-45;-54;-61;-66;-69;-70;-69;-66;-61;-54;-45;-34;-21;-6;11;30;51;74;99;126})/56637","v":1.3492236643553478E-5},1.8204044964564721E-10]
[{"$f":"'Hb reference spectrum'!A510","v":396},0.93500000000000005,{"$f":"B510-$H$2*'Hb reference spectrum'!C510","v":0.56455294454811178},{"$f":"SUMPRODUCT(C496:C524,{126;99;74;51;30;11;-6;-21;-34;-45;-54;-61;-66;-69;-70;-69;-66;-61;-54;-45;-34;-21;-6;11;30;51;74;99;126})/56637","v":2.2029274941447588E-5},4.8528895444589061E-10]
[{"$f":"'Hb reference spectrum'!A511","v":395.5},0.91900000000000004,{"$f":"B511-$H$2*'Hb reference spectrum'!C511","v":0.55860527670610272},{"$f":"SUMPRODUCT(C497:C525,{126;99;74;51;30;11;-6;-21;-34;-45;-54;-61;-66;-69;-70;-69;-66;-61;-54;-45;-34;-21;-6;11;30;51;74;99;126})/56637","v":2.6748422962836645E-5},7.1547813099880677E-10]
[{"$f":"'Hb reference spectrum'!A512","v":395},0.90300000000000002,{"$f":"B512-$H$2*'Hb reference spectrum'!C512","v":0.55154068306876125},{"$f":"SUMPRODUCT(C498:C526,{126;99;74;51;30;11;-6;-21;-34;-45;-54;-61;-66;-69;-70;-69;-66;-61;-54;-45;-34;-21;-6;11;30;51;74;99;126})/56637","v":3.1437042010636375E-5},9.8828761037851641E-10]
[{"$f":"'Hb reference spectrum'!A513","v":394.5},0.88700000000000001,{"$f":"B513-$H$2*'Hb reference spectrum'!C513","v":0.5444760894314199},{"$f":"SUMPRODUCT(C499:C527,{126;99;74;51;30;11;-6;-21;-34;-45;-54;-61;-66;-69;-70;-69;-66;-61;-54;-45;-34;-21;-6;11;30;51;74;99;126})/56637","v":3.5504649181049802E-5},1.2605801134694204E-9]
[{"$f":"'Hb reference spectrum'!A514","v":394},0.872,{"$f":"B514-$H$2*'Hb reference spectrum'!C514","v":0.53841149579407843},{"$f":"SUMPRODUCT(C500:C528,{126;99;74;51;30;11;-6;-21;-34;-45;-54;-61;-66;-69;-70;-69;-66;-61;-54;-45;-34;-21;-6;11;30;51;74;99;126})/56637","v":3.773855118523646E-5},{"$f":"D514^2","v":1.4241982455607123E-9}]
[{"$f":"'Hb reference spectrum'!A515","v":393.5},0.85699999999999998,{"$f":"B515-$H$2*'Hb reference spectrum'!C515","v":0.53160228495984962},{"$f":"SUMPRODUCT(C501:C529,{126;99;74;51;30;11;-6;-21;-34;-45;-54;-61;-66;-69;-70;-69;-66;-61;-54;-45;-34;-21;-6;11;30;51;74;99;126})/56637","v":3.8267236617392337E-5},1.4643813983314931E-9]
[{"$f":"'Hb reference spectrum'!A516","v":393},0.84199999999999997,{"$f":"B516-$H$2*'Hb reference spectrum'!C516","v":0.52516538272406332},{"$f":"SUMPRODUCT(C502:C530,{126;99;74;51;30;11;-6;-21;-34;-45;-54;-61;-66;-69;-70;-69;-66;-61;-54;-45;-34;-21;-6;11;30;51;74;99;126})/56637","v":3.6965479868179131E-5},1.3664467018847566E-9]
[{"$f":"'Hb reference spectrum'!A517","v":392.5},0.82799999999999996,{"$f":"B517-$H$2*'Hb reference spectrum'!C517","v":0.51898386329138957},{"$f":"SUMPRODUCT(C503:C531,{126;99;74;51;30;11;-6;-21;-34;-45;-54;-61;-66;-69;-70;-69;-66;-61;-54;-45;-34;-21;-6;11;30;51;74;99;126})/56637","v":3.6958066303828233E-5},1.3658986649181639E-9]
[{"$f":"'Hb reference spectrum'!A518","v":392},0.81399999999999995,{"$f":"B518-$H$2*'Hb reference spectrum'!C518","v":0.51243003526027209},{"$f":"SUMPRODUCT(C504:C532,{126;99;74;51;30;11;-6;-21;-34;-45;-54;-61;-66;-69;-70;-69;-66;-61;-54;-45;-34;-21;-6;11;30;51;74;99;126})/56637","v":3.7672771176622873E-5},1.4192376881261871E-9]
[{"$f":"'Hb reference spectrum'!A519","v":391.5},0.8,{"$f":"B519-$H$2*'Hb reference spectrum'!C519","v":0.50550389863070988},{"$f":"SUMPRODUCT(C505:C533,{126;99;74;51;30;11;-6;-21;-34;-45;-54;-61;-66;-69;-70;-69;-66;-61;-54;-45;-34;-21;-6;11;30;51;74;99;126})/56637","v":3.3422950554870818E-5},1.1170936237933396E-9]
[{"$f":"'Hb reference spectrum'!A520","v":391},0.78600000000000003,{"$f":"B520-$H$2*'Hb reference spectrum'!C520","v":0.49895007059959245},{"$f":"SUMPRODUCT(C506:C534,{126;99;74;51;30;11;-6;-21;-34;-45;-54;-61;-66;-69;-70;-69;-66;-61;-54;-45;-34;-21;-6;11;30;51;74;99;126})/56637","v":2.885210632793233E-5},8.3244403955831283E-10]
[{"$f":"'Hb reference spectrum'!A521","v":390.5},0.77300000000000002,{"$f":"B521-$H$2*'Hb reference spectrum'!C521","v":0.49302393397003014},{"$f":"SUMPRODUCT(C507:C535,{126;99;74;51;30;11;-6;-21;-34;-45;-54;-61;-66;-69;-70;-69;-66;-61;-54;-45;-34;-21;-6;11;30;51;74;99;126})/56637","v":2.6584079000838123E-5},7.0671325632280248E-10]
[{"$f":"'Hb reference spectrum'!A522","v":390},0.76,{"$f":"B522-$H$2*'Hb reference spectrum'!C522","v":0.48672548874202404},{"$f":"SUMPRODUCT(C508:C536,{126;99;74;51;30;11;-6;-21;-34;-45;-54;-61;-66;-69;-70;-69;-66;-61;-54;-45;-34;-21;-6;11;30;51;74;99;126})/56637","v":2.223298295043589E-5},4.9430553087437299E-10]
[{"$f":"'Hb reference spectrum'!A523","v":389.5},0.747,{"$f":"B523-$H$2*'Hb reference spectrum'!C523","v":0.48042704351401799},{"$f":"SUMPRODUCT(C509:C537,{126;99;74;51;30;11;-6;-21;-34;-45;-54;-61;-66;-69;-70;-69;-66;-61;-54;-45;-34;-21;-6;11;30;51;74;99;126})/56637","v":1.7520011935249038E-5},3.0695081821126876E-10]
[{"$f":"'Hb reference spectrum'!A524","v":389},0.73399999999999999,{"$f":"B524-$H$2*'Hb reference spectrum'!C524","v":0.47412859828601195},{"$f":"SUMPRODUCT(C510:C538,{126;99;74;51;30;11;-6;-21;-34;-45;-54;-61;-66;-69;-70;-69;-66;-61;-54;-45;-34;-21;-6;11;30;51;74;99;126})/56637","v":1.6605374086161686E-5},2.7573844854137007E-10]
[{"$f":"'Hb reference spectrum'!A525","v":388.5},0.72099999999999997,{"$f":"B525-$H$2*'Hb reference spectrum'!C525","v":0.46708553586111839},{"$f":"SUMPRODUCT(C511:C539,{126;99;74;51;30;11;-6;-21;-34;-45;-54;-61;-66;-69;-70;-69;-66;-61;-54;-45;-34;-21;-6;11;30;51;74;99;126})/56637","v":1.6669599771194968E-5},2.7787555653182334E-10]
[{"$f":"'Hb reference spectrum'!A526","v":388},0.70899999999999996,{"$f":"B526-$H$2*'Hb reference spectrum'!C526","v":0.46141478203466746},{"$f":"SUMPRODUCT(C512:C540,{126;99;74;51;30;11;-6;-21;-34;-45;-54;-61;-66;-69;-70;-69;-66;-61;-54;-45;-34;-21;-6;11;30;51;74;99;126})/56637","v":1.600507540302065E-5},2.561624386563766E-10]
[{"$f":"'Hb reference spectrum'!A527","v":387.5},0.69699999999999995,{"$f":"B527-$H$2*'Hb reference spectrum'!C527","v":0.45537171960977396},{"$f":"SUMPRODUCT(C513:C541,{126;99;74;51;30;11;-6;-21;-34;-45;-54;-61;-66;-69;-70;-69;-66;-61;-54;-45;-34;-21;-6;11;30;51;74;99;126})/56637","v":1.7115959831764861E-5},2.9295608096258822E-10]
[{"$f":"'Hb reference spectrum'!A528","v":387},0.68500000000000005,{"$f":"B528-$H$2*'Hb reference spectrum'!C528","v":0.44895634858643568},{"$f":"SUMPRODUCT(C514:C542,{126;99;74;51;30;11;-6;-21;-34;-45;-54;-61;-66;-69;-70;-69;-66;-61;-54;-45;-34;-21;-6;11;30;51;74;99;126})/56637","v":2.2296268217651087E-5},4.9712357643343797E-10]
[{"$f":"'Hb reference spectrum'!A529","v":386.5},0.67300000000000004,{"$f":"B529-$H$2*'Hb reference spectrum'!C529","v":0.44254097756309729},{"$f":"SUMPRODUCT(C515:C543,{126;99;74;51;30;11;-6;-21;-34;-45;-54;-61;-66;-69;-70;-69;-66;-61;-54;-45;-34;-21;-6;11;30;51;74;99;126})/56637","v":2.3174194060904311E-5},5.3704327037245268E-10]
[{"$f":"'Hb reference spectrum'!A530","v":386},0.66100000000000003,{"$f":"B530-$H$2*'Hb reference spectrum'!C530","v":0.43612560653975896},{"$f":"SUMPRODUCT(C516:C544,{126;99;74;51;30;11;-6;-21;-34;-45;-54;-61;-66;-69;-70;-69;-66;-61;-54;-45;-34;-21;-6;11;30;51;74;99;126})/56637","v":2.153085898178364E-5},4.6357788849345324E-10]
[{"$f":"'Hb reference spectrum'!A531","v":385.5},0.65,{"$f":"B531-$H$2*'Hb reference spectrum'!C531","v":0.43071023551642051},{"$f":"SUMPRODUCT(C517:C545,{126;99;74;51;30;11;-6;-21;-34;-45;-54;-61;-66;-69;-70;-69;-66;-61;-54;-45;-34;-21;-6;11;30;51;74;99;126})/56637","v":1.9947172049474E-5},3.9788967277131674E-10]
[{"$f":"'Hb reference spectrum'!A532","v":385},0.63800000000000001,{"$f":"B532-$H$2*'Hb reference spectrum'!C532","v":0.42429486449308218},{"$f":"SUMPRODUCT(C518:C546,{126;99;74;51;30;11;-6;-21;-34;-45;-54;-61;-66;-69;-70;-69;-66;-61;-54;-45;-34;-21;-6;11;30;51;74;99;126})/56637","v":2.0505272795193845E-5},4.204662124053168E-10]
[{"$f":"'Hb reference spectrum'!A533","v":384.5},0.626,{"$f":"B533-$H$2*'Hb reference spectrum'!C533","v":0.41676256767441144},{"$f":"SUMPRODUCT(C519:C547,{126;99;74;51;30;11;-6;-21;-34;-45;-54;-61;-66;-69;-70;-69;-66;-61;-54;-45;-34;-21;-6;11;30;51;74;99;126})/56637","v":2.2660424152022397E-5},5.1349482274955996E-10]
[{"$f":"'Hb reference spectrum'!A534","v":384},0.61499999999999999,{"$f":"B534-$H$2*'Hb reference spectrum'!C534","v":0.41023027085574076},{"$f":"SUMPRODUCT(C520:C548,{126;99;74;51;30;11;-6;-21;-34;-45;-54;-61;-66;-69;-70;-69;-66;-61;-54;-45;-34;-21;-6;11;30;51;74;99;126})/56637","v":2.7127410640703217E-5},7.3589640806933816E-10]
[{"$f":"'Hb reference spectrum'!A535","v":383.5},0.60499999999999998,{"$f":"B535-$H$2*'Hb reference spectrum'!C535","v":0.40507028263551376},{"$f":"SUMPRODUCT(C521:C549,{126;99;74;51;30;11;-6;-21;-34;-45;-54;-61;-66;-69;-70;-69;-66;-61;-54;-45;-34;-21;-6;11;30;51;74;99;126})/56637","v":3.2836964714966923E-5},1.0782662516919827E-9]
[{"$f":"'Hb reference spectrum'!A536","v":383},0.59399999999999997,{"$f":"B536-$H$2*'Hb reference spectrum'!C536","v":0.39816567721839935},{"$f":"SUMPRODUCT(C522:C550,{126;99;74;51;30;11;-6;-21;-34;-45;-54;-61;-66;-69;-70;-69;-66;-61;-54;-45;-34;-21;-6;11;30;51;74;99;126})/56637","v":3.9276673443121311E-5},1.5426570767575909E-9]
[{"$f":"'Hb reference spectrum'!A537","v":382.5},0.58399999999999996,{"$f":"B537-$H$2*'Hb reference spectrum'!C537","v":0.39263338039972862},{"$f":"SUMPRODUCT(C523:C551,{126;99;74;51;30;11;-6;-21;-34;-45;-54;-61;-66;-69;-70;-69;-66;-61;-54;-45;-34;-21;-6;11;30;51;74;99;126})/56637","v":4.7509885455065269E-5},2.2571892159534225E-9]
[{"$f":"'Hb reference spectrum'!A538","v":382},0.57399999999999995,{"$f":"B538-$H$2*'Hb reference spectrum'!C538","v":0.38710108358105788},{"$f":"SUMPRODUCT(C524:C552,{126;99;74;51;30;11;-6;-21;-34;-45;-54;-61;-66;-69;-70;-69;-66;-61;-54;-45;-34;-21;-6;11;30;51;74;99;126})/56637","v":5.5172499012040009E-5},3.0440046472335557E-9]
[{"$f":"'Hb reference spectrum'!A539","v":381.5},0.56399999999999995,{"$f":"B539-$H$2*'Hb reference spectrum'!C539","v":0.38045186096705486},{"$f":"SUMPRODUCT(C525:C553,{126;99;74;51;30;11;-6;-21;-34;-45;-54;-61;-66;-69;-70;-69;-66;-61;-54;-45;-34;-21;-6;11;30;51;74;99;126})/56637","v":6.5041173555575161E-5},4.2303542574864495E-9]
[{"$f":"'Hb reference spectrum'!A540","v":381},0.55500000000000005,{"$f":"B540-$H$2*'Hb reference spectrum'!C540","v":0.37480263835305194},{"$f":"SUMPRODUCT(C526:C554,{126;99;74;51;30;11;-6;-21;-34;-45;-54;-61;-66;-69;-70;-69;-66;-61;-54;-45;-34;-21;-6;11;30;51;74;99;126})/56637","v":7.7444916084421631E-5},5.9977150273231085E-9]
[{"$f":"'Hb reference spectrum'!A541","v":380.5},0.54600000000000004,{"$f":"B541-$H$2*'Hb reference spectrum'!C541","v":0.36915341573904892},{"$f":"SUMPRODUCT(C527:C555,{126;99;74;51;30;11;-6;-21;-34;-45;-54;-61;-66;-69;-70;-69;-66;-61;-54;-45;-34;-21;-6;11;30;51;74;99;126})/56637","v":8.5378081801310647E-5},7.2894168520712922E-9]
[{"$f":"'Hb reference spectrum'!A542","v":380},0.53800000000000003,{"$f":"B542-$H$2*'Hb reference spectrum'!C542","v":0.36450419312504589},{"$f":"SUMPRODUCT(C528:C556,{126;99;74;51;30;11;-6;-21;-34;-45;-54;-61;-66;-69;-70;-69;-66;-61;-54;-45;-34;-21;-6;11;30;51;74;99;126})/56637","v":9.4954862312244395E-5},9.0164258767372902E-9]
[{"$f":"'Hb reference spectrum'!A543","v":379.5},0.52800000000000002,{"$f":"B543-$H$2*'Hb reference spectrum'!C543","v":0.35748266191259803},{"$f":"SUMPRODUCT(C529:C557,{126;99;74;51;30;11;-6;-21;-34;-45;-54;-61;-66;-69;-70;-69;-66;-61;-54;-45;-34;-21;-6;11;30;51;74;99;126})/56637","v":1.038746160406167E-4},1.0789935857585544E-8]
[{"$f":"'Hb reference spectrum'!A544","v":379},0.51700000000000002,{"$f":"B544-$H$2*'Hb reference spectrum'!C544","v":0.35020574789703979},{"$f":"SUMPRODUCT(C530:C558,{126;99;74;51;30;11;-6;-21;-34;-45;-54;-61;-66;-69;-70;-69;-66;-61;-54;-45;-34;-21;-6;11;30;51;74;99;126})/56637","v":1.1017803204925468E-4},1.213919874624659E-8]
[{"$f":"'Hb reference spectrum'!A545","v":378.5},0.50800000000000001,{"$f":"B545-$H$2*'Hb reference spectrum'!C545","v":0.34418421668459193},{"$f":"SUMPRODUCT(C531:C559,{126;99;74;51;30;11;-6;-21;-34;-45;-54;-61;-66;-69;-70;-69;-66;-61;-54;-45;-34;-21;-6;11;30;51;74;99;126})/56637","v":1.1705970776768767E-4},1.3702975182656437E-8]
[{"$f":"'Hb reference spectrum'!A546","v":378},0.501,{"$f":"B546-$H$2*'Hb reference spectrum'!C546","v":0.33941806827525656},{"$f":"SUMPRODUCT(C532:C560,{126;99;74;51;30;11;-6;-21;-34;-45;-54;-61;-66;-69;-70;-69;-66;-61;-54;-45;-34;-21;-6;11;30;51;74;99;126})/56637","v":1.2050519460037305E-4},1.4521501925673776E-8]
[{"$f":"'Hb reference spectrum'!A547","v":377.5},0.49399999999999999,{"$f":"B547-$H$2*'Hb reference spectrum'!C547","v":0.33427961126747752},{"$f":"SUMPRODUCT(C533:C561,{126;99;74;51;30;11;-6;-21;-34;-45;-54;-61;-66;-69;-70;-69;-66;-61;-54;-45;-34;-21;-6;11;30;51;74;99;126})/56637","v":1.2337177224609676E-4},1.5220594187142772E-8]
[{"$f":"'Hb reference spectrum'!A548","v":377},0.48699999999999999,{"$f":"B548-$H$2*'Hb reference spectrum'!C548","v":0.32914115425969837},{"$f":"SUMPRODUCT(C534:C562,{126;99;74;51;30;11;-6;-21;-34;-45;-54;-61;-66;-69;-70;-69;-66;-61;-54;-45;-34;-21;-6;11;30;51;74;99;126})/56637","v":1.267848821203799E-4},1.6074406334278627E-8]
[{"$f":"'Hb reference spectrum'!A549","v":376.5},0.48,{"$f":"B549-$H$2*'Hb reference spectrum'!C549","v":0.32400269725191821},{"$f":"SUMPRODUCT(C535:C563,{126;99;74;51;30;11;-6;-21;-34;-45;-54;-61;-66;-69;-70;-69;-66;-61;-54;-45;-34;-21;-6;11;30;51;74;99;126})/56637","v":1.3103566313230484E-4},1.7170345012522874E-8]
[{"$f":"'Hb reference spectrum'!A550","v":376},0.47399999999999998,{"$f":"B550-$H$2*'Hb reference spectrum'!C550","v":0.31949193164569534},{"$f":"SUMPRODUCT(C536:C564,{126;99;74;51;30;11;-6;-21;-34;-45;-54;-61;-66;-69;-70;-69;-66;-61;-54;-45;-34;-21;-6;11;30;51;74;99;126})/56637","v":1.3004762809632568E-4},1.6912385573480236E-8]
[{"$f":"'Hb reference spectrum'!A551","v":375.5},0.46800000000000003,{"$f":"B551-$H$2*'Hb reference spectrum'!C551","v":0.31535347463791519},{"$f":"SUMPRODUCT(C537:C565,{126;99;74;51;30;11;-6;-21;-34;-45;-54;-61;-66;-69;-70;-69;-66;-61;-54;-45;-34;-21;-6;11;30;51;74;99;126})/56637","v":1.3140245337310119E-4},1.7266604752470031E-8]
[{"$f":"'Hb reference spectrum'!A552","v":375},0.46200000000000002,{"$f":"B552-$H$2*'Hb reference spectrum'!C552","v":0.31047040043324753},{"$f":"SUMPRODUCT(C538:C566,{126;99;74;51;30;11;-6;-21;-34;-45;-54;-61;-66;-69;-70;-69;-66;-61;-54;-45;-34;-21;-6;11;30;51;74;99;126})/56637","v":1.3061206431777892E-4},1.7059511345351616E-8]
[{"$f":"'Hb reference spectrum'!A553","v":374.5},0.45700000000000002,{"$f":"B553-$H$2*'Hb reference spectrum'!C553","v":0.30695963482702471},{"$f":"SUMPRODUCT(C539:C567,{126;99;74;51;30;11;-6;-21;-34;-45;-54;-61;-66;-69;-70;-69;-66;-61;-54;-45;-34;-21;-6;11;30;51;74;99;126})/56637","v":1.2734968207802177E-4},1.6217941525373219E-8]
[{"$f":"'Hb reference spectrum'!A554","v":374},0.45200000000000001,{"$f":"B554-$H$2*'Hb reference spectrum'!C554","v":0.30307656062235699},{"$f":"SUMPRODUCT(C540:C568,{126;99;74;51;30;11;-6;-21;-34;-45;-54;-61;-66;-69;-70;-69;-66;-61;-54;-45;-34;-21;-6;11;30;51;74;99;126})/56637","v":1.2360639789541731E-4},1.5278541600680224E-8]
[{"$f":"'Hb reference spectrum'!A555","v":373.5},0.44600000000000001,{"$f":"B555-$H$2*'Hb reference spectrum'!C555","v":0.2978211778192445},{"$f":"SUMPRODUCT(C541:C569,{126;99;74;51;30;11;-6;-21;-34;-45;-54;-61;-66;-69;-70;-69;-66;-61;-54;-45;-34;-21;-6;11;30;51;74;99;126})/56637","v":1.1811465396556382E-4},1.3951071481404881E-8]
[{"$f":"'Hb reference spectrum'!A556","v":373},0.442,{"$f":"B556-$H$2*'Hb reference spectrum'!C556","v":0.29493810361457684},{"$f":"SUMPRODUCT(C542:C570,{126;99;74;51;30;11;-6;-21;-34;-45;-54;-61;-66;-69;-70;-69;-66;-61;-54;-45;-34;-21;-6;11;30;51;74;99;126})/56637","v":1.1090623059287604E-4},1.2300191984320192E-8]
[{"$f":"'Hb reference spectrum'!A557","v":372.5},0.437,{"$f":"B557-$H$2*'Hb reference spectrum'!C557","v":0.29105502940990913},{"$f":"SUMPRODUCT(C543:C571,{126;99;74;51;30;11;-6;-21;-34;-45;-54;-61;-66;-69;-70;-69;-66;-61;-54;-45;-34;-21;-6;11;30;51;74;99;126})/56637","v":9.9109608030848126E-5},9.822714404028356E-9]
[{"$f":"'Hb reference spectrum'!A558","v":372},0.432,{"$f":"B558-$H$2*'Hb reference spectrum'!C558","v":0.28642733800835396},{"$f":"SUMPRODUCT(C544:C572,{126;99;74;51;30;11;-6;-21;-34;-45;-54;-61;-66;-69;-70;-69;-66;-61;-54;-45;-34;-21;-6;11;30;51;74;99;126})/56637","v":8.9204548819905613E-5},7.957451530162924E-9]
[{"$f":"'Hb reference spectrum'!A559","v":371.5},0.42799999999999999,{"$f":"B559-$H$2*'Hb reference spectrum'!C559","v":0.28317195520524141},{"$f":"SUMPRODUCT(C545:C573,{126;99;74;51;30;11;-6;-21;-34;-45;-54;-61;-66;-69;-70;-69;-66;-61;-54;-45;-34;-21;-6;11;30;51;74;99;126})/56637","v":8.3482232920508196E-5},6.9692832133939826E-9]
[{"$f":"'Hb reference spectrum'!A560","v":371},0.42399999999999999,{"$f":"B560-$H$2*'Hb reference spectrum'!C560","v":0.2795442638036863},{"$f":"SUMPRODUCT(C546:C574,{126;99;74;51;30;11;-6;-21;-34;-45;-54;-61;-66;-69;-70;-69;-66;-61;-54;-45;-34;-21;-6;11;30;51;74;99;126})/56637","v":8.0519458791351297E-5},6.4833832440521196E-9]
[{"$f":"'Hb reference spectrum'!A561","v":370.5},0.42,{"$f":"B561-$H$2*'Hb reference spectrum'!C561","v":0.27628888100057375},{"$f":"SUMPRODUCT(C547:C575,{126;99;74;51;30;11;-6;-21;-34;-45;-54;-61;-66;-69;-70;-69;-66;-61;-54;-45;-34;-21;-6;11;30;51;74;99;126})/56637","v":7.5703638877945383E-5},5.7310409393623638E-9]
[{"$f":"'Hb reference spectrum'!A562","v":370},0.41599999999999998,{"$f":"B562-$H$2*'Hb reference spectrum'!C562","v":0.27228888100057375},{"$f":"SUMPRODUCT(C548:C576,{126;99;74;51;30;11;-6;-21;-34;-45;-54;-61;-66;-69;-70;-69;-66;-61;-54;-45;-34;-21;-6;11;30;51;74;99;126})/56637","v":7.2814805766489201E-5},5.3019959388115489E-9]
[{"$f":"'Hb reference spectrum'!A563","v":369.5},0.41299999999999998,{"$f":"B563-$H$2*'Hb reference spectrum'!C563","v":0.26928888100057374},{"$f":"SUMPRODUCT(C549:C577,{126;99;74;51;30;11;-6;-21;-34;-45;-54;-61;-66;-69;-70;-69;-66;-61;-54;-45;-34;-21;-6;11;30;51;74;99;126})/56637","v":6.9374007318062026E-5},4.8127528913665237E-9]
[{"$f":"'Hb reference spectrum'!A564","v":369},0.40899999999999997,{"$f":"B564-$H$2*'Hb reference spectrum'!C564","v":0.26528888100057374},{"$f":"SUMPRODUCT(C550:C578,{126;99;74;51;30;11;-6;-21;-34;-45;-54;-61;-66;-69;-70;-69;-66;-61;-54;-45;-34;-21;-6;11;30;51;74;99;126})/56637","v":6.6030397767695317E-5},4.3600134293600628E-9]
[{"$f":"'Hb reference spectrum'!A565","v":368.5},0.40600000000000003,{"$f":"B565-$H$2*'Hb reference spectrum'!C565","v":0.26266118959901869},{"$f":"SUMPRODUCT(C551:C579,{126;99;74;51;30;11;-6;-21;-34;-45;-54;-61;-66;-69;-70;-69;-66;-61;-54;-45;-34;-21;-6;11;30;51;74;99;126})/56637","v":6.4839663804249924E-5},4.2041820022481579E-9]
[{"$f":"'Hb reference spectrum'!A566","v":368},0.40300000000000002,{"$f":"B566-$H$2*'Hb reference spectrum'!C566","v":0.25966118959901868},{"$f":"SUMPRODUCT(C552:C580,{126;99;74;51;30;11;-6;-21;-34;-45;-54;-61;-66;-69;-70;-69;-66;-61;-54;-45;-34;-21;-6;11;30;51;74;99;126})/56637","v":6.374877987005421E-5},4.0639069349206291E-9]
[{"$f":"'Hb reference spectrum'!A567","v":367.5},0.4,{"$f":"B567-$H$2*'Hb reference spectrum'!C567","v":0.25666118959901868},{"$f":"SUMPRODUCT(C553:C581,{126;99;74;51;30;11;-6;-21;-34;-45;-54;-61;-66;-69;-70;-69;-66;-61;-54;-45;-34;-21;-6;11;30;51;74;99;126})/56637","v":6.4092950908927279E-5},4.1079063562141623E-9]
[{"$f":"'Hb reference spectrum'!A568","v":367},0.39700000000000002,{"$f":"B568-$H$2*'Hb reference spectrum'!C568","v":0.25328888100057378},{"$f":"SUMPRODUCT(C554:C582,{126;99;74;51;30;11;-6;-21;-34;-45;-54;-61;-66;-69;-70;-69;-66;-61;-54;-45;-34;-21;-6;11;30;51;74;99;126})/56637","v":6.3150925825713664E-5},3.9880394326447888E-9]
[{"$f":"'Hb reference spectrum'!A569","v":366.5},0.39400000000000002,{"$f":"B569-$H$2*'Hb reference spectrum'!C569","v":0.25028888100057378},{"$f":"SUMPRODUCT(C555:C583,{126;99;74;51;30;11;-6;-21;-34;-45;-54;-61;-66;-69;-70;-69;-66;-61;-54;-45;-34;-21;-6;11;30;51;74;99;126})/56637","v":6.1623634454721442E-5},3.797472323409132E-9]
[{"$f":"'Hb reference spectrum'!A570","v":366},0.39100000000000001,{"$f":"B570-$H$2*'Hb reference spectrum'!C570","v":0.24728888100057378},{"$f":"SUMPRODUCT(C556:C584,{126;99;74;51;30;11;-6;-21;-34;-45;-54;-61;-66;-69;-70;-69;-66;-61;-54;-45;-34;-21;-6;11;30;51;74;99;126})/56637","v":6.3201735008769092E-5},3.9944593081186686E-9]
[{"$f":"'Hb reference spectrum'!A571","v":365.5},0.38900000000000001,{"$f":"B571-$H$2*'Hb reference spectrum'!C571","v":0.24417195520524146},{"$f":"SUMPRODUCT(C557:C585,{126;99;74;51;30;11;-6;-21;-34;-45;-54;-61;-66;-69;-70;-69;-66;-61;-54;-45;-34;-21;-6;11;30;51;74;99;126})/56637","v":6.2141385247837646E-5},3.8615517605201743E-9]
[{"$f":"'Hb reference spectrum'!A572","v":365},0.38600000000000001,{"$f":"B572-$H$2*'Hb reference spectrum'!C572","v":0.24117195520524146},{"$f":"SUMPRODUCT(C558:C586,{126;99;74;51;30;11;-6;-21;-34;-45;-54;-61;-66;-69;-70;-69;-66;-61;-54;-45;-34;-21;-6;11;30;51;74;99;126})/56637","v":6.2964879560305735E-5},3.964576058043807E-9]
[{"$f":"'Hb reference spectrum'!A573","v":364.5},0.38400000000000001,{"$f":"B573-$H$2*'Hb reference spectrum'!C573","v":0.238427338008354},{"$f":"SUMPRODUCT(C559:C587,{126;99;74;51;30;11;-6;-21;-34;-45;-54;-61;-66;-69;-70;-69;-66;-61;-54;-45;-34;-21;-6;11;30;51;74;99;126})/56637","v":6.5143891050521829E-5},4.2437265412022579E-9]
[{"$f":"'Hb reference spectrum'!A574","v":364},0.38200000000000001,{"$f":"B574-$H$2*'Hb reference spectrum'!C574","v":0.23605502940990913},{"$f":"SUMPRODUCT(C560:C588,{126;99;74;51;30;11;-6;-21;-34;-45;-54;-61;-66;-69;-70;-69;-66;-61;-54;-45;-34;-21;-6;11;30;51;74;99;126})/56637","v":6.7787996165983314E-5},4.5952124241993688E-9]
[{"$f":"'Hb reference spectrum'!A575","v":363.5},0.38,{"$f":"B575-$H$2*'Hb reference spectrum'!C575","v":0.23293810361457684},{"$f":"SUMPRODUCT(C561:C589,{126;99;74;51;30;11;-6;-21;-34;-45;-54;-61;-66;-69;-70;-69;-66;-61;-54;-45;-34;-21;-6;11;30;51;74;99;126})/56637","v":6.9192738657855799E-5},4.7876350829743324E-9]
[{"$f":"'Hb reference spectrum'!A576","v":363},0.378,{"$f":"B576-$H$2*'Hb reference spectrum'!C576","v":0.23093810361457684},{"$f":"SUMPRODUCT(C562:C590,{126;99;74;51;30;11;-6;-21;-34;-45;-54;-61;-66;-69;-70;-69;-66;-61;-54;-45;-34;-21;-6;11;30;51;74;99;126})/56637","v":7.082125263432079E-5},5.0156498246942894E-9]
[{"$f":"'Hb reference spectrum'!A577","v":362.5},0.376,{"$f":"B577-$H$2*'Hb reference spectrum'!C577","v":0.22782117781924449},{"$f":"SUMPRODUCT(C563:C591,{126;99;74;51;30;11;-6;-21;-34;-45;-54;-61;-66;-69;-70;-69;-66;-61;-54;-45;-34;-21;-6;11;30;51;74;99;126})/56637","v":7.2116852349695177E-5},5.2008403928277346E-9]
[{"$f":"'Hb reference spectrum'!A578","v":362},0.374,{"$f":"B578-$H$2*'Hb reference spectrum'!C578","v":0.22470425202391217},{"$f":"SUMPRODUCT(C564:C592,{126;99;74;51;30;11;-6;-21;-34;-45;-54;-61;-66;-69;-70;-69;-66;-61;-54;-45;-34;-21;-6;11;30;51;74;99;126})/56637","v":7.31574969300518E-5},{"$f":"D578^2","v":5.3520193570705381E-9}]
[{"$f":"'Hb reference spectrum'!A579","v":361.5},0.373,{"$f":"B579-$H$2*'Hb reference spectrum'!C579","v":0.22295963482702469},{"$f":"SUMPRODUCT(C565:C593,{126;99;74;51;30;11;-6;-21;-34;-45;-54;-61;-66;-69;-70;-69;-66;-61;-54;-45;-34;-21;-6;11;30;51;74;99;126})/56637","v":7.6312335861285395E-5},5.823572604605625E-9]
[{"$f":"'Hb reference spectrum'!A580","v":361},0.372,{"$f":"B580-$H$2*'Hb reference spectrum'!C580","v":0.22084270903169237},{"$f":"SUMPRODUCT(C566:C594,{126;99;74;51;30;11;-6;-21;-34;-45;-54;-61;-66;-69;-70;-69;-66;-61;-54;-45;-34;-21;-6;11;30;51;74;99;126})/56637","v":7.8900272307178346E-5},6.2252529701468944E-9]
[{"$f":"'Hb reference spectrum'!A581","v":360.5},0.37,{"$f":"B581-$H$2*'Hb reference spectrum'!C581","v":0.2184704004332475},{"$f":"SUMPRODUCT(C567:C595,{126;99;74;51;30;11;-6;-21;-34;-45;-54;-61;-66;-69;-70;-69;-66;-61;-54;-45;-34;-21;-6;11;30;51;74;99;126})/56637","v":7.8306705686774511E-5},6.1319401555151232E-9]
[{"$f":"'Hb reference spectrum'!A582","v":360},0.36899999999999999,{"$f":"B582-$H$2*'Hb reference spectrum'!C582","v":0.21635347463791516},{"$f":"SUMPRODUCT(C568:C596,{126;99;74;51;30;11;-6;-21;-34;-45;-54;-61;-66;-69;-70;-69;-66;-61;-54;-45;-34;-21;-6;11;30;51;74;99;126})/56637","v":7.7928546995795613E-5},6.0728584368759255E-9]
[{"$f":"'Hb reference spectrum'!A583","v":359.5},0.36799999999999999,{"$f":"B583-$H$2*'Hb reference spectrum'!C583","v":0.21423654884258286},{"$f":"SUMPRODUCT(C569:C597,{126;99;74;51;30;11;-6;-21;-34;-45;-54;-61;-66;-69;-70;-69;-66;-61;-54;-45;-34;-21;-6;11;30;51;74;99;126})/56637","v":7.7677351052947002E-5},6.0337708666027666E-9]
[{"$f":"'Hb reference spectrum'!A584","v":359},0.36699999999999999,{"$f":"B584-$H$2*'Hb reference spectrum'!C584","v":0.21211962304725054},{"$f":"SUMPRODUCT(C570:C598,{126;99;74;51;30;11;-6;-21;-34;-45;-54;-61;-66;-69;-70;-69;-66;-61;-54;-45;-34;-21;-6;11;30;51;74;99;126})/56637","v":7.6716043374571108E-5},5.8853513110490755E-9]
[{"$f":"'Hb reference spectrum'!A585","v":358.5},0.36599999999999999,{"$f":"B585-$H$2*'Hb reference spectrum'!C585","v":0.2100026972519182},{"$f":"SUMPRODUCT(C571:C599,{126;99;74;51;30;11;-6;-21;-34;-45;-54;-61;-66;-69;-70;-69;-66;-61;-54;-45;-34;-21;-6;11;30;51;74;99;126})/56637","v":7.5930591220345074E-5},5.7654546830711441E-9]
[{"$f":"'Hb reference spectrum'!A586","v":358},0.36599999999999999,{"$f":"B586-$H$2*'Hb reference spectrum'!C586","v":0.20888577145658588},{"$f":"SUMPRODUCT(C572:C600,{126;99;74;51;30;11;-6;-21;-34;-45;-54;-61;-66;-69;-70;-69;-66;-61;-54;-45;-34;-21;-6;11;30;51;74;99;126})/56637","v":7.5587692311027062E-5},5.7134992289064997E-9]
[{"$f":"'Hb reference spectrum'!A587","v":357.5},0.36499999999999999,{"$f":"B587-$H$2*'Hb reference spectrum'!C587","v":0.20676884566125353},{"$f":"SUMPRODUCT(C573:C601,{126;99;74;51;30;11;-6;-21;-34;-45;-54;-61;-66;-69;-70;-69;-66;-61;-54;-45;-34;-21;-6;11;30;51;74;99;126})/56637","v":7.5457698669473234E-5},5.6938642884930228E-9]
[{"$f":"'Hb reference spectrum'!A588","v":357},0.36499999999999999,{"$f":"B588-$H$2*'Hb reference spectrum'!C588","v":0.20565191986592121},{"$f":"SUMPRODUCT(C574:C602,{126;99;74;51;30;11;-6;-21;-34;-45;-54;-61;-66;-69;-70;-69;-66;-61;-54;-45;-34;-21;-6;11;30;51;74;99;126})/56637","v":7.5780089651204222E-5},5.7426219875445492E-9]
[{"$f":"'Hb reference spectrum'!A589","v":356.5},0.36399999999999999,{"$f":"B589-$H$2*'Hb reference spectrum'!C589","v":0.20353499407058889},null,0]
[{"$f":"'Hb reference spectrum'!A590","v":356},0.36399999999999999,{"$f":"B590-$H$2*'Hb reference spectrum'!C590","v":0.20241806827525657},null,0]
[{"$f":"'Hb reference spectrum'!A591","v":355.5},0.36299999999999999,{"$f":"B591-$H$2*'Hb reference spectrum'!C591","v":0.20030114247992425},null,0]
[{"$f":"'Hb reference spectrum'!A592","v":355},0.36299999999999999,{"$f":"B592-$H$2*'Hb reference spectrum'!C592","v":0.19918421668459191},null,0]
[{"$f":"'Hb reference spectrum'!A593","v":354.5},0.36299999999999999,{"$f":"B593-$H$2*'Hb reference spectrum'!C593","v":0.19806729088925959},null,0]
[{"$f":"'Hb reference spectrum'!A594","v":354},0.36299999999999999,{"$f":"B594-$H$2*'Hb reference spectrum'!C594","v":0.19732267369237211},null,0]
[{"$f":"'Hb reference spectrum'!A595","v":353.5},0.36199999999999999,{"$f":"B595-$H$2*'Hb reference spectrum'!C595","v":0.19520574789703976},null,0]
[{"$f":"'Hb reference spectrum'!A596","v":353},0.36199999999999999,{"$f":"B596-$H$2*'Hb reference spectrum'!C596","v":0.1944611307001512},null,0]
[{"$f":"'Hb reference spectrum'!A597","v":352.5},0.36199999999999999,{"$f":"B597-$H$2*'Hb reference spectrum'!C597","v":0.19334420490481888},null,0]
[{"$f":"'Hb reference spectrum'!A598","v":352},0.36199999999999999,{"$f":"B598-$H$2*'Hb reference spectrum'!C598","v":0.19222727910948656},null,0]
[{"$f":"'Hb reference spectrum'!A599","v":351.5},0.36199999999999999,{"$f":"B599-$H$2*'Hb reference spectrum'!C599","v":0.19148266191259797},null,0]
[{"$f":"'Hb reference spectrum'!A600","v":351},0.36199999999999999,{"$f":"B600-$H$2*'Hb reference spectrum'!C600","v":0.19073804471571049},null,0]
[{"$f":"'Hb reference spectrum'!A601","v":350.5},0.36199999999999999,{"$f":"B601-$H$2*'Hb reference spectrum'!C601","v":0.18999342751882189},null,0]
[{"$f":"'Hb reference spectrum'!A602","v":350},0.36199999999999999,{"$f":"B602-$H$2*'Hb reference spectrum'!C602","v":0.18962111892037817},null,0]