BEGIN:VCALENDAR
VERSION:2.0
PRODID:-//hacksw/handcal//NONSGML v1.0//EN
BEGIN:VEVENT
UID:no-reply@elsevier.com
DTSTAMP:20260521T000000Z
DTSTART:20260521T000000Z
DTEND:20260521T010000Z
ORGANIZER;CN=Mendeley Data:MAILTO:no-reply@elsevier.com
SUMMARY:Dataset "Population-level encoding of somatosensation" version 2 is now available
BEGIN:VALARM
TRIGGER:-PT0M
ACTION:DISPLAY
DESCRIPTION:Dataset "Population-level encoding of somatosensation" version 2 is now available
END:VALARM
END:VEVENT
END:VCALENDAR