BEGIN:VCALENDAR
VERSION:2.0
PRODID:-//hacksw/handcal//NONSGML v1.0//EN
BEGIN:VEVENT
UID:no-reply@elsevier.com
DTSTAMP:20220430T000000Z
DTSTART:20220430T000000Z
DTEND:20220430T010000Z
ORGANIZER;CN=Mendeley Data:MAILTO:no-reply@elsevier.com
SUMMARY:Dataset "Farmers' livelihood strategies and perceived constraints from the poor and non-poor households: A dataset from field survey in Nghe An, Vietnam" version 2 is now available
BEGIN:VALARM
TRIGGER:-PT0M
ACTION:DISPLAY
DESCRIPTION:Dataset "Farmers' livelihood strategies and perceived constraints from the poor and non-poor households: A dataset from field survey in Nghe An, Vietnam" version 2 is now available
END:VALARM
END:VEVENT
END:VCALENDAR