BEGIN:VCALENDAR
VERSION:2.0
PRODID:-//hacksw/handcal//NONSGML v1.0//EN
BEGIN:VEVENT
UID:no-reply@elsevier.com
DTSTAMP:20261109T000000Z
DTSTART:20261109T000000Z
DTEND:20261109T010000Z
ORGANIZER;CN=Mendeley Data:MAILTO:no-reply@elsevier.com
SUMMARY:Dataset "Po River planimetric adjustment and degree of anthropogenic confinement (1954-2021)" version 1 is now available
BEGIN:VALARM
TRIGGER:-PT0M
ACTION:DISPLAY
DESCRIPTION:Dataset "Po River planimetric adjustment and degree of anthropogenic confinement (1954-2021)" version 1 is now available
END:VALARM
END:VEVENT
END:VCALENDAR