BEGIN:VCALENDAR
VERSION:2.0
PRODID:-//hacksw/handcal//NONSGML v1.0//EN
BEGIN:VEVENT
UID:no-reply@elsevier.com
DTSTAMP:20270421T000000Z
DTSTART:20270421T000000Z
DTEND:20270421T010000Z
ORGANIZER;CN=Mendeley Data:MAILTO:no-reply@elsevier.com
SUMMARY:Dataset "A 3D printed modular contact angle analyser " version 1 is now available
BEGIN:VALARM
TRIGGER:-PT0M
ACTION:DISPLAY
DESCRIPTION:Dataset "A 3D printed modular contact angle analyser " version 1 is now available
END:VALARM
END:VEVENT
END:VCALENDAR