BEGIN:VCALENDAR
VERSION:2.0
PRODID:-//hacksw/handcal//NONSGML v1.0//EN
BEGIN:VEVENT
UID:no-reply@elsevier.com
DTSTAMP:20220417T000000Z
DTSTART:20220417T000000Z
DTEND:20220417T010000Z
ORGANIZER;CN=Mendeley Data:MAILTO:no-reply@elsevier.com
SUMMARY:Dataset "Data for: Geochemical and Palynological Characteristics of the Paleogene Source Rocks in the Northeastern Laizhouwan Sag, Bohai Bay Basin, China: Hydrocarbon Potential, Depositional Environment and Factors Controlling Organic Matter Enrichment" version 1 is now available
BEGIN:VALARM
TRIGGER:-PT0M
ACTION:DISPLAY
DESCRIPTION:Dataset "Data for: Geochemical and Palynological Characteristics of the Paleogene Source Rocks in the Northeastern Laizhouwan Sag, Bohai Bay Basin, China: Hydrocarbon Potential, Depositional Environment and Factors Controlling Organic Matter Enrichment" version 1 is now available
END:VALARM
END:VEVENT
END:VCALENDAR