BEGIN:VCALENDAR
VERSION:2.0
PRODID:-//hacksw/handcal//NONSGML v1.0//EN
BEGIN:VEVENT
UID:no-reply@elsevier.com
DTSTAMP:20270301T000000Z
DTSTART:20270301T000000Z
DTEND:20270301T010000Z
ORGANIZER;CN=Mendeley Data:MAILTO:no-reply@elsevier.com
SUMMARY:Dataset "Choking Under Time Pressure Full Data.dta" version 1 is now available
BEGIN:VALARM
TRIGGER:-PT0M
ACTION:DISPLAY
DESCRIPTION:Dataset "Choking Under Time Pressure Full Data.dta" version 1 is now available
END:VALARM
END:VEVENT
END:VCALENDAR