BEGIN:VCALENDAR
VERSION:2.0
PRODID:-//hacksw/handcal//NONSGML v1.0//EN
BEGIN:VEVENT
UID:no-reply@elsevier.com
DTSTAMP:20260718T000000Z
DTSTART:20260718T000000Z
DTEND:20260718T010000Z
ORGANIZER;CN=Mendeley Data:MAILTO:no-reply@elsevier.com
SUMMARY:Dataset "Cebinelli et al, Imaging-Enabled Spectral Flow Cytometry Panel for Profiling PD-1⁺/PD-L1⁺ Immune Cells interactions in humans (dataset_6_of_6)" version 3 is now available
BEGIN:VALARM
TRIGGER:-PT0M
ACTION:DISPLAY
DESCRIPTION:Dataset "Cebinelli et al, Imaging-Enabled Spectral Flow Cytometry Panel for Profiling PD-1⁺/PD-L1⁺ Immune Cells interactions in humans (dataset_6_of_6)" version 3 is now available
END:VALARM
END:VEVENT
END:VCALENDAR