BEGIN:VCALENDAR
VERSION:2.0
PRODID:-//hacksw/handcal//NONSGML v1.0//EN
BEGIN:VEVENT
UID:no-reply@elsevier.com
DTSTAMP:20220420T000000Z
DTSTART:20220420T000000Z
DTEND:20220420T010000Z
ORGANIZER;CN=Mendeley Data:MAILTO:no-reply@elsevier.com
SUMMARY:Dataset "Values of Chinese PV cells imports and exports and the Grubel-Lloyd index with the BRI coun-tries in 2019." version 1 is now available
BEGIN:VALARM
TRIGGER:-PT0M
ACTION:DISPLAY
DESCRIPTION:Dataset "Values of Chinese PV cells imports and exports and the Grubel-Lloyd index with the BRI coun-tries in 2019." version 1 is now available
END:VALARM
END:VEVENT
END:VCALENDAR