BEGIN:VCALENDAR
VERSION:2.0
PRODID:-//hacksw/handcal//NONSGML v1.0//EN
BEGIN:VEVENT
UID:no-reply@elsevier.com
DTSTAMP:20220602T000000Z
DTSTART:20220602T000000Z
DTEND:20220602T010000Z
ORGANIZER;CN=Mendeley Data:MAILTO:no-reply@elsevier.com
SUMMARY:Dataset "Data for: Distribution of Pu isotopes and 210Pb in the Bohai Sea and Yellow Sea: Implications for provenance and transportation" version 1 is now available
BEGIN:VALARM
TRIGGER:-PT0M
ACTION:DISPLAY
DESCRIPTION:Dataset "Data for: Distribution of Pu isotopes and 210Pb in the Bohai Sea and Yellow Sea: Implications for provenance and transportation" version 1 is now available
END:VALARM
END:VEVENT
END:VCALENDAR