BEGIN:VCALENDAR
VERSION:2.0
PRODID:-//hacksw/handcal//NONSGML v1.0//EN
BEGIN:VEVENT
UID:no-reply@elsevier.com
DTSTAMP:20220401T000000Z
DTSTART:20220401T000000Z
DTEND:20220401T010000Z
ORGANIZER;CN=Mendeley Data:MAILTO:no-reply@elsevier.com
SUMMARY:Dataset "Nurses’ Knowledge, Skills and Preparedness for Disaster Management of a Megapolis" version 4 is now available
BEGIN:VALARM
TRIGGER:-PT0M
ACTION:DISPLAY
DESCRIPTION:Dataset "Nurses’ Knowledge, Skills and Preparedness for Disaster Management of a Megapolis" version 4 is now available
END:VALARM
END:VEVENT
END:VCALENDAR