BEGIN:VCALENDAR
VERSION:2.0
PRODID:-//hacksw/handcal//NONSGML v1.0//EN
BEGIN:VEVENT
UID:no-reply@elsevier.com
DTSTAMP:20220427T000000Z
DTSTART:20220427T000000Z
DTEND:20220427T010000Z
ORGANIZER;CN=Mendeley Data:MAILTO:no-reply@elsevier.com
SUMMARY:Dataset "Sea surface temperature and oxygen isotopes records from ODP Site 977 and sediment core KC01B during MIS 12" version 1 is now available
BEGIN:VALARM
TRIGGER:-PT0M
ACTION:DISPLAY
DESCRIPTION:Dataset "Sea surface temperature and oxygen isotopes records from ODP Site 977 and sediment core KC01B during MIS 12" version 1 is now available
END:VALARM
END:VEVENT
END:VCALENDAR